{"text_format":"1","workbook":"xlsx","n_sheets":14,"sheets":["NOMBRE","P1","P2","P3","P4","P5","P6","P7","P9","P11","P12","P13","Control","MACROS"],"not_rendered":{"charts":0,"images":0,"macros":1,"external_links":0,"defined_names":16,"comments":0,"pivot_tables":0},"unopened":[],"bounds":{"document_bytes":16777216,"sheet_cells":100000,"rows_first":2000,"rows_last":500,"rows_between":2000,"halvings":0,"cell_chars":16384,"cell_head_chars":4096},"cells_cut":0,"cells_raw":0,"read":"whole","date_system":"1900"}

{"sheet":"NOMBRE","index":0,"n_rows":40,"n_cols":33,"rows_kept":40,"cut":false,"hidden":false,"merged":[[16,1,18,1],[0,0,0,1],[0,2,0,7],[8,0,8,1],[14,0,14,1]]}
["DATOS DEL ESTABLECIMIENTO",null,"CÓDIGOS"]
["NOMBRE DE COMUNA",null,null,null,null,null,null,null,{"$f":"IF(OR(NOMBRE!C2=\"\",NOMBRE!D2=\"\",NOMBRE!E2=\"\",NOMBRE!F2=\"\",NOMBRE!G2=\"\"),\"Falta Cód. Com.\",\"\")","v":"Falta Cód. Com."},null,null,null,null,null,null,null,null,null,null,null,null,null,{"$f":"IF(OR(C2=\"\",D2=\"\",E2=\"\",F2=\"\",G2=\"\"),1,0)","v":1},null,null,null,null,null,null,null,null,null,{"$f":"IF(I2>\"\",1,0)","v":1}]
["NOMBRE ESTABLECIMIENTO/ESTRATEGIA",null,null,null,null,null,null,null,{"$f":"IF(OR(NOMBRE!C3=\"\",NOMBRE!D3=\"\",NOMBRE!E3=\"\",NOMBRE!F3=\"\",NOMBRE!G3=\"\",NOMBRE!H3=\"\"),\"Falta Cód. Est.\",\"\")","v":"Falta Cód. Est."},null,null,null,null,null,null,null,null,null,null,null,null,null,{"$f":"IF(OR(C3=\"\",D3=\"\",E3=\"\",F3=\"\",G3=\"\",H3=\"\"),1,0)","v":1},null,null,null,null,null,null,null,null,null,{"$f":"IF(I3>\"\",1,0)","v":1}]
[null,null,null,null,null,null,null,null,null,null,null,null,null,null,null,null,null,null,null,null,null,null,null,null,null,null,null,null,null,null,null,null,{"$f":"IF(I4>\"\",1,0)","v":0}]
[null,null,null,null,null,null,null,null,null,null,null,null,null,null,null,null,null,null,null,null,null,null,null,null,null,null,null,null,null,null,null,null,{"$f":"IF(I5>\"\",1,0)","v":0}]
["MES:",null,{"$f":"IF(X10<>\"\",IF(LEN(X10)<2,\"0\",LEFT(X10,1)),\"\")","v":""},{"$f":"IF(X10<>\"\",RIGHT(X10,1),\"\")","v":""},null,null,null,null,{"$f":"IF(OR(C6=\"\",D6=\"\"),\"Falta Cód. Mes.\",\"\")","v":"Falta Cód. Mes."},null,null,null,null,null,null,null,null,null,null,null,null,null,{"$f":"IF(OR(C6=\"\",D6=\"\"),1,0)","v":1},null,null,null,null,null,null,null,null,null,{"$f":"IF(I6>\"\",1,0)","v":1}]
["AÑO:",2026,null,null,null,null,null,null,null,null,null,null,null,null,null,null,null,null,null,null,null,null,null,null,null,null,null,null,null,null,null,null,{"$f":"SUM(AG2:AG6)","v":3}]
[]
["Versión 1.1: Junio 2026"]
[null,null,null,null,null,null,null,null,null,null,null,null,null,null,null,null,null,null,null,null,null,null,{"$f":"B6","v":0},{"$f":"IFERROR(VLOOKUP(W10,$W$11:$X$22,2,FALSE),\"\")","v":""}]
["Director/a Servicio de Salud o Director/a Establecimiento",null,null,null,null,null,null,null,null,null,null,null,null,null,null,null,null,null,null,null,null,null,null,1,null,null,"JUNIO","Establecimiento de Mayor Complejidad (EMAYC)","SERVICIO DE SALUD"]
["Jefe/a de Estadísticas",null,null,null,null,null,null,null,null,null,null,null,null,null,null,null,null,null,null,null,null,null,null,2,null,null,"DICIEMBRE","Establecimiento de Mediana Complejidad (EMEDC)","MUNICIPAL"]
[null,null,null,null,null,null,null,null,null,null,null,null,null,null,null,null,null,null,null,null,null,null,null,3,null,null,null,"Establecimiento de Menor Complejidad (EMENC)","Organizaciones sin fines de lucro y ONG (Delegado)"]
[null,null,null,null,null,null,null,null,null,null,null,null,null,null,null,null,null,null,null,null,null,null,null,4,null,null,null,"Centros de Diagnóstico Terapeutico (CDT)"]
["MINSAL - DEIS",null,null,null,null,null,null,null,null,null,null,null,null,null,null,null,null,null,null,null,null,null,null,5,null,null,null,"Centro de Referencia de Salud (CRS)"]
[null,null,null,null,null,null,null,null,null,null,null,null,null,null,null,null,null,null,null,null,null,null,"JUNIO",6,null,null,null,"Consultorio General Urbano (CGU)"]
[null,"SERIE P",null,null,null,null,null,null,null,null,null,null,null,null,null,null,null,null,null,null,null,null,null,7,null,null,null,"Consultorio General Urbano (CGU) - CESFAM"]
[null,null,null,null,null,null,null,null,null,null,null,null,null,null,null,null,null,null,null,null,null,null,null,8,null,null,null,"Consultorio General Urbano(CGU) con SAPU/SUR/SAR"]
[null,null,null,null,null,null,null,null,null,null,null,null,null,null,null,null,null,null,null,null,null,null,null,9,null,null,null,"Consultorio General Urbano (CGU) - CESFAM con SAPU/SAR"]
[null,null,null,null,null,null,null,null,null,null,null,null,null,null,null,null,null,null,null,null,null,null,null,10,null,null,null,"Consultorio General Rural (CGR)"]
[null,null,null,null,null,null,null,null,null,null,null,null,null,null,null,null,null,null,null,null,null,null,null,11,null,null,null,"Consultorio General Rural (CGR) - CESFAM"]
[null,null,null,null,null,null,null,null,null,null,null,null,null,null,null,null,null,null,null,null,null,null,"DICIEMBRE",12,null,null,null,"Consultorio General Rural (CGR) con SAPU/SAR/SUR"]
[null,null,null,null,null,null,null,null,null,null,null,null,null,null,null,null,null,null,null,null,null,null,null,null,null,null,null,"Consultorio General Rural (CGR) - CESFAM con SAPU/SAR/SUR"]
[null,null,null,null,null,null,null,null,null,null,null,null,null,null,null,null,null,null,null,null,null,"Filtro",123100,{"$f":"IF(W24<>\"\",CONCATENATE(\"{\"\"EstablecimientoCodigo\"\":\"\"\",W24,\"\"\"}\"),\"\")","v":"{\"EstablecimientoCodigo\":\"123100\"}"},null,null,null,"Posta de Salud Rural (PSR)"]
[null,null,null,null,null,null,null,null,null,null,null,null,null,null,null,null,null,null,null,null,null,"URL + Encoding","https://datos.gob.cl/api/3/action/datastore_search?resource_id=2c44d782-3365-44e3-aefb-2c8b8363a1bc&limit=1&filters=",{"$f":"_xlfn.ENCODEURL(X24)","v":"%7B%22EstablecimientoCodigo%22%3A%22123100%22%7D"},null,null,null,"Centro Comunitario de Salud Familiar (CECOF)"]
[null,null,null,null,null,null,null,null,null,null,null,null,null,null,null,null,null,null,null,null,null,"ServicioWeb",{"$f":"IF($W$24<>\"\",_xlfn.WEBSERVICE(CONCATENATE(W25,X25)),\"\")","v":"{\"help\": \"https://datos.gob.cl/api/3/action/help_show?name=datastore_search\", \"success\": true, \"result\": {\"filters\": {\"EstablecimientoCodigo\": \"123100\"}, \"include_total\": true, \"limit\": 1, \"records_format\": \"objects\", \"resource_id\": \"2c44d782-3365-44e3-aefb-2c8b8363a1bc\", \"total_estimation_threshold\": null, \"records\": [{\"_id\":469,\"EstablecimientoCodigo\":\"123100\",\"EstablecimientoGlosa\":\"Hospital Base San José de Osorno\",\"EstablecimientoCodigoAntiguo\":\"23-100\",\"EstablecimientoCodigoMadreAntiguo\":null,\"EstablecimientoCodigoMadreNuevo\":null,\"RegionCodigo\":\"10\",\"RegionGlosa\":\"Región de Los Lagos\",\"SeremiSaludCodigo_ServicioDeSaludCodigo\":\"23\",\"SeremiSaludGlosa_ServicioDeSaludGlosa\":\"Servicio de Salud Osorno\",\"TipoPertenenciaEstabGlosa\":\"Perteneciente al Sistema Nacional de Servicios de Salud\",\"TipoEstablecimientoGlosa\":\"Hospital\",\"AmbitoFuncionamiento\":\"Establecimiento de Salud\",\"Certificacion\":\"Autogestionado en Red (EAR)\",\"DependenciaAdministrativa\":\"Servicio de Salud\",\"NivelAtencionEstabglosa\":\"Terciario\",\"ComunaCodigo\":\"10301\",\"ComunaGlosa\":\"Osorno\",\"TipoViaGlosa\":\"Calle\",\"Numero\":\"1765\",\"NombreVia\":\"Guillermo Buhler\",\"TelefonoMovil_TelefonoFijo\":\"642336200\",\"FechaInicioFuncionamientoEstab\":null,\"TieneServicioUrgencia\":\"SI\",\"TipoUrgencia\":\"Urgencia Hospitalaria (UEH)\",\"ClasificacionTipoSapu\":\"No Aplica\",\"Latitud\":\"-40.5883\",\"Longitud\":\"-73.127785\",\"TipoSistemaSaludGlosa\":\"Público\",\"EstadoFuncionamiento\":\"Vigente en Operación Habitual\",\"NivelComplejidadEstabGlosa\":\"Alta Complejidad\",\"TipoAtencionEstabGlosa\":\"Atención Cerrada-Hospitalaria\",\"FechaIncorporacion\":null}], \"fields\": [{\"id\": \"_id\", \"type\": \"int\"}, {\"id\": \"EstablecimientoCodigo\", \"type\": \"text\"}, {\"id\": \"EstablecimientoGlosa\", \"type\": \"text\"}, {\"id\": \"EstablecimientoCodigoAntiguo\", \"type\": \"text\"}, {\"id\": \"EstablecimientoCodigoMadreAntiguo\", \"type\": \"text\"}, {\"id\": \"EstablecimientoCodigoMadreNuevo\", \"type\": \"text\"}, {\"id\": \"RegionCodigo\", \"type\": \"text\"}, {\"id\": \"RegionGlosa\", \"type\": \"text\"}, {\"id\": \"SeremiSaludCodigo_ServicioDeSaludCodigo\", \"type\": \"text\"}, {\"id\": \"SeremiSaludGlosa_ServicioDeSaludGlosa\", \"type\": \"text\"}, {\"id\": \"TipoPertenenciaEstabGlosa\", \"type\": \"text\"}, {\"id\": \"TipoEstablecimientoGlosa\", \"type\": \"text\"}, {\"id\": \"AmbitoFuncionamiento\", \"type\": \"text\"}, {\"id\": \"Certificacion\", \"type\": \"text\"}, {\"id\": \"DependenciaAdministrativa\", \"type\": \"text\"}, {\"id\": \"NivelAtencionEstabglosa\", \"type\": \"text\"}, {\"id\": \"ComunaCodigo\", \"type\": \"text\"}, {\"id\": \"ComunaGlosa\", \"type\": \"text\"}, {\"id\": \"TipoViaGlosa\", \"type\": \"text\"}, {\"id\": \"Numero\", \"type\": \"text\"}, {\"id\": \"NombreVia\", \"type\": \"text\"}, {\"id\": \"TelefonoMovil_TelefonoFijo\", \"type\": \"text\"}, {\"id\": \"FechaInicioFuncionamientoEstab\", \"type\": \"text\"}, {\"id\": \"TieneServicioUrgencia\", \"type\": \"text\"}, {\"id\": \"TipoUrgencia\", \"type\": \"text\"}, {\"id\": \"ClasificacionTipoSapu\", \"type\": \"text\"}, {\"id\": \"Latitud\", \"type\": \"text\"}, {\"id\": \"Longitud\", \"type\": \"text\"}, {\"id\": \"TipoSistemaSaludGlosa\", \"type\": \"text\"}, {\"id\": \"EstadoFuncionamiento\", \"type\": \"text\"}, {\"id\": \"NivelComplejidadEstabGlosa\", \"type\": \"text\"}, {\"id\": \"TipoAtencionEstabGlosa\", \"type\": \"text\"}, {\"id\": \"FechaIncorporacion\", \"type\": \"text\"}], \"_links\": {\"start\": \"/api/3/action/datastore_search?resource_id=2c44d782-3365-44e3-aefb-2c8b8363a1bc&limit=1&filters=%7B%22EstablecimientoCodigo%22%3A%22123100%22%7D\", \"next\": \"/api/3/action/datastore_search?resource_id=2c44d782-3365-44e3-aefb-2c8b8363a1bc&limit=1&filters=%7B%22EstablecimientoCodigo%22%3A%22123100%22%7D&offset=1\"}, \"total\": 1, \"total_was_estimated\": false}}"},null,null,null,null,"Consultorio de Salud Mental (COSAM)"]
[null,null,null,null,null,null,null,null,null,null,null,null,null,null,null,null,null,null,null,null,null,"Hay Registros",{"$f":"IFERROR(IF($W$26<>\"\",MID($W$26,FIND(\"\"\"total\"\":\",$W$26)+9,1),\"0\"),\"0\")","v":"1"},null,null,null,null,"Programa de Reparación y Atención Integral de Salud (PRAIS)"]
[null,null,null,null,null,null,null,null,null,null,null,null,null,null,null,null,null,null,null,null,null,"Establecimiento",{"$f":"IF(AND($W$26<>\"\",$W$27=\"1\"),MID($W$26,FIND(\"EstablecimientoGlosa\",$W$26)+23,(FIND(\"EstablecimientoCodigoAntiguo\",$W$26)-3)-(FIND(\"EstablecimientoGlosa\",$W$26)+23)),\"\")","v":"Hospital Base San José de Osorno"},null,null,null,null,"Centro de Atención Funcionarios (CAF)"]
[null,null,null,null,null,null,null,null,null,null,null,null,null,null,null,null,null,null,null,null,null,"Comuna",{"$f":"IF(AND($W$26<>\"\",$W$27=\"1\"),MID($W$26,FIND(\"ComunaCodigo\",$W$26)+15,(FIND(\"ComunaGlosa\",$W$26)-3)-(FIND(\"ComunaCodigo\",$W$26)+15)),\"\")","v":"10301"},null,null,null,null,"Unidad de Salud de Funcionarios (USF)"]
[null,null,null,null,null,null,null,null,null,null,null,null,null,null,null,null,null,null,null,null,null,"Comuna Glosa",{"$f":"IF(AND($W$26<>\"\",$W$27=\"1\"),MID($W$26,FIND(\"ComunaGlosa\",$W$26)+14,(FIND(\"TipoVia\",$W$26)-3)-(FIND(\"ComunaGlosa\",$W$26)+14)),\"\")","v":"Osorno"},null,null,null,null,"ClÍnica Dental Móvil (CDM)"]
[null,null,null,null,null,null,null,null,null,null,null,null,null,null,null,null,null,null,null,null,null,"Comuna Dividida por Celdas en sgte linea:",null,null,null,null,null,"Dirección Servicio de Salud (DSS)"]
[null,null,null,null,null,null,null,null,null,null,null,null,null,null,null,null,null,null,null,null,null,null,null,null,null,null,null,"Servicio de Atención Primaria de Urgencia (SAPU)"]
[null,null,null,null,null,null,null,null,null,null,null,null,null,null,null,null,null,null,null,null,null,{"$f":"IF($W$29<> \"\",IF(LEN($W$29)>4,LEFT($W$29,1),\"0\"),\"\")","v":"1"},{"$f":"IF($W$29<>\"\",LEFT(RIGHT($W$29,4),1),\"\")","v":"0"},{"$f":"IF($W$29<>\"\",LEFT(RIGHT($W$29,3),1),\"\")","v":"3"},{"$f":"IF($W$29<>\"\",LEFT(RIGHT($W$29,2),1),\"\")","v":"0"},{"$f":"IF($W$29<>\"\",RIGHT($W$29,1),\"\")","v":"1"},null,"Servicio de Atención Primaria de Urgencia de Alta Resolutividad (SAR)"]
[null,null,null,null,null,null,null,null,null,null,null,null,null,null,null,null,null,null,null,null,null,null,null,null,null,null,null,"Servicio de Urgencia Rural (SUR)"]
[null,null,null,null,null,null,null,null,null,null,null,null,null,null,null,null,null,null,null,null,null,null,null,null,null,null,null,"Laboratorio Clínico o Dental"]
[null,null,null,null,null,null,null,null,null,null,null,null,null,null,null,null,null,null,null,null,null,null,null,null,null,null,null,"Servicio de Atención Primaria de Urgencia Dental (SAPUDENT)"]
[null,null,null,null,null,null,null,null,null,null,null,null,null,null,null,null,null,null,null,null,null,null,null,null,null,null,null,"Centro de Rehabilitación (CR)"]
[null,null,null,null,null,null,null,null,null,null,null,null,null,null,null,null,null,null,null,null,null,null,null,null,null,null,null,"Hospital de Campaña"]
[null,null,null,null,null,null,null,null,null,null,null,null,null,null,null,null,null,null,null,null,null,null,null,null,null,null,null,"Centro Oncologico"]
[null,null,null,null,null,null,null,null,null,null,null,null,null,null,null,null,null,null,null,null,null,null,null,null,null,null,null,"SAMU"]

{"sheet":"P1","index":1,"n_rows":173,"n_cols":103,"rows_kept":173,"cut":false,"hidden":false,"merged":[[124,0,124,6],[139,0,139,2],[74,0,74,2],[81,0,81,2],[92,0,92,7],[102,0,102,4],[116,0,116,11],[98,0,98,1],[95,0,95,1],[119,0,123,0],[117,1,118,1],[103,1,103,2],[103,0,104,0],[93,0,94,1],[93,2,94,2],[93,8,94,8],[5,0,5,15],[7,0,7,12],[31,0,31,12],[53,0,53,4],[125,5,126,5],[125,6,126,6],[125,7,125,8],[125,9,125,10],[125,0,126,0],[125,1,126,1],[125,2,126,2],[125,3,126,3],[125,4,126,4],[103,3,104,3],[103,4,104,4],[97,0,97,1],[8,20,8,22],[8,23,9,23],[32,16,33,16],[32,19,33,19],[32,20,32,22],[32,23,33,23],[8,19,9,19],[8,17,8,18],[32,17,32,18],[8,16,9,16],[41,6,42,6],[41,8,41,9],[41,10,42,10],[36,0,37,0],[54,1,55,1],[41,3,42,3],[54,3,55,3],[41,2,42,2],[54,2,55,2],[8,2,9,2],[10,0,10,1],[19,0,20,0],[24,0,24,1],[30,0,30,1],[25,0,25,1],[32,3,32,15],[28,0,29,0],[23,0,23,1],[39,0,39,1],[21,0,22,0],[61,0,61,11],[41,7,42,7],[54,0,55,0],[6,0,6,6],[41,5,42,5],[41,4,42,4],[41,0,42,0],[41,1,42,1],[34,0,35,0],[38,0,38,1],[26,0,27,0],[8,3,8,15],[12,0,18,0],[8,0,9,1],[32,0,33,1],[32,2,33,2],[62,3,62,11],[101,0,101,1],[117,0,118,0],[117,2,118,2],[99,0,99,1],[100,0,100,1],[117,3,117,11],[93,9,94,9],[93,3,93,7],[91,0,91,1],[62,0,63,0],[62,1,63,1],[62,2,63,2],[64,0,68,0],[69,0,73,0]]}
["DATOS DEL ESTABLECIMIENTO"]
[{"$f":"CONCATENATE(\"COMUNA: \",NOMBRE!$B$2,\"   \",\"( \",NOMBRE!$C$2,NOMBRE!$D$2,NOMBRE!$E$2,NOMBRE!$F$2,NOMBRE!$G$2,\" )\")","v":"COMUNA:    (  )"}]
[{"$f":"CONCATENATE(\"ESTABLECIMIENTO/ESTRATEGIA: \",NOMBRE!$B$3,\"   \",\"( \",NOMBRE!$C$3,NOMBRE!$D$3,NOMBRE!$E$3,NOMBRE!$F$3,NOMBRE!$G$3,NOMBRE!$H$3,\" )\")","v":"ESTABLECIMIENTO/ESTRATEGIA:    (  )"}]
[{"$f":"CONCATENATE(\"MES: \",NOMBRE!$B$6,\"   \",\"( \",NOMBRE!$C$6,NOMBRE!$D$6,\" )\")","v":"MES:    (  )"}]
[{"$f":"CONCATENATE(\"AÑO: \",NOMBRE!$B$7)","v":"AÑO: 2026"}]
["REM-P1. POBLACIÓN EN CONTROL PROGRAMA DE SALUD DE LA MUJER"]
["ATENCIÓN PRIMARIA DE SALUD"]
["SECCION A: POBLACIÓN EN CONTROL SEGÚN MÉTODO DE REGULACIÓN DE FERTILIDAD "]
["MÉTODOS",null,"TOTAL","RANGO ETARIO",null,null,null,null,null,null,null,null,null,null,null,null,"Pueblos Originarios"," Migrantes",null,"PV-VIH (personas viviendo con VIH)","Identidad de Género",null,null,"Personas con Discapacidad"]
[null,null,null,"Menor \nde 15 años","15 a 19 años","20 a 24 años","25 a 29 años","30 a 34 años","35 a 39 años","40 a 44 años","45 a 49 años","50 a 54 años","55 a 59 años","60 a 64 años","65 a 69 años","70 y más años",null,"Menor de 20 años","20 años y más",null,"Trans Masculino","Trans Femenino","No Binarie"]
["D . I . U T con Cobre",null,{"$f":"SUM(D11:M11)","v":0},null,null,null,null,null,null,null,null,null,null,null,null,null,null,null,null,null,null,null,null,null,{"$f":"$CA11&CB11&CC11&CD11&CE11&CF11&CG11&CH11&CI11&CJ11","v":""},null,null,null,null,null,null,null,null,null,null,null,null,null,null,null,null,null,null,null,null,null,null,null,null,null,null,null,null,null,null,null,null,null,null,null,null,null,null,null,null,null,null,null,null,null,null,null,null,null,null,null,null,null,{"$f":"IF(AND($C11<>0,Q11=\"\"),\"* No olvide ingresar la variable \"&Q$9&\"\"&\". Digite CERO si no tiene.\",IF(Q11>$C11,\"* El Número de Pueblos Originarios no puede superar el Total. \",\"\"))","v":""},{"$f":"IF(AND($C11>0,R11=\"\"),\"* No olvide ingresar la variable \"&R$9&\"\"&\" Menor de 20 años. Digite CERO si no tiene datos.\",\"\")","v":""},{"$f":"IF(AND($C11>0,S11=\"\"),\"*No olvide ingresar la variable \"&R$9&\" 20 años y más. Digite CERO si no tiene datos.\", \"\")","v":""},{"$f":"IF(($R11)>SUM(D11+E11), \"*El total de migrantes menor de 20 años no puede ser mayor a la suma de rangos etarios menor de 20 años.\", \"\")","v":""},{"$f":"IF(AND($C11>0,T11=\"\"),\"* No olvide ingresar la variable \"&T$9&\"\"&\". Digite CERO si no tiene\",\"\")","v":""},{"$f":"IF(AND($C11<>0,U11=\"\"),\"* No olvide ingresar la variable \"&U$10&\"\"&\". Digite CERO si no tiene.\",IF(U11>$C11,\"* El Número de Trans masculino no puede superar el Total. \",\"\"))","v":""},null,{"$f":"IF(AND($C11<>0,W11=\"\"),\"* No olvide ingresar la variable \"&W$10&\"\"&\". Digite CERO si no tiene.\",IF(W11>$C11,\"* El Número de No Binarie no puede superar el Total. \",\"\"))","v":""},{"$f":"IF(AND($C11<>0,X11=\"\"),\"* No olvide ingresar la variable \"&X$9&\"\"&\". Digite CERO si no tiene.\",IF(X11>$C11,\"* El Número de Personas con discapacidad no puede superar el Total. \",\"\"))","v":""},{"$f":"IF(($S11)>SUM(F11:M11), \"*El total de migrantes de 20 años y más no puede ser mayor a la suma de rangos etarios de 20 años y más.\", \"\")","v":""},null,null,null,null,null,{"$f":"IF(AND($C11<>0,$Q11=\"\"),1,IF($Q11>$C11,1,0))","v":0},{"$f":"IF(AND($C11<>0,ISBLANK($R11)),1,0)","v":0},{"$f":"IF(AND($C11<>0,ISBLANK($S11)),1,0)","v":0},{"$f":"IF(($R11)>SUM(D11+E11),1,0)","v":0},{"$f":"IF(AND($C11<>0,$T11=\"\"),1,IF($T11>$C11,1,0))","v":0},{"$f":"IF(AND($C11<>0,$U11=\"\"),1,IF($U11>$C11,1,0))","v":0},null,{"$f":"IF(AND($C11<>0,W11=\"\"),1,IF(W11>$C11,1,0))","v":0},{"$f":"IF(AND($C11<>0,X11=\"\"),1,IF(X11>$C11,1,0))","v":0},{"$f":"IF(($S11)>SUM(F11:M11),1,0)","v":0}]
["D . I . U con Levonorgestrel",null,{"$f":"SUM(D12:M12)","v":0},null,null,null,null,null,null,null,null,null,null,null,null,null,null,null,null,null,null,null,null,null,{"$f":"$CA12&CB12&CC12&CD12&CE12&CF12&CG12&CH12&CI12&CJ12","v":""},null,null,null,null,null,null,null,null,null,null,null,null,null,null,null,null,null,null,null,null,null,null,null,null,null,null,null,null,null,null,null,null,null,null,null,null,null,null,null,null,null,null,null,null,null,null,null,null,null,null,null,null,null,{"$f":"IF(AND($C12<>0,Q12=\"\"),\"* No olvide ingresar la variable \"&Q$9&\"\"&\". Digite CERO si no tiene.\",IF(Q12>$C12,\"* El Número de Pueblos Originarios no puede superar el Total. \",\"\"))","v":""},{"$f":"IF(AND($C12>0,R12=\"\"),\"* No olvide ingresar la variable \"&R$9&\"\"&\" Menor de 20 años. Digite CERO si no tiene datos.\",\"\")","v":""},{"$f":"IF(AND($C12>0,S12=\"\"),\"*No olvide ingresar la variable \"&R$9&\" 20 años y más. Digite CERO si no tiene datos.\", \"\")","v":""},{"$f":"IF(($R12)>SUM(D12+E12), \"*El total de migrantes menor de 20 años no puede ser mayor a la suma de rangos etarios menor de 20 años.\", \"\")","v":""},{"$f":"IF(AND($C12>0,T12=\"\"),\"* No olvide ingresar la variable \"&T$9&\"\"&\". Digite CERO si no tiene\",\"\")","v":""},"",null,"","",{"$f":"IF(($S12)>SUM(F12:M12), \"*El total de migrantes de 20 años y más no puede ser mayor a la suma de rangos etarios de 20 años y más.\", \"\")","v":""},null,null,null,null,null,{"$f":"IF(AND($C12<>0,$Q12=\"\"),1,IF($Q12>$C12,1,0))","v":0},{"$f":"IF(AND($C12<>0,ISBLANK($R12)),1,0)","v":0},{"$f":"IF(AND($C12<>0,ISBLANK($S12)),1,0)","v":0},{"$f":"IF(($R12)>SUM(D12+E12),1,0)","v":0},{"$f":"IF(AND($C12<>0,$T12=\"\"),1,IF($T12>$C12,1,0))","v":0},{"$f":"IF(AND($C12<>0,$U12=\"\"),1,IF($U12>$C12,1,0))","v":0},null,0,0,{"$f":"IF(($S12)>SUM(F12:M12),1,0)","v":0}]
["Hormonal","Oral Combinado",0,null,null,null,null,null,null,null,null,null,null,null,null,null,null,null,null,null,null,null,null,null,{"$f":"$CA13&CB13&CC13&CD13&CE13&CF13&CG13&CH13&CI13&CJ13","v":""},null,null,null,null,null,null,null,null,null,null,null,null,null,null,null,null,null,null,null,null,null,null,null,null,null,null,null,null,null,null,null,null,null,null,null,null,null,null,null,null,null,null,null,null,null,null,null,null,null,null,null,null,null,"","","","","","",null,"","","",null,null,null,null,null,0,0,0,0,0,0,null,0,0,0]
[null,"Oral Progestágeno",0,null,null,null,null,null,null,null,null,null,null,null,null,null,null,null,null,null,null,null,null,null,"",null,null,null,null,null,null,null,null,null,null,null,null,null,null,null,null,null,null,null,null,null,null,null,null,null,null,null,null,null,null,null,null,null,null,null,null,null,null,null,null,null,null,null,null,null,null,null,null,null,null,null,null,null,"","","","","","",null,"","","",null,null,null,null,null,0,0,0,0,0,0,null,0,0,0]
[null,"Inyectable Combinado",0,null,null,null,null,null,null,null,null,null,null,null,null,null,null,null,null,null,null,null,null,null,"",null,null,null,null,null,null,null,null,null,null,null,null,null,null,null,null,null,null,null,null,null,null,null,null,null,null,null,null,null,null,null,null,null,null,null,null,null,null,null,null,null,null,null,null,null,null,null,null,null,null,null,null,null,"","","","","","",null,"","","",null,null,null,null,null,0,0,0,0,0,0,null,0,0,0]
[null,"Inyectable Progestágeno",0,null,null,null,null,null,null,null,null,null,null,null,null,null,null,null,null,null,null,null,null,null,"",null,null,null,null,null,null,null,null,null,null,null,null,null,null,null,null,null,null,null,null,null,null,null,null,null,null,null,null,null,null,null,null,null,null,null,null,null,null,null,null,null,null,null,null,null,null,null,null,null,null,null,null,null,"","","","","","",null,"","","",null,null,null,null,null,0,0,0,0,0,0,null,0,0,0]
[null,"Implante Etonogestrel (3 años)",0,null,null,null,null,null,null,null,null,null,null,null,null,null,null,null,null,null,null,null,null,null,"",null,null,null,null,null,null,null,null,null,null,null,null,null,null,null,null,null,null,null,null,null,null,null,null,null,null,null,null,null,null,null,null,null,null,null,null,null,null,null,null,null,null,null,null,null,null,null,null,null,null,null,null,null,"","","","","","",null,"","","",null,null,null,null,null,0,0,0,0,0,0,null,0,0,0]
[null,"Implante Levonorgestrel (5 años)",0,null,null,null,null,null,null,null,null,null,null,null,null,null,null,null,null,null,null,null,null,null,"",null,null,null,null,null,null,null,null,null,null,null,null,null,null,null,null,null,null,null,null,null,null,null,null,null,null,null,null,null,null,null,null,null,null,null,null,null,null,null,null,null,null,null,null,null,null,null,null,null,null,null,null,null,"","","","","","",null,"","","",null,null,null,null,null,0,0,0,0,0,0,null,0,0,0]
[null,"Anillo Vaginal",{"$f":"SUM(D19:M19)","v":0},null,null,null,null,null,null,null,null,null,null,null,null,null,null,null,null,null,null,null,null,null,"",null,null,null,null,null,null,null,null,null,null,null,null,null,null,null,null,null,null,null,null,null,null,null,null,null,null,null,null,null,null,null,null,null,null,null,null,null,null,null,null,null,null,null,null,null,null,null,null,null,null,null,null,null,"","","","","","",null,"","","",null,null,null,null,null,0,0,0,0,0,0,null,0,0,0]
["Solo Preservativo MAC","Mujer",{"$f":"SUM(D20:P20)","v":0},null,null,null,null,null,null,null,null,null,null,null,null,null,null,null,null,null,null,null,null,null,"",null,null,null,null,null,null,null,null,null,null,null,null,null,null,null,null,null,null,null,null,null,null,null,null,null,null,null,null,null,null,null,null,null,null,null,null,null,null,null,null,null,null,null,null,null,null,null,null,null,null,null,null,null,"","","","","","",null,"","","",null,null,null,null,null,0,0,0,0,0,0,null,0,0,0]
[null,"Hombres",{"$f":"SUM(D21:P21)","v":0},null,null,null,null,null,null,null,null,null,null,null,null,null,null,null,null,null,null,null,null,null,"",null,null,null,null,null,null,null,null,null,null,null,null,null,null,null,null,null,null,null,null,null,null,null,null,null,null,null,null,null,null,null,null,null,null,null,null,null,null,null,null,null,null,null,null,null,null,null,null,null,null,null,null,null,{"$f":"IF(AND($C21<>0,Q21=\"\"),\"* No olvide ingresar la variable \"&Q$9&\"\"&\". Digite CERO si no tiene.\",IF(Q21>$C21,\"* El Número de Pueblos Originarios no puede superar el Total. \",\"\"))","v":""},"","","","",null,{"$f":"IF(AND($C21<>0,V21=\"\"),\"* No olvide ingresar la variable \"&V$10&\"\"&\". Digite CERO si no tiene.\",IF(V21>$C21,\"* El Número de Trans Femenino no puede superar el Total. \",\"\"))","v":""},"","","",null,null,null,null,null,0,0,0,0,{"$f":"IF(AND($C21<>0,$T21=\"\"),1,IF($T21>$C21,1,0))","v":0},null,{"$f":"IF(AND($C21<>0,V21=\"\"),1,IF(V21>$C21,1,0))","v":0},0,0,0]
["Esterilización Quirúrgica ","Mujer",{"$f":"SUM(D22:M22)","v":0},null,null,null,null,null,null,null,null,null,null,null,null,null,null,null,null,null,null,null,null,null,"",null,null,null,null,null,null,null,null,null,null,null,null,null,null,null,null,null,null,null,null,null,null,null,null,null,null,null,null,null,null,null,null,null,null,null,null,null,null,null,null,null,null,null,null,null,null,null,null,null,null,null,null,null,"","","","","",{"$f":"IF(AND($C22<>0,U22=\"\"),\"* No olvide ingresar la variable \"&U$10&\"\"&\". Digite CERO si no tiene.\",IF(U22>$C22,\"* El Número de Trans masculino no puede superar el Total. \",\"\"))","v":""},null,"","","",null,null,null,null,null,0,0,0,0,0,0,null,0,0,0]
[null,"Hombres",{"$f":"SUM(D23:M23)","v":0},null,null,null,null,null,null,null,null,null,null,null,null,null,null,null,null,null,null,null,null,null,"",null,null,null,null,null,null,null,null,null,null,null,null,null,null,null,null,null,null,null,null,null,null,null,null,null,null,null,null,null,null,null,null,null,null,null,null,null,null,null,null,null,null,null,null,null,null,null,null,null,null,null,null,null,"","","","","",null,{"$f":"IF(AND($C23<>0,V23=\"\"),\"* No olvide ingresar la variable \"&V$10&\"\"&\". Digite CERO si no tiene.\",IF(V23>$C23,\"* El Número de Trans femenino no puede superar el Total. \",\"\"))","v":""},"","","",null,null,null,null,null,0,0,0,0,0,null,{"$f":"IF(AND($C23<>0,V23=\"\"),1,IF(V23>$C23,1,0))","v":0},0,0,0]
["Otro ",null,{"$f":"SUM(D24:M24)","v":0},null,null,null,null,null,null,null,null,null,null,null,null,null,null,null,null,null,null,null,null,null,"",null,null,null,null,null,null,null,null,null,null,null,null,null,null,null,null,null,null,null,null,null,null,null,null,null,null,null,null,null,null,null,null,null,null,null,null,null,null,null,null,null,null,null,null,null,null,null,null,null,null,null,null,null,"","","","","",{"$f":"IF(AND($C24<>0,U24=\"\"),\"* No olvide ingresar la variable \"&U$10&\"\"&\". Digite CERO si no tiene.\",IF(U24>$C24,\"* El Número de Trans masculino no puede superar el Total. \",\"\"))","v":""},{"$f":"IF(AND($C24<>0,V24=\"\"),\"* No olvide ingresar la variable \"&V$10&\"\"&\". Digite CERO si no tiene.\",IF(V24>$C24,\"* El Número de Trans femenino no puede superar el Total. \",\"\"))","v":""},"","","",null,null,null,null,null,0,0,0,0,0,0,{"$f":"IF(AND($C24<>0,V24=\"\"),1,IF(V24>$C24,1,0))","v":0},0,0,0]
["Total",null,{"$f":"SUM(D25:P25)","v":0},{"$f":"SUM(D11:D24)","v":0},{"$f":"SUM(E11:E24)","v":0},0,0,0,0,0,0,0,0,null,null,null,{"$f":"SUM(Q11:Q24)","v":0},{"$f":"SUM(R11:R24)","v":0},0,{"$f":"SUM(T11:T24)","v":0},{"$f":"SUM(U11:U24)","v":0},{"$f":"SUM(V11:V24)","v":0},{"$f":"SUM(W11:W24)","v":0},{"$f":"SUM(X11:X24)","v":0}]
[" Mujeres en control con enfermedad cardiovascular (DM-HTA)",null,{"$f":"SUM(D26:P26)","v":0},null,null,null,null,null,null,null,null,null,null,null,null,null,null,null,null,null,null,null,null,null,"",null,null,null,null,null,null,null,null,null,null,null,null,null,null,null,null,null,null,null,null,null,null,null,null,null,null,null,null,null,null,null,null,null,null,null,null,null,null,null,null,null,null,null,null,null,null,null,null,null,null,null,null,null,{"$f":"IF(AND($C26<>0,Q26=\"\"),\"* No olvide ingresar la variable \"&Q$9&\"\"&\". Digite CERO si no tiene.\",IF(Q26>$C26,\"* El Número de Pueblos Originarios no puede superar el Total. \",\"\"))","v":""},{"$f":"IF(AND($C26>0,R26=\"\"),\"* No olvide ingresar la variable \"&R$9&\"\"&\" Menor de 20 años. Digite CERO si no tiene.\",IF(R26>$C26,\"* El Número de Migrantes Menor de 20 años no puede superar el Total. \",\"\"))","v":""},{"$f":"IF(AND($C26>0,S26=\"\"),\"* No olvide ingresar la variable \"&R$9&\"\"&\" 20 años y más. Digite CERO si no tiene.\",IF(S26>$C26,\"* El Número de Migrantes 20 años y más no puede superar el Total. \",\"\"))","v":""},"",{"$f":"IF(AND($C26<>0,T26=\"\"),\"* No olvide ingresar la variable \"&T$9&\"\"&\". Digite CERO si no tiene.\",IF(T26>$C26,\"* El Número de PV-VIH (personas viviendo con VIH) no puede superar el Total. \",\"\"))","v":""},{"$f":"IF(AND($C26<>0,U26=\"\"),\"* No olvide ingresar la variable \"&U$10&\"\"&\". Digite CERO si no tiene.\",IF(U26>$C26,\"* El Número de Trans masculino no puede superar el Total. \",\"\"))","v":""},null,{"$f":"IF(AND($C26<>0,W26=\"\"),\"* No olvide ingresar la variable \"&W$10&\"\"&\". Digite CERO si no tiene.\",IF(W26>$C26,\"* El Número de No Binarie no puede superar el Total. \",\"\"))","v":""},{"$f":"IF(AND($C26<>0,X26=\"\"),\"* No olvide ingresar la variable \"&X$9&\"\"&\". Digite CERO si no tiene.\",IF(X26>$C26,\"* El Número de Personas con discapacidad no puede superar el Total. \",\"\"))","v":""},"",null,null,null,null,null,0,{"$f":"IF(AND($C26<>0,$R26=\"\"),1,IF($R26>$C26,1,0))","v":0},0,0,0,0,null,{"$f":"IF(AND($C26<>0,W26=\"\"),1,IF(W26>$C26,1,0))","v":0},0,0]
["Mujeres con Retiro de Implante Anticipado en el semestre (antes de los 3 años)","En APS",{"$f":"SUM(D27:M27)","v":0},null,null,null,null,null,null,null,null,null,null,null,null,null,null,null,null,null,null,null,null,null,"",null,null,null,null,null,null,null,null,null,null,null,null,null,null,null,null,null,null,null,null,null,null,null,null,null,null,null,null,null,null,null,null,null,null,null,null,null,null,null,null,null,null,null,null,null,null,null,null,null,null,null,null,null,{"$f":"IF(AND($C27<>0,Q27=\"\"),\"* No olvide ingresar la variable \"&Q$9&\"\"&\". Digite CERO si no tiene.\",IF(Q27>$C27,\"* El Número de Pueblos Originarios no puede superar el Total. \",\"\"))","v":""},{"$f":"IF(AND($C27>0,R27=\"\"),\"* No olvide ingresar la variable \"&R$9&\"\"&\" Menor de 20 años. Digite CERO si no tiene.\",IF(R27>$C27,\"* El Número de Migrantes Menor de 20 años no puede superar el Total. \",\"\"))","v":""},{"$f":"IF(AND($C27>0,S27=\"\"),\"* No olvide ingresar la variable \"&R$9&\"\"&\" 20 años y más. Digite CERO si no tiene.\",IF(S27>$C27,\"* El Número de Migrantes 20 años y más no puede superar el Total. \",\"\"))","v":""},"","","",null,"","","",null,null,null,null,null,0,0,0,0,0,{"$f":"IF(AND($C27<>0,$U27=\"\"),1,IF($U27>$C27,1,0))","v":0},null,0,0,0]
[null,"En Extrasistema ",{"$f":"SUM(D28:M28)","v":0},null,null,null,null,null,null,null,null,null,null,null,null,null,null,null,null,null,null,null,null,null,"",null,null,null,null,null,null,null,null,null,null,null,null,null,null,null,null,null,null,null,null,null,null,null,null,null,null,null,null,null,null,null,null,null,null,null,null,null,null,null,null,null,null,null,null,null,null,null,null,null,null,null,null,null,"","","","","","",null,"","","",null,null,null,null,null,0,0,0,0,0,0,null,0,0,0]
["Mujeres con Retiro de Implante Anticipado en el semestre (antes de los 5 años)","En APS",0,null,null,null,null,null,null,null,null,null,null,null,null,null,null,null,null,null,null,null,null,null,"",null,null,null,null,null,null,null,null,null,null,null,null,null,null,null,null,null,null,null,null,null,null,null,null,null,null,null,null,null,null,null,null,null,null,null,null,null,null,null,null,null,null,null,null,null,null,null,null,null,null,null,null,null,"","","","","","",null,"","","",null,null,null,null,null,0,0,0,0,0,0,null,0,0,0]
[null,"En Extrasistema ",0,null,null,null,null,null,null,null,null,null,null,null,null,null,null,null,null,null,null,null,null,null,"",null,null,null,null,null,null,null,null,null,null,null,null,null,null,null,null,null,null,null,null,null,null,null,null,null,null,null,null,null,null,null,null,null,null,null,null,null,null,null,null,null,null,null,null,null,null,null,null,null,null,null,null,null,{"$f":"IF(AND($C30<>0,Q30=\"\"),\"* No olvide ingresar la variable \"&Q$9&\"\"&\". Digite CERO si no tiene.\",IF(Q30>$C30,\"* El Número de Pueblos Originarios no puede superar el Total. \",\"\"))","v":""},"","","","","",null,"","","",null,null,null,null,null,0,0,0,0,0,0,null,0,0,0]
["Método de Regulación de Fertilidad más Preservativo",null,{"$f":"SUM(D31:M31)","v":0},null,null,null,null,null,null,null,null,null,null,null,null,null,null,null,null,null,null,null,null,null,"",null,null,null,null,null,null,null,null,null,null,null,null,null,null,null,null,null,null,null,null,null,null,null,null,null,null,null,null,null,null,null,null,null,null,null,null,null,null,null,null,null,null,null,null,null,null,null,null,null,null,null,null,null,{"$f":"IF(AND($C31<>0,Q31=\"\"),\"* No olvide ingresar la variable \"&Q$9&\"\"&\". Digite CERO si no tiene.\",IF(Q31>$C31,\"* El Número de Pueblos Originarios no puede superar el Total. \",\"\"))","v":""},"","","","","",null,"","","",null,null,null,null,null,0,{"$f":"IF(AND($C31<>0,$R31=\"\"),1,IF($R31>$C31,1,0))","v":0},0,0,0,0,null,0,0,0]
["SECCION A.1: POBLACIÓN EN CONTROL SEGÚN SALUD SEXUAL "]
["MÉTODOS",null,"TOTAL","RANGO ETARIO",null,null,null,null,null,null,null,null,null,null,null,null,"Pueblos Originarios"," Migrantes",null,"PV-VIH (personas viviendo con VIH)","Identidad de Género",null,null,"Personas con Discapacidad"]
[null,null,null,"Menor \nde 15 años","15 a 19 años","20 a 24 años","25 a 29 años","30 a 34 años","35 a 39 años","40 a 44 años","45 a 49 años","50 a 54 años","55 a 59 años","60 a 64 años","65 a 69 años","70 y más años",null,"Menor de 20 años","20 años y más",null,"Trans Masculino","Trans Femenino","No Binarie"]
["Preservativo/Práctica Sexual segura ","Mujer",{"$f":"SUM(D35:P35)","v":0},null,null,null,null,null,null,null,null,null,null,null,null,null,null,null,null,null,null,null,null,null,{"$f":"$CA35&CB35&CC35&CD35&CE35&CF35&CG35&CH35","v":""},null,null,null,null,null,null,null,null,null,null,null,null,null,null,null,null,null,null,null,null,null,null,null,null,null,null,null,null,null,null,null,null,null,null,null,null,null,null,null,null,null,null,null,null,null,null,null,null,null,null,null,null,null,{"$f":"IF(AND($C35<>0,Q35=\"\"),\"* No olvide ingresar la variable \"&Q$33&\"\"&\". Digite CERO si no tiene.\",IF(Q35>$C35,\"* El Número de Pueblos Originarios no puede superar el Total. \",\"\"))","v":""},{"$f":"IF(AND($D35+$E35>0,R35=\"\"),\"* No olvide ingresar la variable \"&R$33&\"\"&\" Menor de 20 años. Digite CERO si no tiene.\",IF(R35>$D35+E35,\"* El Número de Migrantes Menor de 20 años. no puede superar la suma de los rangos etarios menor de 20 años. \",\"\"))","v":""},{"$f":"IF(AND($F35+G35+H35+I35+J35+K35+L35+M35+N35+O35+P35<>0,S35=\"\"),\"* No olvide ingresar la variable \"&R$33&\"\"&\" 20 años y más. Digite CERO si no tiene.\",IF(S35>$F35+G35+H35+I35+J35+K35+L35+M35+N35+O35+P35,\"* El Número de Migrantes 20 años y más. no puede superar la suma de los rangos de 20 años y más. \",\"\"))","v":""},{"$f":"IF(AND($C35<>0,T35=\"\"),\"* No olvide ingresar la variable \"&T$33&\"\"&\". Digite CERO si no tiene.\",IF(T35>$C35,\"* El Número de PV-VIH (personas viviendo con VIH) no puede superar el Total. \",\"\"))","v":""},{"$f":"IF(AND($C35<>0,U35=\"\"),\"* No olvide ingresar la variable \"&U$34&\"\"&\". Digite CERO si no tiene.\",IF(U35>$C35,\"* El Número de Trans masculino no puede superar el Total. \",\"\"))","v":""},null,{"$f":"IF(AND($C35<>0,W35=\"\"),\"* No olvide ingresar la variable \"&W$10&\"\"&\". Digite CERO si no tiene.\",IF(W35>$C35,\"* El Número de No Binarie no puede superar el Total. \",\"\"))","v":""},{"$f":"IF(AND($C35<>0,X35=\"\"),\"* No olvide ingresar la variable \"&X$33&\"\"&\". Digite CERO si no tiene.\",IF(X35>$C35,\"* El Número de Personas con discapacidad no puede superar el Total. \",\"\"))","v":""},null,null,null,null,null,null,{"$f":"IF(AND($C35<>0,$Q35=\"\"),1,IF($Q35>$C35,1,0))","v":0},{"$f":"IF(AND($C35<>0,$R35=\"\"),1,IF($R35>SUM(D35+E35),1,0))","v":0},{"$f":"IF(AND($C35<>0,$S35=\"\"),1,IF($S35>SUM(F35:P35),1,0))","v":0},{"$f":"IF(AND($C35<>0,$T35=\"\"),1,IF($T35>$C35,1,0))","v":0},{"$f":"IF(AND($C35<>0,$U35=\"\"),1,IF($U35>$C35,1,0))","v":0},null,{"$f":"IF(AND($C35<>0,W35=\"\"),1,IF(W35>$C35,1,0))","v":0},0]
[null,"Hombres",{"$f":"SUM(D36:P36)","v":0},null,null,null,null,null,null,null,null,null,null,null,null,null,null,null,null,null,null,null,null,null,{"$f":"$CA36&CB36&CC36&CD36&CE36&CF36&CG36&CH36","v":""},null,null,null,null,null,null,null,null,null,null,null,null,null,null,null,null,null,null,null,null,null,null,null,null,null,null,null,null,null,null,null,null,null,null,null,null,null,null,null,null,null,null,null,null,null,null,null,null,null,null,null,null,null,{"$f":"IF(AND($C36<>0,Q36=\"\"),\"* No olvide ingresar la variable \"&Q$33&\"\"&\". Digite CERO si no tiene.\",IF(Q36>$C36,\"* El Número de Pueblos Originarios no puede superar el Total. \",\"\"))","v":""},{"$f":"IF(AND($D36+$E36>0,R36=\"\"),\"* No olvide ingresar la variable \"&R$33&\"\"&\" Menor de 20 años. Digite CERO si no tiene.\",IF(R36>$D36+E36,\"* El Número de Migrantes Menor de 20 años. no puede superar la suma de los rangos etarios menor de 20 años. \",\"\"))","v":""},{"$f":"IF(AND($F36+G36+H36+I36+J36+K36+L36+M36+N36+O36+P36<>0,S36=\"\"),\"* No olvide ingresar la variable \"&R$33&\"\"&\" 20 años y más. Digite CERO si no tiene.\",IF(S36>$F36+G36+H36+I36+J36+K36+L36+M36+N36+O36+P36,\"* El Número de Migrantes 20 años y más. no puede superar la suma de los rangos de 20 años y más. \",\"\"))","v":""},"",null,{"$f":"IF(AND($C36<>0,V36=\"\"),\"* No olvide ingresar la variable \"&V$34&\"\"&\". Digite CERO si no tiene.\",IF(V36>$C36,\"* El Número de Trans femenino no puede superar el Total. \",\"\"))","v":""},"","",null,null,null,null,null,null,{"$f":"IF(AND($C36<>0,$Q36=\"\"),1,IF($Q36>$C36,1,0))","v":0},{"$f":"IF(AND($C36<>0,$R36=\"\"),1,IF($R36>SUM(D36+E36),1,0))","v":0},{"$f":"IF(AND($C36<>0,$S36=\"\"),1,IF($S36>SUM(F36:P36),1,0))","v":0},{"$f":"IF(AND($C36<>0,$T36=\"\"),1,IF($T36>$C36,1,0))","v":0},null,{"$f":"IF(AND($C36<>0,V36=\"\"),1,IF(V36>$C36,1,0))","v":0},0,0]
["Lubricantes","Mujer",{"$f":"SUM(D37:P37)","v":0},null,null,null,null,null,null,null,null,null,null,null,null,null,null,null,null,null,null,null,null,null,"",null,null,null,null,null,null,null,null,null,null,null,null,null,null,null,null,null,null,null,null,null,null,null,null,null,null,null,null,null,null,null,null,null,null,null,null,null,null,null,null,null,null,null,null,null,null,null,null,null,null,null,null,null,"",{"$f":"IF(AND($D37+$E37>0,R37=\"\"),\"* No olvide ingresar la variable \"&R$33&\"\"&\" Menor de 20 años. Digite CERO si no tiene.\",IF(R37>$D37+E37,\"* El Número de Migrantes Menor de 20 años. no puede superar la suma de los rangos etarios menor de 20 años. \",\"\"))","v":""},"","",{"$f":"IF(AND($C37<>0,U37=\"\"),\"* No olvide ingresar la variable \"&U$34&\"\"&\". Digite CERO si no tiene.\",IF(U37>$C37,\"* El Número de Trans masculino no puede superar el Total. \",\"\"))","v":""},null,"","",null,null,null,null,null,null,0,0,0,0,{"$f":"IF(AND($C37<>0,$U37=\"\"),1,IF($U37>$C37,1,0))","v":0},null,0,0]
[null,"Hombres",{"$f":"SUM(D38:P38)","v":0},null,null,null,null,null,null,null,null,null,null,null,null,null,null,null,null,null,null,null,null,null,"",null,null,null,null,null,null,null,null,null,null,null,null,null,null,null,null,null,null,null,null,null,null,null,null,null,null,null,null,null,null,null,null,null,null,null,null,null,null,null,null,null,null,null,null,null,null,null,null,null,null,null,null,null,"","","","",null,{"$f":"IF(AND($C38<>0,V38=\"\"),\"* No olvide ingresar la variable \"&V$34&\"\"&\". Digite CERO si no tiene.\",IF(V38>$C38,\"* El Número de Trans femenino no puede superar el Total. \",\"\"))","v":""},"","",null,null,null,null,null,null,0,0,0,0,null,{"$f":"IF(AND($C38<>0,V38=\"\"),1,IF(V38>$C38,1,0))","v":0},0,0]
["Condon Femenino",null,{"$f":"SUM(D39:P39)","v":0},null,null,null,null,null,null,null,null,null,null,null,null,null,null,null,null,null,null,null,null,null,"",null,null,null,null,null,null,null,null,null,null,null,null,null,null,null,null,null,null,null,null,null,null,null,null,null,null,null,null,null,null,null,null,null,null,null,null,null,null,null,null,null,null,null,null,null,null,null,null,null,null,null,null,null,"","","","",{"$f":"IF(AND($C39<>0,U39=\"\"),\"* No olvide ingresar la variable \"&U$34&\"\"&\". Digite CERO si no tiene.\",IF(U39>$C39,\"* El Número de Trans masculino no puede superar el Total. \",\"\"))","v":""},null,"","",null,null,null,null,null,null,0,0,0,0,0,null,0,0]
["Gestantes que reciben preservativo",null,{"$f":"SUM(D40:M40)","v":0},null,null,null,null,null,null,null,null,null,null,null,null,null,null,null,null,null,null,null,null,null,"",null,null,null,null,null,null,null,null,null,null,null,null,null,null,null,null,null,null,null,null,null,null,null,null,null,null,null,null,null,null,null,null,null,null,null,null,null,null,null,null,null,null,null,null,null,null,null,null,null,null,null,null,null,"","","","",{"$f":"IF(AND($C40<>0,U40=\"\"),\"* No olvide ingresar la variable \"&U$34&\"\"&\". Digite CERO si no tiene.\",IF(U40>$C40,\"* El Número de Trans masculino no puede superar el Total. \",\"\"))","v":""},null,"","",null,null,null,null,null,null,0,0,0,0,0,null,0,0]
["SECCION B: GESTANTES EN CONTROL CON EVALUACIÓN RIESGO BIOPSICOSOCIAL "]
["GRUPOS DE EDAD","Total de Gestantes en Control ","En Riesgo Psicosocial ","Con 3 o más Riesgos Psicosociales","Que presentan Violencia de género ","Gestantes que presentan ARO","Pueblos Originarios","Migrantes","Identidad de Género",null,"Personas con Discapacidad"]
[null,null,null,null,null,null,null,null,"Trans Masculino","No Binarie"]
["Menos de 15 años",null,null,null,null,null,null,null,null,null,null,{"$f":"($CA44&$CB44&$CC44&$CD44&$CE44&$CF44&CG44&CH44&CI44)","v":""},null,null,null,null,null,null,null,null,null,null,null,null,null,null,null,null,null,null,null,null,null,null,null,null,null,null,null,null,null,null,null,null,null,null,null,null,null,null,null,null,null,null,null,null,null,null,null,null,null,null,null,null,null,null,null,null,null,null,null,null,null,null,null,null,null,null,{"$f":"IF($B44<$C44,\"* Las Gestantes Menores de 15 años con Riesgo Psicosocial deben estar incluidas en el Total de Gestantes en Control misma edad. \",\"\")","v":""},{"$f":"IF($C44<$E44,\"* Las Gestantes Menores de 15 años Que presentan Violencia de género deben estar incluidas en el grupo En Riesgo Psicosocial. \",\"\")","v":""},{"$f":"IF($B44<$D44,\"* Las Gestantes Menores de 15 años Con 3  o más Riesgos Psicosocial deben estar incluidas en el Total de Gestantes en Control misma edad. \",\"\")","v":""},{"$f":"IF($B44<$F44,\"* Las Gestantes que presentan ARO Menos de 15 años deben estar incluidas en el Total de Gestantes en Control mismo grupo de edad. \",\"\")","v":""},{"$f":"IF(AND($B44<>0,G44=\"\"),\"* No olvide ingresar la variable \"&G$42&\"\"&\". Digite CERO si no tiene.\",IF(G44>$B44,\"* La variable Pueblos originario no puede superar el Total de Gestantes en Control mismo grupo de edad. \",\"\"))","v":""},{"$f":"IF(AND($B44<>0,H44=\"\"),\"* No olvide ingresar la variable \"&H$42&\"\"&\". Digite CERO si no tiene.\",IF(H44>$B44,\"* La variable Migrantes no puede superar el Total de Gestantes en Control mismo grupo de edad. \",\"\"))","v":""},{"$f":"IF(AND($B44<>0,I44=\"\"),\"* No olvide ingresar la variable \"&I$43&\"\"&\". Digite CERO si no tiene.\",IF(I44>$B44,\"* La variable Trans masculino no puede superar el Total de Gestantes en Control mismo grupo de edad. \",\"\"))","v":""},{"$f":"IF(AND($B44<>0,J44=\"\"),\"* No olvide ingresar la variable \"&J$43&\"\"&\". Digite CERO si no tiene.\",IF(J44>$B44,\"* La variable No Binarie no puede superar el Total de Gestantes en Control mismo grupo de edad. \",\"\"))","v":""},{"$f":"IF(AND($B44<>0,K44=\"\"),\"* No olvide ingresar la variable \"&K$42&\"\"&\". Digite CERO si no tiene.\",IF(K44>$B44,\"* La variable Personas con Discapacidad no puede superar el Total de Gestantes en Control mismo grupo de edad. \",\"\"))","v":""},{"$f":"IF(AND(B44<>0,H44=\"\"),\"* No olvide escribir en la celda de 'Población Migrantes' (Digite CERO si no tiene). \",\"\")","v":""},null,null,null,{"$f":"IF($B44<$C44,1,0)","v":0},{"$f":"IF($C44<$E44,1,0)","v":0},{"$f":"IF($B44<$D44,1,0)","v":0},{"$f":"IF($B44<$F44,1,0)","v":0},{"$f":"IF(AND($B44<>0,G44=\"\"),1,IF(G44>$B44,1,0))","v":0},{"$f":"IF(AND($B44<>0,$H44=\"\"),1,IF($H44>$B44,1,0))","v":0},{"$f":"IF(AND($B44<>0,$I44=\"\"),1,IF($I44>$B44,1,0))","v":0},{"$f":"IF(AND($B44<>0,$J44=\"\"),1,IF($J44>$B44,1,0))","v":0},{"$f":"IF(AND($B44<>0,$K44=\"\"),1,IF($K44>$B44,1,0))","v":0}]
["15 a 19 años",null,null,null,null,null,null,null,null,null,null,{"$f":"($CA45&$CB45&$CC45&$CD45&$CE45&$CF45&CG45&CH45&CI45)","v":""},null,null,null,null,null,null,null,null,null,null,null,null,null,null,null,null,null,null,null,null,null,null,null,null,null,null,null,null,null,null,null,null,null,null,null,null,null,null,null,null,null,null,null,null,null,null,null,null,null,null,null,null,null,null,null,null,null,null,null,null,null,null,null,null,null,null,{"$f":"IF($B45<$C45,\"* Las Gestantes de 15 a 19 años En Riesgo Psicosocial deben estar incluidas en el Total de Gestantes en Control misma edad. \",\"\")","v":""},{"$f":"IF($C45<$E45,\"* Las Gestantes de 15 a 19 años Que presentan Violencia de género deben estar incluidas en el grupo En Riesgo Psicosocial. \",\"\")","v":""},{"$f":"IF($B45<$D45,\"* Las Gestantes de 15 a 19 años con 3 o más Riesgos Psicosocial deben estar incluidas en el Total de Gestantes en Control misma edad. \",\"\")","v":""},{"$f":"IF($B45<$F45,\"* Las Gestantes que presentan ARO de 15 a 19 años deben estar incluidas en el Total de Gestantes en Control mismo grupo de edad. \",\"\")","v":""},{"$f":"IF(AND($B45<>0,G45=\"\"),\"* No olvide ingresar la variable \"&G$42&\"\"&\". Digite CERO si no tiene.\",IF(G45>$B45,\"* La variable Pueblos originario no puede superar el Total de Gestantes en Control mismo grupo de edad. \",\"\"))","v":""},{"$f":"IF(AND($B45<>0,H45=\"\"),\"* No olvide ingresar la variable \"&H$42&\"\"&\". Digite CERO si no tiene.\",IF(H45>$B45,\"* La variable Migrantes no puede superar el Total de Gestantes en Control mismo grupo de edad. \",\"\"))","v":""},{"$f":"IF(AND($B45<>0,I45=\"\"),\"* No olvide ingresar la variable \"&I$43&\"\"&\". Digite CERO si no tiene.\",IF(I45>$B45,\"* La variable Trans masculino no puede superar el Total de Gestantes en Control mismo grupo de edad. \",\"\"))","v":""},"",{"$f":"IF(AND($B45<>0,K45=\"\"),\"* No olvide ingresar la variable \"&K$42&\"\"&\". Digite CERO si no tiene.\",IF(K45>$B45,\"* La variable Personas con Discapacidad no puede superar el Total de Gestantes en Control mismo grupo de edad. \",\"\"))","v":""},null,null,null,null,{"$f":"IF($B45<$C45,1,0)","v":0},{"$f":"IF($C45<$E45,1,0)","v":0},{"$f":"IF($B45<$D45,1,0)","v":0},{"$f":"IF($B45<$F45,1,0)","v":0},{"$f":"IF(AND($B45<>0,G45=\"\"),1,IF(G45>$B45,1,0))","v":0},{"$f":"IF(AND($B45<>0,$H45=\"\"),1,IF($H45>$B45,1,0))","v":0},{"$f":"IF(AND($B45<>0,$I45=\"\"),1,IF($I45>$B45,1,0))","v":0},{"$f":"IF(AND($B45<>0,$J45=\"\"),1,IF($J45>$B45,1,0))","v":0},{"$f":"IF(AND($B45<>0,$K45=\"\"),1,IF($K45>$B45,1,0))","v":0}]
["20 a 24 años",null,null,null,null,null,null,null,null,null,null,"",null,null,null,null,null,null,null,null,null,null,null,null,null,null,null,null,null,null,null,null,null,null,null,null,null,null,null,null,null,null,null,null,null,null,null,null,null,null,null,null,null,null,null,null,null,null,null,null,null,null,null,null,null,null,null,null,null,null,null,null,null,null,null,null,null,null,{"$f":"IF($B46<$C46,\"* Las Gestantes de 20 a 24 años con Riesgo Psicosocial deben estar incluidas en el Total de Gestantes en Control misma edad. \",\"\")","v":""},{"$f":"IF($C46<$E46,\"* Las Gestantes de 20 a 24 años Que presentan Violencia de género deben estar incluidas en el grupo En Riesgo Psicosocial. \",\"\")","v":""},{"$f":"IF($B46<$D46,\"* Las Gestantes de 20 a 24 años con 3 o más Riesgos Psicosocial deben estar incluidas en el Total de Gestantes en Control misma edad. \",\"\")","v":""},{"$f":"IF($B46<$F46,\"* Las Gestantes que presentan ARO de 20 a 24 años deben estar incluidas en el Total de Gestantes en Control misma edad. \",\"\")","v":""},"","","","","",null,null,null,null,0,0,0,0,0,0,0,0,0]
["25 a 29 años",null,null,null,null,null,null,null,null,null,null,"",null,null,null,null,null,null,null,null,null,null,null,null,null,null,null,null,null,null,null,null,null,null,null,null,null,null,null,null,null,null,null,null,null,null,null,null,null,null,null,null,null,null,null,null,null,null,null,null,null,null,null,null,null,null,null,null,null,null,null,null,null,null,null,null,null,null,{"$f":"IF($B47<$C47,\"* Las Gestantes de25 a 29 años con Riesgo Psicosocial deben estar incluidas en el Total de Gestantes en Control misma edad. \",\"\")","v":""},{"$f":"IF($C47<$E47,\"* Las Gestantes de 25 a 29 años Que presentan Violencia de género deben estar incluidas en el grupo En Riesgo Psicosocial. \",\"\")","v":""},{"$f":"IF($B47<$D47,\"* Las Gestantes de 25 a 29 años con 3 o más Riesgos Psicosocial deben estar incluidas en el Total de Gestantes en Control misma edad. \",\"\")","v":""},{"$f":"IF($B47<$F47,\"* Las Gestantes que presentan ARO de 25 a 29 años deben estar incluidas en el Total de Gestantes en Control misma edad. \",\"\")","v":""},"","","","","",null,null,null,null,0,0,0,0,0,0,0,0,0]
["30 a 34 años",null,null,null,null,null,null,null,null,null,null,"",null,null,null,null,null,null,null,null,null,null,null,null,null,null,null,null,null,null,null,null,null,null,null,null,null,null,null,null,null,null,null,null,null,null,null,null,null,null,null,null,null,null,null,null,null,null,null,null,null,null,null,null,null,null,null,null,null,null,null,null,null,null,null,null,null,null,{"$f":"IF($B48<$C48,\"* Las Gestantes de 30 a 34 años con Riesgo Psicosocial deben estar incluidas en el Total de Gestantes en Control misma edad. \",\"\")","v":""},{"$f":"IF($C48<$E48,\"* Las Gestantes de 30 a 34 años Que presentan Violencia de género deben estar incluidas en el grupo En Riesgo Psicosocial. \",\"\")","v":""},{"$f":"IF($B48<$D48,\"* Las Gestantes de 30 a 34 años con 3 o más Riesgos Psicosocial deben estar incluidas en el Total de Gestantes en Control misma edad. \",\"\")","v":""},{"$f":"IF($B48<$F48,\"* Las Gestantes que presentan ARO de 30 a 34 años deben estar incluidas en el Total de Gestantes en Control misma edad. \",\"\")","v":""},"","","","","",null,null,null,null,0,0,0,0,0,0,0,0,0]
["35 a 39 años",null,null,null,null,null,null,null,null,null,null,"",null,null,null,null,null,null,null,null,null,null,null,null,null,null,null,null,null,null,null,null,null,null,null,null,null,null,null,null,null,null,null,null,null,null,null,null,null,null,null,null,null,null,null,null,null,null,null,null,null,null,null,null,null,null,null,null,null,null,null,null,null,null,null,null,null,null,{"$f":"IF($B49<$C49,\"* Las Gestantes de 35 a 39 años con Riesgo Psicosocial deben estar incluidas en el Total de Gestantes en Control misma edad. \",\"\")","v":""},{"$f":"IF($C49<$E49,\"* Las Gestantes de 35 a 39 años Que presentan Violencia de género deben estar incluidas en el grupo En Riesgo Psicosocial. \",\"\")","v":""},{"$f":"IF($B49<$D49,\"* Las Gestantes de 35 a 39 años con 3 o más Riesgos Psicosocial deben estar incluidas en el Total de Gestantes en Control misma edad. \",\"\")","v":""},{"$f":"IF($B49<$F49,\"* Las Gestantes que presentan ARO de 35 a 39 años deben estar incluidas en el Total de Gestantes en Control misma edad. \",\"\")","v":""},"","","","","",null,null,null,null,0,0,0,0,0,0,0,0,0]
["40 a 44 años",null,null,null,null,null,null,null,null,null,null,"",null,null,null,null,null,null,null,null,null,null,null,null,null,null,null,null,null,null,null,null,null,null,null,null,null,null,null,null,null,null,null,null,null,null,null,null,null,null,null,null,null,null,null,null,null,null,null,null,null,null,null,null,null,null,null,null,null,null,null,null,null,null,null,null,null,null,{"$f":"IF($B50<$C50,\"* Las Gestantes 40 a 44 años con Riesgo Psicosocial deben estar incluidas en el Total de Gestantes en Control misma edad. \",\"\")","v":""},{"$f":"IF($C50<$E50,\"* Las Gestantes de 40 a 44 años Que presentan Violencia de género deben estar incluidas en el grupo En Riesgo Psicosocial. \",\"\")","v":""},{"$f":"IF($B50<$D50,\"* Las Gestantes de 40 a 44 años con 3 o más Riesgos Psicosocial deben estar incluidas en el Total de Gestantes en Control misma edad. \",\"\")","v":""},{"$f":"IF($B50<$F50,\"* Las Gestantes que presentan ARO de 40 a 44 años deben estar incluidas en el Total de Gestantes en Control misma edad. \",\"\")","v":""},"","","","","",null,null,null,null,0,0,0,0,0,0,0,0,0]
["45 a 49 años",null,null,null,null,null,null,null,null,null,null,"",null,null,null,null,null,null,null,null,null,null,null,null,null,null,null,null,null,null,null,null,null,null,null,null,null,null,null,null,null,null,null,null,null,null,null,null,null,null,null,null,null,null,null,null,null,null,null,null,null,null,null,null,null,null,null,null,null,null,null,null,null,null,null,null,null,null,{"$f":"IF($B51<$C51,\"* Las Gestantes de 45 a 49 años con Riesgo Psicosocial deben estar incluidas en el Total de Gestantes en Control misma edad. \",\"\")","v":""},{"$f":"IF($C51<$E51,\"* Las Gestantes de 45 a 49 años Que presentan Violencia de género deben estar incluidas en el grupo En Riesgo Psicosocial. \",\"\")","v":""},{"$f":"IF($B51<$D51,\"* Las Gestantes 45 a 49 años con 3 o más Riesgos Psicosocial deben estar incluidas en el Total de Gestantes en Control misma edad. \",\"\")","v":""},{"$f":"IF($B51<$F51,\"* Las Gestantes que presentan ARO de 45 a 49 años deben estar incluidas en el Total de Gestantes en Control misma edad. \",\"\")","v":""},"","","","","",null,null,null,null,0,0,0,0,0,0,0,0,0]
["50 a 54 años",null,null,null,null,null,null,null,null,null,null,{"$f":"($CA52&$CB52&$CC52&$CD52&$CE52&$CF52&CG52&CH52&CI52)","v":""},null,null,null,null,null,null,null,null,null,null,null,null,null,null,null,null,null,null,null,null,null,null,null,null,null,null,null,null,null,null,null,null,null,null,null,null,null,null,null,null,null,null,null,null,null,null,null,null,null,null,null,null,null,null,null,null,null,null,null,null,null,null,null,null,null,null,{"$f":"IF($B52<$C52,\"* Las Gestantes de 50 a 54 años con Riesgo Psicosocial deben estar incluidas en el Total de Gestantes en Control misma edad. \",\"\")","v":""},{"$f":"IF($C52<$E52,\"* Las Gestantes de 50 a 54 años Que presentan Violencia de género deben estar incluidas en el grupo En Riesgo Psicosocial. \",\"\")","v":""},{"$f":"IF($B52<$D52,\"* Las Gestantes de 50 a 54 años con 3 o más Riesgos Psicosocial deben estar incluidas en el Total de Gestantes en Control misma edad. \",\"\")","v":""},{"$f":"IF($B52<$F52,\"* Las Gestantes que presentan ARO de 50 a 54 años deben estar incluidas en el Total de Gestantes en Control misma edad. \",\"\")","v":""},"","","","","",null,null,null,null,0,0,0,0,0,0,0,0,0]
["Total",{"$f":"SUM(B44:B52)","v":0},0,{"$f":"SUM(D44:D52)","v":0},0,0,0,0,0,0,0]
["SECCION C: GESTANTES EN RIESGO PSICOSOCIAL CON VISITA DOMICILIARIA INTEGRAL REALIZADA EN EL SEMESTRE"]
["N° VDI","N° Gestantes \ncon VDI","TOTAL de Visitas","N° Gestantes com 3 ó más riesgos con VDI"]
[]
["1 Visita",null,{"$f":"B57*1","v":0},null,{"$f":"($CA57&$CB57)","v":""},null,null,null,null,null,null,null,null,null,null,null,null,null,null,null,null,null,null,null,null,null,null,null,null,null,null,null,null,null,null,null,null,null,null,null,null,null,null,null,null,null,null,null,null,null,null,null,null,null,null,null,null,null,null,null,null,null,null,null,null,null,null,null,null,null,null,null,null,null,null,null,null,null,{"$f":"IF($C$57<>$B$57*1,\"*el Total de Visitas equivale a 1 visita por gestante. \",\"\")","v":""},{"$f":"IF(AND($B57<>0,D57=\"\"),\"* No olvide ingresar la variable \"&D$55&\"\"&\". Digite CERO si no tiene. \",\"\")","v":""},null,null,null,null,null,null,null,null,null,null,null,{"$f":"IF($C$57<>$B$57*1,1,0)","v":0},{"$f":"IF(AND($B57<>0,$D57=\"\"),1,0)","v":0}]
["2 Visitas",null,{"$f":"B58*2","v":0},null,{"$f":"($CA58&$CB58)","v":""},null,null,null,null,null,null,null,null,null,null,null,null,null,null,null,null,null,null,null,null,null,null,null,null,null,null,null,null,null,null,null,null,null,null,null,null,null,null,null,null,null,null,null,null,null,null,null,null,null,null,null,null,null,null,null,null,null,null,null,null,null,null,null,null,null,null,null,null,null,null,null,null,null,{"$f":"IF($C$58<>$B$58*2,\"*el Total de Visitas equivale a 2 visita por gestante. \",\"\")","v":""},{"$f":"IF(AND($B58<>0,D58=\"\"),\"* No olvide ingresar la variable \"&D$55&\"\"&\". Digite CERO si no tiene. \",\"\")","v":""},null,null,null,null,null,null,null,null,null,null,null,{"$f":"IF($C$58<>$B$58*2,1,0)","v":0},{"$f":"IF(AND($B58<>0,$D58=\"\"),1,0)","v":0}]
["3 Visitas",null,{"$f":"B59*3","v":0},null,"",null,null,null,null,null,null,null,null,null,null,null,null,null,null,null,null,null,null,null,null,null,null,null,null,null,null,null,null,null,null,null,null,null,null,null,null,null,null,null,null,null,null,null,null,null,null,null,null,null,null,null,null,null,null,null,null,null,null,null,null,null,null,null,null,null,null,null,null,null,null,null,null,null,{"$f":"IF($C$59<>$B$59*3,\"*el Total de Visitas equivale a 3 visita por gestante. \",\"\")","v":""},"",null,null,null,null,null,null,null,null,null,null,null,{"$f":"IF($C$59<>$B$59*3,1,0)","v":0},0]
["4 y más Visitas",null,null,null,{"$f":"($CA60&$CB60)","v":""},null,null,null,null,null,null,null,null,null,null,null,null,null,null,null,null,null,null,null,null,null,null,null,null,null,null,null,null,null,null,null,null,null,null,null,null,null,null,null,null,null,null,null,null,null,null,null,null,null,null,null,null,null,null,null,null,null,null,null,null,null,null,null,null,null,null,null,null,null,null,null,null,null,null,{"$f":"IF(AND($B60<>0,D60=\"\"),\"* No olvide ingresar la variable \"&D$55&\"\"&\". Digite CERO si no tiene. \",\"\")","v":""},null,null,null,null,null,null,null,null,null,null,null,null,{"$f":"IF(AND($B60<>0,$D60=\"\"),1,0)","v":0}]
["Total",{"$f":"SUM(B57:B60)","v":0},{"$f":"SUM(C57:C60)","v":0},{"$f":"SUM(D57:D60)","v":0}]
["SECCION D: GESTANTES Y PERSONAS DE 8° MES POST-PARTO EN CONTROL, SEGÚN ESTADO NUTRICIONAL"]
["POBLACIÓN","ESTADO\nNUTRICIONAL","TOTAL","RANGO ETARIO"]
[null,null,null,"Menos 15 años","15 a 19 años","20 a 24 años","25 a 29 años","30 a 34 años","35 a 39 años","40 a 44 años","45 a 49 años","50 a 54 años"]
["Gestantes en Control \n(Información a la fecha de corte)","Obesa",{"$f":"SUM(D65:L65)","v":0}]
[null,"Sobrepeso",{"$f":"SUM(D66:L66)","v":0}]
[null,"Normal",{"$f":"SUM(D67:L67)","v":0}]
[null,"Bajo Peso",{"$f":"SUM(D68:L68)","v":0}]
[null,"Total",{"$f":"SUM(D69:L69)","v":0},{"$f":"SUM(D65:D68)","v":0},{"$f":"SUM(E65:E68)","v":0},0,0,0,0,0,0,0,{"$f":" CA69 & CB69 & CC69 & CD69 & CE69 & CF69 & CG69 &CH69&CI69","v":""},null,null,null,null,null,null,null,null,null,null,null,null,null,null,null,null,null,null,null,null,null,null,null,null,null,null,null,null,null,null,null,null,null,null,null,null,null,null,null,null,null,null,null,null,null,null,null,null,null,null,null,null,null,null,null,null,null,null,null,null,null,null,null,null,null,{"$f":"IF($B$44<>$D69,\"* El Total de Gestantes Menos de 15 años, según Estado Nutricional, debe ser igual al Total de Gestantes en Control de esa edad, de la Sección B. \",\"\")","v":""},{"$f":"IF($B$45<>$E69,\"* El Total de Gestantes 15-19 años, según Estado Nutricional debe ser igual al Total de gestantes en Control de esa edad, de la Sección B. \",\"\")","v":""},{"$f":"IF($B$46<>$F69,\"* El Total de Gestantes 20-24 años, según Estado Nutricional debe ser igual al Total de gestantes en Control de esa edad, de la Sección B. \",\"\")","v":""},{"$f":"IF($B$47<>$G69,\"* El Total de Gestantes 25-29 años, según Estado Nutricional debe ser igual al Total de gestantes en Control de esa edad, de la Sección B. \",\"\")","v":""},{"$f":"IF($B$48<>$H69,\"* El Total de Gestantes 30-34 años, según Estado Nutricional debe ser igual al Total de gestantes en Control de esa edad, de la Sección B. \",\"\")","v":""},{"$f":"IF($B$49<>$I69,\"* El Total de Gestantes 35-39 años, según Estado Nutricional debe ser igual al Total de gestantes en Control de esa edad, de la Sección B. \",\"\")","v":""},{"$f":"IF($B$50<>$J69,\"* El Total de Gestantes 40-44 años, según Estado Nutricional debe ser igual al Total de gestantes en Control de esa edad, de la Sección B. \",\"\")","v":""},{"$f":"IF($B$51<>$K69,\"* El Total de Gestantes 45-49 años, según Estado Nutricional debe ser igual al Total de gestantes en Control de esa edad, de la Sección B. \",\"\")","v":""},{"$f":"IF($B$52<>$L69,\"* El Total de Gestantes 50-54 años, según Estado Nutricional debe ser igual al Total de gestantes en Control de esa edad, de la Sección B. \",\"\")","v":""},null,null,null,null,{"$f":"IF($B$44<>$D69,1,0)","v":0},{"$f":"IF($B$45<>$E69,1,0)","v":0},{"$f":"IF($B$46<>$F69,1,0)","v":0},{"$f":"IF($B$47<>$G69,1,0)","v":0},{"$f":"IF($B$48<>$H69,1,0)","v":0},{"$f":"IF($B$49<>$I69,1,0)","v":0},{"$f":"IF($B$50<>$J69,1,0)","v":0},{"$f":"IF($B$51<>$K69,1,0)","v":0},{"$f":"IF($B$52<>$L69,1,0)","v":0}]
["Control al 8º mes Post-Parto \n(Información del semestre)","Obesa",{"$f":"SUM(D70:L70)","v":0}]
[null,"Sobrepeso",0]
[null,"Normal",0]
[null,"Bajo Peso",0]
[null,"Total",{"$f":"SUM(D74:L74)","v":0},{"$f":"SUM(D70:D73)","v":0},{"$f":"SUM(E70:E73)","v":0},{"$f":"SUM(F70:F73)","v":0},{"$f":"SUM(G70:G73)","v":0},0,0,{"$f":"SUM(J70:J73)","v":0},0,0]
["SECCION E: GESTANTES Y PERSONAS EN CONTROL CON CONSULTA NUTRICIONAL "]
["MUJERES","TOTAL"]
["Gestantes con malnutrición por déficit (bajo peso)",null,null,null,null,null,null,null,null,null,null,null,null,null,null,null,null,null,null,null,null,null,null,null,null,null,null,null,null,null,null,null,null,null,null,null,null,null,null,null,null,null,null,null,null,null,null,null,null,null,null,null,null,null,null,null,null,null,null,null,null,null,null,null,null,null,null,null,null,null,null,null,null,null,null,null,null,null,{"$f":"IF($B$77<=$C$68,\"\",\"* Gestantes con malnutricion por déficit (bajo peso) no debe ser mayor que Gestantes en Control Bajo Peso (Seccion D). \")","v":""},null,null,null,null,null,null,null,null,null,null,null,null,{"$f":"IF($B$77<=$C$68,0,1)","v":0}]
["Gestantes con malnutrición por exceso - Obesa",null,null,null,null,null,null,null,null,null,null,null,null,null,null,null,null,null,null,null,null,null,null,null,null,null,null,null,null,null,null,null,null,null,null,null,null,null,null,null,null,null,null,null,null,null,null,null,null,null,null,null,null,null,null,null,null,null,null,null,null,null,null,null,null,null,null,null,null,null,null,null,null,null,null,null,null,null,{"$f":"IF($B$78<=$C$65,\"\",\"* Gestantes malnutricion  por exceso - Obesa no debe ser mayor que Gestantes en Control Obesa (Seccion D). \")","v":""},null,null,null,null,null,null,null,null,null,null,null,null,{"$f":"IF($B$78<=$C$65,0,1)","v":0}]
["Gestantes con malnutrición por exceso - Sobrepeso",null,null,null,null,null,null,null,null,null,null,null,null,null,null,null,null,null,null,null,null,null,null,null,null,null,null,null,null,null,null,null,null,null,null,null,null,null,null,null,null,null,null,null,null,null,null,null,null,null,null,null,null,null,null,null,null,null,null,null,null,null,null,null,null,null,null,null,null,null,null,null,null,null,null,null,null,null,{"$f":"IF($B$79<=$C$66,\"\",\"* Gestantes malnutricion por exceso - Sobrepeso no debe ser mayor que Gestantes en Control Sobrepeso (Seccion D). \")","v":""},null,null,null,null,null,null,null,null,null,null,null,null,{"$f":"IF($B$79<=$C$66,0,1)","v":0}]
["En 3º mes post parto"]
["En 6º mes post parto"]
["SECCION F: MUJERES EN CONTROL DE CLIMATERIO "]
["POBLACIÓN","Menor de 45 años","45 a 64 años","Trans Masculino","Pueblos Originarios","Migrantes"]
["Población en Control",null,null,null,null,null,{"$f":"($CA84&$CB84&CC84&CD84&CE84)","v":""},null,null,null,null,null,null,null,null,null,null,null,null,null,null,null,null,null,null,null,null,null,null,null,null,null,null,null,null,null,null,null,null,null,null,null,null,null,null,null,null,null,null,null,null,null,null,null,null,null,null,null,null,null,null,null,null,null,null,null,null,null,null,null,null,null,null,null,null,null,null,null,null,null,{"$f":"IF(AND($B84+C84<>0,D84=\"\"),\"* No olvide ingresar la variable \"&D$83&\"\"&\". Digite Cero si no tiene.\",IF(D84>$B84+$C84,\"* La variable Trans Masculino no puede superar a la Población en Control. \",\"\"))","v":""},{"$f":"IF(AND($B84+$C84<>0,E84=\"\"),\"* No olvide ingresar la variable \"&E$83&\"\"&\". Digite Cero si no tiene.\",IF(E84>$B84+$C84,\"* La variable Pueblos Originarios no puede superar a la Población en Control. \",\"\"))","v":""},{"$f":"IF(AND($B84+$C84<>0,F84=\"\"),\"* No olvide ingresar la variable \"&F$83&\"\"&\". Digite Cero si no tiene.\",IF(F84>$B84+$C84,\"* La variable Migrantes no puede superar a la Población en Control. \",\"\"))","v":""},null,null,null,null,null,null,null,null,null,null,{"$f":"IF(AND($B84+C84<>0,D84=\"\"),1,IF(D84>$B84+$C84,1,0))","v":0},{"$f":"IF(AND($B84+$C84<>0,E84=\"\"),1,IF(E84>$B84+$C84,1,0))","v":0},{"$f":"IF(AND($B84+C84<>0,F84=\"\"),1,IF(F84>$B84+$C84,1,0))","v":0}]
["Mujeres con pauta aplicada MRS*",null,null,null,null,null,{"$f":"($CA85&$CB85&CC85&CD85&CE85)","v":""},null,null,null,null,null,null,null,null,null,null,null,null,null,null,null,null,null,null,null,null,null,null,null,null,null,null,null,null,null,null,null,null,null,null,null,null,null,null,null,null,null,null,null,null,null,null,null,null,null,null,null,null,null,null,null,null,null,null,null,null,null,null,null,null,null,null,null,null,null,null,null,{"$f":"IF(B85>B84,\"* El Nº de Mujeres con pauta aplicada MRS* no debe ser mayor a la población en control del grupo\"&B$83&\"\"&\". \",\"\")","v":""},{"$f":"IF(C85>C84,\"* El Nº de mujeres con pauta aplicada MRS* no debe ser mayor a la Población en control del grupo\"&C$83&\"\"&\". \",\"\")","v":""},{"$f":"IF(AND($B85+C85<>0,D85=\"\"),\"* No olvide ingresar la variable \"&D$83&\"\"&\". Digite Cero si no tiene.\",IF(D85>$B85+$C85,\"* La variable Trans Masculino no puede superar a Mujeres con pauta aplicada MRS*. \",\"\"))","v":""},{"$f":"IF(AND($B85+$C85<>0,E85=\"\"),\"* No olvide ingresar la variable \"&E$83&\"\"&\". Digite Cero si no tiene.\",IF(E85>$B85+$C85,\"* La variable Pueblos Originarios no puede superar a Mujeres con pauta aplicada MRS*. \",\"\"))","v":""},{"$f":"IF(AND($B85+$C85<>0,F85=\"\"),\"* No olvide ingresar la variable \"&F$83&\"\"&\". Digite Cero si no tiene.\",IF(F85>$B85+$C85,\"* La variable Migrantes no puede superar a Mujeres con pauta aplicada MRS*. \",\"\"))","v":""},null,null,null,null,null,null,null,null,{"$f":"IF($B85>$B84,1,0)","v":0},{"$f":"IF($C85>$C84,1,0)","v":0},0,0,0]
["Mujeres con MRS al ingreso",null,null,null,null,null,"",null,null,null,null,null,null,null,null,null,null,null,null,null,null,null,null,null,null,null,null,null,null,null,null,null,null,null,null,null,null,null,null,null,null,null,null,null,null,null,null,null,null,null,null,null,null,null,null,null,null,null,null,null,null,null,null,null,null,null,null,null,null,null,null,null,null,null,null,null,null,null,null,null,{"$f":"IF(AND($B86+C86<>0,D86=\"\"),\"* No olvide ingresar la variable \"&D$83&\"\"&\". Digite Cero si no tiene.\",IF(D86>$B86+$C86,\"* La variable Trans Masculino no puede superar a Mujeres con MRS al ingreso. \",\"\"))","v":""},{"$f":"IF(AND($B86+$C86<>0,E86=\"\"),\"* No olvide ingresar la variable \"&E$83&\"\"&\". Digite Cero si no tiene.\",IF(E86>$B86+$C86,\"* La variable Pueblos Originarios no puede superar a Mujeres con MRS al ingreso. \",\"\"))","v":""},{"$f":"IF(AND($B86+$C86<>0,F86=\"\"),\"* No olvide ingresar la variable \"&F$83&\"\"&\". Digite Cero si no tiene.\",IF(F86>$B86+$C86,\"* La variable Migrantes no puede superar a Mujeres con MRS al ingreso. \",\"\"))","v":""},null,null,null,null,null,null,null,null,null,null,0,0,0]
["Mujeres con MRS en control",null,null,null,null,null,"",null,null,null,null,null,null,null,null,null,null,null,null,null,null,null,null,null,null,null,null,null,null,null,null,null,null,null,null,null,null,null,null,null,null,null,null,null,null,null,null,null,null,null,null,null,null,null,null,null,null,null,null,null,null,null,null,null,null,null,null,null,null,null,null,null,null,null,null,null,null,null,null,null,{"$f":"IF(AND($B87+C87<>0,D87=\"\"),\"* No olvide ingresar la variable \"&D$83&\"\"&\". Digite Cero si no tiene.\",IF(D87>$B87+$C87,\"* La variable Trans Masculino no puede superar a Mujeres con MRS en control. \",\"\"))","v":""},{"$f":"IF(AND($B87+$C87<>0,E87=\"\"),\"* No olvide ingresar la variable \"&E$83&\"\"&\". Digite Cero si no tiene.\",IF(E87>$B87+$C87,\"* La variable Pueblos Originarios no puede superar a Mujeres con MRS en control. \",\"\"))","v":""},{"$f":"IF(AND($B87+$C87<>0,F87=\"\"),\"* No olvide ingresar la variable \"&F$83&\"\"&\". Digite Cero si no tiene.\",IF(F87>$B87+$C87,\"* La variable Migrantes no puede superar a Mujeres con MRS en control. \",\"\"))","v":""},null,null,null,null,null,null,null,null,null,null,0,0,0]
["Mujeres con MRS elevado*",null,null,null,null,null,"",null,null,null,null,null,null,null,null,null,null,null,null,null,null,null,null,null,null,null,null,null,null,null,null,null,null,null,null,null,null,null,null,null,null,null,null,null,null,null,null,null,null,null,null,null,null,null,null,null,null,null,null,null,null,null,null,null,null,null,null,null,null,null,null,null,null,null,null,null,null,null,{"$f":"IF(B88>B85,\"* El Nº de Mujeres con MRS elevado* no debe ser mayor al Nº de Mujeres con pauta aplicada MRS Población \"&B$83&\"\"&\". \",\"\")","v":""},{"$f":"IF(C88>C85,\"* El Nº de Mujeres con MRS elevado* no debe ser mayor al Nº de Mujeres con pauta aplicada MRS del grupo\"&C$83&\"\"&\". \",\"\")","v":""},{"$f":"IF(AND($B88+C88<>0,D88=\"\"),\"* No olvide ingresar la variable \"&D$83&\"\"&\". Digite Cero si no tiene.\",IF(D88>$B88+$C88,\"* La variable Trans Masculino no puede superar a Mujeres con MRS elevado*. \",\"\"))","v":""},{"$f":"IF(AND($B88+$C88<>0,E88=\"\"),\"* No olvide ingresar la variable \"&E$83&\"\"&\". Digite Cero si no tiene.\",IF(E88>$B88+$C88,\"* La variable Pueblos Originarios no puede superar a Mujeres con MRS elevado*. \",\"\"))","v":""},{"$f":"IF(AND($B88+$C88<>0,F88=\"\"),\"* No olvide ingresar la variable \"&F$83&\"\"&\". Digite Cero si no tiene.\",IF(F88>$B88+$C88,\"* La variable Migrantes no puede superar a Mujeres con MRS elevado*. \",\"\"))","v":""},null,null,null,null,null,null,null,null,{"$f":"IF($B88>$B85,1,0)","v":0},{"$f":"IF($C88>$C85,1,0)","v":0},0,0,0]
["Mujeres con aplicación de terapia hormonal de la menopausia según MRS*",null,null,null,null,null,"",null,null,null,null,null,null,null,null,null,null,null,null,null,null,null,null,null,null,null,null,null,null,null,null,null,null,null,null,null,null,null,null,null,null,null,null,null,null,null,null,null,null,null,null,null,null,null,null,null,null,null,null,null,null,null,null,null,null,null,null,null,null,null,null,null,null,null,null,null,null,null,{"$f":"IF($B89>$B88,\"* El Nº de Mujeres con aplicación de terapia hormonal de la menopausia según MRS* no debe ser mayor que el numero de Mujeres con MRS elevado* Población \"&B$83&\"\"&\". \",\"\")","v":""},{"$f":"IF($C89>$C88,\"* El Nº de Mujeres con aplicación de terapia hormonal de la menopausia según MRS* no debe ser mayor que el numero de Mujeres con MRS elevado* Población \"&C$83&\"\"&\". \",\"\")","v":""},null,{"$f":"IF(AND($B89+$C89<>0,E89=\"\"),\"* No olvide ingresar la variable \"&E$83&\"\"&\". Digite Cero si no tiene.\",IF(E89>$B89+$C89,\"* La variable Pueblos Originarios no puede superar a Mujeres con aplicación de terapia hormonal de la menopausia según MRS*. \",\"\"))","v":""},{"$f":"IF(AND($B89+$C89<>0,F89=\"\"),\"* No olvide ingresar la variable \"&F$83&\"\"&\". Digite Cero si no tiene.\",IF(F89>$B89+$C89,\"* La variable Migrantes no puede superar a Mujeres con aplicación de terapia hormonal de la menopausia según MRS*. \",\"\"))","v":""},null,null,null,null,null,null,null,null,{"$f":"IF($B89>$B88,1,0)","v":0},{"$f":"IF($B89>$B88,1,0)","v":0},null,0,0]
["Mujeres que disminuyeron puntaje de MRS o se mantienen en MRS bajo, según MRS de control",null,null,null,null,null,"",null,null,null,null,null,null,null,null,null,null,null,null,null,null,null,null,null,null,null,null,null,null,null,null,null,null,null,null,null,null,null,null,null,null,null,null,null,null,null,null,null,null,null,null,null,null,null,null,null,null,null,null,null,null,null,null,null,null,null,null,null,null,null,null,null,null,null,null,null,null,null,null,null,null,{"$f":"IF(AND($B90+$C90<>0,E90=\"\"),\"* No olvide ingresar la variable \"&E$83&\"\"&\". Digite Cero si no tiene.\",IF(E90>$B90+$C90,\"* La variable Pueblos Originarios no puede superar a Mujeres que disminuyeron puntaje de MRS o se mantienen en MRS bajo, según MRS de control. \",\"\"))","v":""},{"$f":"IF(AND($B90+$C90<>0,F90=\"\"),\"* No olvide ingresar la variable \"&F$83&\"\"&\". Digite Cero si no tiene.\",IF(F90>$B90+$C90,\"* La variable Migrantes no puede superar a Mujeres que disminuyeron puntaje de MRS o se mantienen en MRS bajo, según MRS de control. \",\"\"))","v":""},null,null,null,null,null,null,null,null,null,null,null,{"$f":"IF(AND($B90+$C90<>0,E90=\"\"),1,IF(E90>$B90+$C90,1,0))","v":0},{"$f":"IF(AND($B90+C90<>0,F90=\"\"),1,IF(F90>$B90+$C90,1,0))","v":0}]
["Mujeres que asisten a Talleres Educativos",null,null,null,null,null,{"$f":"($CA91&$CB91&CC91&CD91&CE91)","v":""},null,null,null,null,null,null,null,null,null,null,null,null,null,null,null,null,null,null,null,null,null,null,null,null,null,null,null,null,null,null,null,null,null,null,null,null,null,null,null,null,null,null,null,null,null,null,null,null,null,null,null,null,null,null,null,null,null,null,null,null,null,null,null,null,null,null,null,null,null,null,null,null,null,{"$f":"IF(AND($B91+C91<>0,D91=\"\"),\"* No olvide ingresar la variable \"&D$83&\"\"&\". Digite Cero si no tiene.\",IF(D91>$B91+$C91,\"* La variable Trans Masculino no puede superar a Mujeres que asisten a Talleres Educativos. \",\"\"))","v":""},{"$f":"IF(AND($B91+$C91<>0,E91=\"\"),\"* No olvide ingresar la variable \"&E$83&\"\"&\". Digite Cero si no tiene.\",IF(E91>$B91+$C91,\"* La variable Pueblos Originarios no puede superar a Mujeres que asisten a Talleres Educativos. \",\"\"))","v":""},{"$f":"IF(AND($B91+$C91<>0,F91=\"\"),\"* No olvide ingresar la variable \"&F$83&\"\"&\". Digite Cero si no tiene.\",IF(F91>$B91+$C91,\"* La variable Migrantes no puede superar a Mujeres que asisten a Talleres Educativos. \",\"\"))","v":""},null,null,null,null,null,null,null,null,null,null,{"$f":"IF(AND($B91+C91<>0,D91=\"\"),1,IF(D91>$B91+$C91,1,0))","v":0},{"$f":"IF(AND($B91+$C91<>0,E91=\"\"),1,IF(E91>$B91+$C91,1,0))","v":0},{"$f":"IF(AND($B91+C91<>0,F91=\"\"),1,IF(F91>$B91+$C91,1,0))","v":0}]
["* MRS: Menopause Rating Scale"]
["SECCION F.1: POBLACIÓN EN CONTROL CLIMATERIO SEGÚN TIPO DE TERAPIA HORMONAL DE LA MENOPAUSIA"]
["MÉTODOS",null,"TOTAL","RANGO ETARIO",null,null,null,null,"Pueblos Originarios"," Migrantes"]
[null,null,null,"Menor \nde 45 años","45 a 49 años","50 a 54 años","55 a 59 años","60 a 64 años"]
["Estradiol Micronizado 1mg.",null,{"$f":"SUM(D96:H96)","v":0},null,null,null,null,null,null,null,{"$f":"($CA96&$CB96)","v":""},null,null,null,null,null,null,null,null,null,null,null,null,null,null,null,null,null,null,null,null,null,null,null,null,null,null,null,null,null,null,null,null,null,null,null,null,null,null,null,null,null,null,null,null,null,null,null,null,null,null,null,null,null,null,null,null,null,null,null,null,null,null,null,null,null,null,null,{"$f":"IF(AND($C96<>0,I96=\"\"),\"* No olvide ingresar la variable \"&I$94&\"\"&\". Digite Cero si no tiene.\",IF(I96>$C96,\"* La variable Pueblos Originarios no puede superar el TOTAL Estradiol Micronizado 1mg. \",\"\"))","v":""},{"$f":"IF(AND($C96<>0,J96=\"\"),\"* No olvide ingresar la variable \"&J$94&\"\"&\". Digite Cero si no tiene.\",IF(J96>$C96,\"* La variable Migrantes no puede superar el TOTAL Estradiol Micronizado 1mg. \",\"\"))","v":""},null,null,null,null,null,null,null,null,null,null,null,{"$f":"IF(AND($C96<>0,$I96=\"\"),1,IF($I96>$C96,1,0))","v":0},{"$f":"IF(AND($C96<>0,J96=\"\"),1,IF(J96>$C96,1,0))","v":0}]
["Estradiol Gel",null,{"$f":"SUM(D97:H97)","v":0},null,null,null,null,null,null,null,{"$f":"($CA97&$CB97)","v":""},null,null,null,null,null,null,null,null,null,null,null,null,null,null,null,null,null,null,null,null,null,null,null,null,null,null,null,null,null,null,null,null,null,null,null,null,null,null,null,null,null,null,null,null,null,null,null,null,null,null,null,null,null,null,null,null,null,null,null,null,null,null,null,null,null,null,null,{"$f":"IF(AND($C97<>0,I97=\"\"),\"* No olvide ingresar la variable \"&I$94&\"\"&\". Digite Cero si no tiene.\",IF(I97>$C97,\"* La variable Pueblos Originarios no puede superar el TOTAL Estradiol Gel. \",\"\"))","v":""},{"$f":"IF(AND($C97<>0,J97=\"\"),\"* No olvide ingresar la variable \"&J$94&\"\"&\". Digite Cero si no tiene.\",IF(J97>$C97,\"* La variable Migrantes no puede superar el TOTAL Estradiol Gel. \",\"\"))","v":""},null,null,null,null,null,null,null,null,null,null,null,{"$f":"IF(AND($C97<>0,$I97=\"\"),1,IF($I97>$C97,1,0))","v":0},{"$f":"IF(AND($C97<>0,J97=\"\"),1,IF(J97>$C97,1,0))","v":0}]
["Progesterona Micronizada 100mg.",null,0,null,null,null,null,null,null,null,"",null,null,null,null,null,null,null,null,null,null,null,null,null,null,null,null,null,null,null,null,null,null,null,null,null,null,null,null,null,null,null,null,null,null,null,null,null,null,null,null,null,null,null,null,null,null,null,null,null,null,null,null,null,null,null,null,null,null,null,null,null,null,null,null,null,null,null,{"$f":"IF(AND($C98<>0,I98=\"\"),\"* No olvide ingresar la variable \"&I$94&\"\"&\". Digite Cero si no tiene.\",IF(I98>$C98,\"* La variable Pueblos Originarios no puede superar el TOTAL Progesterona Micronizada 100mg. \",\"\"))","v":""},{"$f":"IF(AND($C98<>0,J98=\"\"),\"* No olvide ingresar la variable \"&J$94&\"\"&\". Digite Cero si no tiene.\",IF(J98>$C98,\"* La variable Migrantes no puede superar el TOTAL Progesterona Micronizada 100mg. \",\"\"))","v":""},null,null,null,null,null,null,null,null,null,null,null,0,0]
["Progesterona Micronizada 200mg.",null,0,null,null,null,null,null,null,null,"",null,null,null,null,null,null,null,null,null,null,null,null,null,null,null,null,null,null,null,null,null,null,null,null,null,null,null,null,null,null,null,null,null,null,null,null,null,null,null,null,null,null,null,null,null,null,null,null,null,null,null,null,null,null,null,null,null,null,null,null,null,null,null,null,null,null,null,{"$f":"IF(AND($C99<>0,I99=\"\"),\"* No olvide ingresar la variable \"&I$94&\"\"&\". Digite Cero si no tiene.\",IF(I99>$C99,\"* La variable Pueblos Originarios no puede superar el TOTAL Progesterona Micronizada 200mg.\",\"\"))","v":""},{"$f":"IF(AND($C99<>0,J99=\"\"),\"* No olvide ingresar la variable \"&J$94&\"\"&\". Digite Cero si no tiene.\",IF(J99>$C99,\"* La variable Migrantes no puede superar el TOTAL Progesterona Micronizada 200mg.\",\"\"))","v":""},null,null,null,null,null,null,null,null,null,null,null,0,0]
["Nomegestrol 5mg. comp.",null,0,null,null,null,null,null,null,null,"",null,null,null,null,null,null,null,null,null,null,null,null,null,null,null,null,null,null,null,null,null,null,null,null,null,null,null,null,null,null,null,null,null,null,null,null,null,null,null,null,null,null,null,null,null,null,null,null,null,null,null,null,null,null,null,null,null,null,null,null,null,null,null,null,null,null,null,{"$f":"IF(AND($C100<>0,I100=\"\"),\"* No olvide ingresar la variable \"&I$94&\"\"&\". Digite Cero si no tiene.\",IF(I100>$C100,\"* La variable Pueblos Originarios no puede superar el TOTAL Nomegestrol 5mg. comp. \",\"\"))","v":""},{"$f":"IF(AND($C100<>0,J100=\"\"),\"* No olvide ingresar la variable \"&J$94&\"\"&\". Digite Cero si no tiene.\",IF(J100>$C100,\"* La variable Migrantes no puede superar el TOTAL Nomegestrol 5mg. comp. \",\"\"))","v":""},null,null,null,null,null,null,null,null,null,null,null,0,0]
["Tibolona 2,5mg. comp.",null,0,null,null,null,null,null,null,null,"",null,null,null,null,null,null,null,null,null,null,null,null,null,null,null,null,null,null,null,null,null,null,null,null,null,null,null,null,null,null,null,null,null,null,null,null,null,null,null,null,null,null,null,null,null,null,null,null,null,null,null,null,null,null,null,null,null,null,null,null,null,null,null,null,null,null,null,{"$f":"IF(AND($C101<>0,I101=\"\"),\"* No olvide ingresar la variable \"&I$94&\"\"&\". Digite Cero si no tiene.\",IF(I101>$C101,\"* La variable Pueblos Originarios no puede superar el TOTAL Tibolona 2,5mg. comp. \",\"\"))","v":""},{"$f":"IF(AND($C101<>0,J101=\"\"),\"* No olvide ingresar la variable \"&J$94&\"\"&\". Digite Cero si no tiene.\",IF(J101>$C101,\"* La variable Migrantes no puede superar el TOTAL Tibolona 2,5mg. comp. \",\"\"))","v":""},null,null,null,null,null,null,null,null,null,null,null,{"$f":"IF(AND($C101<>0,$I101=\"\"),1,IF($I101>$C101,1,0))","v":0},0]
["Terapia Dual",null,0,null,null,null,null,null,null,null,{"$f":"($CA102&$CB102)","v":""},null,null,null,null,null,null,null,null,null,null,null,null,null,null,null,null,null,null,null,null,null,null,null,null,null,null,null,null,null,null,null,null,null,null,null,null,null,null,null,null,null,null,null,null,null,null,null,null,null,null,null,null,null,null,null,null,null,null,null,null,null,null,null,null,null,null,null,{"$f":"IF(AND($C102<>0,I102=\"\"),\"* No olvide ingresar la variable \"&I$94&\"\"&\". Digite Cero si no tiene.\",IF(I102>$C102,\"* La variable Pueblos Originarios no puede superar el TOTAL Terapia Dual. \",\"\"))","v":""},{"$f":"IF(AND($C102<>0,J102=\"\"),\"* No olvide ingresar la variable \"&J$94&\"\"&\". Digite Cero si no tiene.\",IF(J102>$C102,\"* La variable Migrantes no puede superar el TOTAL Terapia Dual. \",\"\"))","v":""},null,null,null,null,null,null,null,null,null,null,null,0,{"$f":"IF(AND($C102<>0,J102=\"\"),1,IF(J102>$C102,1,0))","v":0}]
["SECCION G: GESTANTES EN CONTROL CON ECOGRAFÍA POR TRIMESTRE DE GESTACION (EN EL SEMESTRE)"]
["POBLACIÓN","Primer trimestre",null,"Segundo trimestre 22-24 semanas","Tercer trimestre 30-34 semanas"]
[null,"<11 semanas","11- 13+6 semanas"]
["Menor de 15"]
["15 - 19 "]
["20 - 24"]
["25 - 29"]
["30 - 34"]
["35 - 39"]
["40 - 44"]
["45 - 49"]
["50 - 54"]
["Total",{"$f":"SUM(B106:B114)","v":0},{"$f":"SUM(C106:C114)","v":0},{"$f":"SUM(D106:D114)","v":0},{"$f":"SUM(E106:E114)","v":0}]
[" Gestantes con Ecografías del extrasistema"]
["SECCION H: MUJERES O PESONAS BAJO CONTROL DE REGULACIÓN DE FERTILIDAD SEGÚN ESTADO NUTRICIONAL "]
["POBLACIÓN","ESTADO\nNUTRICIONAL","TOTAL","RANGO ETARIO"]
[null,null,null,"Menos 15 años","15 a 19 años","20 a 24 años","25 a 29 años","30 a 34 años","35 a 39 años","40 a 44 años","45 a 49 años","50 a 54 años"]
["Mujeres o Personas bajo control de Regulación de Fertilidad según estado nuricional ","Obesa",{"$f":"SUM(D120:L120)","v":0}]
[null,"Sobrepeso",{"$f":"SUM(D121:L121)","v":0}]
[null,"Normal",{"$f":"SUM(D122:L122)","v":0}]
[null,"Bajo peso",{"$f":"SUM(D123:L123)","v":0}]
[null,"Total",{"$f":"SUM(D124:L124)","v":0},{"$f":"SUM(D120:D123)","v":0},{"$f":"SUM(E120:E123)","v":0},0,0,0,0,0,0,0]
["SECCION I: GESTANTES EN CONTROL CON TEST DE VIH/SIFILIS TOMADO (EN EL SEMESTRE, RED PÚBLICA O EXTRASISTEMA)"]
["POBLACIÓN","Total Gestantes bajo control ","Gestantes en control con resultado 1° VIH","Gestantes en control con resultado 1° Tamizaje Sífilis ","Total Gestantes en Control >34 SEM","Gestantes en control con resultado 2° VIH","Gestantes en control con resultado Tamizaje Sífilis 3° trimestre gestación ","Pueblos Originarios",null,"Migrantes"]
[null,null,null,null,null,null,null,"Gestantes en control con resultado 1° VIH","Gestantes en control con resultado 1° Tamizaje Sífilis ","Gestantes en control con resultado 1° VIH","Gestantes en control con resultado 1° Tamizaje Sífilis "]
["Menor de 15",null,null,null,null,null,null,null,null,null,null,{"$f":"($CA128&$CB128&$CC128&$CD128)","v":""},null,null,null,null,null,null,null,null,null,null,null,null,null,null,null,null,null,null,null,null,null,null,null,null,null,null,null,null,null,null,null,null,null,null,null,null,null,null,null,null,null,null,null,null,null,null,null,null,null,null,null,null,null,null,null,null,null,null,null,null,null,null,null,null,null,null,{"$f":"IF(AND($C128<>0,H128=\"\"),\"* No olvide ingresar la variable Pueblos Originarios \"&H$127&\"\"&\". Digite Cero si no tiene.\",IF(H128>$C128,\"* La variable Pueblos Originarios \"&H$127&\"\"&\" no puede superar el Total de Gestantes en control con resultado 1° VIH. \",\"\"))","v":""},{"$f":"IF(AND($D128<>0,I128=\"\"),\"* No olvide ingresar la variable Pueblos Originarios \"&I$127&\"\"&\". Digite Cero si no tiene.\",IF(I128>$D128,\"* La variable Pueblos Originarios \"&I$127&\"\"&\" no puede superar el Total de Gestantes en control con resultado 1° VIH. \",\"\"))","v":""},{"$f":"IF(AND($C128<>0,J128=\"\"),\"* No olvide ingresar la variable Migrantes \"&J$127&\"\"&\". Digite Cero si no tiene.\",IF(J128>$C128,\"* La variable Migrantes \"&J$127&\"\"&\" no puede superar el Total de Gestantes en control con resultado 1° VIH. \",\"\"))","v":""},{"$f":"IF(AND($D128<>0,K128=\"\"),\"* No olvide ingresar la variable Migrantes \"&K$127&\"\"&\". Digite Cero si no tiene.\",IF(K128>$D128,\"* La variable Migrantes de Gestantes \"&K$127&\"\"&\" no puede superar el Total de Gestantes en control con resultado 1° VIH. \",\"\"))","v":""},null,null,null,null,null,null,null,null,null,{"$f":"IF(AND($C128<>0,H128=\"\"),1,IF(H128>$C128,1,0))","v":0},{"$f":"IF(AND($D128<>0,I128=\"\"),1,IF(I128>$D128,1,0))","v":0},{"$f":"IF(AND($C128<>0,J128=\"\"),1,IF(J128>$C128,1,0))","v":0},{"$f":"IF(AND($D128<>0,K128=\"\"),1,IF(K128>$D128,1,0))","v":0}]
["15 - 19 ",null,null,null,null,null,null,null,null,null,null,{"$f":"($CA129&$CB129&$CC129&$CD129)","v":""},null,null,null,null,null,null,null,null,null,null,null,null,null,null,null,null,null,null,null,null,null,null,null,null,null,null,null,null,null,null,null,null,null,null,null,null,null,null,null,null,null,null,null,null,null,null,null,null,null,null,null,null,null,null,null,null,null,null,null,null,null,null,null,null,null,null,{"$f":"IF(AND($C129<>0,H129=\"\"),\"* No olvide ingresar la variable Pueblos Originarios \"&H$127&\"\"&\". Digite Cero si no tiene.\",IF(H129>$C129,\"* La variable Pueblos Originarios \"&H$127&\"\"&\" no puede superar el Total de Gestantes en control con resultado 1° VIH. \",\"\"))","v":""},{"$f":"IF(AND($D129<>0,I129=\"\"),\"* No olvide ingresar la variable Pueblos Originarios \"&I$127&\"\"&\". Digite Cero si no tiene.\",IF(I129>$D129,\"* La variable Pueblos Originarios \"&I$127&\"\"&\" no puede superar el Total de Gestantes en control con resultado 1° VIH. \",\"\"))","v":""},{"$f":"IF(AND($C129<>0,J129=\"\"),\"* No olvide ingresar la variable Migrantes \"&J$127&\"\"&\". Digite Cero si no tiene.\",IF(J129>$C129,\"* La variable Migrantes \"&J$127&\"\"&\" no puede superar el Total de Gestantes en control con resultado 1° VIH. \",\"\"))","v":""},{"$f":"IF(AND($D129<>0,K129=\"\"),\"* No olvide ingresar la variable Migrantes \"&K$127&\"\"&\". Digite Cero si no tiene.\",IF(K129>$D129,\"* La variable Migrantes de Gestantes \"&K$127&\"\"&\" no puede superar el Total de Gestantes en control con resultado 1° VIH. \",\"\"))","v":""},null,null,null,null,null,null,null,null,null,{"$f":"IF(AND($C129<>0,H129=\"\"),1,IF(H129>$C129,1,0))","v":0},{"$f":"IF(AND($D129<>0,$I129=\"\"),1,IF($I129>$D129,1,0))","v":0},{"$f":"IF(AND($C129<>0,J129=\"\"),1,IF(J129>$C129,1,0))","v":0},{"$f":"IF(AND($D129<>0,K129=\"\"),1,IF(K129>$D129,1,0))","v":0}]
["20 - 24",null,null,null,null,null,null,null,null,null,null,"",null,null,null,null,null,null,null,null,null,null,null,null,null,null,null,null,null,null,null,null,null,null,null,null,null,null,null,null,null,null,null,null,null,null,null,null,null,null,null,null,null,null,null,null,null,null,null,null,null,null,null,null,null,null,null,null,null,null,null,null,null,null,null,null,null,null,"","",{"$f":"IF(AND($C130<>0,J130=\"\"),\"* No olvide ingresar la variable Migrantes \"&J$127&\"\"&\". Digite Cero si no tiene.\",IF(J130>$C130,\"* La variable Migrantes \"&J$127&\"\"&\" no puede superar el Total de Gestantes en control con resultado 1° VIH. \",\"\"))","v":""},"",null,null,null,null,null,null,null,null,null,0,{"$f":"IF(AND($D130<>0,I130=\"\"),1,IF(I130>$D130,1,0))","v":0},{"$f":"IF(AND($C130<>0,J130=\"\"),1,IF(J130>$C130,1,0))","v":0},0]
["25 - 29",null,null,null,null,null,null,null,null,null,null,"",null,null,null,null,null,null,null,null,null,null,null,null,null,null,null,null,null,null,null,null,null,null,null,null,null,null,null,null,null,null,null,null,null,null,null,null,null,null,null,null,null,null,null,null,null,null,null,null,null,null,null,null,null,null,null,null,null,null,null,null,null,null,null,null,null,null,"","",{"$f":"IF(AND($C131<>0,J131=\"\"),\"* No olvide ingresar la variable Migrantes \"&J$127&\"\"&\". Digite Cero si no tiene.\",IF(J131>$C131,\"* La variable Migrantes \"&J$127&\"\"&\" no puede superar el Total de Gestantes en control con resultado 1° VIH. \",\"\"))","v":""},"",null,null,null,null,null,null,null,null,null,0,0,{"$f":"IF(AND($C131<>0,J131=\"\"),1,IF(J131>$C131,1,0))","v":0},0]
["30 - 34",null,null,null,null,null,null,null,null,null,null,"",null,null,null,null,null,null,null,null,null,null,null,null,null,null,null,null,null,null,null,null,null,null,null,null,null,null,null,null,null,null,null,null,null,null,null,null,null,null,null,null,null,null,null,null,null,null,null,null,null,null,null,null,null,null,null,null,null,null,null,null,null,null,null,null,null,null,"","","","",null,null,null,null,null,null,null,null,null,0,0,0,0]
["35 - 39",null,null,null,null,null,null,null,null,null,null,"",null,null,null,null,null,null,null,null,null,null,null,null,null,null,null,null,null,null,null,null,null,null,null,null,null,null,null,null,null,null,null,null,null,null,null,null,null,null,null,null,null,null,null,null,null,null,null,null,null,null,null,null,null,null,null,null,null,null,null,null,null,null,null,null,null,null,"","","","",null,null,null,null,null,null,null,null,null,0,0,0,0]
["40 - 44",null,null,null,null,null,null,null,null,null,null,"",null,null,null,null,null,null,null,null,null,null,null,null,null,null,null,null,null,null,null,null,null,null,null,null,null,null,null,null,null,null,null,null,null,null,null,null,null,null,null,null,null,null,null,null,null,null,null,null,null,null,null,null,null,null,null,null,null,null,null,null,null,null,null,null,null,null,"","","","",null,null,null,null,null,null,null,null,null,0,0,0,0]
["45 - 49",null,null,null,null,null,null,null,null,null,null,"",null,null,null,null,null,null,null,null,null,null,null,null,null,null,null,null,null,null,null,null,null,null,null,null,null,null,null,null,null,null,null,null,null,null,null,null,null,null,null,null,null,null,null,null,null,null,null,null,null,null,null,null,null,null,null,null,null,null,null,null,null,null,null,null,null,null,"","","","",null,null,null,null,null,null,null,null,null,0,0,0,0]
["50 - 54",null,null,null,null,null,null,null,null,null,null,"",null,null,null,null,null,null,null,null,null,null,null,null,null,null,null,null,null,null,null,null,null,null,null,null,null,null,null,null,null,null,null,null,null,null,null,null,null,null,null,null,null,null,null,null,null,null,null,null,null,null,null,null,null,null,null,null,null,null,null,null,null,null,null,null,null,null,{"$f":"IF(AND($C136<>0,H136=\"\"),\"* No olvide ingresar la variable Pueblos Originarios \"&H$127&\"\"&\". Digite Cero si no tiene.\",IF(H136>$C136,\"* La variable Pueblos Originarios \"&H$127&\"\"&\" no puede superar el Total de Gestantes en control con resultado 1° VIH. \",\"\"))","v":""},"","","",null,null,null,null,null,null,null,null,null,{"$f":"IF(AND($C136<>0,H136=\"\"),1,IF(H136>$C136,1,0))","v":0},{"$f":"IF(AND($D136<>0,I136=\"\"),1,IF(I136>$D136,1,0))","v":0},{"$f":"IF(AND($C136<>0,J136=\"\"),1,IF(J136>$C136,1,0))","v":0},{"$f":"IF(AND($D136<>0,K136=\"\"),1,IF(K136>$D136,1,0))","v":0}]
["Total",{"$f":"SUM(B128:B136)","v":0},{"$f":"SUM(C128:C136)","v":0},0,0,0,0,{"$f":"SUM(H128:H136)","v":0},0,{"$f":"SUM(J128:J136)","v":0},0]
["Gestantes con Tamizajes resultado pendiente",null,null,null,null,null,null,null,null,null,null,"",null,null,null,null,null,null,null,null,null,null,null,null,null,null,null,null,null,null,null,null,null,null,null,null,null,null,null,null,null,null,null,null,null,null,null,null,null,null,null,null,null,null,null,null,null,null,null,null,null,null,null,null,null,null,null,null,null,null,null,null,null,null,null,null,null,null,{"$f":"IF(AND($C138<>0,H138=\"\"),\"* No olvide ingresar la variable Pueblos Originarios \"&H$127&\"\"&\". Digite Cero si no tiene.\",IF(H138>$C138,\"* La variable Pueblos Originarios \"&H$127&\"\"&\" no puede superar el Total de Gestantes en control con resultado 1° VIH. \",\"\"))","v":""},{"$f":"IF(AND($D138<>0,I138=\"\"),\"* No olvide ingresar la variable Pueblos Originarios \"&I$127&\"\"&\". Digite Cero si no tiene.\",IF(I138>$D138,\"* La variable Pueblos Originarios \"&I$127&\"\"&\" no puede superar el Total de Gestantes en control con resultado 1° VIH. \",\"\"))","v":""},{"$f":"IF(AND($C138<>0,J138=\"\"),\"* No olvide ingresar la variable Migrantes \"&J$127&\"\"&\". Digite Cero si no tiene.\",IF(J138>$C138,\"* La variable Migrantes \"&J$127&\"\"&\" no puede superar el Total de Gestantes en control con resultado 1° VIH. \",\"\"))","v":""},{"$f":"IF(AND($D138<>0,K138=\"\"),\"* No olvide ingresar la variable Migrantes \"&K$127&\"\"&\". Digite Cero si no tiene.\",IF(K138>$D138,\"* La variable Migrantes de Gestantes \"&K$127&\"\"&\" no puede superar el Total de Gestantes en control con resultado 1° VIH. \",\"\"))","v":""},null,null,null,null,null,null,null,null,null,{"$f":"IF(AND($C138<>0,H138=\"\"),1,IF(H138>$C138,1,0))","v":0},{"$f":"IF(AND($D138<>0,I138=\"\"),1,IF(I138>$D138,1,0))","v":0},{"$f":"IF(AND($C138<>0,J138=\"\"),1,IF(J138>$C138,1,0))","v":0},{"$f":"IF(AND($D138<>0,K138=\"\"),1,IF(K138>$D138,1,0))","v":0}]
["NIVEL SECUNDARIO"]
["SECCIÓN J: POBLACIÓN EN CONTROL POR PATOLOGÍAS DE ALTO RIESGO OBSTÉTRICO"]
["PATOLOGÍA","TOTAL"]
["Preeclampsia (PE) "]
["Sindrome Hipertensivo del Embarazo (SHE)"]
["Factores de riesgo y condicionantes de Parto Prematuro"]
["Retardo Crecimiento Intrauterino (RCIU)"]
["Sífilis"]
["VIH"]
["Diabetes Pre Gestacional"]
["Diabetes Gestacional"]
["Cesárea anterior"]
["Malformación Congénita"]
["Anemia"]
["Cardiopatías"]
["Pielonefritis"]
["Rh(-) sensibilizada"]
["Placenta previa"]
["Chagas"]
["Colestasia Intrahépatica de Embarazo"]
["Otras patologías del embarazo"]
["Total",{"$f":"SUM(B142:B159)","v":0}]
[]
[]
[]
[]
[]
[]
[]
[]
[]
[]
[]
[{"$f":"SUM(C11:C24,C26:C31,C35:C40,B44:F52,B57:B60,D57:D60,C65:C68,C70:C73,B77:B81,B84:C91,C96:C102,B106:E114,B116:E116,C120:C123,B128:G136,C138:D138,F138:G138,B142:B159)","v":0},"datos"]
[{"$f":"SUM(CN11:CY138)","v":0},"errores"]

{"sheet":"P2","index":2,"n_rows":221,"n_cols":151,"rows_kept":221,"cut":false,"hidden":false,"merged":[[8,33,9,34],[8,35,9,36],[9,21,9,22],[9,23,9,24],[9,25,9,26],[9,27,9,28],[9,31,9,32],[31,0,38,0],[202,0,202,1],[199,29,200,30],[199,31,200,32],[200,5,200,6],[200,7,200,8],[200,9,200,10],[200,11,200,12],[200,13,200,14],[200,15,200,16],[200,17,200,18],[200,19,200,20],[200,21,200,22],[200,23,200,24],[154,0,154,1],[171,0,171,1],[199,2,200,4],[206,0,212,0],[213,0,213,1],[166,0,166,1],[155,0,155,1],[173,0,173,1],[182,0,182,1],[164,0,164,1],[158,0,158,1],[163,0,163,1],[184,0,184,1],[185,0,185,1],[186,0,186,1],[187,0,187,1],[165,0,165,1],[179,0,179,1],[180,0,180,1],[199,0,201,1],[194,0,194,1],[195,0,195,1],[196,0,196,1],[197,0,197,1],[183,0,183,1],[169,0,169,1],[203,0,203,1],[199,5,199,24],[199,25,200,26],[199,27,200,28],[189,0,189,1],[156,0,156,1],[157,0,157,1],[181,0,181,1],[160,0,160,1],[175,0,175,1],[188,0,188,1],[159,0,159,1],[174,0,174,1],[178,0,178,1],[191,2,192,4],[177,0,177,1],[168,0,168,1],[170,0,170,1],[191,0,193,1],[172,0,172,1],[176,0,176,1],[191,43,192,44],[191,45,192,46],[192,5,192,6],[192,7,192,8],[192,9,192,10],[192,11,192,12],[192,13,192,14],[192,15,192,16],[192,17,192,18],[192,19,192,20],[192,21,192,22],[192,23,192,24],[192,25,192,26],[192,27,192,28],[192,29,192,30],[192,31,192,32],[192,33,192,34],[192,35,192,36],[192,37,192,38],[192,39,192,40],[192,41,192,42],[191,5,191,42],[145,0,145,1],[162,0,162,1],[131,0,131,1],[113,2,114,2],[120,0,120,1],[123,0,123,1],[118,2,119,2],[122,0,122,1],[118,0,119,1],[116,0,116,1],[127,2,128,4],[161,0,161,1],[115,0,115,1],[113,0,114,1],[125,0,125,1],[134,0,134,1],[153,0,153,1],[124,0,124,1],[121,0,121,1],[127,0,129,1],[130,0,130,1],[148,0,148,1],[147,0,147,1],[149,0,149,1],[150,0,150,1],[151,0,151,1],[152,0,152,1],[142,0,144,1],[167,0,167,1],[74,0,74,19],[106,12,107,12],[106,13,107,13],[84,0,90,0],[77,0,83,0],[106,11,107,11],[106,6,107,6],[106,5,107,5],[91,0,97,0],[106,0,107,1],[106,2,107,2],[106,8,107,8],[98,0,104,0],[132,0,132,1],[106,10,107,10],[106,7,107,7],[106,9,107,9],[136,2,137,2],[108,0,111,0],[39,0,39,1],[42,13,42,14],[53,0,59,0],[60,0,63,0],[42,17,42,18],[41,0,43,1],[42,15,42,16],[42,7,42,8],[42,9,42,10],[42,11,42,12],[41,5,41,18],[44,0,44,1],[45,0,52,0],[41,2,42,4],[42,5,42,6],[18,0,23,0],[11,0,11,1],[12,0,17,0],[24,0,30,0],[5,0,5,23],[9,15,9,16],[9,17,9,18],[9,7,9,8],[9,9,9,10],[9,11,9,12],[8,0,10,1],[9,5,9,6],[9,13,9,14],[8,2,9,4],[9,19,9,20],[142,45,143,46],[143,33,143,34],[143,39,143,40],[143,41,143,42],[143,31,143,32],[143,19,143,20],[143,21,143,22],[143,23,143,24],[143,25,143,26],[143,27,143,28],[143,29,143,30],[143,35,143,36],[143,37,143,38],[142,5,142,42],[142,43,143,44],[143,15,143,16],[143,17,143,18],[143,11,143,12],[143,13,143,14],[143,7,143,8],[143,9,143,10],[127,11,129,11],[128,5,128,6],[128,7,128,8],[106,4,107,4],[106,3,107,3],[140,0,140,1],[139,0,139,1],[138,0,138,1],[136,0,137,1],[204,0,204,1],[75,0,75,6],[40,0,40,14],[7,0,7,16],[126,0,126,10],[135,0,135,8],[141,0,141,42],[190,0,190,42],[198,0,198,24],[117,0,117,2],[112,0,112,5],[105,0,105,10],[133,0,133,1],[142,2,143,4],[76,0,76,1],[136,3,136,8],[9,29,9,30],[8,5,8,32],[73,0,73,1],[64,0,72,0],[146,0,146,1],[128,9,128,10],[143,5,143,6],[127,5,127,10]]}
["DATOS DEL ESTABLECIMIENTO"]
[{"$f":"CONCATENATE(\"COMUNA: \",NOMBRE!$B$2,\"   \",\"( \",NOMBRE!$C$2,NOMBRE!$D$2,NOMBRE!$E$2,NOMBRE!$F$2,NOMBRE!$G$2,\" )\")","v":"COMUNA:    (  )"}]
[{"$f":"CONCATENATE(\"ESTABLECIMIENTO/ESTRATEGIA: \",NOMBRE!$B$3,\"   \",\"( \",NOMBRE!$C$3,NOMBRE!$D$3,NOMBRE!$E$3,NOMBRE!$F$3,NOMBRE!$G$3,NOMBRE!$H$3,\" )\")","v":"ESTABLECIMIENTO/ESTRATEGIA:    (  )"}]
[{"$f":"CONCATENATE(\"MES: \",NOMBRE!$B$6,\"   \",\"( \",NOMBRE!$C$6,NOMBRE!$D$6,\" )\")","v":"MES:    (  )"}]
[{"$f":"CONCATENATE(\"AÑO: \",NOMBRE!$B$7)","v":"AÑO: 2026"}]
["REM-P2. POBLACIÓN EN CONTROL PROGRAMA NACIONAL  DE SALUD DE LA INFANCIA "]
[]
["SECCION A: POBLACIÓN EN CONTROL, SEGÚN ESTADO NUTRICIONAL PARA NIÑOS MENOR DE UN MES- 59 MESES"]
["INDICADOR NUTRICIONAL\nY\nPARÁMETROS DE MEDICIÓN",null,"TOTAL",null,null,"RANGO ETARIO (en meses) Y SEXO",null,null,null,null,null,null,null,null,null,null,null,null,null,null,null,null,null,null,null,null,null,null,null,null,null,null,null,"Pueblos Originarios",null," Migrantes"]
[null,null,null,null,null,"Menor de 1 mes",null,"1 mes",null,"2 meses",null,"3 meses",null,"4 meses",null,"5 meses",null,"6 meses",null,"7 a 11 meses",null,"12 a 17 meses",null,"18 a 23 meses",null,"24 a 35 meses",null,"36 a 41 meses",null,"42 a 47 meses",null,"48 a 59 meses"]
[null,null,"Ambos sexos","Hombres","Mujeres","Hombres","Mujeres","Hombres","Mujeres","Hombres","Mujeres","Hombres","Mujeres","Hombres","Mujeres","Hombres","Mujeres","Hombres","Mujeres","Hombres","Mujeres","Hombres","Mujeres","Hombres","Mujeres","Hombres","Mujeres","Hombres","Mujeres","Hombres","Mujeres","Hombres","Mujeres","Hombres","Mujeres","Hombres","Mujeres"]
["TOTAL DE NIÑOS/AS EN CONTROL",null,{"$f":"SUM(D12:E12)","v":0},{"$f":"+F12+H12+J12+L12+N12+P12+R12+T12+V12+X12+Z12+AB12+AD12+AF12","v":0},{"$f":"+G12+I12+K12+M12+O12+Q12+S12+U12+W12+Y12+AA12+AC12+AE12+AG12","v":0},null,null,null,null,null,null,null,null,null,null,null,null,null,null,null,null,null,null,null,null,null,null,null,null,null,null,null,null,null,null,null,null,{"$f":"($CA12&CB12&CC12&CD12&CE12&CF12&CG12&CH12&CI12&CJ12&CK12&CL12&CM12&CN12&CO12&CP12&CQ12&CR12&CS12&CT12&CU12&CV12&CW12&CX12&CY12&CZ12&DA12&DB12&DC12&DD12&DE12&DF12&DG12&DH12&DI12&DJ12&DK12&DL12)","v":""},null,null,null,null,null,null,null,null,null,null,null,null,null,null,null,null,null,null,null,null,null,null,null,null,null,null,null,null,null,null,null,null,null,null,null,null,null,null,null,null,{"$f":"IF(H12<>SUM(H39:H40),\"* El Total de Hombres en Control de 1 mes debe ser igual al Total de Hombres según Diagnóstico Nutricional Integrado y niños sin evaluación.\",\"\")","v":""},{"$f":"IF(I12<>SUM(I39:I40),\"* El Total de Mujeres en Control de 1 mes debe ser igual al Total de Mujeres según Diagnóstico Nutricional Integrado y niños sin evaluación.\",\"\")","v":""},{"$f":"IF(J12<>SUM(J39:J40),\"* El Total de Hombres en Control de 2 meses debe ser igual al Total de Hombres según Diagnóstico Nutricional Integrado y niños sin evaluación.\",\"\")","v":""},{"$f":"IF(K12<>SUM(K39:K40),\"* El Total de Mujeres en Control de 2 meses debe ser igual al Total de Mujeres según Diagnóstico Nutricional Integrado y niños sin evaluación.\",\"\")","v":""},{"$f":"IF(L12<>SUM(L39:L40),\"* El Total de Hombres en Control de 3 meses debe ser igual al Total de Hombres según Diagnóstico Nutricional Integrado y niños sin evaluación.\",\"\")","v":""},{"$f":"IF(M12<>SUM(M39:M40),\"* El Total de Mujeres en Control de 3 meses debe ser igual al Total de Mujeres según Diagnóstico Nutricional Integrado y niños sin evaluación.\",\"\")","v":""},{"$f":"IF(N12<>SUM(N39:N40),\"* El Total de Hombres en Control de 4 meses debe ser igual al Total de Hombres según Diagnóstico Nutricional Integrado y niños sin evaluación.\",\"\")","v":""},{"$f":"IF(O12<>SUM(O39:O40),\"* El Total de Mujeres en Control de 4 meses debe ser igual al Total de Mujeres según Diagnóstico Nutricional Integrado y niños sin evaluación.\",\"\")","v":""},{"$f":"IF(P12<>SUM(P39:P40),\"* El Total de Hombres en Control de 5 meses debe ser igual al Total de Hombres según Diagnóstico Nutricional Integrado y niños sin evaluación.\",\"\")","v":""},{"$f":"IF(Q12<>SUM(Q39:Q40),\"* El Total de Mujeres en Control de 5 meses debe ser igual al Total de Mujeres según Diagnóstico Nutricional Integrado y niños sin evaluación.\",\"\")","v":""},{"$f":"IF(R12<>SUM(R39:R40),\"* El Total de Hombres en Control de 6 meses debe ser igual al Total de Hombres según Diagnóstico Nutricional Integrado y niños sin evaluación.\",\"\")","v":""},{"$f":"IF(S12<>SUM(S39:S40),\"* El Total de Mujeres en Control de 6 meses debe ser igual al Total de Mujeres según Diagnóstico Nutricional Integrado y niños sin evaluación.\",\"\")","v":""},{"$f":"IF(T12<>SUM(T39:T40),\"* El Total de Hombres en Control de 7 a 11 meses debe ser igual al Total de Hombres según Diagnóstico Nutricional Integrado y niños sin evaluación.\",\"\")","v":""},{"$f":"IF(U12<>SUM(U39:U40),\"* El Total de Mujeres en Control de 7 a 11 meses debe ser igual al Total de Mujeres según Diagnóstico Nutricional Integrado y niños sin evaluación.\",\"\")","v":""},{"$f":"IF(V12<>SUM(V39:V40),\"* El Total de Hombres en Control de 12 a 17 meses debe ser igual al Total de Hombres según Diagnóstico Nutricional Integrado y niños sin evaluación.\",\"\")","v":""},{"$f":"IF(W12<>SUM(W39:W40),\"* El Total de Mujeres en Control de 12 a 17 meses debe ser igual al Total de Mujeres según Diagnóstico Nutricional Integrado y niños sin evaluación.\",\"\")","v":""},{"$f":"IF(X12<>SUM(X39:X40),\"* El Total de Hombres en Control de 18 a 23 meses debe ser igual al Total de Hombres según Diagnóstico Nutricional Integrado y niños sin evaluación.\",\"\")","v":""},{"$f":"IF(Y12<>SUM(Y39:Y40),\"* El Total de Mujeres en Control de 18 a 23 meses debe ser igual al Total de Mujeres según Diagnóstico Nutricional Integrado y niños sin evaluación.\",\"\")","v":""},{"$f":"IF(Z12<>SUM(Z39:Z40),\"* El Total de Hombres en Control de 24 a 35 meses debe ser igual al Total de Hombres según Diagnóstico Nutricional Integrado y niños sin evaluación.\",\"\")","v":""},{"$f":"IF(AA12<>SUM(AA39:AA40),\"* El Total de Mujeres en Control de 24 a 35 meses debe ser igual al Total de Mujeres según Diagnóstico Nutricional Integrado y niños sin evaluación.\",\"\")","v":""},{"$f":"IF(AB12<>SUM(AB39:AB40),\"* El Total de Hombres en Control de 36 a 41 meses debe ser igual al Total de Hombres según Diagnóstico Nutricional Integrado y niños sin evaluación.\",\"\")","v":""},{"$f":"IF(AC12<>SUM(AC39:AC40),\"* El Total de Mujeres en Control de 36 a 41 meses debe ser igual al Total de Mujeres según Diagnóstico Nutricional Integrado y niños sin evaluación.\",\"\")","v":""},{"$f":"IF(AD12<>SUM(AD39:AD40),\"* El Total de Hombres en Control de 42 a 47 meses debe ser igual al Total de Hombres según Diagnóstico Nutricional Integrado y niños sin evaluación.\",\"\")","v":""},{"$f":"IF(AE12<>SUM(AE39:AE40),\"* El Total de Mujeres en Control de 42 a 47 meses debe ser igual al Total de Mujeres según Diagnóstico Nutricional Integrado y niños sin evaluación.\",\"\")","v":""},{"$f":"IF(AF12<>SUM(AF39:AF40),\"* El Total de Hombres en Control de 48 a 59 meses debe ser igual al Total de Hombres según Diagnóstico Nutricional Integrado y niños sin evaluación.\",\"\")","v":""},{"$f":"IF(AG12<>SUM(AG39:AG40),\"* El Total de Mujeres en Control de 48 a 59 meses debe ser igual al Total de Mujeres según Diagnóstico Nutricional Integrado y niños sin evaluación.\",\"\")","v":""},{"$f":"IF($C12>=$AH12+$AI12,\"\",\"* La suma de Pueblos Originarios Hombres + Mujeres no debe ser mayor al Total de niños (as) en control. \")","v":""},{"$f":"IF($C12>=$AJ12+$AK12,\"\",\"* La suma de Población Migrantes Hombres + Mujeres no debe ser mayor al Total de niños (as) en control. \")","v":""},{"$f":"IF(AH12<>AH39,\"* El Total de Hombres en Control de Pueblos Originarios debe ser igual al Total de Pueblos Originarios Hombres según Diagnóstico Nutricional Integrado. \",\"\")","v":""},{"$f":"IF(AI12<>AI39,\"* El Total de Mujeres en Control de Pueblos Originarios debe ser igual al Total de Pueblos Originarios Mujeres según Diagnóstico Nutricional Integrado. \",\"\")","v":""},{"$f":"IF(AJ12<>AJ39,\"* El Total de Hombres en Control de Población Migrantes debe ser igual al Total de Migrantes Hombres según Diagnóstico Nutricional Integrado. \",\"\")","v":""},{"$f":"IF(AK12<>AK39,\"* El Total de Mujeres en Control de Población Migrantes debe ser igual al Total de Migrantes Mujeres según Diagnóstico Nutricional Integrado. \",\"\")","v":""},{"$f":"IF(AND(D12>0,OR(AH12=\"\")),\" * No olvide digitar la variable Pueblos Originarios Hombres (Digite Cero si no tiene).\",IF(AH12>D12,\" * La variable Pueblos Originarios Hombres no puede ser Mayor al Total Hombres.\",\"\"))","v":""},{"$f":"IF(AND(E12>0,OR(AI12=\"\")),\" * No olvide digitar la variable Pueblos Originarios Mujeres (Digite Cero si no tiene).\",IF(AI12>E12,\" * La variable Pueblos Originarios Mujeres no puede ser Mayor al Total Mujeres.\",\"\"))","v":""},{"$f":"IF(AND(D12>0,OR(AJ12=\"\")),\" * No olvide digitar la variable Migrantes Hombres (Digite Cero si no tiene).\",IF(AJ12>D12,\" * La variable Migrantes Hombres no puede ser Mayor al Total.\",\"\"))","v":""},{"$f":"IF(AND(E12>0,OR(AK12=\"\")),\" * No olvide digitar la variable Migrantes Mujeres (Digite Cero si no tiene).\",IF(AK12>E12,\" * La variable Migrantes Mujeres no puede ser Mayor al Total.\",\"\"))","v":""},null,null,null,null,null,{"$f":"IF(H12<>SUM(H39:H40),1,0)","v":0},{"$f":"IF(I12<>SUM(I39:I40),1,0)","v":0},{"$f":"IF(J12<>SUM(J39:J40),1,0)","v":0},0,0,0,0,0,0,0,0,0,0,0,0,0,0,0,0,0,0,0,{"$f":"IF(AD12<>SUM(AD39:AD40),1,0)","v":0},{"$f":"IF(AE12<>SUM(AE39:AE40),1,0)","v":0},{"$f":"IF(AF12<>SUM(AF39:AF40),1,0)","v":0},0,{"$f":"IF(AND(D12>0,OR(AH12=\"\")),1,IF(AH12>D12,1,0))","v":0},{"$f":"IF(AND(E12>0,OR(AI12=\"\")),1,IF(AI12>E12,1,0))","v":0},{"$f":"IF(AND(D12>0,OR(AJ12=\"\")),1,IF(AJ12>D12,1,0))","v":0},{"$f":"IF(AND(E12>0,OR(AK12=\"\")),1,IF(AK12>E12,1,0))","v":0},{"$f":"IF($AH$12+$AI$12<>$AH$39+$AI$39,1,0)","v":0},{"$f":"IF($AJ$12+$AK$12<>$AJ$39+$AK$39,1,0)","v":0}]
["Indicador Peso/Edad","+ 2 D.S. (>= +2.0)",{"$f":"SUM(D13:E13)","v":0},{"$f":"+F13+H13+J13+L13+N13+P13+R13+T13+V13+X13+Z13+AB13+AD13+AF13","v":0},{"$f":"+G13+I13+K13+M13+O13+Q13+S13+U13+W13+Y13+AA13+AC13+AE13+AG13","v":0},null,null,null,null,null,null,null,null,null,null,null,null,null,null,null,null,null,null,null,null,null,null,null,null,null,null,null,null,null,null,null,null,{"$f":"($DG13&DH13&DI13&DJ13)","v":""},null,null,null,null,null,null,null,null,null,null,null,null,null,null,null,null,null,null,null,null,null,null,null,null,null,null,null,null,null,null,null,null,null,null,null,null,null,null,null,null,null,null,null,null,null,null,null,null,null,null,null,null,null,null,null,null,null,null,null,null,null,null,null,null,null,null,null,null,null,null,null,null,{"$f":"IF(AND(D13>0,OR(AH13=\"\")),\" * No olvide digitar la variable Pueblos Originarios Hombres (Digite Cero si no tiene).\",IF(AH13>D13,\" * La variable Pueblos Originarios Hombres no puede ser Mayor al Total Hombres.\",\"\"))","v":""},{"$f":"IF(AND(E13>0,OR(AI13=\"\")),\" * No olvide digitar la variable Pueblos Originarios Mujeres (Digite Cero si no tiene).\",IF(AI13>E13,\" * La variable Pueblos Originarios Mujeres no puede ser Mayor al Total Mujeres.\",\"\"))","v":""},{"$f":"IF(AND(D13>0,OR(AJ13=\"\")),\" * No olvide digitar la variable Migrantes Hombres (Digite Cero si no tiene).\",IF(AJ13>D13,\" * La variable Migrantes Hombres no puede ser Mayor al Total.\",\"\"))","v":""},{"$f":"IF(AND(E13>0,OR(AK13=\"\")),\" * No olvide digitar la variable Migrantes Mujeres (Digite Cero si no tiene).\",IF(AK13>E13,\" * La variable Migrantes Mujeres no puede ser Mayor al Total.\",\"\"))","v":""},null,null,null,null,null,null,null,null,null,null,null,null,null,null,null,null,null,null,null,null,null,null,null,null,null,null,null,null,null,null,null,null,null,{"$f":"IF(AND(D13>0,OR(AH13=\"\")),1,IF(AH13>D13,1,0))","v":0},{"$f":"IF(AND(E13>0,OR(AI13=\"\")),1,IF(AI13>E13,1,0))","v":0},{"$f":"IF(AND(D13>0,OR(AJ13=\"\")),1,IF(AJ13>D13,1,0))","v":0},{"$f":"IF(AND(E13>0,OR(AK13=\"\")),1,IF(AK13>E13,1,0))","v":0}]
[null,"+ 1 D.S. (+1.0 a +1.9)",0,0,0,null,null,null,null,null,null,null,null,null,null,null,null,null,null,null,null,null,null,null,null,null,null,null,null,null,null,null,null,null,null,null,null,{"$f":"($DG14&DH14&DI14&DJ14)","v":""},null,null,null,null,null,null,null,null,null,null,null,null,null,null,null,null,null,null,null,null,null,null,null,null,null,null,null,null,null,null,null,null,null,null,null,null,null,null,null,null,null,null,null,null,null,null,null,null,null,null,null,null,null,null,null,null,null,null,null,null,null,null,null,null,null,null,null,null,null,null,null,null,{"$f":"IF(AND(D14>0,OR(AH14=\"\")),\" * No olvide digitar la variable Pueblos Originarios Hombres (Digite Cero si no tiene).\",IF(AH14>D14,\" * La variable Pueblos Originarios Hombres no puede ser Mayor al Total Hombres.\",\"\"))","v":""},{"$f":"IF(AND(E14>0,OR(AI14=\"\")),\" * No olvide digitar la variable Pueblos Originarios Mujeres (Digite Cero si no tiene).\",IF(AI14>E14,\" * La variable Pueblos Originarios Mujeres no puede ser Mayor al Total Mujeres.\",\"\"))","v":""},{"$f":"IF(AND(D14>0,OR(AJ14=\"\")),\" * No olvide digitar la variable Migrantes Hombres (Digite Cero si no tiene).\",IF(AJ14>D14,\" * La variable Migrantes Hombres no puede ser Mayor al Total.\",\"\"))","v":""},{"$f":"IF(AND(E14>0,OR(AK14=\"\")),\" * No olvide digitar la variable Migrantes Mujeres (Digite Cero si no tiene).\",IF(AK14>E14,\" * La variable Migrantes Mujeres no puede ser Mayor al Total.\",\"\"))","v":""},null,null,null,null,null,null,null,null,null,null,null,null,null,null,null,null,null,null,null,null,null,null,null,null,null,null,null,null,null,null,null,null,null,{"$f":"IF(AND(D14>0,OR(AH14=\"\")),1,IF(AH14>D14,1,0))","v":0},{"$f":"IF(AND(E14>0,OR(AI14=\"\")),1,IF(AI14>E14,1,0))","v":0},{"$f":"IF(AND(D14>0,OR(AJ14=\"\")),1,IF(AJ14>D14,1,0))","v":0},{"$f":"IF(AND(E14>0,OR(AK14=\"\")),1,IF(AK14>E14,1,0))","v":0}]
[null,"Total",0,0,0,{"$f":"+SUM(F13:F14)","v":0},{"$f":"+SUM(G13:G14)","v":0},{"$f":"+SUM(H13:H14)","v":0},{"$f":"+SUM(I13:I14)","v":0},0,0,0,0,0,0,0,0,0,0,0,{"$f":"+SUM(U13:U14)","v":0},{"$f":"SUM(V13:V14)","v":0},{"$f":"SUM(W13:W14)","v":0},{"$f":"SUM(X13:X14)","v":0},0,0,0,0,0,0,0,{"$f":"SUM(AF13:AF14)","v":0},0,{"$f":"+SUM(AH13:AH14)","v":0},{"$f":"+SUM(AI13:AI14)","v":0},{"$f":"+SUM(AJ13:AJ14)","v":0},{"$f":"+SUM(AK13:AK14)","v":0}]
[null,"- 1 D.S. (-1.0 a -1.9)",0,0,0,null,null,null,null,null,null,null,null,null,null,null,null,null,null,null,null,null,null,null,null,null,null,null,null,null,null,null,null,null,null,null,null,{"$f":"($DG16&DH16&DI16&DJ16)","v":""},null,null,null,null,null,null,null,null,null,null,null,null,null,null,null,null,null,null,null,null,null,null,null,null,null,null,null,null,null,null,null,null,null,null,null,null,null,null,null,null,null,null,null,null,null,null,null,null,null,null,null,null,null,null,null,null,null,null,null,null,null,null,null,null,null,null,null,null,null,null,null,null,{"$f":"IF(AND(D16>0,OR(AH16=\"\")),\" * No olvide digitar la variable Pueblos Originarios Hombres (Digite Cero si no tiene).\",IF(AH16>D16,\" * La variable Pueblos Originarios Hombres no puede ser Mayor al Total Hombres.\",\"\"))","v":""},{"$f":"IF(AND(E16>0,OR(AI16=\"\")),\" * No olvide digitar la variable Pueblos Originarios Mujeres (Digite Cero si no tiene).\",IF(AI16>E16,\" * La variable Pueblos Originarios Mujeres no puede ser Mayor al Total Mujeres.\",\"\"))","v":""},{"$f":"IF(AND(D16>0,OR(AJ16=\"\")),\" * No olvide digitar la variable Migrantes Hombres (Digite Cero si no tiene).\",IF(AJ16>D16,\" * La variable Migrantes Hombres no puede ser Mayor al Total.\",\"\"))","v":""},{"$f":"IF(AND(E16>0,OR(AK16=\"\")),\" * No olvide digitar la variable Migrantes Mujeres (Digite Cero si no tiene).\",IF(AK16>E16,\" * La variable Migrantes Mujeres no puede ser Mayor al Total.\",\"\"))","v":""},null,null,null,null,null,null,null,null,null,null,null,null,null,null,null,null,null,null,null,null,null,null,null,null,null,null,null,null,null,null,null,null,null,{"$f":"IF(AND(D16>0,OR(AH16=\"\")),1,IF(AH16>D16,1,0))","v":0},{"$f":"IF(AND(E16>0,OR(AI16=\"\")),1,IF(AI16>E16,1,0))","v":0},{"$f":"IF(AND(D16>0,OR(AJ16=\"\")),1,IF(AJ16>D16,1,0))","v":0},{"$f":"IF(AND(E16>0,OR(AK16=\"\")),1,IF(AK16>E16,1,0))","v":0}]
[null,"- 2 D.S. (<= -2.0)",0,0,0,null,null,null,null,null,null,null,null,null,null,null,null,null,null,null,null,null,null,null,null,null,null,null,null,null,null,null,null,null,null,null,null,{"$f":"($DG17&DH17&DI17&DJ17)","v":""},null,null,null,null,null,null,null,null,null,null,null,null,null,null,null,null,null,null,null,null,null,null,null,null,null,null,null,null,null,null,null,null,null,null,null,null,null,null,null,null,null,null,null,null,null,null,null,null,null,null,null,null,null,null,null,null,null,null,null,null,null,null,null,null,null,null,null,null,null,null,null,null,{"$f":"IF(AND(D17>0,OR(AH17=\"\")),\" * No olvide digitar la variable Pueblos Originarios Hombres (Digite Cero si no tiene).\",IF(AH17>D17,\" * La variable Pueblos Originarios Hombres no puede ser Mayor al Total Hombres.\",\"\"))","v":""},{"$f":"IF(AND(E17>0,OR(AI17=\"\")),\" * No olvide digitar la variable Pueblos Originarios Mujeres (Digite Cero si no tiene).\",IF(AI17>E17,\" * La variable Pueblos Originarios Mujeres no puede ser Mayor al Total Mujeres.\",\"\"))","v":""},{"$f":"IF(AND(D17>0,OR(AJ17=\"\")),\" * No olvide digitar la variable Migrantes Hombres (Digite Cero si no tiene).\",IF(AJ17>D17,\" * La variable Migrantes Hombres no puede ser Mayor al Total.\",\"\"))","v":""},{"$f":"IF(AND(E17>0,OR(AK17=\"\")),\" * No olvide digitar la variable Migrantes Mujeres (Digite Cero si no tiene).\",IF(AK17>E17,\" * La variable Migrantes Mujeres no puede ser Mayor al Total.\",\"\"))","v":""},null,null,null,null,null,null,null,null,null,null,null,null,null,null,null,null,null,null,null,null,null,null,null,null,null,null,null,null,null,null,null,null,null,{"$f":"IF(AND(D17>0,OR(AH17=\"\")),1,IF(AH17>D17,1,0))","v":0},{"$f":"IF(AND(E17>0,OR(AI17=\"\")),1,IF(AI17>E17,1,0))","v":0},{"$f":"IF(AND(D17>0,OR(AJ17=\"\")),1,IF(AJ17>D17,1,0))","v":0},{"$f":"IF(AND(E17>0,OR(AK17=\"\")),1,IF(AK17>E17,1,0))","v":0}]
[null,"Total",0,0,0,{"$f":"+SUM(F16:F17)","v":0},0,{"$f":"SUM(H16:H17)","v":0},{"$f":"SUM(I16:I17)","v":0},0,0,0,0,0,0,0,0,0,0,0,0,{"$f":"SUM(V16:V17)","v":0},{"$f":"SUM(W16:W17)","v":0},0,0,0,0,0,0,0,0,0,0,{"$f":"SUM(AH16:AH17)","v":0},{"$f":"SUM(AI16:AI17)","v":0},{"$f":"SUM(AJ16:AJ17)","v":0},{"$f":"SUM(AK16:AK17)","v":0}]
["Indicador Peso/Talla","+ 2 D.S. (>= +2.0)",0,0,0,null,null,null,null,null,null,null,null,null,null,null,null,null,null,null,null,null,null,null,null,null,null,null,null,null,null,null,null,null,null,null,null,{"$f":"($DG19&DH19&DI19&DJ19)","v":""},null,null,null,null,null,null,null,null,null,null,null,null,null,null,null,null,null,null,null,null,null,null,null,null,null,null,null,null,null,null,null,null,null,null,null,null,null,null,null,null,null,null,null,null,null,null,null,null,null,null,null,null,null,null,null,null,null,null,null,null,null,null,null,null,null,null,null,null,null,null,null,null,{"$f":"IF(AND(D19>0,OR(AH19=\"\")),\" * No olvide digitar la variable Pueblos Originarios Hombres (Digite Cero si no tiene).\",IF(AH19>D19,\" * La variable Pueblos Originarios Hombres no puede ser Mayor al Total Hombres.\",\"\"))","v":""},{"$f":"IF(AND(E19>0,OR(AI19=\"\")),\" * No olvide digitar la variable Pueblos Originarios Mujeres (Digite Cero si no tiene).\",IF(AI19>E19,\" * La variable Pueblos Originarios Mujeres no puede ser Mayor al Total Mujeres.\",\"\"))","v":""},{"$f":"IF(AND(D19>0,OR(AJ19=\"\")),\" * No olvide digitar la variable Migrantes Hombres (Digite Cero si no tiene).\",IF(AJ19>D19,\" * La variable Migrantes Hombres no puede ser Mayor al Total.\",\"\"))","v":""},{"$f":"IF(AND(E19>0,OR(AK19=\"\")),\" * No olvide digitar la variable Migrantes Mujeres (Digite Cero si no tiene).\",IF(AK19>E19,\" * La variable Migrantes Mujeres no puede ser Mayor al Total.\",\"\"))","v":""},null,null,null,null,null,null,null,null,null,null,null,null,null,null,null,null,null,null,null,null,null,null,null,null,null,null,null,null,null,null,null,null,null,{"$f":"IF(AND(D19>0,OR(AH19=\"\")),1,IF(AH19>D19,1,0))","v":0},{"$f":"IF(AND(E19>0,OR(AI19=\"\")),1,IF(AI19>E19,1,0))","v":0},{"$f":"IF(AND(D19>0,OR(AJ19=\"\")),1,IF(AJ19>D19,1,0))","v":0},{"$f":"IF(AND(E19>0,OR(AK19=\"\")),1,IF(AK19>E19,1,0))","v":0}]
[null,"+ 1 D.S. (+1.0 a +1.9)",0,0,0,null,null,null,null,null,null,null,null,null,null,null,null,null,null,null,null,null,null,null,null,null,null,null,null,null,null,null,null,null,null,null,null,{"$f":"($DG20&DH20&DI20&DJ20)","v":""},null,null,null,null,null,null,null,null,null,null,null,null,null,null,null,null,null,null,null,null,null,null,null,null,null,null,null,null,null,null,null,null,null,null,null,null,null,null,null,null,null,null,null,null,null,null,null,null,null,null,null,null,null,null,null,null,null,null,null,null,null,null,null,null,null,null,null,null,null,null,null,null,{"$f":"IF(AND(D20>0,OR(AH20=\"\")),\" * No olvide digitar la variable Pueblos Originarios Hombres (Digite Cero si no tiene).\",IF(AH20>D20,\" * La variable Pueblos Originarios Hombres no puede ser Mayor al Total Hombres.\",\"\"))","v":""},{"$f":"IF(AND(E20>0,OR(AI20=\"\")),\" * No olvide digitar la variable Pueblos Originarios Mujeres (Digite Cero si no tiene).\",IF(AI20>E20,\" * La variable Pueblos Originarios Mujeres no puede ser Mayor al Total Mujeres.\",\"\"))","v":""},{"$f":"IF(AND(D20>0,OR(AJ20=\"\")),\" * No olvide digitar la variable Migrantes Hombres (Digite Cero si no tiene).\",IF(AJ20>D20,\" * La variable Migrantes Hombres no puede ser Mayor al Total.\",\"\"))","v":""},{"$f":"IF(AND(E20>0,OR(AK20=\"\")),\" * No olvide digitar la variable Migrantes Mujeres (Digite Cero si no tiene).\",IF(AK20>E20,\" * La variable Migrantes Mujeres no puede ser Mayor al Total.\",\"\"))","v":""},null,null,null,null,null,null,null,null,null,null,null,null,null,null,null,null,null,null,null,null,null,null,null,null,null,null,null,null,null,null,null,null,null,{"$f":"IF(AND(D20>0,OR(AH20=\"\")),1,IF(AH20>D20,1,0))","v":0},{"$f":"IF(AND(E20>0,OR(AI20=\"\")),1,IF(AI20>E20,1,0))","v":0},{"$f":"IF(AND(D20>0,OR(AJ20=\"\")),1,IF(AJ20>D20,1,0))","v":0},{"$f":"IF(AND(E20>0,OR(AK20=\"\")),1,IF(AK20>E20,1,0))","v":0}]
[null,"Total",0,0,0,{"$f":"SUM(F19:F20)","v":0},{"$f":"SUM(G19:G20)","v":0},{"$f":"+SUM(H19:H20)","v":0},{"$f":"+SUM(I19:I20)","v":0},{"$f":"+SUM(J19:J20)","v":0},0,0,0,0,0,0,0,0,0,0,0,0,0,0,0,0,0,0,0,0,0,0,0,0,0,0,0]
[null,"- 1 D.S. (-1.0 a -1.9)",0,0,0,null,null,null,null,null,null,null,null,null,null,null,null,null,null,null,null,null,null,null,null,null,null,null,null,null,null,null,null,null,null,null,null,{"$f":"($DG22&DH22&DI22&DJ22)","v":""},null,null,null,null,null,null,null,null,null,null,null,null,null,null,null,null,null,null,null,null,null,null,null,null,null,null,null,null,null,null,null,null,null,null,null,null,null,null,null,null,null,null,null,null,null,null,null,null,null,null,null,null,null,null,null,null,null,null,null,null,null,null,null,null,null,null,null,null,null,null,null,null,{"$f":"IF(AND(D22>0,OR(AH22=\"\")),\" * No olvide digitar la variable Pueblos Originarios Hombres (Digite Cero si no tiene).\",IF(AH22>D22,\" * La variable Pueblos Originarios Hombres no puede ser Mayor al Total Hombres.\",\"\"))","v":""},{"$f":"IF(AND(E22>0,OR(AI22=\"\")),\" * No olvide digitar la variable Pueblos Originarios Mujeres (Digite Cero si no tiene).\",IF(AI22>E22,\" * La variable Pueblos Originarios Mujeres no puede ser Mayor al Total Mujeres.\",\"\"))","v":""},{"$f":"IF(AND(D22>0,OR(AJ22=\"\")),\" * No olvide digitar la variable Migrantes Hombres (Digite Cero si no tiene).\",IF(AJ22>D22,\" * La variable Migrantes Hombres no puede ser Mayor al Total.\",\"\"))","v":""},{"$f":"IF(AND(E22>0,OR(AK22=\"\")),\" * No olvide digitar la variable Migrantes Mujeres (Digite Cero si no tiene).\",IF(AK22>E22,\" * La variable Migrantes Mujeres no puede ser Mayor al Total.\",\"\"))","v":""},null,null,null,null,null,null,null,null,null,null,null,null,null,null,null,null,null,null,null,null,null,null,null,null,null,null,null,null,null,null,null,null,null,{"$f":"IF(AND(D22>0,OR(AH22=\"\")),1,IF(AH22>D22,1,0))","v":0},{"$f":"IF(AND(E22>0,OR(AI22=\"\")),1,IF(AI22>E22,1,0))","v":0},{"$f":"IF(AND(D22>0,OR(AJ22=\"\")),1,IF(AJ22>D22,1,0))","v":0},{"$f":"IF(AND(E22>0,OR(AK22=\"\")),1,IF(AK22>E22,1,0))","v":0}]
[null,"- 2 D.S. (<= -2.0)",0,0,0,null,null,null,null,null,null,null,null,null,null,null,null,null,null,null,null,null,null,null,null,null,null,null,null,null,null,null,null,null,null,null,null,{"$f":"($DG23&DH23&DI23&DJ23)","v":""},null,null,null,null,null,null,null,null,null,null,null,null,null,null,null,null,null,null,null,null,null,null,null,null,null,null,null,null,null,null,null,null,null,null,null,null,null,null,null,null,null,null,null,null,null,null,null,null,null,null,null,null,null,null,null,null,null,null,null,null,null,null,null,null,null,null,null,null,null,null,null,null,{"$f":"IF(AND(D23>0,OR(AH23=\"\")),\" * No olvide digitar la variable Pueblos Originarios Hombres (Digite Cero si no tiene).\",IF(AH23>D23,\" * La variable Pueblos Originarios Hombres no puede ser Mayor al Total Hombres.\",\"\"))","v":""},{"$f":"IF(AND(E23>0,OR(AI23=\"\")),\" * No olvide digitar la variable Pueblos Originarios Mujeres (Digite Cero si no tiene).\",IF(AI23>E23,\" * La variable Pueblos Originarios Mujeres no puede ser Mayor al Total Mujeres.\",\"\"))","v":""},{"$f":"IF(AND(D23>0,OR(AJ23=\"\")),\" * No olvide digitar la variable Migrantes Hombres (Digite Cero si no tiene).\",IF(AJ23>D23,\" * La variable Migrantes Hombres no puede ser Mayor al Total.\",\"\"))","v":""},{"$f":"IF(AND(E23>0,OR(AK23=\"\")),\" * No olvide digitar la variable Migrantes Mujeres (Digite Cero si no tiene).\",IF(AK23>E23,\" * La variable Migrantes Mujeres no puede ser Mayor al Total.\",\"\"))","v":""},null,null,null,null,null,null,null,null,null,null,null,null,null,null,null,null,null,null,null,null,null,null,null,null,null,null,null,null,null,null,null,null,null,{"$f":"IF(AND(D23>0,OR(AH23=\"\")),1,IF(AH23>D23,1,0))","v":0},{"$f":"IF(AND(E23>0,OR(AI23=\"\")),1,IF(AI23>E23,1,0))","v":0},{"$f":"IF(AND(D23>0,OR(AJ23=\"\")),1,IF(AJ23>D23,1,0))","v":0},{"$f":"IF(AND(E23>0,OR(AK23=\"\")),1,IF(AK23>E23,1,0))","v":0}]
[null,"Total",0,0,0,{"$f":"SUM(F22:F23)","v":0},0,{"$f":"SUM(H22:H23)","v":0},{"$f":"SUM(I22:I23)","v":0},{"$f":"SUM(J22:J23)","v":0},0,0,0,0,0,0,0,0,0,0,0,0,0,0,0,0,0,0,0,0,0,0,0,0,0,0,{"$f":"SUM(AK22:AK23)","v":0}]
["Indicador Talla/Edad","+ 2 D.S. (>= +2.0)",0,0,0,null,null,null,null,null,null,null,null,null,null,null,null,null,null,null,null,null,null,null,null,null,null,null,null,null,null,null,null,null,null,null,null,{"$f":"($DG25&DH25&DI25&DJ25)","v":""},null,null,null,null,null,null,null,null,null,null,null,null,null,null,null,null,null,null,null,null,null,null,null,null,null,null,null,null,null,null,null,null,null,null,null,null,null,null,null,null,null,null,null,null,null,null,null,null,null,null,null,null,null,null,null,null,null,null,null,null,null,null,null,null,null,null,null,null,null,null,null,null,{"$f":"IF(AND(D25>0,OR(AH25=\"\")),\" * No olvide digitar la variable Pueblos Originarios Hombres (Digite Cero si no tiene).\",IF(AH25>D25,\" * La variable Pueblos Originarios Hombres no puede ser Mayor al Total Hombres.\",\"\"))","v":""},{"$f":"IF(AND(E25>0,OR(AI25=\"\")),\" * No olvide digitar la variable Pueblos Originarios Mujeres (Digite Cero si no tiene).\",IF(AI25>E25,\" * La variable Pueblos Originarios Mujeres no puede ser Mayor al Total Mujeres.\",\"\"))","v":""},{"$f":"IF(AND(D25>0,OR(AJ25=\"\")),\" * No olvide digitar la variable Migrantes Hombres (Digite Cero si no tiene).\",IF(AJ25>D25,\" * La variable Migrantes Hombres no puede ser Mayor al Total.\",\"\"))","v":""},{"$f":"IF(AND(E25>0,OR(AK25=\"\")),\" * No olvide digitar la variable Migrantes Mujeres (Digite Cero si no tiene).\",IF(AK25>E25,\" * La variable Migrantes Mujeres no puede ser Mayor al Total.\",\"\"))","v":""},null,null,null,null,null,null,null,null,null,null,null,null,null,null,null,null,null,null,null,null,null,null,null,null,null,null,null,null,null,null,null,null,null,{"$f":"IF(AND(D25>0,OR(AH25=\"\")),1,IF(AH25>D25,1,0))","v":0},{"$f":"IF(AND(E25>0,OR(AI25=\"\")),1,IF(AI25>E25,1,0))","v":0},{"$f":"IF(AND(D25>0,OR(AJ25=\"\")),1,IF(AJ25>D25,1,0))","v":0},{"$f":"IF(AND(E25>0,OR(AK25=\"\")),1,IF(AK25>E25,1,0))","v":0}]
[null,"+ 1 D.S. (+1.0 a +1.9)",0,0,0,null,null,null,null,null,null,null,null,null,null,null,null,null,null,null,null,null,null,null,null,null,null,null,null,null,null,null,null,null,null,null,null,{"$f":"($DG26&DH26&DI26&DJ26)","v":""},null,null,null,null,null,null,null,null,null,null,null,null,null,null,null,null,null,null,null,null,null,null,null,null,null,null,null,null,null,null,null,null,null,null,null,null,null,null,null,null,null,null,null,null,null,null,null,null,null,null,null,null,null,null,null,null,null,null,null,null,null,null,null,null,null,null,null,null,null,null,null,null,{"$f":"IF(AND(D26>0,OR(AH26=\"\")),\" * No olvide digitar la variable Pueblos Originarios Hombres (Digite Cero si no tiene).\",IF(AH26>D26,\" * La variable Pueblos Originarios Hombres no puede ser Mayor al Total Hombres.\",\"\"))","v":""},{"$f":"IF(AND(E26>0,OR(AI26=\"\")),\" * No olvide digitar la variable Pueblos Originarios Mujeres (Digite Cero si no tiene).\",IF(AI26>E26,\" * La variable Pueblos Originarios Mujeres no puede ser Mayor al Total Mujeres.\",\"\"))","v":""},{"$f":"IF(AND(D26>0,OR(AJ26=\"\")),\" * No olvide digitar la variable Migrantes Hombres (Digite Cero si no tiene).\",IF(AJ26>D26,\" * La variable Migrantes Hombres no puede ser Mayor al Total.\",\"\"))","v":""},{"$f":"IF(AND(E26>0,OR(AK26=\"\")),\" * No olvide digitar la variable Migrantes Mujeres (Digite Cero si no tiene).\",IF(AK26>E26,\" * La variable Migrantes Mujeres no puede ser Mayor al Total.\",\"\"))","v":""},null,null,null,null,null,null,null,null,null,null,null,null,null,null,null,null,null,null,null,null,null,null,null,null,null,null,null,null,null,null,null,null,null,{"$f":"IF(AND(D26>0,OR(AH26=\"\")),1,IF(AH26>D26,1,0))","v":0},{"$f":"IF(AND(E26>0,OR(AI26=\"\")),1,IF(AI26>E26,1,0))","v":0},{"$f":"IF(AND(D26>0,OR(AJ26=\"\")),1,IF(AJ26>D26,1,0))","v":0},{"$f":"IF(AND(E26>0,OR(AK26=\"\")),1,IF(AK26>E26,1,0))","v":0}]
[null,"TOTAL",0,0,0,{"$f":"SUM(F25:F26)","v":0},0,{"$f":"SUM(H25:H26)","v":0},{"$f":"SUM(I25:I26)","v":0},0,0,0,0,0,0,0,0,0,0,0,0,0,0,0,0,0,0,0,0,0,0,0,0,0,0,0,0]
[null,"- 1 D.S. (-1.0 a -1.9)",0,0,0,null,null,null,null,null,null,null,null,null,null,null,null,null,null,null,null,null,null,null,null,null,null,null,null,null,null,null,null,null,null,null,null,{"$f":"($DG28&DH28&DI28&DJ28)","v":""},null,null,null,null,null,null,null,null,null,null,null,null,null,null,null,null,null,null,null,null,null,null,null,null,null,null,null,null,null,null,null,null,null,null,null,null,null,null,null,null,null,null,null,null,null,null,null,null,null,null,null,null,null,null,null,null,null,null,null,null,null,null,null,null,null,null,null,null,null,null,null,null,{"$f":"IF(AND(D28>0,OR(AH28=\"\")),\" * No olvide digitar la variable Pueblos Originarios Hombres (Digite Cero si no tiene).\",IF(AH28>D28,\" * La variable Pueblos Originarios Hombres no puede ser Mayor al Total Hombres.\",\"\"))","v":""},{"$f":"IF(AND(E28>0,OR(AI28=\"\")),\" * No olvide digitar la variable Pueblos Originarios Mujeres (Digite Cero si no tiene).\",IF(AI28>E28,\" * La variable Pueblos Originarios Mujeres no puede ser Mayor al Total Mujeres.\",\"\"))","v":""},{"$f":"IF(AND(D28>0,OR(AJ28=\"\")),\" * No olvide digitar la variable Migrantes Hombres (Digite Cero si no tiene).\",IF(AJ28>D28,\" * La variable Migrantes Hombres no puede ser Mayor al Total.\",\"\"))","v":""},{"$f":"IF(AND(E28>0,OR(AK28=\"\")),\" * No olvide digitar la variable Migrantes Mujeres (Digite Cero si no tiene).\",IF(AK28>E28,\" * La variable Migrantes Mujeres no puede ser Mayor al Total.\",\"\"))","v":""},null,null,null,null,null,null,null,null,null,null,null,null,null,null,null,null,null,null,null,null,null,null,null,null,null,null,null,null,null,null,null,null,null,{"$f":"IF(AND(D28>0,OR(AH28=\"\")),1,IF(AH28>D28,1,0))","v":0},{"$f":"IF(AND(E28>0,OR(AI28=\"\")),1,IF(AI28>E28,1,0))","v":0},{"$f":"IF(AND(D28>0,OR(AJ28=\"\")),1,IF(AJ28>D28,1,0))","v":0},{"$f":"IF(AND(E28>0,OR(AK28=\"\")),1,IF(AK28>E28,1,0))","v":0}]
[null,"- 2 D.S. (<= -2.0)",0,0,0,null,null,null,null,null,null,null,null,null,null,null,null,null,null,null,null,null,null,null,null,null,null,null,null,null,null,null,null,null,null,null,null,{"$f":"($DG29&DH29&DI29&DJ29)","v":""},null,null,null,null,null,null,null,null,null,null,null,null,null,null,null,null,null,null,null,null,null,null,null,null,null,null,null,null,null,null,null,null,null,null,null,null,null,null,null,null,null,null,null,null,null,null,null,null,null,null,null,null,null,null,null,null,null,null,null,null,null,null,null,null,null,null,null,null,null,null,null,null,{"$f":"IF(AND(D29>0,OR(AH29=\"\")),\" * No olvide digitar la variable Pueblos Originarios Hombres (Digite Cero si no tiene).\",IF(AH29>D29,\" * La variable Pueblos Originarios Hombres no puede ser Mayor al Total Hombres.\",\"\"))","v":""},{"$f":"IF(AND(E29>0,OR(AI29=\"\")),\" * No olvide digitar la variable Pueblos Originarios Mujeres (Digite Cero si no tiene).\",IF(AI29>E29,\" * La variable Pueblos Originarios Mujeres no puede ser Mayor al Total Mujeres.\",\"\"))","v":""},{"$f":"IF(AND(D29>0,OR(AJ29=\"\")),\" * No olvide digitar la variable Migrantes Hombres (Digite Cero si no tiene).\",IF(AJ29>D29,\" * La variable Migrantes Hombres no puede ser Mayor al Total.\",\"\"))","v":""},{"$f":"IF(AND(E29>0,OR(AK29=\"\")),\" * No olvide digitar la variable Migrantes Mujeres (Digite Cero si no tiene).\",IF(AK29>E29,\" * La variable Migrantes Mujeres no puede ser Mayor al Total.\",\"\"))","v":""},null,null,null,null,null,null,null,null,null,null,null,null,null,null,null,null,null,null,null,null,null,null,null,null,null,null,null,null,null,null,null,null,null,{"$f":"IF(AND(D29>0,OR(AH29=\"\")),1,IF(AH29>D29,1,0))","v":0},{"$f":"IF(AND(E29>0,OR(AI29=\"\")),1,IF(AI29>E29,1,0))","v":0},{"$f":"IF(AND(D29>0,OR(AJ29=\"\")),1,IF(AJ29>D29,1,0))","v":0},{"$f":"IF(AND(E29>0,OR(AK29=\"\")),1,IF(AK29>E29,1,0))","v":0}]
[null,"Total",{"$f":"SUM(D30:E30)","v":0},0,0,{"$f":"SUM(F28:F29)","v":0},{"$f":"SUM(G28:G29)","v":0},{"$f":"SUM(H28:H29)","v":0},{"$f":"SUM(I28:I29)","v":0},0,0,0,0,0,0,0,0,0,0,0,0,0,0,0,0,0,0,0,0,0,0,0,0,0,0,0,0]
[null,"Promedio (-0,9 A + 0,9)",0,0,0,null,null,null,null,null,null,null,null,null,null,null,null,null,null,null,null,null,null,null,null,null,null,null,null,null,null,null,null,0,null,null,null,{"$f":"($DG31&DH31&DI31&DJ31)","v":""},null,null,null,null,null,null,null,null,null,null,null,null,null,null,null,null,null,null,null,null,null,null,null,null,null,null,null,null,null,null,null,null,null,null,null,null,null,null,null,null,null,null,null,null,null,null,null,null,null,null,null,null,null,null,null,null,null,null,null,null,null,null,null,null,null,null,null,null,null,null,null,null,{"$f":"IF(AND(D31>0,OR(AH31=\"\")),\" * No olvide digitar la variable Pueblos Originarios Hombres (Digite Cero si no tiene).\",IF(AH31>D31,\" * La variable Pueblos Originarios Hombres no puede ser Mayor al Total Hombres.\",\"\"))","v":""},{"$f":"IF(AND(E31>0,OR(AI31=\"\")),\" * No olvide digitar la variable Pueblos Originarios Mujeres (Digite Cero si no tiene).\",IF(AI31>E31,\" * La variable Pueblos Originarios Mujeres no puede ser Mayor al Total Mujeres.\",\"\"))","v":""},{"$f":"IF(AND(D31>0,OR(AJ31=\"\")),\" * No olvide digitar la variable Migrantes Hombres (Digite Cero si no tiene).\",IF(AJ31>D31,\" * La variable Migrantes Hombres no puede ser Mayor al Total.\",\"\"))","v":""},{"$f":"IF(AND(E31>0,OR(AK31=\"\")),\" * No olvide digitar la variable Migrantes Mujeres (Digite Cero si no tiene).\",IF(AK31>E31,\" * La variable Migrantes Mujeres no puede ser Mayor al Total.\",\"\"))","v":""},null,null,null,null,null,null,null,null,null,null,null,null,null,null,null,null,null,null,null,null,null,null,null,null,null,null,null,null,null,null,null,null,null,{"$f":"IF(AND(D31>0,OR(AH31=\"\")),1,IF(AH31>D31,1,0))","v":0},0,{"$f":"IF(AND(D31>0,OR(AJ31=\"\")),1,IF(AJ31>D31,1,0))","v":0},0]
["Estado nutricional ","Riesgo de desnutrir/ déficit ponderal*",0,{"$f":"+H32+J32+L32+N32+P32+R32+T32+V32+X32+Z32+AB32+AD32+AF32","v":0},{"$f":"+I32+K32+M32+O32+Q32+S32+U32+W32+Y32+AA32+AC32+AE32+AG32","v":0},null,null,null,null,null,null,null,null,null,null,null,null,null,null,null,null,null,null,null,null,null,null,null,null,null,null,null,null,null,null,null,null,"",null,null,null,null,null,null,null,null,null,null,null,null,null,null,null,null,null,null,null,null,null,null,null,null,null,null,null,null,null,null,null,null,null,null,null,null,null,null,null,null,null,null,null,null,null,null,null,null,null,null,null,null,null,null,null,null,null,null,null,null,null,null,null,null,null,null,null,null,null,null,null,null,"","","","",null,null,null,null,null,null,null,null,null,null,null,null,null,null,null,null,null,null,null,null,null,null,null,null,null,null,null,null,null,null,null,null,null,0,0,0,0]
[null,"Desnutrido",0,{"$f":"+H33+J33+L33+N33+P33+R33+T33+V33+X33+Z33+AB33+AD33+AF33","v":0},{"$f":"+I33+K33+M33+O33+Q33+S33+U33+W33+Y33+AA33+AC33+AE33+AG33","v":0},null,null,null,null,null,null,null,null,null,null,null,null,null,null,null,null,null,null,null,null,null,null,null,null,null,null,null,null,null,null,null,null,"",null,null,null,null,null,null,null,null,null,null,null,null,null,null,null,null,null,null,null,null,null,null,null,null,null,null,null,null,null,null,null,null,null,null,null,null,null,null,null,null,null,null,null,null,null,null,null,null,null,null,null,null,null,null,null,null,null,null,null,null,null,null,null,null,null,null,null,null,null,null,null,null,"","","","",null,null,null,null,null,null,null,null,null,null,null,null,null,null,null,null,null,null,null,null,null,null,null,null,null,null,null,null,null,null,null,null,null,0,0,0,0]
[null,"Sobrepeso / Riesgo obesidad",0,0,0,null,null,null,null,null,null,null,null,null,null,null,null,null,null,null,null,null,null,null,null,null,null,null,null,null,null,null,null,null,null,null,null,"",null,null,null,null,null,null,null,null,null,null,null,null,null,null,null,null,null,null,null,null,null,null,null,null,null,null,null,null,null,null,null,null,null,null,null,null,null,null,null,null,null,null,null,null,null,null,null,null,null,null,null,null,null,null,null,null,null,null,null,null,null,null,null,null,null,null,null,null,null,null,null,null,"","","","",null,null,null,null,null,null,null,null,null,null,null,null,null,null,null,null,null,null,null,null,null,null,null,null,null,null,null,null,null,null,null,null,null,0,0,0,0]
[null,"Obeso",0,0,0,null,null,null,null,null,null,null,null,null,null,null,null,null,null,null,null,null,null,null,null,null,null,null,null,null,null,null,null,null,null,null,null,"",null,null,null,null,null,null,null,null,null,null,null,null,null,null,null,null,null,null,null,null,null,null,null,null,null,null,null,null,null,null,null,null,null,null,null,null,null,null,null,null,null,null,null,null,null,null,null,null,null,null,null,null,null,null,null,null,null,null,null,null,null,null,null,null,null,null,null,null,null,null,null,null,"","","","",null,null,null,null,null,null,null,null,null,null,null,null,null,null,null,null,null,null,null,null,null,null,null,null,null,null,null,null,null,null,null,null,null,0,0,0,0]
[null,"Normal",0,0,0,null,null,null,null,null,null,null,null,null,null,null,null,null,null,null,null,null,null,null,null,null,null,null,null,null,null,null,null,null,null,null,null,"",null,null,null,null,null,null,null,null,null,null,null,null,null,null,null,null,null,null,null,null,null,null,null,null,null,null,null,null,null,null,null,null,null,null,null,null,null,null,null,null,null,null,null,null,null,null,null,null,null,null,null,null,null,null,null,null,null,null,null,null,null,null,null,null,null,null,null,null,null,null,null,null,"","","","",null,null,null,null,null,null,null,null,null,null,null,null,null,null,null,null,null,null,null,null,null,null,null,null,null,null,null,null,null,null,null,null,null,0,0,0,0]
[null,"Subtotal",{"$f":"SUM(D37:E37)","v":0},0,0,null,null,{"$f":"SUM(H32:H36)","v":0},0,0,0,0,0,0,0,0,0,0,0,0,0,0,0,0,0,0,0,0,0,0,0,0,0,0,0,0,0]
[null,"\"Desnutrición secundaria\"",{"$f":"SUM(D38:E38)","v":0},0,0,null,null,null,null,null,null,null,null,null,null,null,null,null,null,null,null,null,null,null,null,null,null,null,null,null,null,null,null,null,null,null,null,{"$f":"($DG38&DH38&DI38&DJ38)","v":""},null,null,null,null,null,null,null,null,null,null,null,null,null,null,null,null,null,null,null,null,null,null,null,null,null,null,null,null,null,null,null,null,null,null,null,null,null,null,null,null,null,null,null,null,null,null,null,null,null,null,null,null,null,null,null,null,null,null,null,null,null,null,null,null,null,null,null,null,null,null,null,null,{"$f":"IF(AND(D38>0,OR(AH38=\"\")),\" * No olvide digitar la variable Pueblos Originarios Hombres (Digite Cero si no tiene).\",IF(AH38>D38,\" * La variable Pueblos Originarios Hombres no puede ser Mayor al Total Hombres.\",\"\"))","v":""},{"$f":"IF(AND(E38>0,OR(AI38=\"\")),\" * No olvide digitar la variable Pueblos Originarios Mujeres (Digite Cero si no tiene).\",IF(AI38>E38,\" * La variable Pueblos Originarios Mujeres no puede ser Mayor al Total Mujeres.\",\"\"))","v":""},{"$f":"IF(AND(D38>0,OR(AJ38=\"\")),\" * No olvide digitar la variable Migrantes Hombres (Digite Cero si no tiene).\",IF(AJ38>D38,\" * La variable Migrantes Hombres no puede ser Mayor al Total.\",\"\"))","v":""},{"$f":"IF(AND(E38>0,OR(AK38=\"\")),\" * No olvide digitar la variable Migrantes Mujeres (Digite Cero si no tiene).\",IF(AK38>E38,\" * La variable Migrantes Mujeres no puede ser Mayor al Total.\",\"\"))","v":""},null,null,null,null,null,null,null,null,null,null,null,null,null,null,null,null,null,null,null,null,null,null,null,null,null,null,null,null,null,null,null,null,null,{"$f":"IF(AND(D38>0,OR(AH38=\"\")),1,IF(AH38>D38,1,0))","v":0},{"$f":"IF(AND(E38>0,OR(AI38=\"\")),1,IF(AI38>E38,1,0))","v":0},{"$f":"IF(AND(D38>0,OR(AJ38=\"\")),1,IF(AJ38>D38,1,0))","v":0},{"$f":"IF(AND(E38>0,OR(AK38=\"\")),1,IF(AK38>E38,1,0))","v":0}]
[null,"Total",0,0,0,null,null,{"$f":"SUM(H32:H36)+H38","v":0},0,0,0,0,0,0,0,0,0,0,0,0,0,0,0,0,0,0,0,0,0,0,0,0,0,0,0,0,0]
["Niños sin evaluación nutricional por curso de vida (recién nacidos) o por condición especial de salud",null,{"$f":"SUM(D40:E40)","v":0},{"$f":"+F40+H40+J40+L40+N40+P40+R40+T40+V40+X40+Z40+AB40+AD40+AF40","v":0},{"$f":"+G40+I40+K40+M40+O40+Q40+S40+U40+W40+Y40+AA40+AC40+AE40+AG40","v":0},null,null,null,null,null,null,null,null,null,null,null,null,null,null,null,null,null,null,null,null,null,null,null,null,null,null,null,null,null,null,null,null,{"$f":"($DG40&DH40&DI40&DJ40)","v":""},null,null,null,null,null,null,null,null,null,null,null,null,null,null,null,null,null,null,null,null,null,null,null,null,null,null,null,null,null,null,null,null,null,null,null,null,null,null,null,null,null,null,null,null,null,null,null,null,null,null,null,null,null,null,null,null,null,null,null,null,null,null,null,null,null,null,null,null,null,null,null,null,{"$f":"IF(AND(D40>0,OR(AH40=\"\")),\" * No olvide digitar la variable Pueblos Originarios Hombres (Digite Cero si no tiene).\",IF(AH40>D40,\" * La variable Pueblos Originarios Hombres no puede ser Mayor al Total Hombres.\",\"\"))","v":""},{"$f":"IF(AND(E40>0,OR(AI40=\"\")),\" * No olvide digitar la variable Pueblos Originarios Mujeres (Digite Cero si no tiene).\",IF(AI40>E40,\" * La variable Pueblos Originarios Mujeres no puede ser Mayor al Total Mujeres.\",\"\"))","v":""},{"$f":"IF(AND(D40>0,OR(AJ40=\"\")),\" * No olvide digitar la variable Migrantes Hombres (Digite Cero si no tiene).\",IF(AJ40>D40,\" * La variable Migrantes Hombres no puede ser Mayor al Total.\",\"\"))","v":""},{"$f":"IF(AND(E40>0,OR(AK40=\"\")),\" * No olvide digitar la variable Migrantes Mujeres (Digite Cero si no tiene).\",IF(AK40>E40,\" * La variable Migrantes Mujeres no puede ser Mayor al Total.\",\"\"))","v":""},null,null,null,null,null,null,null,null,null,null,null,null,null,null,null,null,null,null,null,null,null,null,null,null,null,null,null,null,null,null,null,null,null,{"$f":"IF(AND(D40>0,OR(AH40=\"\")),1,IF(AH40>D40,1,0))","v":0},{"$f":"IF(AND(E40>0,OR(AI40=\"\")),1,IF(AI40>E40,1,0))","v":0},{"$f":"IF(AND(D40>0,OR(AJ40=\"\")),1,IF(AJ40>D40,1,0))","v":0},{"$f":"IF(AND(E40>0,OR(AK40=\"\")),1,IF(AK40>E40,1,0))","v":0}]
["SECCION A.1: POBLACIÓN EN CONTROL, SEGÚN ESTADO NUTRICIONAL PARA NIÑOS AS DE 5 AÑOS A 9 AÑOS 11 MESES"]
["INDICADOR NUTRICIONAL\nY\nPARÁMETROS DE MEDICIÓN",null,"TOTAL",null,null,"RANGO ETARIO (en meses - años) Y SEXO"]
[null,null,null,null,null,"5 a 5 años 11 meses",null,"6 a 6 años 11 meses",null,"7 a 7 años 11 meses",null,"8 a 8 años 11 meses",null,"9 a 9 años 11 meses",null,"Pueblos Originarios",null," Migrantes"]
[null,null,"Ambos sexos","Hombres","Mujeres","Hombres","Mujeres","Hombres","Mujeres","Hombres","Mujeres","Hombres","Mujeres","Hombres","Mujeres","Hombres","Mujeres","Hombres","Mujeres"]
["TOTAL DE NIÑOS EN CONTROL",null,{"$f":"+D45+E45","v":0},{"$f":"+F45+H45+J45+L45+N45","v":0},{"$f":"+G45+I45+K45+M45+O45","v":0},null,null,null,null,null,null,null,null,null,null,null,null,null,null,{"$f":"CA45&CB45& CC45&CC45&CD45&CE45&CF45&CG45&CH45&CI45&CJ45&CK45&CL45&CM45&CN45&CO45&CP45&CQ45&CR45","v":""},null,null,null,null,null,null,null,null,null,null,null,null,null,null,null,null,null,null,null,null,null,null,null,null,null,null,null,null,null,null,null,null,null,null,null,null,null,null,null,null,null,null,null,null,null,null,null,null,null,null,null,null,null,null,null,null,null,null,{"$f":"IF(F45<>SUM(F73:F74),\"* El Total de Hombres en control de 5 a 5 años 11 meses no debe ser distinto al total Hombres del Diagnóstico Nutricional Integrado y niños sin evaluación.\",\"\")","v":""},{"$f":"IF(G45<>SUM(G73:G74),\"* El Total de Mujeres en control de 5 a 5 años 11 meses no debe ser distinto al total Mujeres del Diagnóstico Nutricional Integrado y niños sin evaluación.\",\"\")","v":""},{"$f":"IF(H45<>SUM(H73:H74),\"* El Total de Hombres en control de 6 a 6 años 11 meses no debe ser distinto al total Hombres del Diagnóstico Nutricional Integrado y niños sin evaluación.\",\"\")","v":""},{"$f":"IF(I45<>SUM(I73:I74),\"* El Total de Mujeres en control de 6 a 6 años 11 meses no debe ser distinto al total Mujeres del Diagnóstico Nutricional Integrado y niños sin evaluación.\",\"\")","v":""},{"$f":"IF(J45<>SUM(J73:J74),\"* El Total de Hombres en control de 7 a 7 años 11 meses no debe ser distinto al total Hombres del Diagnóstico Nutricional Integrado y niños sin evaluación.\",\"\")","v":""},{"$f":"IF(K45<>SUM(K73:K74),\"* El Total de Mujeres en control de 7 a 7 años 11 meses no debe ser distinto al total Mujeres del Diagnóstico Nutricional Integrado y niños sin evaluación.\",\"\")","v":""},{"$f":"IF(L45<>SUM(L73:L74),\"* El Total de Hombres en control de 8 a 8 años 11 meses no debe ser distinto al total Hombres del Diagnóstico Nutricional Integrado y niños sin evaluación.\",\"\")","v":""},{"$f":"IF(M45<>SUM(M73:M74),\"* El Total de Mujeres en control de 8 a 8 años 11 meses no debe ser distinto al total Mujeres del Diagnóstico Nutricional Integrado y niños sin evaluación.\",\"\")","v":""},{"$f":"IF(N45<>SUM(N73:N74),\"* El Total de Hombres en control de 9 a 9 años 11 meses no debe ser distinto al total Hombres del Diagnóstico Nutricional Integrado y niños sin evaluación.\",\"\")","v":""},{"$f":"IF(O45<>SUM(O73:O74),\"* El Total de Mujeres en control de 9 a 9 años 11 meses no debe ser distinto al total Mujeres del Diagnóstico Nutricional Integrado y niños sin evaluación.\",\"\")","v":""},{"$f":"IF(AND(D45>0,OR(P45=\"\")),\" * No olvide digitar la variable Pueblos Originarios Hombres (Digite Cero si no tiene).\",IF(P45>D45,\" * La variable Pueblos Originarios Hombres no puede ser Mayor al Total Hombres.\",\"\"))","v":""},{"$f":"IF(AND(E45>0,OR(Q45=\"\")),\" * No olvide digitar la variable Pueblos Originarios Mujeres (Digite Cero si no tiene).\",IF(Q45>E45,\" * La variable Pueblos Originarios Mujeres no puede ser Mayor al Total Mujeres.\",\"\"))","v":""},{"$f":"IF(AND(D45>0,OR(R45=\"\")),\" * No olvide digitar la variable Migrantes Hombres (Digite Cero si no tiene).\",IF(R45>D45,\" * La variable Migrantes Hombres no puede ser Mayor al Total Hombres.\",\"\"))","v":""},{"$f":"IF(AND(E45>0,OR(S45=\"\")),\" * No olvide digitar la variable Migrantes Mujeres (Digite Cero si no tiene).\",IF(S45>E45,\" * La variable Migrantes Mujeres no puede ser Mayor al Total Mujeres.\",\"\"))","v":""},{"$f":"IF(P45<>P73,\"* El Total de Pueblos Originarios Hombres debe ser igual al Total de Pueblos Originarios Hombres según Diagnóstico Nutricional Integrado. \",\"\")","v":""},{"$f":"IF(Q45<>Q73,\"* El Total de Pueblos Originarios Mujeres debe ser igual al Total de Pueblos Originarios Hombres según Diagnóstico Nutricional Integrado. \",\"\")","v":""},{"$f":"IF(R45<>R73,\"* El Total de Migrantes Hombres debe ser igual al Total de Migrantes Hombres según Diagnóstico Nutricional Integrado. \",\"\")","v":""},{"$f":"IF(S45<>S73,\"* El Total de Migrantes Mujeres debe ser igual al Total de Migrantes Mujeres según Diagnóstico Nutricional Integrado. \",\"\")","v":""},null,null,null,null,null,null,null,null,null,null,null,null,null,null,null,null,null,null,null,null,null,null,null,{"$f":"IF(F45<>SUM(F73:F74),1,0)","v":0},{"$f":"IF(G45<>SUM(G73:G74),1,0)","v":0},{"$f":"IF(H45<>SUM(H73:H74),1,0)","v":0},0,0,0,0,0,0,0,{"$f":"IF(AND(D45>0,OR(P45=\"\")),1,IF(P45>D45,1,0))","v":0},0,{"$f":"IF(AND(D45>0,OR(R45=\"\")),1,IF(R45>D45,1,0))","v":0},0,{"$f":"IF(P45<>P73,1,0)","v":0},{"$f":"IF(Q45<>Q73,1,0)","v":0},0,{"$f":"IF(S45<>S73,1,0)","v":0}]
["Indicador IMC / Edad","+ 3 D.S. (>= 3 )",{"$f":"+D46+E46","v":0},{"$f":"+F46+H46+J46+L46+N46","v":0},{"$f":"+G46+I46+K46+M46+O46","v":0},null,null,null,null,null,null,null,null,null,null,null,null,null,null,{"$f":"CK46&CL46&CM46&CN46","v":""},null,null,null,null,null,null,null,null,null,null,null,null,null,null,null,null,null,null,null,null,null,null,null,null,null,null,null,null,null,null,null,null,null,null,null,null,null,null,null,null,null,null,null,null,null,null,null,null,null,null,null,null,null,null,null,null,null,null,null,null,null,null,null,null,null,null,null,null,{"$f":"IF(AND(D46>0,OR(P46=\"\")),\" * No olvide digitar la variable Pueblos Originarios Hombres (Digite Cero si no tiene).\",IF(P46>D46,\" * La variable Pueblos Originarios Hombres no puede ser Mayor al Total Hombres.\",\"\"))","v":""},{"$f":"IF(AND(E46>0,OR(Q46=\"\")),\" * No olvide digitar la variable Pueblos Originarios Mujeres (Digite Cero si no tiene).\",IF(Q46>E46,\" * La variable Pueblos Originarios Mujeres no puede ser Mayor al Total Mujeres.\",\"\"))","v":""},{"$f":"IF(AND(D46>0,OR(R46=\"\")),\" * No olvide digitar la variable Migrantes Hombres (Digite Cero si no tiene).\",IF(R46>D46,\" * La variable Migrantes Hombres no puede ser Mayor al Total Hombres.\",\"\"))","v":""},{"$f":"IF(AND(E46>0,OR(S46=\"\")),\" * No olvide digitar la variable Migrantes Mujeres (Digite Cero si no tiene).\",IF(S46>E46,\" * La variable Migrantes Mujeres no puede ser Mayor al Total Mujeres.\",\"\"))","v":""},null,null,null,null,null,null,null,null,null,null,null,null,null,null,null,null,null,null,null,null,null,null,null,null,null,null,null,null,null,null,null,null,null,null,null,null,null,0,0,0,0]
[null,"+ 2 D.S. (>= +2.0 a +2.9)",{"$f":"+D47+E47","v":0},0,0,null,null,null,null,null,null,null,null,null,null,null,null,null,null,{"$f":"CK47&CL47&CM47&CN47","v":""},null,null,null,null,null,null,null,null,null,null,null,null,null,null,null,null,null,null,null,null,null,null,null,null,null,null,null,null,null,null,null,null,null,null,null,null,null,null,null,null,null,null,null,null,null,null,null,null,null,null,null,null,null,null,null,null,null,null,null,null,null,null,null,null,null,null,null,null,{"$f":"IF(AND(D47>0,OR(P47=\"\")),\" * No olvide digitar la variable Pueblos Originarios Hombres (Digite Cero si no tiene).\",IF(P47>D47,\" * La variable Pueblos Originarios Hombres no puede ser Mayor al Total Hombres.\",\"\"))","v":""},{"$f":"IF(AND(E47>0,OR(Q47=\"\")),\" * No olvide digitar la variable Pueblos Originarios Mujeres (Digite Cero si no tiene).\",IF(Q47>E47,\" * La variable Pueblos Originarios Mujeres no puede ser Mayor al Total Mujeres.\",\"\"))","v":""},{"$f":"IF(AND(D47>0,OR(R47=\"\")),\" * No olvide digitar la variable Migrantes Hombres (Digite Cero si no tiene).\",IF(R47>D47,\" * La variable Migrantes Hombres no puede ser Mayor al Total Hombres.\",\"\"))","v":""},{"$f":"IF(AND(E47>0,OR(S47=\"\")),\" * No olvide digitar la variable Migrantes Mujeres (Digite Cero si no tiene).\",IF(S47>E47,\" * La variable Migrantes Mujeres no puede ser Mayor al Total Mujeres.\",\"\"))","v":""},null,null,null,null,null,null,null,null,null,null,null,null,null,null,null,null,null,null,null,null,null,null,null,null,null,null,null,null,null,null,null,null,null,null,null,null,null,0,0,0,0]
[null,"+ 1 D.S. (>= +1.0 a +1.9)",0,0,0,null,null,null,null,null,null,null,null,null,null,null,null,null,null,"",null,null,null,null,null,null,null,null,null,null,null,null,null,null,null,null,null,null,null,null,null,null,null,null,null,null,null,null,null,null,null,null,null,null,null,null,null,null,null,null,null,null,null,null,null,null,null,null,null,null,null,null,null,null,null,null,null,null,null,null,null,null,null,null,null,null,null,null,{"$f":"IF(AND(D48>0,OR(P48=\"\")),\" * No olvide digitar la variable Pueblos Originarios Hombres (Digite Cero si no tiene).\",IF(P48>D48,\" * La variable Pueblos Originarios Hombres no puede ser Mayor al Total Hombres.\",\"\"))","v":""},{"$f":"IF(AND(E48>0,OR(Q48=\"\")),\" * No olvide digitar la variable Pueblos Originarios Mujeres (Digite Cero si no tiene).\",IF(Q48>E48,\" * La variable Pueblos Originarios Mujeres no puede ser Mayor al Total Mujeres.\",\"\"))","v":""},{"$f":"IF(AND(D48>0,OR(R48=\"\")),\" * No olvide digitar la variable Migrantes Hombres (Digite Cero si no tiene).\",IF(R48>D48,\" * La variable Migrantes Hombres no puede ser Mayor al Total Hombres.\",\"\"))","v":""},{"$f":"IF(AND(E48>0,OR(S48=\"\")),\" * No olvide digitar la variable Migrantes Mujeres (Digite Cero si no tiene).\",IF(S48>E48,\" * La variable Migrantes Mujeres no puede ser Mayor al Total Mujeres.\",\"\"))","v":""},null,null,null,null,null,null,null,null,null,null,null,null,null,null,null,null,null,null,null,null,null,null,null,null,null,null,null,null,null,null,null,null,null,null,null,null,null,0,0,0,0]
[null,"Total",0,{"$f":"+F49+H49+J49+L49+N49","v":0},{"$f":"+G49+I49+K49+M49+O49","v":0},{"$f":"SUM(F46:F48)","v":0},{"$f":"SUM(G46:G48)","v":0},0,0,0,0,0,0,0,0,{"$f":"SUM(P46:P48)","v":0},0,0,0]
[null,"- 1 D.S. (<= -1.0 a -1.9)",0,{"$f":"+F50+H50+J50+L50+N50","v":0},{"$f":"+G50+I50+K50+M50+O50","v":0},null,null,null,null,null,null,null,null,null,null,null,null,null,null,"",null,null,null,null,null,null,null,null,null,null,null,null,null,null,null,null,null,null,null,null,null,null,null,null,null,null,null,null,null,null,null,null,null,null,null,null,null,null,null,null,null,null,null,null,null,null,null,null,null,null,null,null,null,null,null,null,null,null,null,null,null,null,null,null,null,null,null,null,{"$f":"IF(AND(D50>0,OR(P50=\"\")),\" * No olvide digitar la variable Pueblos Originarios Hombres (Digite Cero si no tiene).\",IF(P50>D50,\" * La variable Pueblos Originarios Hombres no puede ser Mayor al Total Hombres.\",\"\"))","v":""},{"$f":"IF(AND(E50>0,OR(Q50=\"\")),\" * No olvide digitar la variable Pueblos Originarios Mujeres (Digite Cero si no tiene).\",IF(Q50>E50,\" * La variable Pueblos Originarios Mujeres no puede ser Mayor al Total Mujeres.\",\"\"))","v":""},{"$f":"IF(AND(D50>0,OR(R50=\"\")),\" * No olvide digitar la variable Migrantes Hombres (Digite Cero si no tiene).\",IF(R50>D50,\" * La variable Migrantes Hombres no puede ser Mayor al Total Hombres.\",\"\"))","v":""},{"$f":"IF(AND(E50>0,OR(S50=\"\")),\" * No olvide digitar la variable Migrantes Mujeres (Digite Cero si no tiene).\",IF(S50>E50,\" * La variable Migrantes Mujeres no puede ser Mayor al Total Mujeres.\",\"\"))","v":""},null,null,null,null,null,null,null,null,null,null,null,null,null,null,null,null,null,null,null,null,null,null,null,null,null,null,null,null,null,null,null,null,null,null,null,null,null,{"$f":"IF(AND(D50>0,OR(P50=\"\")),1,IF(P50>D50,1,0))","v":0},{"$f":"IF(AND(E50>0,OR(Q50=\"\")),1,IF(Q50>E50,1,0))","v":0},{"$f":"IF(AND(D50>0,OR(R50=\"\")),1,IF(R50>D50,1,0))","v":0},{"$f":"IF(AND(E50>0,OR(S50=\"\")),1,IF(S50>E50,1,0))","v":0}]
[null,"- 2 D.S. (<= -2.0)",{"$f":"+D51+E51","v":0},0,0,null,null,null,null,null,null,null,null,null,null,null,null,null,null,"",null,null,null,null,null,null,null,null,null,null,null,null,null,null,null,null,null,null,null,null,null,null,null,null,null,null,null,null,null,null,null,null,null,null,null,null,null,null,null,null,null,null,null,null,null,null,null,null,null,null,null,null,null,null,null,null,null,null,null,null,null,null,null,null,null,null,null,null,{"$f":"IF(AND(D51>0,OR(P51=\"\")),\" * No olvide digitar la variable Pueblos Originarios Hombres (Digite Cero si no tiene).\",IF(P51>D51,\" * La variable Pueblos Originarios Hombres no puede ser Mayor al Total Hombres.\",\"\"))","v":""},{"$f":"IF(AND(E51>0,OR(Q51=\"\")),\" * No olvide digitar la variable Pueblos Originarios Mujeres (Digite Cero si no tiene).\",IF(Q51>E51,\" * La variable Pueblos Originarios Mujeres no puede ser Mayor al Total Mujeres.\",\"\"))","v":""},{"$f":"IF(AND(D51>0,OR(R51=\"\")),\" * No olvide digitar la variable Migrantes Hombres (Digite Cero si no tiene).\",IF(R51>D51,\" * La variable Migrantes Hombres no puede ser Mayor al Total Hombres.\",\"\"))","v":""},{"$f":"IF(AND(E51>0,OR(S51=\"\")),\" * No olvide digitar la variable Migrantes Mujeres (Digite Cero si no tiene).\",IF(S51>E51,\" * La variable Migrantes Mujeres no puede ser Mayor al Total Mujeres.\",\"\"))","v":""},null,null,null,null,null,null,null,null,null,null,null,null,null,null,null,null,null,null,null,null,null,null,null,null,null,null,null,null,null,null,null,null,null,null,null,null,null,{"$f":"IF(AND(D51>0,OR(P51=\"\")),1,IF(P51>D51,1,0))","v":0},{"$f":"IF(AND(E51>0,OR(Q51=\"\")),1,IF(Q51>E51,1,0))","v":0},{"$f":"IF(AND(D51>0,OR(R51=\"\")),1,IF(R51>D51,1,0))","v":0},{"$f":"IF(AND(E51>0,OR(S51=\"\")),1,IF(S51>E51,1,0))","v":0}]
[null,"Total",0,{"$f":"+F52+H52+J52+L52+N52","v":0},{"$f":"+G52+I52+K52+M52+O52","v":0},{"$f":"SUM(F50:F51)","v":0},{"$f":"SUM(G50:G51)","v":0},0,0,0,0,0,0,0,0,{"$f":"SUM(P50:P51)","v":0},0,0,0]
[null,"Promedio (-0,9 A + 0,9)",0,{"$f":"+F53+H53+J53+L53+N53","v":0},{"$f":"+G53+I53+K53+M53+O53","v":0},null,null,null,null,null,null,null,null,null,null,null,null,null,null,"",null,null,null,null,null,null,null,null,null,null,null,null,null,null,null,null,null,null,null,null,null,null,null,null,null,null,null,null,null,null,null,null,null,null,null,null,null,null,null,null,null,null,null,null,null,null,null,null,null,null,null,null,null,null,null,null,null,null,null,null,null,null,null,null,null,null,null,null,{"$f":"IF(AND(D53>0,OR(P53=\"\")),\" * No olvide digitar la variable Pueblos Originarios Hombres (Digite Cero si no tiene).\",IF(P53>D53,\" * La variable Pueblos Originarios Hombres no puede ser Mayor al Total Hombres.\",\"\"))","v":""},{"$f":"IF(AND(E53>0,OR(Q53=\"\")),\" * No olvide digitar la variable Pueblos Originarios Mujeres (Digite Cero si no tiene).\",IF(Q53>E53,\" * La variable Pueblos Originarios Mujeres no puede ser Mayor al Total Mujeres.\",\"\"))","v":""},{"$f":"IF(AND(D53>0,OR(R53=\"\")),\" * No olvide digitar la variable Migrantes Hombres (Digite Cero si no tiene).\",IF(R53>D53,\" * La variable Migrantes Hombres no puede ser Mayor al Total Hombres.\",\"\"))","v":""},{"$f":"IF(AND(E53>0,OR(S53=\"\")),\" * No olvide digitar la variable Migrantes Mujeres (Digite Cero si no tiene).\",IF(S53>E53,\" * La variable Migrantes Mujeres no puede ser Mayor al Total Mujeres.\",\"\"))","v":""},null,null,null,null,null,null,null,null,null,null,null,null,null,null,null,null,null,null,null,null,null,null,null,null,null,null,null,null,null,null,null,null,null,null,null,null,null,{"$f":"IF(AND(D53>0,OR(P53=\"\")),1,IF(P53>D53,1,0))","v":0},0,{"$f":"IF(AND(D53>0,OR(R53=\"\")),1,IF(R53>D53,1,0))","v":0},0]
["Indicador Talla/Edad ","+ 2 D.S. (>= +2.0)",0,{"$f":"+F54+H54+J54+L54+N54","v":0},0,null,null,null,null,null,null,null,null,null,null,null,null,null,null,"",null,null,null,null,null,null,null,null,null,null,null,null,null,null,null,null,null,null,null,null,null,null,null,null,null,null,null,null,null,null,null,null,null,null,null,null,null,null,null,null,null,null,null,null,null,null,null,null,null,null,null,null,null,null,null,null,null,null,null,null,null,null,null,null,null,null,null,null,{"$f":"IF(AND(D54>0,OR(P54=\"\")),\" * No olvide digitar la variable Pueblos Originarios Hombres (Digite Cero si no tiene).\",IF(P54>D54,\" * La variable Pueblos Originarios Hombres no puede ser Mayor al Total Hombres.\",\"\"))","v":""},{"$f":"IF(AND(E54>0,OR(Q54=\"\")),\" * No olvide digitar la variable Pueblos Originarios Mujeres (Digite Cero si no tiene).\",IF(Q54>E54,\" * La variable Pueblos Originarios Mujeres no puede ser Mayor al Total Mujeres.\",\"\"))","v":""},{"$f":"IF(AND(D54>0,OR(R54=\"\")),\" * No olvide digitar la variable Migrantes Hombres (Digite Cero si no tiene).\",IF(R54>D54,\" * La variable Migrantes Hombres no puede ser Mayor al Total Hombres.\",\"\"))","v":""},{"$f":"IF(AND(E54>0,OR(S54=\"\")),\" * No olvide digitar la variable Migrantes Mujeres (Digite Cero si no tiene).\",IF(S54>E54,\" * La variable Migrantes Mujeres no puede ser Mayor al Total Mujeres.\",\"\"))","v":""},null,null,null,null,null,null,null,null,null,null,null,null,null,null,null,null,null,null,null,null,null,null,null,null,null,null,null,null,null,null,null,null,null,null,null,null,null,0,0,0,0]
[null,"+ 1 D.S. (+1.0 a +1.9)",0,0,0,null,null,null,null,null,null,null,null,null,null,null,null,null,null,"",null,null,null,null,null,null,null,null,null,null,null,null,null,null,null,null,null,null,null,null,null,null,null,null,null,null,null,null,null,null,null,null,null,null,null,null,null,null,null,null,null,null,null,null,null,null,null,null,null,null,null,null,null,null,null,null,null,null,null,null,null,null,null,null,null,null,null,null,{"$f":"IF(AND(D55>0,OR(P55=\"\")),\" * No olvide digitar la variable Pueblos Originarios Hombres (Digite Cero si no tiene).\",IF(P55>D55,\" * La variable Pueblos Originarios Hombres no puede ser Mayor al Total Hombres.\",\"\"))","v":""},{"$f":"IF(AND(E55>0,OR(Q55=\"\")),\" * No olvide digitar la variable Pueblos Originarios Mujeres (Digite Cero si no tiene).\",IF(Q55>E55,\" * La variable Pueblos Originarios Mujeres no puede ser Mayor al Total Mujeres.\",\"\"))","v":""},{"$f":"IF(AND(D55>0,OR(R55=\"\")),\" * No olvide digitar la variable Migrantes Hombres (Digite Cero si no tiene).\",IF(R55>D55,\" * La variable Migrantes Hombres no puede ser Mayor al Total Hombres.\",\"\"))","v":""},{"$f":"IF(AND(E55>0,OR(S55=\"\")),\" * No olvide digitar la variable Migrantes Mujeres (Digite Cero si no tiene).\",IF(S55>E55,\" * La variable Migrantes Mujeres no puede ser Mayor al Total Mujeres.\",\"\"))","v":""},null,null,null,null,null,null,null,null,null,null,null,null,null,null,null,null,null,null,null,null,null,null,null,null,null,null,null,null,null,null,null,null,null,null,null,null,null,0,0,0,0]
[null,"Total",0,{"$f":"+F56+H56+J56+L56+N56","v":0},{"$f":"+G56+I56+K56+M56+O56","v":0},{"$f":"SUM(F54:F55)","v":0},{"$f":"SUM(G54:G55)","v":0},{"$f":"SUM(H54:H55)","v":0},0,{"$f":"SUM(J54:J55)","v":0},0,{"$f":"SUM(L54:L55)","v":0},0,0,0,0,0,0,0]
[null,"- 1 D.S. (-1.0 a -1.9)",0,{"$f":"+F57+H57+J57+L57+N57","v":0},{"$f":"+G57+I57+K57+M57+O57","v":0},null,null,null,null,null,null,null,null,null,null,null,null,null,null,"",null,null,null,null,null,null,null,null,null,null,null,null,null,null,null,null,null,null,null,null,null,null,null,null,null,null,null,null,null,null,null,null,null,null,null,null,null,null,null,null,null,null,null,null,null,null,null,null,null,null,null,null,null,null,null,null,null,null,null,null,null,null,null,null,null,null,null,null,{"$f":"IF(AND(D57>0,OR(P57=\"\")),\" * No olvide digitar la variable Pueblos Originarios Hombres (Digite Cero si no tiene).\",IF(P57>D57,\" * La variable Pueblos Originarios Hombres no puede ser Mayor al Total Hombres.\",\"\"))","v":""},{"$f":"IF(AND(E57>0,OR(Q57=\"\")),\" * No olvide digitar la variable Pueblos Originarios Mujeres (Digite Cero si no tiene).\",IF(Q57>E57,\" * La variable Pueblos Originarios Mujeres no puede ser Mayor al Total Mujeres.\",\"\"))","v":""},{"$f":"IF(AND(D57>0,OR(R57=\"\")),\" * No olvide digitar la variable Migrantes Hombres (Digite Cero si no tiene).\",IF(R57>D57,\" * La variable Migrantes Hombres no puede ser Mayor al Total Hombres.\",\"\"))","v":""},{"$f":"IF(AND(E57>0,OR(S57=\"\")),\" * No olvide digitar la variable Migrantes Mujeres (Digite Cero si no tiene).\",IF(S57>E57,\" * La variable Migrantes Mujeres no puede ser Mayor al Total Mujeres.\",\"\"))","v":""},null,null,null,null,null,null,null,null,null,null,null,null,null,null,null,null,null,null,null,null,null,null,null,null,null,null,null,null,null,null,null,null,null,null,null,null,null,{"$f":"IF(AND(D57>0,OR(P57=\"\")),1,IF(P57>D57,1,0))","v":0},{"$f":"IF(AND(E57>0,OR(Q57=\"\")),1,IF(Q57>E57,1,0))","v":0},{"$f":"IF(AND(D57>0,OR(R57=\"\")),1,IF(R57>D57,1,0))","v":0},{"$f":"IF(AND(E57>0,OR(S57=\"\")),1,IF(S57>E57,1,0))","v":0}]
[null,"- 2 D.S. (<= -2.0)",0,0,0,null,null,null,null,null,null,null,null,null,null,null,null,null,null,"",null,null,null,null,null,null,null,null,null,null,null,null,null,null,null,null,null,null,null,null,null,null,null,null,null,null,null,null,null,null,null,null,null,null,null,null,null,null,null,null,null,null,null,null,null,null,null,null,null,null,null,null,null,null,null,null,null,null,null,null,null,null,null,null,null,null,null,null,{"$f":"IF(AND(D58>0,OR(P58=\"\")),\" * No olvide digitar la variable Pueblos Originarios Hombres (Digite Cero si no tiene).\",IF(P58>D58,\" * La variable Pueblos Originarios Hombres no puede ser Mayor al Total Hombres.\",\"\"))","v":""},{"$f":"IF(AND(E58>0,OR(Q58=\"\")),\" * No olvide digitar la variable Pueblos Originarios Mujeres (Digite Cero si no tiene).\",IF(Q58>E58,\" * La variable Pueblos Originarios Mujeres no puede ser Mayor al Total Mujeres.\",\"\"))","v":""},{"$f":"IF(AND(D58>0,OR(R58=\"\")),\" * No olvide digitar la variable Migrantes Hombres (Digite Cero si no tiene).\",IF(R58>D58,\" * La variable Migrantes Hombres no puede ser Mayor al Total Hombres.\",\"\"))","v":""},{"$f":"IF(AND(E58>0,OR(S58=\"\")),\" * No olvide digitar la variable Migrantes Mujeres (Digite Cero si no tiene).\",IF(S58>E58,\" * La variable Migrantes Mujeres no puede ser Mayor al Total Mujeres.\",\"\"))","v":""},null,null,null,null,null,null,null,null,null,null,null,null,null,null,null,null,null,null,null,null,null,null,null,null,null,null,null,null,null,null,null,null,null,null,null,null,null,{"$f":"IF(AND(D58>0,OR(P58=\"\")),1,IF(P58>D58,1,0))","v":0},{"$f":"IF(AND(E58>0,OR(Q58=\"\")),1,IF(Q58>E58,1,0))","v":0},{"$f":"IF(AND(D58>0,OR(R58=\"\")),1,IF(R58>D58,1,0))","v":0},{"$f":"IF(AND(E58>0,OR(S58=\"\")),1,IF(S58>E58,1,0))","v":0}]
[null,"Total",0,{"$f":"+F59+H59+J59+L59+N59","v":0},{"$f":"+G59+I59+K59+M59+O59","v":0},{"$f":"SUM(F57:F58)","v":0},{"$f":"SUM(G57:G58)","v":0},{"$f":"SUM(H57:H58)","v":0},0,{"$f":"SUM(J57:J58)","v":0},0,{"$f":"SUM(L57:L58)","v":0},0,0,0,{"$f":"SUM(P57:P58)","v":0},0,0,0]
[null,"Promedio (-0,9 A + 0,9)",0,{"$f":"+F60+H60+J60+L60+N60","v":0},{"$f":"+G60+I60+K60+M60+O60","v":0},null,null,null,null,null,null,null,null,null,null,null,null,null,null,"",null,null,null,null,null,null,null,null,null,null,null,null,null,null,null,null,null,null,null,null,null,null,null,null,null,null,null,null,null,null,null,null,null,null,null,null,null,null,null,null,null,null,null,null,null,null,null,null,null,null,null,null,null,null,null,null,null,null,null,null,null,null,null,null,null,null,null,null,{"$f":"IF(AND(D60>0,OR(P60=\"\")),\" * No olvide digitar la variable Pueblos Originarios Hombres (Digite Cero si no tiene).\",IF(P60>D60,\" * La variable Pueblos Originarios Hombres no puede ser Mayor al Total Hombres.\",\"\"))","v":""},{"$f":"IF(AND(E60>0,OR(Q60=\"\")),\" * No olvide digitar la variable Pueblos Originarios Mujeres (Digite Cero si no tiene).\",IF(Q60>E60,\" * La variable Pueblos Originarios Mujeres no puede ser Mayor al Total Mujeres.\",\"\"))","v":""},{"$f":"IF(AND(D60>0,OR(R60=\"\")),\" * No olvide digitar la variable Migrantes Hombres (Digite Cero si no tiene).\",IF(R60>D60,\" * La variable Migrantes Hombres no puede ser Mayor al Total Hombres.\",\"\"))","v":""},{"$f":"IF(AND(E60>0,OR(S60=\"\")),\" * No olvide digitar la variable Migrantes Mujeres (Digite Cero si no tiene).\",IF(S60>E60,\" * La variable Migrantes Mujeres no puede ser Mayor al Total Mujeres.\",\"\"))","v":""},null,null,null,null,null,null,null,null,null,null,null,null,null,null,null,null,null,null,null,null,null,null,null,null,null,null,null,null,null,null,null,null,null,null,null,null,null,{"$f":"IF(AND(D60>0,OR(P60=\"\")),1,IF(P60>D60,1,0))","v":0},0,{"$f":"IF(AND(D60>0,OR(R60=\"\")),1,IF(R60>D60,1,0))","v":0},0]
["Indicador Perimetro de Cintura /Edad ","Normal (<p75)",0,0,0,null,null,null,null,null,null,null,null,null,null,null,null,null,null,"",null,null,null,null,null,null,null,null,null,null,null,null,null,null,null,null,null,null,null,null,null,null,null,null,null,null,null,null,null,null,null,null,null,null,null,null,null,null,null,null,null,null,null,null,null,null,null,null,null,null,null,null,null,null,null,null,null,null,null,null,null,null,null,null,null,null,null,null,{"$f":"IF(AND(D61>0,OR(P61=\"\")),\" * No olvide digitar la variable Pueblos Originarios Hombres (Digite Cero si no tiene).\",IF(P61>D61,\" * La variable Pueblos Originarios Hombres no puede ser Mayor al Total Hombres.\",\"\"))","v":""},{"$f":"IF(AND(E61>0,OR(Q61=\"\")),\" * No olvide digitar la variable Pueblos Originarios Mujeres (Digite Cero si no tiene).\",IF(Q61>E61,\" * La variable Pueblos Originarios Mujeres no puede ser Mayor al Total Mujeres.\",\"\"))","v":""},{"$f":"IF(AND(D61>0,OR(R61=\"\")),\" * No olvide digitar la variable Migrantes Hombres (Digite Cero si no tiene).\",IF(R61>D61,\" * La variable Migrantes Hombres no puede ser Mayor al Total Hombres.\",\"\"))","v":""},{"$f":"IF(AND(E61>0,OR(S61=\"\")),\" * No olvide digitar la variable Migrantes Mujeres (Digite Cero si no tiene).\",IF(S61>E61,\" * La variable Migrantes Mujeres no puede ser Mayor al Total Mujeres.\",\"\"))","v":""},null,null,null,null,null,null,null,null,null,null,null,null,null,null,null,null,null,null,null,null,null,null,null,null,null,null,null,null,null,null,null,null,null,null,null,null,null,0,0,0,0]
[null,"Riesgo de Obesidad Abdominal (75<p<90)",0,0,0,null,null,null,null,null,null,null,null,null,null,null,null,null,null,"",null,null,null,null,null,null,null,null,null,null,null,null,null,null,null,null,null,null,null,null,null,null,null,null,null,null,null,null,null,null,null,null,null,null,null,null,null,null,null,null,null,null,null,null,null,null,null,null,null,null,null,null,null,null,null,null,null,null,null,null,null,null,null,null,null,null,null,null,{"$f":"IF(AND(D62>0,OR(P62=\"\")),\" * No olvide digitar la variable Pueblos Originarios Hombres (Digite Cero si no tiene).\",IF(P62>D62,\" * La variable Pueblos Originarios Hombres no puede ser Mayor al Total Hombres.\",\"\"))","v":""},{"$f":"IF(AND(E62>0,OR(Q62=\"\")),\" * No olvide digitar la variable Pueblos Originarios Mujeres (Digite Cero si no tiene).\",IF(Q62>E62,\" * La variable Pueblos Originarios Mujeres no puede ser Mayor al Total Mujeres.\",\"\"))","v":""},{"$f":"IF(AND(D62>0,OR(R62=\"\")),\" * No olvide digitar la variable Migrantes Hombres (Digite Cero si no tiene).\",IF(R62>D62,\" * La variable Migrantes Hombres no puede ser Mayor al Total Hombres.\",\"\"))","v":""},{"$f":"IF(AND(E62>0,OR(S62=\"\")),\" * No olvide digitar la variable Migrantes Mujeres (Digite Cero si no tiene).\",IF(S62>E62,\" * La variable Migrantes Mujeres no puede ser Mayor al Total Mujeres.\",\"\"))","v":""},null,null,null,null,null,null,null,null,null,null,null,null,null,null,null,null,null,null,null,null,null,null,null,null,null,null,null,null,null,null,null,null,null,null,null,null,null,0,0,0,0]
[null,"Obesidad Abdominal (>p90)",0,0,0,null,null,null,null,null,null,null,null,null,null,null,null,null,null,"",null,null,null,null,null,null,null,null,null,null,null,null,null,null,null,null,null,null,null,null,null,null,null,null,null,null,null,null,null,null,null,null,null,null,null,null,null,null,null,null,null,null,null,null,null,null,null,null,null,null,null,null,null,null,null,null,null,null,null,null,null,null,null,null,null,null,null,null,{"$f":"IF(AND(D63>0,OR(P63=\"\")),\" * No olvide digitar la variable Pueblos Originarios Hombres (Digite Cero si no tiene).\",IF(P63>D63,\" * La variable Pueblos Originarios Hombres no puede ser Mayor al Total Hombres.\",\"\"))","v":""},{"$f":"IF(AND(E63>0,OR(Q63=\"\")),\" * No olvide digitar la variable Pueblos Originarios Mujeres (Digite Cero si no tiene).\",IF(Q63>E63,\" * La variable Pueblos Originarios Mujeres no puede ser Mayor al Total Mujeres.\",\"\"))","v":""},{"$f":"IF(AND(D63>0,OR(R63=\"\")),\" * No olvide digitar la variable Migrantes Hombres (Digite Cero si no tiene).\",IF(R63>D63,\" * La variable Migrantes Hombres no puede ser Mayor al Total Hombres.\",\"\"))","v":""},{"$f":"IF(AND(E63>0,OR(S63=\"\")),\" * No olvide digitar la variable Migrantes Mujeres (Digite Cero si no tiene).\",IF(S63>E63,\" * La variable Migrantes Mujeres no puede ser Mayor al Total Mujeres.\",\"\"))","v":""},null,null,null,null,null,null,null,null,null,null,null,null,null,null,null,null,null,null,null,null,null,null,null,null,null,null,null,null,null,null,null,null,null,null,null,null,null,0,0,0,0]
[null,"Total",{"$f":"+D64+E64","v":0},{"$f":"+F64+H64+J64+L64+N64","v":0},{"$f":"+G64+I64+K64+M64+O64","v":0},{"$f":"SUM(F61:F63)","v":0},{"$f":"SUM(G61:G63)","v":0},{"$f":"SUM(H61:H63)","v":0},0,{"$f":"SUM(J61:J63)","v":0},0,{"$f":"SUM(L61:L63)","v":0},0,0,0,{"$f":"SUM(P61:P63)","v":0},0,0,{"$f":"SUM(S61:S63)","v":0}]
["Estado nutricional ","Riesgo de Desnutrir / Deficit Ponderal*",0,{"$f":"+F65+H65+J65+L65+N65","v":0},{"$f":"+G65+I65+K65+M65+O65","v":0},null,null,null,null,null,null,null,null,null,null,null,null,null,null,"",null,null,null,null,null,null,null,null,null,null,null,null,null,null,null,null,null,null,null,null,null,null,null,null,null,null,null,null,null,null,null,null,null,null,null,null,null,null,null,null,null,null,null,null,null,null,null,null,null,null,null,null,null,null,null,null,null,null,null,null,null,null,null,null,null,null,null,null,{"$f":"IF(AND(D65>0,OR(P65=\"\")),\" * No olvide digitar la variable Pueblos Originarios Hombres (Digite Cero si no tiene).\",IF(P65>D65,\" * La variable Pueblos Originarios Hombres no puede ser Mayor al Total Hombres.\",\"\"))","v":""},{"$f":"IF(AND(E65>0,OR(Q65=\"\")),\" * No olvide digitar la variable Pueblos Originarios Mujeres (Digite Cero si no tiene).\",IF(Q65>E65,\" * La variable Pueblos Originarios Mujeres no puede ser Mayor al Total Mujeres.\",\"\"))","v":""},{"$f":"IF(AND(D65>0,OR(R65=\"\")),\" * No olvide digitar la variable Migrantes Hombres (Digite Cero si no tiene).\",IF(R65>D65,\" * La variable Migrantes Hombres no puede ser Mayor al Total Hombres.\",\"\"))","v":""},{"$f":"IF(AND(E65>0,OR(S65=\"\")),\" * No olvide digitar la variable Migrantes Mujeres (Digite Cero si no tiene).\",IF(S65>E65,\" * La variable Migrantes Mujeres no puede ser Mayor al Total Mujeres.\",\"\"))","v":""},null,null,null,null,null,null,null,null,null,null,null,null,null,null,null,null,null,null,null,null,null,null,null,null,null,null,null,null,null,null,null,null,null,null,null,null,null,{"$f":"IF(AND(D65>0,OR(P65=\"\")),1,IF(P65>D65,1,0))","v":0},0,{"$f":"IF(AND(D65>0,OR(R65=\"\")),1,IF(R65>D65,1,0))","v":0},0]
[null,"Desnutrido ",0,0,0,null,null,null,null,null,null,null,null,null,null,null,null,null,null,"",null,null,null,null,null,null,null,null,null,null,null,null,null,null,null,null,null,null,null,null,null,null,null,null,null,null,null,null,null,null,null,null,null,null,null,null,null,null,null,null,null,null,null,null,null,null,null,null,null,null,null,null,null,null,null,null,null,null,null,null,null,null,null,null,null,null,null,null,"","","","",null,null,null,null,null,null,null,null,null,null,null,null,null,null,null,null,null,null,null,null,null,null,null,null,null,null,null,null,null,null,null,null,null,null,null,null,null,0,0,0,0]
[null,"Sobrepeso / Riesgo Obesidad ",0,0,0,null,null,null,null,null,null,null,null,null,null,null,null,null,null,"",null,null,null,null,null,null,null,null,null,null,null,null,null,null,null,null,null,null,null,null,null,null,null,null,null,null,null,null,null,null,null,null,null,null,null,null,null,null,null,null,null,null,null,null,null,null,null,null,null,null,null,null,null,null,null,null,null,null,null,null,null,null,null,null,null,null,null,null,"","","","",null,null,null,null,null,null,null,null,null,null,null,null,null,null,null,null,null,null,null,null,null,null,null,null,null,null,null,null,null,null,null,null,null,null,null,null,null,0,0,0,0]
[null,"Obeso",0,0,0,null,null,null,null,null,null,null,null,null,null,null,null,null,null,"",null,null,null,null,null,null,null,null,null,null,null,null,null,null,null,null,null,null,null,null,null,null,null,null,null,null,null,null,null,null,null,null,null,null,null,null,null,null,null,null,null,null,null,null,null,null,null,null,null,null,null,null,null,null,null,null,null,null,null,null,null,null,null,null,null,null,null,null,"","","","",null,null,null,null,null,null,null,null,null,null,null,null,null,null,null,null,null,null,null,null,null,null,null,null,null,null,null,null,null,null,null,null,null,null,null,null,null,0,0,0,0]
[null,"Obeso Severo",0,0,0,null,null,null,null,null,null,null,null,null,null,null,null,null,null,"",null,null,null,null,null,null,null,null,null,null,null,null,null,null,null,null,null,null,null,null,null,null,null,null,null,null,null,null,null,null,null,null,null,null,null,null,null,null,null,null,null,null,null,null,null,null,null,null,null,null,null,null,null,null,null,null,null,null,null,null,null,null,null,null,null,null,null,null,"","","","",null,null,null,null,null,null,null,null,null,null,null,null,null,null,null,null,null,null,null,null,null,null,null,null,null,null,null,null,null,null,null,null,null,null,null,null,null,0,0,0,0]
[null,"Normal",0,0,{"$f":"+G70+I70+K70+M70+O70","v":0},null,null,null,null,null,null,null,null,null,null,null,null,null,null,{"$f":"CK70&CL70&CM70&CN70","v":""},null,null,null,null,null,null,null,null,null,null,null,null,null,null,null,null,null,null,null,null,null,null,null,null,null,null,null,null,null,null,null,null,null,null,null,null,null,null,null,null,null,null,null,null,null,null,null,null,null,null,null,null,null,null,null,null,null,null,null,null,null,null,null,null,null,null,null,null,"","","","",null,null,null,null,null,null,null,null,null,null,null,null,null,null,null,null,null,null,null,null,null,null,null,null,null,null,null,null,null,null,null,null,null,null,null,null,null,0,0,0,0]
[null,"Sub Total",{"$f":"+D71+E71","v":0},{"$f":"+F71+H71+J71+L71+N71","v":0},{"$f":"+G71+I71+K71+M71+O71","v":0},{"$f":"SUM(F65:F70)","v":0},{"$f":"SUM(G65:G70)","v":0},{"$f":"SUM(H65:H70)","v":0},0,{"$f":"SUM(J65:J70)","v":0},0,{"$f":"SUM(L65:L70)","v":0},0,0,0,0,0,0,0]
[null,"Desnutrición Secundaria ",0,{"$f":"+F72+H72+J72+L72+N72","v":0},{"$f":"+G72+I72+K72+M72+O72","v":0},null,null,null,null,null,null,null,null,null,null,null,null,null,null,{"$f":"CK72&CL72&CM72&CN72","v":""},null,null,null,null,null,null,null,null,null,null,null,null,null,null,null,null,null,null,null,null,null,null,null,null,null,null,null,null,null,null,null,null,null,null,null,null,null,null,null,null,null,null,null,null,null,null,null,null,null,null,null,null,null,null,null,null,null,null,null,null,null,null,null,null,null,null,null,null,{"$f":"IF(AND(D72>0,OR(P72=\"\")),\" * No olvide digitar la variable Pueblos Originarios Hombres (Digite Cero si no tiene).\",IF(P72>D72,\" * La variable Pueblos Originarios Hombres no puede ser Mayor al Total Hombres.\",\"\"))","v":""},{"$f":"IF(AND(E72>0,OR(Q72=\"\")),\" * No olvide digitar la variable Pueblos Originarios Mujeres (Digite Cero si no tiene).\",IF(Q72>E72,\" * La variable Pueblos Originarios Mujeres no puede ser Mayor al Total Mujeres.\",\"\"))","v":""},{"$f":"IF(AND(D72>0,OR(R72=\"\")),\" * No olvide digitar la variable Migrantes Hombres (Digite Cero si no tiene).\",IF(R72>D72,\" * La variable Migrantes Hombres no puede ser Mayor al Total Hombres.\",\"\"))","v":""},{"$f":"IF(AND(E72>0,OR(S72=\"\")),\" * No olvide digitar la variable Migrantes Mujeres (Digite Cero si no tiene).\",IF(S72>E72,\" * La variable Migrantes Mujeres no puede ser Mayor al Total Mujeres.\",\"\"))","v":""},null,null,null,null,null,null,null,null,null,null,null,null,null,null,null,null,null,null,null,null,null,null,null,null,null,null,null,null,null,null,null,null,null,null,null,null,null,{"$f":"IF(AND(D72>0,OR(P72=\"\")),1,IF(P72>D72,1,0))","v":0},{"$f":"IF(AND(E72>0,OR(Q72=\"\")),1,IF(Q72>E72,1,0))","v":0},{"$f":"IF(AND(D72>0,OR(R72=\"\")),1,IF(R72>D72,1,0))","v":0},{"$f":"IF(AND(E72>0,OR(S72=\"\")),1,IF(S72>E72,1,0))","v":0}]
[null,"Total",{"$f":"SUM(D73:E73)","v":0},{"$f":"SUM(D65:D70)+D72","v":0},0,0,0,0,0,0,0,0,0,0,0,{"$f":"SUM(P65:P70)+P72","v":0},0,0,0]
["Niños sin evaluación nutricional por curso de vida (recién nacidos) o por condición especial de salud",null,{"$f":"SUM(D74:E74)","v":0},{"$f":"+F74+H74+J74+L74+N74","v":0},{"$f":"+G74+I74+K74+M74+O74","v":0},null,null,null,null,null,null,null,null,null,null,null,null,null,null,{"$f":"CK74&CL74&CM74&CN74","v":""},null,null,null,null,null,null,null,null,null,null,null,null,null,null,null,null,null,null,null,null,null,null,null,null,null,null,null,null,null,null,null,null,null,null,null,null,null,null,null,null,null,null,null,null,null,null,null,null,null,null,null,null,null,null,null,null,null,null,null,null,null,null,null,null,null,null,null,null,{"$f":"IF(AND(D74>0,OR(P74=\"\")),\" * No olvide digitar la variable Pueblos Originarios Hombres (Digite Cero si no tiene).\",IF(P74>D74,\" * La variable Pueblos Originarios Hombres no puede ser Mayor al Total Hombres.\",\"\"))","v":""},{"$f":"IF(AND(E74>0,OR(Q74=\"\")),\" * No olvide digitar la variable Pueblos Originarios Mujeres (Digite Cero si no tiene).\",IF(Q74>E74,\" * La variable Pueblos Originarios Mujeres no puede ser Mayor al Total Mujeres.\",\"\"))","v":""},{"$f":"IF(AND(D74>0,OR(R74=\"\")),\" * No olvide digitar la variable Migrantes Hombres (Digite Cero si no tiene).\",IF(R74>D74,\" * La variable Migrantes Hombres no puede ser Mayor al Total Hombres.\",\"\"))","v":""},{"$f":"IF(AND(E74>0,OR(S74=\"\")),\" * No olvide digitar la variable Migrantes Mujeres (Digite Cero si no tiene).\",IF(S74>E74,\" * La variable Migrantes Mujeres no puede ser Mayor al Total Mujeres.\",\"\"))","v":""},null,null,null,null,null,null,null,null,null,null,null,null,null,null,null,null,null,null,null,null,null,null,null,null,null,null,null,null,null,null,null,null,null,null,null,null,null,{"$f":"IF(AND(D74>0,OR(P74=\"\")),1,IF(P74>D74,1,0))","v":0},{"$f":"IF(AND(E74>0,OR(Q74=\"\")),1,IF(Q74>E74,1,0))","v":0},{"$f":"IF(AND(D74>0,OR(R74=\"\")),1,IF(R74>D74,1,0))","v":0},{"$f":"IF(AND(E74>0,OR(S74=\"\")),1,IF(S74>E74,1,0))","v":0}]
["NOTA(*): El Diagnóstico Nutricional Integrado de Déficit para los niños (as) 5 años y más denomina Déficit Ponderal al Riesgo de Desnutrir."]
["SECCION B: POBLACION EN CONTROL SEGÚN RESULTADO DE EVALUACIÓN DEL DESARROLLO PSICOMOTOR"]
["RESULTADO Y GRUPOS DE EDAD",null,"TOTAL","Hombres","Mujeres","Pueblos Originarios","Migrantes"]
["Normal","Menor de 12 meses",{"$f":"SUM(D78:E78)","v":0},null,null,null,null,{"$f":"CA78&CB78&CC78&CD78","v":""},null,null,null,null,null,null,null,null,null,null,null,null,null,null,null,null,null,null,null,null,null,null,null,null,null,null,null,null,null,null,null,null,null,null,null,null,null,null,null,null,null,null,null,null,null,null,null,null,null,null,null,null,null,null,null,null,null,null,null,null,null,null,null,null,null,null,null,null,null,null,{"$f":"IF(SUM(T12,R12,P12,N12,L12,J12,H12,F12)<SUM(D78,D85,D92,D99),\"* La suma de Población Hombre menor de 12 meses según resultado de Evaluación no puede ser mayor que la Población Hombres bajo control de la sección A. \",\"\")","v":""},{"$f":"IF(SUM(U12,S12,Q12,O12,M12,K12,I12,G12)<SUM(E78,E85,E92,E99),\"* La suma de Población Mujeres menor de 12 meses según resultado de Evaluación no puede ser mayor que la Población Mujeres bajo control de la sección A. \",\"\")","v":""},{"$f":"IF(AND(C78>0,OR(F78=\"\")),\" * No olvide digitar la variable Pueblos Originarios (Digite Cero si no tiene).\",IF(F78>C78,\" * La variable Pueblos Originarios no puede ser Mayor al Total.\",\"\"))","v":""},{"$f":"IF(AND(C78>0,OR(G78=\"\")),\" * No olvide digitar la variable Migrantes (Digite Cero si no tiene).\",IF(G78>C78,\" * La variable Migrantes no puede ser Mayor al Total.\",\"\"))","v":""},null,null,null,null,null,null,null,null,null,null,null,null,null,null,null,null,null,null,null,null,null,null,null,null,null,null,null,null,null,null,null,null,null,null,null,null,null,{"$f":"IF(SUM(F12,H12,J12,L12,N12,P12,R12,T12)<SUM(D78,D85,D92,D99),1,0)","v":0},{"$f":"IF(SUM(G12,I12,K12,M12,O12,Q12,S12,U12)<SUM(E78,E85,E92,E99),1,0)","v":0},{"$f":"IF(F78>$C78,1,0)","v":0},{"$f":"IF(G78>$C78,1,0)","v":0},{"$f":"IF(AND($C78<>0,F78=\"\"),1,0)","v":0},{"$f":"IF(AND($C78<>0,G78=\"\"),1,0)","v":0}]
[null,"12 a 17 meses",{"$f":"SUM(D79:E79)","v":0},null,null,null,null,{"$f":"CA79&CB79&CC79&CD79","v":""},null,null,null,null,null,null,null,null,null,null,null,null,null,null,null,null,null,null,null,null,null,null,null,null,null,null,null,null,null,null,null,null,null,null,null,null,null,null,null,null,null,null,null,null,null,null,null,null,null,null,null,null,null,null,null,null,null,null,null,null,null,null,null,null,null,null,null,null,null,null,{"$f":"IF(SUM(V12)<SUM(D79,D86,D93,D100),\"* La suma de Población Hombre de 12 a 17 meses según resultado de Evaluación no puede ser mayor que la Población Hombres bajo control de la sección A. \",\"\")","v":""},{"$f":"IF(SUM(W12)<SUM(E79,E86,E93,E100),\"* La suma de Población Mujeres 12 a 17 meses según resultado de Evaluación no puede ser mayor que la Población Mujeres bajo control de la sección A. \",\"\")","v":""},"","",null,null,null,null,null,null,null,null,null,null,null,null,null,null,null,null,null,null,null,null,null,null,null,null,null,null,null,null,null,null,null,null,null,null,null,null,null,{"$f":"IF(V$12<SUM(D79,D86,D93,D100),1,0)","v":0},{"$f":"IF(W$12<SUM(E79,E86,E93,E100),1,0)","v":0},{"$f":"IF(F78>$C78,1,0)","v":0},{"$f":"IF(G78>$C78,1,0)","v":0},{"$f":"IF(AND($C78<>0,F78=\"\"),1,0)","v":0},{"$f":"IF(AND($C78<>0,G78=\"\"),1,0)","v":0}]
[null,"18 a 23 meses",0,null,null,null,null,"",null,null,null,null,null,null,null,null,null,null,null,null,null,null,null,null,null,null,null,null,null,null,null,null,null,null,null,null,null,null,null,null,null,null,null,null,null,null,null,null,null,null,null,null,null,null,null,null,null,null,null,null,null,null,null,null,null,null,null,null,null,null,null,null,null,null,null,null,null,null,{"$f":"IF(SUM(X12)<SUM(D80,D87,D94,D101),\"* La suma de Población Hombre 18 a 23 meses según resultado de Evaluación no puede ser mayor que la Población Hombres bajo control de la sección A. \",\"\")","v":""},{"$f":"IF(SUM(Y12)<SUM(E80,E87,E94,E101),\"* La suma de Población Mujeres de 18 a 23 meses según resultado de Evaluación no puede ser mayor que la Población Mujeres bajo control de la sección A. \",\"\")","v":""},"","",null,null,null,null,null,null,null,null,null,null,null,null,null,null,null,null,null,null,null,null,null,null,null,null,null,null,null,null,null,null,null,null,null,null,null,null,null,{"$f":"IF(X$12<SUM(D80,D87,D94,D101),1,0)","v":0},{"$f":"IF(Y$12<SUM(E80,E87,E94,E101),1,0)","v":0},0,0,0,0]
[null,"24 a 35 meses",0,null,null,null,null,"",null,null,null,null,null,null,null,null,null,null,null,null,null,null,null,null,null,null,null,null,null,null,null,null,null,null,null,null,null,null,null,null,null,null,null,null,null,null,null,null,null,null,null,null,null,null,null,null,null,null,null,null,null,null,null,null,null,null,null,null,null,null,null,null,null,null,null,null,null,null,{"$f":"IF(SUM(Z12)<SUM(D81,D88,D95,D102),\"* La suma de Población Hombre 24 a 35 meses según resultado de Evaluación no puede ser mayor que la Población Hombres bajo control de la sección A. \",\"\")","v":""},{"$f":"IF(SUM(AA12)<SUM(E81,E88,E95,E102),\"* La suma de Población Mujeres 24 a 35 meses según resultado de Evaluación no puede ser mayor que la Población Mujeres bajo control de la sección A. \",\"\")","v":""},"","",null,null,null,null,null,null,null,null,null,null,null,null,null,null,null,null,null,null,null,null,null,null,null,null,null,null,null,null,null,null,null,null,null,null,null,null,null,{"$f":"IF(Z$12<SUM(D81,D88,D95,D102),1,0)","v":0},{"$f":"IF(AA$12<SUM(E81,E88,E95,E101),1,0)","v":0},0,0,0,0]
[null,"36 a 41 meses",0,null,null,null,null,"",null,null,null,null,null,null,null,null,null,null,null,null,null,null,null,null,null,null,null,null,null,null,null,null,null,null,null,null,null,null,null,null,null,null,null,null,null,null,null,null,null,null,null,null,null,null,null,null,null,null,null,null,null,null,null,null,null,null,null,null,null,null,null,null,null,null,null,null,null,null,{"$f":"IF(SUM(AB12)<SUM(D82,D89,D96,D103),\"* La suma de Población Hombre 36 a 41 meses según resultado de Evaluación no puede ser mayor que la Población Hombres bajo control de la sección A. \",\"\")","v":""},{"$f":"IF(SUM(AC12)<SUM(E82,E89,E96,E103),\"* La suma de Población Mujeres 36 a 41 meses según resultado de Evaluación no puede ser mayor que la Población Mujeres bajo control de la sección A. \",\"\")","v":""},"","",null,null,null,null,null,null,null,null,null,null,null,null,null,null,null,null,null,null,null,null,null,null,null,null,null,null,null,null,null,null,null,null,null,null,null,null,null,{"$f":"IF(AB$12<SUM(D82,D89,D96,D103),1,0)","v":0},{"$f":"IF(AC$12<SUM(E82,E89,E96,E103),1,0)","v":0},0,0,0,0]
[null,"42 a 47 meses",{"$f":"SUM(D83:E83)","v":0},null,null,null,null,"",null,null,null,null,null,null,null,null,null,null,null,null,null,null,null,null,null,null,null,null,null,null,null,null,null,null,null,null,null,null,null,null,null,null,null,null,null,null,null,null,null,null,null,null,null,null,null,null,null,null,null,null,null,null,null,null,null,null,null,null,null,null,null,null,null,null,null,null,null,null,{"$f":"IF(SUM(AD12)<SUM(D83,D90,D97,D104),\"* La suma de Población Hombre 42 a 47 meses según resultado de Evaluación no puede ser mayor que la Población Hombres bajo control de la sección A. \",\"\")","v":""},{"$f":"IF(SUM(AE12)<SUM(E83,E90,E97,E104),\"* La suma de Población Mujeres 42 a 47 meses según resultado de Evaluación no puede ser mayor que la Población Mujeres bajo control de la sección A. \",\"\")","v":""},"","",null,null,null,null,null,null,null,null,null,null,null,null,null,null,null,null,null,null,null,null,null,null,null,null,null,null,null,null,null,null,null,null,null,null,null,null,null,{"$f":"IF(AD$12<SUM(D83,D90,D97,D104),1,0)","v":0},{"$f":"IF(AE$12<SUM(E83,E90,E97,E104),1,0)","v":0},0,0,0,0]
[null,"48 a 59 meses",0,null,null,null,null,"",null,null,null,null,null,null,null,null,null,null,null,null,null,null,null,null,null,null,null,null,null,null,null,null,null,null,null,null,null,null,null,null,null,null,null,null,null,null,null,null,null,null,null,null,null,null,null,null,null,null,null,null,null,null,null,null,null,null,null,null,null,null,null,null,null,null,null,null,null,null,{"$f":"IF(SUM(AF12)<SUM(D84,D91,D98,D105),\"* La suma de Población Hombre 48 a 59 meses según resultado de Evaluación no puede ser mayor que la Población Hombres bajo control de la sección A. \",\"\")","v":""},{"$f":"IF(SUM(AG12)<SUM(E84,E91,E98,E105),\"* La suma de Población Mujeres 48 a 59 meses según resultado de Evaluación no puede ser mayor que la Población Mujeres bajo control de la sección A. \",\"\")","v":""},"","",null,null,null,null,null,null,null,null,null,null,null,null,null,null,null,null,null,null,null,null,null,null,null,null,null,null,null,null,null,null,null,null,null,null,null,null,null,{"$f":"IF(AF$12<SUM(D84,D91,D98,D105),1,0)","v":0},{"$f":"IF(AG$12<SUM(E84,E91,E98,E105),1,0)","v":0},0,0,0,0]
["Normal con Rezago ","Menor de 12 meses",{"$f":"SUM(D85:E85)","v":0},null,null,null,null,"",null,null,null,null,null,null,null,null,null,null,null,null,null,null,null,null,null,null,null,null,null,null,null,null,null,null,null,null,null,null,null,null,null,null,null,null,null,null,null,null,null,null,null,null,null,null,null,null,null,null,null,null,null,null,null,null,null,null,null,null,null,null,null,null,null,null,null,null,null,null,null,null,{"$f":"IF(AND(C85>0,OR(F85=\"\")),\" * No olvide digitar la variable Pueblos Originarios (Digite Cero si no tiene).\",IF(F85>C85,\" * La variable Pueblos Originarios no puede ser Mayor al Total.\",\"\"))","v":""},""]
[null,"12 a 17 meses",0,null,null,null,null,"",null,null,null,null,null,null,null,null,null,null,null,null,null,null,null,null,null,null,null,null,null,null,null,null,null,null,null,null,null,null,null,null,null,null,null,null,null,null,null,null,null,null,null,null,null,null,null,null,null,null,null,null,null,null,null,null,null,null,null,null,null,null,null,null,null,null,null,null,null,null,null,null,"","",null,null,null,null,null,null,null,null,null,null,null,null,null,null,null,null,null,null,null,null,null,null,null,null,null,null,null,null,null,null,null,null,null,null,null,null,null,null,null,{"$f":"IF(F85>$C85,1,0)","v":0},{"$f":"IF(G85>$C85,1,0)","v":0},{"$f":"IF(AND($C85<>0,F85=\"\"),1,0)","v":0},{"$f":"IF(AND($C85<>0,G85=\"\"),1,0)","v":0}]
[null,"18 a 23 meses",0,null,null,null,null,"",null,null,null,null,null,null,null,null,null,null,null,null,null,null,null,null,null,null,null,null,null,null,null,null,null,null,null,null,null,null,null,null,null,null,null,null,null,null,null,null,null,null,null,null,null,null,null,null,null,null,null,null,null,null,null,null,null,null,null,null,null,null,null,null,null,null,null,null,null,null,null,null,"","",null,null,null,null,null,null,null,null,null,null,null,null,null,null,null,null,null,null,null,null,null,null,null,null,null,null,null,null,null,null,null,null,null,null,null,null,null,null,null,0,0,0,0]
[null,"24 a 35 meses",0,null,null,null,null,"",null,null,null,null,null,null,null,null,null,null,null,null,null,null,null,null,null,null,null,null,null,null,null,null,null,null,null,null,null,null,null,null,null,null,null,null,null,null,null,null,null,null,null,null,null,null,null,null,null,null,null,null,null,null,null,null,null,null,null,null,null,null,null,null,null,null,null,null,null,null,null,null,"","",null,null,null,null,null,null,null,null,null,null,null,null,null,null,null,null,null,null,null,null,null,null,null,null,null,null,null,null,null,null,null,null,null,null,null,null,null,null,null,0,0,0,0]
[null,"36 a 41 meses",0,null,null,null,null,"",null,null,null,null,null,null,null,null,null,null,null,null,null,null,null,null,null,null,null,null,null,null,null,null,null,null,null,null,null,null,null,null,null,null,null,null,null,null,null,null,null,null,null,null,null,null,null,null,null,null,null,null,null,null,null,null,null,null,null,null,null,null,null,null,null,null,null,null,null,null,null,null,"","",null,null,null,null,null,null,null,null,null,null,null,null,null,null,null,null,null,null,null,null,null,null,null,null,null,null,null,null,null,null,null,null,null,null,null,null,null,null,null,0,0,0,0]
[null,"42 a 47 meses",{"$f":"SUM(D90:E90)","v":0},null,null,null,null,"",null,null,null,null,null,null,null,null,null,null,null,null,null,null,null,null,null,null,null,null,null,null,null,null,null,null,null,null,null,null,null,null,null,null,null,null,null,null,null,null,null,null,null,null,null,null,null,null,null,null,null,null,null,null,null,null,null,null,null,null,null,null,null,null,null,null,null,null,null,null,null,null,"","",null,null,null,null,null,null,null,null,null,null,null,null,null,null,null,null,null,null,null,null,null,null,null,null,null,null,null,null,null,null,null,null,null,null,null,null,null,null,null,0,0,0,0]
[null,"48 a 59 meses",0,null,null,null,null,"",null,null,null,null,null,null,null,null,null,null,null,null,null,null,null,null,null,null,null,null,null,null,null,null,null,null,null,null,null,null,null,null,null,null,null,null,null,null,null,null,null,null,null,null,null,null,null,null,null,null,null,null,null,null,null,null,null,null,null,null,null,null,null,null,null,null,null,null,null,null,null,null,"","",null,null,null,null,null,null,null,null,null,null,null,null,null,null,null,null,null,null,null,null,null,null,null,null,null,null,null,null,null,null,null,null,null,null,null,null,null,null,null,0,0,0,0]
["Riesgo","Menor de 12 meses",0,null,null,null,null,"",null,null,null,null,null,null,null,null,null,null,null,null,null,null,null,null,null,null,null,null,null,null,null,null,null,null,null,null,null,null,null,null,null,null,null,null,null,null,null,null,null,null,null,null,null,null,null,null,null,null,null,null,null,null,null,null,null,null,null,null,null,null,null,null,null,null,null,null,null,null,null,null,"","",null,null,null,null,null,null,null,null,null,null,null,null,null,null,null,null,null,null,null,null,null,null,null,null,null,null,null,null,null,null,null,null,null,null,null,null,null,null,null,0,0,0,0]
[null,"12 a 17 meses",0,null,null,null,null,"",null,null,null,null,null,null,null,null,null,null,null,null,null,null,null,null,null,null,null,null,null,null,null,null,null,null,null,null,null,null,null,null,null,null,null,null,null,null,null,null,null,null,null,null,null,null,null,null,null,null,null,null,null,null,null,null,null,null,null,null,null,null,null,null,null,null,null,null,null,null,null,null,"","",null,null,null,null,null,null,null,null,null,null,null,null,null,null,null,null,null,null,null,null,null,null,null,null,null,null,null,null,null,null,null,null,null,null,null,null,null,null,null,0,0,0,0]
[null,"18 a 23 meses",0,null,null,null,null,"",null,null,null,null,null,null,null,null,null,null,null,null,null,null,null,null,null,null,null,null,null,null,null,null,null,null,null,null,null,null,null,null,null,null,null,null,null,null,null,null,null,null,null,null,null,null,null,null,null,null,null,null,null,null,null,null,null,null,null,null,null,null,null,null,null,null,null,null,null,null,null,null,"","",null,null,null,null,null,null,null,null,null,null,null,null,null,null,null,null,null,null,null,null,null,null,null,null,null,null,null,null,null,null,null,null,null,null,null,null,null,null,null,0,0,0,0]
[null,"24 a 35 meses",0,null,null,null,null,"",null,null,null,null,null,null,null,null,null,null,null,null,null,null,null,null,null,null,null,null,null,null,null,null,null,null,null,null,null,null,null,null,null,null,null,null,null,null,null,null,null,null,null,null,null,null,null,null,null,null,null,null,null,null,null,null,null,null,null,null,null,null,null,null,null,null,null,null,null,null,null,null,"","",null,null,null,null,null,null,null,null,null,null,null,null,null,null,null,null,null,null,null,null,null,null,null,null,null,null,null,null,null,null,null,null,null,null,null,null,null,null,null,0,0,0,0]
[null,"36 a 41 meses",0,null,null,null,null,"",null,null,null,null,null,null,null,null,null,null,null,null,null,null,null,null,null,null,null,null,null,null,null,null,null,null,null,null,null,null,null,null,null,null,null,null,null,null,null,null,null,null,null,null,null,null,null,null,null,null,null,null,null,null,null,null,null,null,null,null,null,null,null,null,null,null,null,null,null,null,null,null,"","",null,null,null,null,null,null,null,null,null,null,null,null,null,null,null,null,null,null,null,null,null,null,null,null,null,null,null,null,null,null,null,null,null,null,null,null,null,null,null,0,0,0,0]
[null,"42 a 47 meses",0,null,null,null,null,"",null,null,null,null,null,null,null,null,null,null,null,null,null,null,null,null,null,null,null,null,null,null,null,null,null,null,null,null,null,null,null,null,null,null,null,null,null,null,null,null,null,null,null,null,null,null,null,null,null,null,null,null,null,null,null,null,null,null,null,null,null,null,null,null,null,null,null,null,null,null,null,null,"","",null,null,null,null,null,null,null,null,null,null,null,null,null,null,null,null,null,null,null,null,null,null,null,null,null,null,null,null,null,null,null,null,null,null,null,null,null,null,null,0,0,0,0]
[null,"48 a 59 meses",0,null,null,null,null,"",null,null,null,null,null,null,null,null,null,null,null,null,null,null,null,null,null,null,null,null,null,null,null,null,null,null,null,null,null,null,null,null,null,null,null,null,null,null,null,null,null,null,null,null,null,null,null,null,null,null,null,null,null,null,null,null,null,null,null,null,null,null,null,null,null,null,null,null,null,null,null,null,"","",null,null,null,null,null,null,null,null,null,null,null,null,null,null,null,null,null,null,null,null,null,null,null,null,null,null,null,null,null,null,null,null,null,null,null,null,null,null,null,0,0,0,0]
["Retraso","Menor de 12 meses",0,null,null,null,null,"",null,null,null,null,null,null,null,null,null,null,null,null,null,null,null,null,null,null,null,null,null,null,null,null,null,null,null,null,null,null,null,null,null,null,null,null,null,null,null,null,null,null,null,null,null,null,null,null,null,null,null,null,null,null,null,null,null,null,null,null,null,null,null,null,null,null,null,null,null,null,null,null,"","",null,null,null,null,null,null,null,null,null,null,null,null,null,null,null,null,null,null,null,null,null,null,null,null,null,null,null,null,null,null,null,null,null,null,null,null,null,null,null,0,0,0,0]
[null,"12 a 17 meses",0,null,null,null,null,"",null,null,null,null,null,null,null,null,null,null,null,null,null,null,null,null,null,null,null,null,null,null,null,null,null,null,null,null,null,null,null,null,null,null,null,null,null,null,null,null,null,null,null,null,null,null,null,null,null,null,null,null,null,null,null,null,null,null,null,null,null,null,null,null,null,null,null,null,null,null,null,null,"","",null,null,null,null,null,null,null,null,null,null,null,null,null,null,null,null,null,null,null,null,null,null,null,null,null,null,null,null,null,null,null,null,null,null,null,null,null,null,null,0,0,0,0]
[null,"18 a 23 meses",0,null,null,null,null,"",null,null,null,null,null,null,null,null,null,null,null,null,null,null,null,null,null,null,null,null,null,null,null,null,null,null,null,null,null,null,null,null,null,null,null,null,null,null,null,null,null,null,null,null,null,null,null,null,null,null,null,null,null,null,null,null,null,null,null,null,null,null,null,null,null,null,null,null,null,null,null,null,"","",null,null,null,null,null,null,null,null,null,null,null,null,null,null,null,null,null,null,null,null,null,null,null,null,null,null,null,null,null,null,null,null,null,null,null,null,null,null,null,0,0,0,0]
[null,"24 a 35 meses",0,null,null,null,null,"",null,null,null,null,null,null,null,null,null,null,null,null,null,null,null,null,null,null,null,null,null,null,null,null,null,null,null,null,null,null,null,null,null,null,null,null,null,null,null,null,null,null,null,null,null,null,null,null,null,null,null,null,null,null,null,null,null,null,null,null,null,null,null,null,null,null,null,null,null,null,null,null,"","",null,null,null,null,null,null,null,null,null,null,null,null,null,null,null,null,null,null,null,null,null,null,null,null,null,null,null,null,null,null,null,null,null,null,null,null,null,null,null,0,0,0,0]
[null,"36 a 41 meses",{"$f":"SUM(D103:E103)","v":0},null,null,null,null,"",null,null,null,null,null,null,null,null,null,null,null,null,null,null,null,null,null,null,null,null,null,null,null,null,null,null,null,null,null,null,null,null,null,null,null,null,null,null,null,null,null,null,null,null,null,null,null,null,null,null,null,null,null,null,null,null,null,null,null,null,null,null,null,null,null,null,null,null,null,null,null,null,"","",null,null,null,null,null,null,null,null,null,null,null,null,null,null,null,null,null,null,null,null,null,null,null,null,null,null,null,null,null,null,null,null,null,null,null,null,null,null,null,0,0,0,0]
[null,"42 a 47 meses",{"$f":"SUM(D104:E104)","v":0},null,null,null,null,"",null,null,null,null,null,null,null,null,null,null,null,null,null,null,null,null,null,null,null,null,null,null,null,null,null,null,null,null,null,null,null,null,null,null,null,null,null,null,null,null,null,null,null,null,null,null,null,null,null,null,null,null,null,null,null,null,null,null,null,null,null,null,null,null,null,null,null,null,null,null,null,null,"","",null,null,null,null,null,null,null,null,null,null,null,null,null,null,null,null,null,null,null,null,null,null,null,null,null,null,null,null,null,null,null,null,null,null,null,null,null,null,null,0,0,0,0]
[null,"48 a 59 meses",{"$f":"SUM(D105:E105)","v":0},null,null,null,null,"",null,null,null,null,null,null,null,null,null,null,null,null,null,null,null,null,null,null,null,null,null,null,null,null,null,null,null,null,null,null,null,null,null,null,null,null,null,null,null,null,null,null,null,null,null,null,null,null,null,null,null,null,null,null,null,null,null,null,null,null,null,null,null,null,null,null,null,null,null,null,null,null,"",{"$f":"IF(AND(C105>0,OR(G105=\"\")),\" * No olvide digitar la variable Migrantes (Digite Cero si no tiene).\",IF(G105>C105,\" * La variable Migrantes no puede ser Mayor al Total.\",\"\"))","v":""},null,null,null,null,null,null,null,null,null,null,null,null,null,null,null,null,null,null,null,null,null,null,null,null,null,null,null,null,null,null,null,null,null,null,null,null,null,null,null,0,0,0,0]
["SECCION C: POBLACIÓN MENOR DE 1 AÑO EN CONTROL, SEGÚN SCORE RIESGO EN IRA Y VISITA DOMICILIARIA INTEGRAL ",null,null,null,null,null,null,null,null,null,null,null,null,null,null,null,null,null,null,null,null,null,null,null,null,null,null,null,null,null,null,null,null,null,null,null,null,null,null,null,null,null,null,null,null,null,null,null,null,null,null,null,null,null,null,null,null,null,null,null,null,null,null,null,null,null,null,null,null,null,null,null,null,null,null,null,null,null,null,null,null,null,null,null,null,null,null,null,null,null,null,null,null,null,null,null,null,null,null,null,null,null,null,null,null,null,null,null,null,null,null,null,null,null,null,null,null,null,null,null,null,0,0,0,0]
["RESULTADO",null,"TOTAL","Diada, menor de 10 días","1 mes","2 meses","3 meses","4 meses","5 meses","6 meses","7 a 12 meses","Total de Niños y Niñas que han recibido VDI","Pueblos Originarios","Migrantes"]
[]
["Score  \nde Riesgo ","Leve",{"$f":"SUM(D109:K109)","v":0},null,null,null,null,null,null,null,null,null,null,null,{"$f":"CC109&CD109&CE109&CF109","v":""},null,null,null,null,null,null,null,null,null,null,null,null,null,null,null,null,null,null,null,null,null,null,null,null,null,null,null,null,null,null,null,null,null,null,null,null,null,null,null,null,null,null,null,null,null,null,null,null,null,null,null,null,null,null,null,null,null,null,null,null,null,null,null,null,null,{"$f":"IF(M109>$C109,\" * El Total de Pueblos Originarios no puede ser mayor que el Total. \",\"\")","v":""},{"$f":"IF(N109>$C109,\" * El Total según Población Migrante no puede ser mayor que el Total. \",\"\")","v":""},{"$f":"IF(AND($C109<>0,M109=\"\"),\"* No olvide ingresar el total según Pueblos Originarios. Digite 0 si no tiene. \",\"\")","v":""},{"$f":"IF(AND($C109<>0,N109=\"\"),\"* No olvide ingresar el total según Migrantes. Digite 0 si no tiene. \",\"\")","v":""}]
[null,"Moderado",{"$f":"SUM(D110:K110)","v":0},null,null,null,null,null,null,null,null,null,null,null,{"$f":"CB110&CC110&CD110&CE110&CF110","v":""},null,null,null,null,null,null,null,null,null,null,null,null,null,null,null,null,null,null,null,null,null,null,null,null,null,null,null,null,null,null,null,null,null,null,null,null,null,null,null,null,null,null,null,null,null,null,null,null,null,null,null,null,null,null,null,null,null,null,null,null,null,null,null,null,{"$f":"IF($C110<$L110, \"* Total de Niños y Niñas que han recibido VDI no puede ser mayor que el total Score de Riesgo . \",\"\")","v":""},{"$f":"IF(M110>$C110,\" * El Total de Pueblos Originarios no puede ser mayor que el Total. \",\"\")","v":""},{"$f":"IF(N110>$C110,\" * El Total según Población Migrante no puede ser mayor que el Total. \",\"\")","v":""},{"$f":"IF(AND($C110<>0,M110=\"\"),\"* No olvide ingresar el total según Pueblos Originarios. Digite 0 si no tiene. \",\"\")","v":""},{"$f":"IF(AND($C110<>0,N110=\"\"),\"* No olvide ingresar el total según Migrantes. Digite 0 si no tiene. \",\"\")","v":""},null,null,null,null,null,null,null,null,null,null,null,null,null,null,null,null,null,null,null,null,null,null,null,null,null,null,null,null,null,null,null,null,null,null,null,null,{"$f":"IF(M109>$C109,1,0)","v":0},0,{"$f":"IF(AND($C109<>0,N109=\"\"),1,0)","v":0},{"$f":"IF(AND($C109<>0,N109=\"\"),1,0)","v":0}]
[null,"Grave",{"$f":"SUM(D111:K111)","v":0},null,null,null,null,null,null,null,null,null,null,null,{"$f":"CB111&CC111&CD111&CE111&CF111","v":""},null,null,null,null,null,null,null,null,null,null,null,null,null,null,null,null,null,null,null,null,null,null,null,null,null,null,null,null,null,null,null,null,null,null,null,null,null,null,null,null,null,null,null,null,null,null,null,null,null,null,null,null,null,null,null,null,null,null,null,null,null,null,null,null,{"$f":"IF($C111<$L111, \"* Total de Niños y Niñas que han recibido VDI no puede ser mayor que el total Score de Riesgo Grave. \",\"\")","v":""},{"$f":"IF(M111>$C111,\" * El Total de Pueblos Originarios no puede ser mayor que el Total. \",\"\")","v":""},{"$f":"IF(N111>$C111,\" * El Total según Población Migrante no puede ser mayor que el Total. \",\"\")","v":""},{"$f":"IF(AND($C111<>0,M111=\"\"),\"* No olvide ingresar el total según Pueblos Originarios. Digite 0 si no tiene. \",\"\")","v":""},{"$f":"IF(AND($C111<>0,N111=\"\"),\"* No olvide ingresar el total según Migrantes. Digite 0 si no tiene. \",\"\")","v":""},null,null,null,null,null,null,null,null,null,null,null,null,null,null,null,null,null,null,null,null,null,null,null,null,null,null,null,null,null,null,null,null,null,null,null,{"$f":"IF($C110<$L110, 1,0)","v":0},0,0,{"$f":"IF(AND($C110<>0,N110=\"\"),1,0)","v":0},{"$f":"IF(AND($C110<>0,N110=\"\"),1,0)","v":0}]
[null,"Total",{"$f":"SUM(D112:K112)","v":0},{"$f":"SUM(D109:D111)","v":0},0,0,0,0,0,{"$f":"SUM(J109:J111)","v":0},0,{"$f":"SUM(L110:L111)","v":0},{"$f":"SUM(M109:M111)","v":0},{"$f":"SUM(N109:N111)","v":0},null,null,null,null,null,null,null,null,null,null,null,null,null,null,null,null,null,null,null,null,null,null,null,null,null,null,null,null,null,null,null,null,null,null,null,null,null,null,null,null,null,null,null,null,null,null,null,null,null,null,null,null,null,null,null,null,null,null,null,null,null,null,null,null,null,null,null,null,null,null,null,null,null,null,null,null,null,null,null,null,null,null,null,null,null,null,null,null,null,null,null,null,null,null,null,null,null,null,null,null,null,null,null,null,null,{"$f":"IF($C111<$L111,1,0)","v":0},0,0,{"$f":"IF(AND($C111<>0,N111=\"\"),1,0)","v":0},{"$f":"IF(AND($C111<>0,N111=\"\"),1,0)","v":0}]
["SECCION D: POBLACIÓN EN CONTROL EN EL SEMESTRE CON CONSULTA NUTRICIONAL, SEGÚN ESTRATEGIA"]
["NIÑO/A CON CONSULTA NUTRICIONAL EN",null,"TOTAL"]
[]
["Del 5to mes"]
["De los 3 años y 6 meses"]
["SECCION E: POBLACIÓN INASISTENTE A CONTROL DEL NIÑO SANO (AL CORTE)"]
["EDAD",null,"TOTAL"]
[]
["0 - 11 meses"]
["12 - 24 meses"]
["25 - 35 meses"]
["36 - 59 meses"]
["60 meses - 9 años"]
["Total",null,{"$f":"SUM(C121:C125)","v":0}]
["SECCION F: POBLACIÓN INFANTIL SEGÚN DIAGNÓSTICO DE PRESIÓN ARTERIAL (Incluida en sección A y A1)"]
["CLASIFICACIÓN",null,"Total",null,null,"RANGO ETARIO (en meses)",null,null,null,null,null,"Derivación Nivel Secundario"]
[null,null,null,null,null,"36 a 47 meses",null,"48 a 71 meses",null,"6-9 años"]
[null,null,"Total","Hombres","Mujeres","Hombres","Mujeres","Hombres","Mujeres","Hombres","Mujeres"]
["Normal (PA menor al percentil 90)",null,{"$f":"SUM(D131:E131)","v":0},{"$f":"+F131+H131+J131","v":0},{"$f":"+G131+I131+K131","v":0},null,null,null,null,null,null,null,{"$f":"CA131&CB131&CC131&CD131&CE131&CF131&CG131","v":""},null,null,null,null,null,null,null,null,null,null,null,null,null,null,null,null,null,null,null,null,null,null,null,null,null,null,null,null,null,null,null,null,null,null,null,null,null,null,null,null,null,null,null,null,null,null,null,null,null,null,null,null,null,null,null,null,null,null,null,null,null,null,null,null,null,{"$f":"IF(SUM($F131)<=SUM($AB$12+$AD$12),\"\",\"* Hombres de 36 a 47 meses debe ser menor o igual al Total de la población de Hombres bajo control de en sección A misma edad. \")","v":""},{"$f":"IF(SUM($G131)<=SUM($AC$12+$AE$12),\"\",\"* Mujeres de 36 a 47 meses debe ser menor o igual al Total de la población de Mujeres bajo control de en sección A misma edad. \")","v":""},{"$f":"IF(SUM(H131)<=SUM($AF$12,$F$45),\"\",\"* Hombres de 48 a 71 meses clasificados debe ser menor o igual al Total de la población de Hombres bajo control de en sección A y A1 de la misma edad. \")","v":""},{"$f":"IF(SUM(I131)<=SUM(AG12,G45),\"\",\"* Mujeres de 48 a 71 meses clasificados debe ser menor o igual al Total de la población de Mujeres bajo control de en sección A y A1 de la misma edad. \")","v":""},{"$f":"IF(SUM(J131)<=SUM($H$45+$J$45+$L$45+$N$45),\"\",\"* Hombres de 6 a 9 años clasificados debe ser menor o igual al Total de la población de Hombres bajo control de en sección A1 misma edad \")","v":""},{"$f":"IF(SUM(K131)<=SUM($I$45+$K$45+$M$45+$O$45),\"\",\"* Mujeres de 6 a 9 años clasificados debe ser menor o igual al Total de la población de Mujeres bajo control de en sección A1 misma edad \")","v":""},{"$f":"IF(AND(C131>0,OR(L131=\"\")),\" * No olvide digitar la variable Derivación Nivel Secundario. Digite Cero si no tiene.\",IF(L131>C131,\" * La variable Derivación Nivel Secundario no puede ser Mayor al Total.\",\"\"))","v":""},null,null,null,null,null,null,null,null,null,null,null,null,null,null,null,null,null,null,null,null,null,null,null,null,null,null,null,null,null,null,null,null,null,null,{"$f":"IF(SUM(F131)<=SUM(AB$12+AD$12),0,1)","v":0},{"$f":"IF(SUM($G$131)<=SUM(AC$12+AE$12),0,1)","v":0},{"$f":"IF(SUM($H131)<=SUM($AF$12,$F$45),0,1)","v":0},{"$f":"IF(SUM($I131)<=SUM($AG$12,$G$45),0,1)","v":0},{"$f":"IF(SUM($J131)<=SUM($H$45+$J$45+$L$45+$N$45),0,1)","v":0},{"$f":"IF(SUM($K131)<=SUM($I$45+$K$45+$M$45+$O$45),0,1)","v":0}]
["Presión Arterial elevada ",null,{"$f":"SUM(D132:E132)","v":0},{"$f":"+F132+H132+J132","v":0},{"$f":"+G132+I132+K132","v":0},null,null,null,null,null,null,null,{"$f":"CA132&CB132&CC132&CD132&CE132&CF132&CG132","v":""},null,null,null,null,null,null,null,null,null,null,null,null,null,null,null,null,null,null,null,null,null,null,null,null,null,null,null,null,null,null,null,null,null,null,null,null,null,null,null,null,null,null,null,null,null,null,null,null,null,null,null,null,null,null,null,null,null,null,null,null,null,null,null,null,null,{"$f":"IF(SUM($F132)<=SUM($AB$12+$AD$12),\"\",\"* Hombres de 36 a 47 meses debe ser menor o igual al Total de la población de Hombres bajo control de en sección A misma edad. \")","v":""},{"$f":"IF(SUM($G132)<=SUM($AC$12+$AE$12),\"\",\"* Mujeres de 36 a 47 meses debe ser menor o igual al Total de la población de Mujeres bajo control de en sección A misma edad. \")","v":""},{"$f":"IF(SUM(H132)<=SUM($AF$12,$F$45),\"\",\"* Hombres de 48 a 71 meses clasificados debe ser menor o igual al Total de la población de Hombres bajo control de en sección A y A1 de la misma edad. \")","v":""},{"$f":"IF(SUM(I132)<=SUM(AG12,G45),\"\",\"* Mujeres de 48 a 71 meses clasificados debe ser menor o igual al Total de la población de Mujeres bajo control de en sección A y A1 de la misma edad. \")","v":""},{"$f":"IF(SUM(J132)<=SUM($H$45+$J$45+$L$45+$N$45),\"\",\"* Hombres de 6 a 9 años clasificados debe ser menor o igual al Total de la población de Hombres bajo control de en sección A1 misma edad \")","v":""},{"$f":"IF(SUM(K132)<=SUM($I$45+$K$45+$M$45+$O$45),\"\",\"* Mujeres de 6 a 9 años clasificados debe ser menor o igual al Total de la población de Mujeres bajo control de en sección A1 misma edad \")","v":""},{"$f":"IF(AND(C132>0,OR(L132=\"\")),\" * No olvide digitar la variable Derivación Nivel Secundario. Digite Cero si no tiene.\",IF(L132>C132,\" * La variable Derivación Nivel Secundario no puede ser Mayor al Total.\",\"\"))","v":""},null,null,null,null,null,null,null,null,null,null,null,null,null,null,null,null,null,null,null,null,null,null,null,null,null,null,null,null,null,null,null,null,null,null,{"$f":"IF(SUM(F132)<=SUM(AB$12+AD$12),0,1)","v":0},{"$f":"IF(SUM($G$131)<=SUM(AC$12+AE$12),0,1)","v":0},{"$f":"IF(SUM($H132)<=SUM($AF$12,$F$45),0,1)","v":0},{"$f":"IF(SUM($I132)<=SUM($AG$12,$G$45),0,1)","v":0},{"$f":"IF(SUM($J132)<=SUM($H$45+$J$45+$L$45+$N$45),0,1)","v":0},{"$f":"IF(SUM($K132)<=SUM($I$45+$K$45+$M$45+$O$45),0,1)","v":0}]
["HTA Estadio I ",null,0,{"$f":"+F133+H133+J133","v":0},0,null,null,null,null,null,null,null,"",null,null,null,null,null,null,null,null,null,null,null,null,null,null,null,null,null,null,null,null,null,null,null,null,null,null,null,null,null,null,null,null,null,null,null,null,null,null,null,null,null,null,null,null,null,null,null,null,null,null,null,null,null,null,null,null,null,null,null,null,null,null,null,null,null,"","","",{"$f":"IF(SUM(I133)<=SUM($AG$14,$G$45),\"\",\"* Mujeres de 48 a 71 meses clasificados debe ser menor o igual al Total de la población de Mujeres bajo control de en sección A y A1 de la misma edad. \")","v":""},"","","",null,null,null,null,null,null,null,null,null,null,null,null,null,null,null,null,null,null,null,null,null,null,null,null,null,null,null,null,null,null,null,null,null,null,0,0,0,0,0,0]
["HTA Estadio II",null,0,0,0,null,null,null,null,null,null,null,"",null,null,null,null,null,null,null,null,null,null,null,null,null,null,null,null,null,null,null,null,null,null,null,null,null,null,null,null,null,null,null,null,null,null,null,null,null,null,null,null,null,null,null,null,null,null,null,null,null,null,null,null,null,null,null,null,null,null,null,null,null,null,null,null,null,"","","",{"$f":"IF(SUM(I134)<=SUM($AG$12,$G$45),\"\",\"* Mujeres de 48 a 71 meses clasificados debe ser menor o igual al Total de la población de Mujeres bajo control de en sección A y A1 de la misma edad. \")","v":""},"","","",null,null,null,null,null,null,null,null,null,null,null,null,null,null,null,null,null,null,null,null,null,null,null,null,null,null,null,null,null,null,null,null,null,null,0,0,0,{"$f":"IF(SUM($I134)<=SUM($AG$12,$G$45),0,1)","v":0},0,0]
["Total",null,{"$f":"SUM(D135:E135)","v":0},{"$f":"+F135+H135+J135","v":0},{"$f":"+G135+I135+K135","v":0},{"$f":"SUM(F131:F134)","v":0},{"$f":"SUM(G131:G134)","v":0},{"$f":"SUM(H131:H134)","v":0},0,0,{"$f":"SUM(K131:K134)","v":0},{"$f":"SUM(L131:L134)","v":0}]
["SECCION G: POBLACIÓN INFANTIL EUTRÓFICA, SEGÚN RIESGO DE MALNUTRICIÓN POR EXCESO (Incluida en sección A y A1)"]
["RESULTADO",null,"TOTAL","RANGO ETARIO (en meses)"]
[null,null,null,"4 a 11 meses","12 a 23 meses","24 a 35 meses","36 a 47 meses","48 a 59 meses","60 a 71 meses"]
["Sin Riesgo",null,{"$f":"SUM(D139:I139)","v":0},null,null,null,null,null,null,{"$f":" CA139 & CB139 & CC139 & CD139 & CE139 & CF139","v":""},null,null,null,null,null,null,null,null,null,null,null,null,null,null,null,null,null,null,null,null,null,null,null,null,null,null,null,null,null,null,null,null,null,null,null,null,null,null,null,null,null,null,null,null,null,null,null,null,null,null,null,null,null,null,null,null,null,null,null,null,null,null,null,null,null,null,null,null,{"$f":"IF($D139<=SUM($N$36:$U$36),\"\",\"*Población de niños/as de 4 a 11 meses eutróficos clasificados SIN RIESGO debe ser menor o igual al Total niños/as con Estado nutricional NORMAL sección A de la misma edad.\")","v":""},{"$f":"IF($E139<=SUM($V$36:$Y$36),\"\",\"*Población de niños/as de 12 a 23 meses eutróficos clasificados SIN RIESGO debe ser menor o igual al Total niños/as con Estado nutricional NORMAL sección A de la misma edad.\")","v":""},{"$f":"IF($F139<=SUM($Z$36:$AA$36),\"\",\"*Población de niños/as de 24 a 35 meses eutróficos clasificados SIN RIESGO debe ser menor o igual al Total niños/as con Estado nutricional NORMAL sección A de la misma edad.\")","v":""},{"$f":"IF($G139<=SUM($AB$36:$AE$36),\"\",\"*Población de niños/as de 36 a 47 meses eutróficos clasificados SIN RIESGO debe ser menor o igual al Total niños/as con Estado nutricional NORMAL sección A de la misma edad.\")","v":""},{"$f":"IF($H139<=SUM($AF$36:$AG$36),\"\",\"*Población de niños/as de 48 a 59 meses eutróficos clasificados SIN RIESGO debe ser menor o igual al Total niños/as con Estado nutricional NORMAL sección A de la misma edad.\")","v":""},{"$f":"IF($I139<=SUM($F$70:$G$70),\"\",\"*Población de niños/as de 60 a 71 meses eutróficos clasificados SIN RIESGO debe ser menor o igual al Total niños/as con Estado nutricional NORMAL sección A de la misma edad.\")","v":""},null,null,null,null,null,null,null,null,null,null,null,null,null,null,null,null,null,null,null,null,null,null,null,null,null,null,null,null,null,null,null,null,null,null,null,{"$f":"IF($D139<=SUM($N$36:$U$36),0,1)","v":0},{"$f":"IF($E139<=SUM($V$36:$Y$36),0,1)","v":0},{"$f":"IF($F139<=SUM($Z$36:$AA$36),0,1)","v":0},{"$f":"IF($G139<=SUM($AB$36:$AC$36),0,1)","v":0},{"$f":"IF($H139<=SUM($AF$36:$AG$36),0,1)","v":0},{"$f":"IF($I139<=SUM($F$70:$G$70),0,1)","v":0}]
["Con Riesgo",null,{"$f":"SUM(D140:I140)","v":0},null,null,null,null,null,null,{"$f":" CA140 & CB140 & CC140 & CD140 & CE140 & CF140","v":""},null,null,null,null,null,null,null,null,null,null,null,null,null,null,null,null,null,null,null,null,null,null,null,null,null,null,null,null,null,null,null,null,null,null,null,null,null,null,null,null,null,null,null,null,null,null,null,null,null,null,null,null,null,null,null,null,null,null,null,null,null,null,null,null,null,null,null,null,{"$f":"IF($D140<=SUM($N$36:$U$36),\"\",\"*Población de niños/as de 4 a 11 meses eutróficos clasificados CON RIESGO debe ser menor o igual al Total niños/as con Estado nutricional NORMAL sección A de la misma edad.\")","v":""},{"$f":"IF($E140<=SUM($V$36:$Y$36),\"\",\"*Población de niños/as de 12 a 23 meses eutróficos clasificados CON RIESGO debe ser menor o igual al Total niños/as con Estado nutricional NORMAL sección A de la misma edad.\")","v":""},{"$f":"IF($F140<=SUM($Z$36:$AA$36),\"\",\"*Población de niños/as de 24 a 35 meses eutróficos clasificados CON RIESGO debe ser menor o igual al Total niños/as con Estado nutricional NORMAL sección A de la misma edad.\")","v":""},{"$f":"IF($G140<=SUM($AB$36:$AE$36),\"\",\"*Población de niños/as de 36 a 47 meses eutróficos clasificados CON RIESGO debe ser menor o igual al Total niños/as con Estado nutricional NORMAL sección A de la misma edad.\")","v":""},{"$f":"IF($H140<=SUM($AF$36:$AG$36),\"\",\"*Población de niños/as de 48 a 59 meses eutróficos clasificados CON RIESGO debe ser menor o igual al Total niños/as con Estado nutricional NORMAL sección A de la misma edad.\")","v":""},{"$f":"IF($I140<=SUM($F$70:$G$70),\"\",\"*Población de niños/as de 60 a 71 meses eutróficos clasificados CON RIESGO debe ser menor o igual al Total niños/as con Estado nutricional NORMAL sección A de la misma edad.\")","v":""},null,null,null,null,null,null,null,null,null,null,null,null,null,null,null,null,null,null,null,null,null,null,null,null,null,null,null,null,null,null,null,null,null,null,null,{"$f":"IF($D140<=SUM($N$36:$U$36),0,1)","v":0},{"$f":"IF($E140<=SUM($V$36:$Y$36),0,1)","v":0},{"$f":"IF($F140<=SUM($Z$36:$AA$36),0,1)","v":0},{"$f":"IF($G140<=SUM($AB$36:$AC$36),0,1)","v":0},{"$f":"IF($H140<=SUM($AF$36:$AG$36),0,1)","v":0},{"$f":"IF($I140<=SUM($F$70:$G$70),0,1)","v":0}]
["Total",null,{"$f":"SUM(D141:I141)","v":0},{"$f":"SUM(D139:D140)","v":0},0,0,0,0,0,{"$f":" CE141 & CF141 & CG141 & CH141 & CJ141 & CK141","v":""}]
["SECCION H: POBLACIÓN SEGÚN DIAGNÓSTICO DE NIÑOS, NIÑAS Y ADOLESCENTES CON NECESIDADES ESPECIALES DE ATENCIÓN EN SALUD (NANEAS) (Incluida en sección A y A1)"]
["DIAGNOSTICOS",null,"TOTAL",null,null,"RANGO ETARIO (en meses - años) Y SEXO",null,null,null,null,null,null,null,null,null,null,null,null,null,null,null,null,null,null,null,null,null,null,null,null,null,null,null,null,null,null,null,null,null,null,null,null,null,"Pueblos Originarios",null,"Migrantes"]
[null,null,null,null,null,"Menor de 1 mes",null,"1 mes",null,"2 meses",null,"3 meses",null,"4 meses",null,"5 meses",null,"6 meses",null,"7 a 11 meses",null,"12 a 17 meses",null,"18 a 23 meses",null,"24 a 35 meses",null,"36 a 41 meses",null,"42 a 47 meses",null,"48 a 59 meses",null,"60 a 71 meses",null,"6 a 7 años",null,"8 a 9 años",null,"10 a 14 años",null,"15 a 19 años"]
[null,null,"Ambos sexos","Hombres","Mujeres","Hombres","Mujeres","Hombres","Mujeres","Hombres","Mujeres","Hombres","Mujeres","Hombres","Mujeres","Hombres","Mujeres","Hombres","Mujeres","Hombres","Mujeres","Hombres","Mujeres","Hombres","Mujeres","Hombres","Mujeres","Hombres","Mujeres","Hombres","Mujeres","Hombres","Mujeres","Hombres","Mujeres","Hombres","Mujeres","Hombres","Mujeres","Hombres","Mujeres","Hombres","Mujeres","Hombres","Mujeres","Hombres","Mujeres"]
[" POBLACIÓN NANEAS BAJO CONTROL",null,{"$f":"SUM(D146:E146)","v":0},{"$f":"+F146+H146+J146+L146+N146+P146+R146+T146+V146+X146+Z146+AB146+AD146+AF146+AH146+AN146+AP146+AJ146+AL146","v":0},{"$f":"+G146+I146+K146+M146+O146+Q146+S146+U146+W146+Y146+AA146+AC146+AE146+AG146+AI146+AO146+AQ146+AK146+AM146","v":0},null,null,null,null,null,null,null,null,null,null,null,null,null,null,null,null,null,null,null,null,null,null,null,null,null,null,null,null,null,null,null,null,null,null,null,null,null,null,null,null,null,null,{"$f":"CA146&CB146&CC146&CD146","v":""},null,null,null,null,null,null,null,null,null,null,null,null,null,null,null,null,null,null,null,null,null,null,null,null,null,null,null,null,null,null,{"$f":"IF(AND(D146>0,AR146=\"\"),\" * No olvide digitar la variable Pueblos Originarios  hombres (Digite Cero si no tiene).\",IF(AR146>D146,\" * La variable Pueblos Originarios  hombres  no debe ser mayor que el Total de Hombres.\",\"\"))","v":""},{"$f":"IF(AND(E146>0,AS146=\"\"),\" * No olvide digitar la variable Pueblos Originarios Mujeres (Digite Cero si no tiene). Digite Cero si no tiene.\",IF(AS146>E146,\" * La variable Pueblos Originarios Mujeres no debe ser mayor que el Total de Mujeres\",\"\"))","v":""},{"$f":"IF(AND(D146>0,AT146=\"\"),\" * No olvide digitar la variable Migrantes hombres (Digite Cero si no tiene).\",IF(AT146>D146,\" * La variable Migrantes  hombres  no debe ser mayor que el Total de Hombres\",\"\"))","v":""},{"$f":"IF(AND(E146>0,AU146=\"\"),\" * No olvide digitar la variable Migrantes Mujeres (Digite Cero si no tiene).\",IF(AU146>E146,\" * La variable Migrantes  Mujeres no debe ser mayor que el Total de Mujeres\",\"\"))","v":""},null,null,null,null,null,null,null,null,null,null,null,null,null,null,null,null,null,null,null,null,null,null,null,null,null,null,null,null,null,null,null,null,null,null,null,null,null,{"$f":"IF(AND(D146>0,AR146=\"\"),1,IF(AR146>D146,1,0))","v":0},{"$f":"IF(AND(E146>0,AS146=\"\"),1,IF(AS146>E146,1,0))","v":0},{"$f":"IF(AND(D146>0,AT146=\"\"),1,IF(AT146>D146,1,0))","v":0},{"$f":"IF(AND(E146>0,AU146=\"\"),1,IF(AU146>E146,1,0))","v":0}]
["Síndrome de Down ",null,{"$f":"SUM(D147:E147)","v":0},0,0,null,null,null,null,null,null,null,null,null,null,null,null,null,null,null,null,null,null,null,null,null,null,null,null,null,null,null,null,null,null,null,null,null,null,null,null,null,null,null,null,null,null,{"$f":"CA147&CB147&CC147&CD147","v":""},null,null,null,null,null,null,null,null,null,null,null,null,null,null,null,null,null,null,null,null,null,null,null,null,null,null,null,null,null,null,{"$f":"IF(AND(D147>0,AR147=\"\"),\" * No olvide digitar la variable Pueblos Originarios  hombres (Digite Cero si no tiene).\",IF(AR147>D147,\" * La variable Pueblos Originarios  hombres  no debe ser mayor que el Total de Hombres.\",\"\"))","v":""},{"$f":"IF(AND(E147>0,AS147=\"\"),\" * No olvide digitar la variable Pueblos Originarios Mujeres (Digite Cero si no tiene). Digite Cero si no tiene.\",IF(AS147>E147,\" * La variable Pueblos Originarios Mujeres no debe ser mayor que el Total de Mujeres\",\"\"))","v":""},"","",null,null,null,null,null,null,null,null,null,null,null,null,null,null,null,null,null,null,null,null,null,null,null,null,null,null,null,null,null,null,null,null,null,null,null,null,null,0,0,0,0]
["Trastorno del Espectro Autista ","Trastorno del Espectro Autista ",0,0,0,null,null,null,null,null,null,null,null,null,null,null,null,null,null,null,null,null,null,null,null,null,null,null,null,null,null,null,null,null,null,null,null,null,null,null,null,null,null,null,null,null,null,"",null,null,null,null,null,null,null,null,null,null,null,null,null,null,null,null,null,null,null,null,null,null,null,null,null,null,null,null,null,null,"","","","",null,null,null,null,null,null,null,null,null,null,null,null,null,null,null,null,null,null,null,null,null,null,null,null,null,null,null,null,null,null,null,null,null,null,null,null,null,0,0,0,0]
["Síndrome de Rett ","Síndrome de Rett ",0,0,0,null,null,null,null,null,null,null,null,null,null,null,null,null,null,null,null,null,null,null,null,null,null,null,null,null,null,null,null,null,null,null,null,null,null,null,null,null,null,null,null,null,null,"",null,null,null,null,null,null,null,null,null,null,null,null,null,null,null,null,null,null,null,null,null,null,null,null,null,null,null,null,null,null,"","","","",null,null,null,null,null,null,null,null,null,null,null,null,null,null,null,null,null,null,null,null,null,null,null,null,null,null,null,null,null,null,null,null,null,null,null,null,null,0,0,0,0]
["Parálisis Cerebral ","Parálisis Cerebral ",0,0,0,null,null,null,null,null,null,null,null,null,null,null,null,null,null,null,null,null,null,null,null,null,null,null,null,null,null,null,null,null,null,null,null,null,null,null,null,null,null,null,null,null,null,"",null,null,null,null,null,null,null,null,null,null,null,null,null,null,null,null,null,null,null,null,null,null,null,null,null,null,null,null,null,null,"","","","",null,null,null,null,null,null,null,null,null,null,null,null,null,null,null,null,null,null,null,null,null,null,null,null,null,null,null,null,null,null,null,null,null,null,null,null,null,0,0,0,0]
["Epilepsia ","Epilepsia ",0,0,0,null,null,null,null,null,null,null,null,null,null,null,null,null,null,null,null,null,null,null,null,null,null,null,null,null,null,null,null,null,null,null,null,null,null,null,null,null,null,null,null,null,null,"",null,null,null,null,null,null,null,null,null,null,null,null,null,null,null,null,null,null,null,null,null,null,null,null,null,null,null,null,null,null,"","","","",null,null,null,null,null,null,null,null,null,null,null,null,null,null,null,null,null,null,null,null,null,null,null,null,null,null,null,null,null,null,null,null,null,null,null,null,null,0,0,0,0]
["Otros trastornos del Neurodesarrollo (no incluye TEA) ","Otros trastornos del Neurodesarrollo  ( no incluye TEA)",0,0,0,null,null,null,null,null,null,null,null,null,null,null,null,null,null,null,null,null,null,null,null,null,null,null,null,null,null,null,null,null,null,null,null,null,null,null,null,null,null,null,null,null,null,"",null,null,null,null,null,null,null,null,null,null,null,null,null,null,null,null,null,null,null,null,null,null,null,null,null,null,null,null,null,null,"","","","",null,null,null,null,null,null,null,null,null,null,null,null,null,null,null,null,null,null,null,null,null,null,null,null,null,null,null,null,null,null,null,null,null,null,null,null,null,0,0,0,0]
["Hipertensión Arterial ","Hipertensión Arterial (En vez de Presión Arterial Elevada) ",0,0,0,null,null,null,null,null,null,null,null,null,null,null,null,null,null,null,null,null,null,null,null,null,null,null,null,null,null,null,null,null,null,null,null,null,null,null,null,null,null,null,null,null,null,"",null,null,null,null,null,null,null,null,null,null,null,null,null,null,null,null,null,null,null,null,null,null,null,null,null,null,null,null,null,null,"","","","",null,null,null,null,null,null,null,null,null,null,null,null,null,null,null,null,null,null,null,null,null,null,null,null,null,null,null,null,null,null,null,null,null,null,null,null,null,0,0,0,0]
["Enfermedad renal crónica ","Enfermedad renal crónica ",0,0,0,null,null,null,null,null,null,null,null,null,null,null,null,null,null,null,null,null,null,null,null,null,null,null,null,null,null,null,null,null,null,null,null,null,null,null,null,null,null,null,null,null,null,"",null,null,null,null,null,null,null,null,null,null,null,null,null,null,null,null,null,null,null,null,null,null,null,null,null,null,null,null,null,null,"","","","",null,null,null,null,null,null,null,null,null,null,null,null,null,null,null,null,null,null,null,null,null,null,null,null,null,null,null,null,null,null,null,null,null,null,null,null,null,0,0,0,0]
["Otras Enfermedades cardiovasculares crónicas (no incluye Hipertensión Arterial ni Cardiopatías Congénitas)","Otras Enfermedades cardiovasculares crónicas (no incluye Hipertensión Arterial ni Cardiopatías Congénitas)",0,0,0,null,null,null,null,null,null,null,null,null,null,null,null,null,null,null,null,null,null,null,null,null,null,null,null,null,null,null,null,null,null,null,null,null,null,null,null,null,null,null,null,null,null,"",null,null,null,null,null,null,null,null,null,null,null,null,null,null,null,null,null,null,null,null,null,null,null,null,null,null,null,null,null,null,"","","","",null,null,null,null,null,null,null,null,null,null,null,null,null,null,null,null,null,null,null,null,null,null,null,null,null,null,null,null,null,null,null,null,null,null,null,null,null,0,0,0,0]
["Enfermedades gastrointestinales crónicas (no incluye enfermedad celiaca)","Enfermedades crónicas gastrointestinales (no incluye enfermedad celiaca)",0,0,0,null,null,null,null,null,null,null,null,null,null,null,null,null,null,null,null,null,null,null,null,null,null,null,null,null,null,null,null,null,null,null,null,null,null,null,null,null,null,null,null,null,null,"",null,null,null,null,null,null,null,null,null,null,null,null,null,null,null,null,null,null,null,null,null,null,null,null,null,null,null,null,null,null,"","","","",null,null,null,null,null,null,null,null,null,null,null,null,null,null,null,null,null,null,null,null,null,null,null,null,null,null,null,null,null,null,null,null,null,null,null,null,null,0,0,0,0]
["Enfermedades crónicas del sistema visual (no incluye estrabismo ni errores de refracción)","Enfermedades crónicas del sistema visual (no incluye Estabismo ni Errores de Refracción)",0,0,0,null,null,null,null,null,null,null,null,null,null,null,null,null,null,null,null,null,null,null,null,null,null,null,null,null,null,null,null,null,null,null,null,null,null,null,null,null,null,null,null,null,null,"",null,null,null,null,null,null,null,null,null,null,null,null,null,null,null,null,null,null,null,null,null,null,null,null,null,null,null,null,null,null,"","","","",null,null,null,null,null,null,null,null,null,null,null,null,null,null,null,null,null,null,null,null,null,null,null,null,null,null,null,null,null,null,null,null,null,null,null,null,null,0,0,0,0]
["Enfermedades crónicas del oído ","Enfermedades crónicas del oído ",0,0,0,null,null,null,null,null,null,null,null,null,null,null,null,null,null,null,null,null,null,null,null,null,null,null,null,null,null,null,null,null,null,null,null,null,null,null,null,null,null,null,null,null,null,"",null,null,null,null,null,null,null,null,null,null,null,null,null,null,null,null,null,null,null,null,null,null,null,null,null,null,null,null,null,null,"","","","",null,null,null,null,null,null,null,null,null,null,null,null,null,null,null,null,null,null,null,null,null,null,null,null,null,null,null,null,null,null,null,null,null,null,null,null,null,0,0,0,0]
["Enfermedades crónicas de piel y mucosas ","Enfermedades crónicas de piel y mucosas ",0,0,0,null,null,null,null,null,null,null,null,null,null,null,null,null,null,null,null,null,null,null,null,null,null,null,null,null,null,null,null,null,null,null,null,null,null,null,null,null,null,null,null,null,null,"",null,null,null,null,null,null,null,null,null,null,null,null,null,null,null,null,null,null,null,null,null,null,null,null,null,null,null,null,null,null,"","","","",null,null,null,null,null,null,null,null,null,null,null,null,null,null,null,null,null,null,null,null,null,null,null,null,null,null,null,null,null,null,null,null,null,null,null,null,null,0,0,0,0]
["Neoplasias  ","Neoplasias  ",0,0,0,null,null,null,null,null,null,null,null,null,null,null,null,null,null,null,null,null,null,null,null,null,null,null,null,null,null,null,null,null,null,null,null,null,null,null,null,null,null,null,null,null,null,"",null,null,null,null,null,null,null,null,null,null,null,null,null,null,null,null,null,null,null,null,null,null,null,null,null,null,null,null,null,null,"","","","",null,null,null,null,null,null,null,null,null,null,null,null,null,null,null,null,null,null,null,null,null,null,null,null,null,null,null,null,null,null,null,null,null,null,null,null,null,0,0,0,0]
["Malformaciones congénitas y deformidades","Malformaciones congénitas y deformidades",0,0,0,null,null,null,null,null,null,null,null,null,null,null,null,null,null,null,null,null,null,null,null,null,null,null,null,null,null,null,null,null,null,null,null,null,null,null,null,null,null,null,null,null,null,"",null,null,null,null,null,null,null,null,null,null,null,null,null,null,null,null,null,null,null,null,null,null,null,null,null,null,null,null,null,null,"","","","",null,null,null,null,null,null,null,null,null,null,null,null,null,null,null,null,null,null,null,null,null,null,null,null,null,null,null,null,null,null,null,null,null,null,null,null,null,0,0,0,0]
["Trastornos genéticos  ","Trastornos genéticos  ",0,0,0,null,null,null,null,null,null,null,null,null,null,null,null,null,null,null,null,null,null,null,null,null,null,null,null,null,null,null,null,null,null,null,null,null,null,null,null,null,null,null,null,null,null,"",null,null,null,null,null,null,null,null,null,null,null,null,null,null,null,null,null,null,null,null,null,null,null,null,null,null,null,null,null,null,"","","","",null,null,null,null,null,null,null,null,null,null,null,null,null,null,null,null,null,null,null,null,null,null,null,null,null,null,null,null,null,null,null,null,null,null,null,null,null,0,0,0,0]
["Prematuros",null,{"$f":"SUM(D163:E163)","v":0},{"$f":"+F163+H163+J163+L163+N163+P163+R163+T163+V163+X163+Z163+AB163+AD163+AF163+AH163+AN163+AP163+AJ163+AL163","v":0},{"$f":"+G163+I163+K163+M163+O163+Q163+S163+U163+W163+Y163+AA163+AC163+AE163+AG163+AI163+AO163+AQ163+AK163+AM163","v":0},null,null,null,null,null,null,null,null,null,null,null,null,null,null,null,null,null,null,null,null,null,null,null,null,null,null,null,null,null,null,null,null,null,null,null,null,null,null,null,null,null,null,"",null,null,null,null,null,null,null,null,null,null,null,null,null,null,null,null,null,null,null,null,null,null,null,null,null,null,null,null,null,null,"","","","",null,null,null,null,null,null,null,null,null,null,null,null,null,null,null,null,null,null,null,null,null,null,null,null,null,null,null,null,null,null,null,null,null,null,null,null,null,0,0,0,0]
["Enfermedades hematológicas crónicas ","Enfermedades hematológicas crónicas ",0,{"$f":"+F164+H164+J164+L164+N164+P164+R164+T164+V164+X164+Z164+AB164+AD164+AF164+AH164+AN164+AP164+AJ164+AL164","v":0},0,null,null,null,null,null,null,null,null,null,null,null,null,null,null,null,null,null,null,null,null,null,null,null,null,null,null,null,null,null,null,null,null,null,null,null,null,null,null,null,null,null,null,"",null,null,null,null,null,null,null,null,null,null,null,null,null,null,null,null,null,null,null,null,null,null,null,null,null,null,null,null,null,null,"","","","",null,null,null,null,null,null,null,null,null,null,null,null,null,null,null,null,null,null,null,null,null,null,null,null,null,null,null,null,null,null,null,null,null,null,null,null,null,0,0,0,0]
["Enfermedades musculoesqueléticas crónicas ","Enfermedades musculoesqueléticas crónicas ",0,0,0,null,null,null,null,null,null,null,null,null,null,null,null,null,null,null,null,null,null,null,null,null,null,null,null,null,null,null,null,null,null,null,null,null,null,null,null,null,null,null,null,null,null,"",null,null,null,null,null,null,null,null,null,null,null,null,null,null,null,null,null,null,null,null,null,null,null,null,null,null,null,null,null,null,"","","","",null,null,null,null,null,null,null,null,null,null,null,null,null,null,null,null,null,null,null,null,null,null,null,null,null,null,null,null,null,null,null,null,null,null,null,null,null,0,0,0,0]
["Enfermedades del sistema inmunitario (no incluye asma, ni alergias alimentarias) ","Enfermedades del sistema inmunitario (no incluye asma, ni alergias alimentarias) ",0,0,0,null,null,null,null,null,null,null,null,null,null,null,null,null,null,null,null,null,null,null,null,null,null,null,null,null,null,null,null,null,null,null,null,null,null,null,null,null,null,null,null,null,null,"",null,null,null,null,null,null,null,null,null,null,null,null,null,null,null,null,null,null,null,null,null,null,null,null,null,null,null,null,null,null,"","","","",null,null,null,null,null,null,null,null,null,null,null,null,null,null,null,null,null,null,null,null,null,null,null,null,null,null,null,null,null,null,null,null,null,null,null,null,null,0,0,0,0]
["Alergias alimentarias","Alergias alimentarias",0,0,0,null,null,null,null,null,null,null,null,null,null,null,null,null,null,null,null,null,null,null,null,null,null,null,null,null,null,null,null,null,null,null,null,null,null,null,null,null,null,null,null,null,null,"",null,null,null,null,null,null,null,null,null,null,null,null,null,null,null,null,null,null,null,null,null,null,null,null,null,null,null,null,null,null,"","","","",null,null,null,null,null,null,null,null,null,null,null,null,null,null,null,null,null,null,null,null,null,null,null,null,null,null,null,null,null,null,null,null,null,null,null,null,null,0,0,0,0]
["Otras Enfermedades endocrinológicas (no incluye Hipotiroidismo, ni Diabetes) ","Otras Enfermedades endocrinológicas (no incluye Hipotiroidismo, ni Diabetes) ",0,0,0,null,null,null,null,null,null,null,null,null,null,null,null,null,null,null,null,null,null,null,null,null,null,null,null,null,null,null,null,null,null,null,null,null,null,null,null,null,null,null,null,null,null,"",null,null,null,null,null,null,null,null,null,null,null,null,null,null,null,null,null,null,null,null,null,null,null,null,null,null,null,null,null,null,"","","","",null,null,null,null,null,null,null,null,null,null,null,null,null,null,null,null,null,null,null,null,null,null,null,null,null,null,null,null,null,null,null,null,null,null,null,null,null,0,0,0,0]
["Hipotiroidismo ","Hipotiroidismo ",{"$f":"SUM(D169:E169)","v":0},0,0,null,null,null,null,null,null,null,null,null,null,null,null,null,null,null,null,null,null,null,null,null,null,null,null,null,null,null,null,null,null,null,null,null,null,null,null,null,null,null,null,null,null,"",null,null,null,null,null,null,null,null,null,null,null,null,null,null,null,null,null,null,null,null,null,null,null,null,null,null,null,null,null,null,"","","","",null,null,null,null,null,null,null,null,null,null,null,null,null,null,null,null,null,null,null,null,null,null,null,null,null,null,null,null,null,null,null,null,null,null,null,null,null,0,0,0,0]
["Diabetes tipo I ","Diabetes tipo I ",0,0,0,null,null,null,null,null,null,null,null,null,null,null,null,null,null,null,null,null,null,null,null,null,null,null,null,null,null,null,null,null,null,null,null,null,null,null,null,null,null,null,null,null,null,"",null,null,null,null,null,null,null,null,null,null,null,null,null,null,null,null,null,null,null,null,null,null,null,null,null,null,null,null,null,null,"","","","",null,null,null,null,null,null,null,null,null,null,null,null,null,null,null,null,null,null,null,null,null,null,null,null,null,null,null,null,null,null,null,null,null,null,null,null,null,0,0,0,0]
["Diabetes tipo II ","Diabetes tipo II ",0,0,0,null,null,null,null,null,null,null,null,null,null,null,null,null,null,null,null,null,null,null,null,null,null,null,null,null,null,null,null,null,null,null,null,null,null,null,null,null,null,null,null,null,null,"",null,null,null,null,null,null,null,null,null,null,null,null,null,null,null,null,null,null,null,null,null,null,null,null,null,null,null,null,null,null,"","","","",null,null,null,null,null,null,null,null,null,null,null,null,null,null,null,null,null,null,null,null,null,null,null,null,null,null,null,null,null,null,null,null,null,null,null,null,null,0,0,0,0]
["Otros Trastornos del metabolismo ","Otros Trastornos del metabolismo ",{"$f":"SUM(D172:E172)","v":0},{"$f":"+F172+H172+J172+L172+N172+P172+R172+T172+V172+X172+Z172+AB172+AD172+AF172+AH172+AN172+AP172+AJ172+AL172","v":0},0,null,null,null,null,null,null,null,null,null,null,null,null,null,null,null,null,null,null,null,null,null,null,null,null,null,null,null,null,null,null,null,null,null,null,null,null,null,null,null,null,null,null,"",null,null,null,null,null,null,null,null,null,null,null,null,null,null,null,null,null,null,null,null,null,null,null,null,null,null,null,null,null,null,"","","","",null,null,null,null,null,null,null,null,null,null,null,null,null,null,null,null,null,null,null,null,null,null,null,null,null,null,null,null,null,null,null,null,null,null,null,null,null,0,0,0,0]
["Otras Enfermedades respiratorias crónicas (no incluye Asma, ni Fibrosis Quística) ","Otras Enfermedades respiratorias crónicas (no incluye Asma, ni Fibrosis Quística) ",0,0,0,null,null,null,null,null,null,null,null,null,null,null,null,null,null,null,null,null,null,null,null,null,null,null,null,null,null,null,null,null,null,null,null,null,null,null,null,null,null,null,null,null,null,"",null,null,null,null,null,null,null,null,null,null,null,null,null,null,null,null,null,null,null,null,null,null,null,null,null,null,null,null,null,null,"","","","",null,null,null,null,null,null,null,null,null,null,null,null,null,null,null,null,null,null,null,null,null,null,null,null,null,null,null,null,null,null,null,null,null,null,null,null,null,0,0,0,0]
["Fibrosis Quística ","Fibrosis Quística ",0,0,0,null,null,null,null,null,null,null,null,null,null,null,null,null,null,null,null,null,null,null,null,null,null,null,null,null,null,null,null,null,null,null,null,null,null,null,null,null,null,null,null,null,null,"",null,null,null,null,null,null,null,null,null,null,null,null,null,null,null,null,null,null,null,null,null,null,null,null,null,null,null,null,null,null,"","","","",null,null,null,null,null,null,null,null,null,null,null,null,null,null,null,null,null,null,null,null,null,null,null,null,null,null,null,null,null,null,null,null,null,null,null,null,null,0,0,0,0]
["Otras condiciones asociadas a NANEAS ","Otras condiciones asociadas a NANEAS ",0,0,0,null,null,null,null,null,null,null,null,null,null,null,null,null,null,null,null,null,null,null,null,null,null,null,null,null,null,null,null,null,null,null,null,null,null,null,null,null,null,null,null,null,null,"",null,null,null,null,null,null,null,null,null,null,null,null,null,null,null,null,null,null,null,null,null,null,null,null,null,null,null,null,null,null,"","","","",null,null,null,null,null,null,null,null,null,null,null,null,null,null,null,null,null,null,null,null,null,null,null,null,null,null,null,null,null,null,null,null,null,null,null,null,null,0,0,0,0]
["Hospitalización Domiciliaria  ",null,0,0,0,null,null,null,null,null,null,null,null,null,null,null,null,null,null,null,null,null,null,null,null,null,null,null,null,null,null,null,null,null,null,null,null,null,null,null,null,null,null,null,null,null,null,"",null,null,null,null,null,null,null,null,null,null,null,null,null,null,null,null,null,null,null,null,null,null,null,null,null,null,null,null,null,null,"","","","",null,null,null,null,null,null,null,null,null,null,null,null,null,null,null,null,null,null,null,null,null,null,null,null,null,null,null,null,null,null,null,null,null,null,null,null,null,0,0,0,0]
["Oxigenoterapia Ambulatoria ","Oxigenoterapia Ambulatoria ",0,0,0,null,null,null,null,null,null,null,null,null,null,null,null,null,null,null,null,null,null,null,null,null,null,null,null,null,null,null,null,null,null,null,null,null,null,null,null,null,null,null,null,null,null,"",null,null,null,null,null,null,null,null,null,null,null,null,null,null,null,null,null,null,null,null,null,null,null,null,null,null,null,null,null,null,"","","","",null,null,null,null,null,null,null,null,null,null,null,null,null,null,null,null,null,null,null,null,null,null,null,null,null,null,null,null,null,null,null,null,null,null,null,null,null,0,0,0,0]
["Asistencia ventilatoria Invasiva y No invasiva ","Asistencia ventilatoria Invasiva y No invasiva ",0,0,0,null,null,null,null,null,null,null,null,null,null,null,null,null,null,null,null,null,null,null,null,null,null,null,null,null,null,null,null,null,null,null,null,null,null,null,null,null,null,null,null,null,null,"",null,null,null,null,null,null,null,null,null,null,null,null,null,null,null,null,null,null,null,null,null,null,null,null,null,null,null,null,null,null,"","","","",null,null,null,null,null,null,null,null,null,null,null,null,null,null,null,null,null,null,null,null,null,null,null,null,null,null,null,null,null,null,null,null,null,null,null,null,null,0,0,0,0]
["Errores Innatos del Metabolismo",null,0,0,0,null,null,null,null,null,null,null,null,null,null,null,null,null,null,null,null,null,null,null,null,null,null,null,null,null,null,null,null,null,null,null,null,null,null,null,null,null,null,null,null,null,null,"",null,null,null,null,null,null,null,null,null,null,null,null,null,null,null,null,null,null,null,null,null,null,null,null,null,null,null,null,null,null,"","","","",null,null,null,null,null,null,null,null,null,null,null,null,null,null,null,null,null,null,null,null,null,null,null,null,null,null,null,null,null,null,null,null,null,null,null,null,null,0,0,0,0]
["Asma","Asma",0,0,0,null,null,null,null,null,null,null,null,null,null,null,null,null,null,null,null,null,null,null,null,null,null,null,null,null,null,null,null,null,null,null,null,null,null,null,null,null,null,null,null,null,null,"",null,null,null,null,null,null,null,null,null,null,null,null,null,null,null,null,null,null,null,null,null,null,null,null,null,null,null,null,null,null,"","","","",null,null,null,null,null,null,null,null,null,null,null,null,null,null,null,null,null,null,null,null,null,null,null,null,null,null,null,null,null,null,null,null,null,null,null,null,null,0,0,0,0]
["Cardiopatía congénita","Cardiopatía congénita",0,0,0,null,null,null,null,null,null,null,null,null,null,null,null,null,null,null,null,null,null,null,null,null,null,null,null,null,null,null,null,null,null,null,null,null,null,null,null,null,null,null,null,null,null,"",null,null,null,null,null,null,null,null,null,null,null,null,null,null,null,null,null,null,null,null,null,null,null,null,null,null,null,null,null,null,"","","","",null,null,null,null,null,null,null,null,null,null,null,null,null,null,null,null,null,null,null,null,null,null,null,null,null,null,null,null,null,null,null,null,null,null,null,null,null,0,0,0,0]
["Enfermedad celiaca ","Enfermedad celiaca ",0,0,0,null,null,null,null,null,null,null,null,null,null,null,null,null,null,null,null,null,null,null,null,null,null,null,null,null,null,null,null,null,null,null,null,null,null,null,null,null,null,null,null,null,null,"",null,null,null,null,null,null,null,null,null,null,null,null,null,null,null,null,null,null,null,null,null,null,null,null,null,null,null,null,null,null,"","","","",null,null,null,null,null,null,null,null,null,null,null,null,null,null,null,null,null,null,null,null,null,null,null,null,null,null,null,null,null,null,null,null,null,null,null,null,null,0,0,0,0]
["Estrabismo ","Estrabismo ",0,0,0,null,null,null,null,null,null,null,null,null,null,null,null,null,null,null,null,null,null,null,null,null,null,null,null,null,null,null,null,null,null,null,null,null,null,null,null,null,null,null,null,null,null,"",null,null,null,null,null,null,null,null,null,null,null,null,null,null,null,null,null,null,null,null,null,null,null,null,null,null,null,null,null,null,"","","","",null,null,null,null,null,null,null,null,null,null,null,null,null,null,null,null,null,null,null,null,null,null,null,null,null,null,null,null,null,null,null,null,null,null,null,null,null,0,0,0,0]
["Errores de refracción","Errores de refracción",0,0,0,null,null,null,null,null,null,null,null,null,null,null,null,null,null,null,null,null,null,null,null,null,null,null,null,null,null,null,null,null,null,null,null,null,null,null,null,null,null,null,null,null,null,"",null,null,null,null,null,null,null,null,null,null,null,null,null,null,null,null,null,null,null,null,null,null,null,null,null,null,null,null,null,null,"","","","",null,null,null,null,null,null,null,null,null,null,null,null,null,null,null,null,null,null,null,null,null,null,null,null,null,null,null,null,null,null,null,null,null,null,null,null,null,0,0,0,0]
["Otras Enfermedades crónicas neurológicas (No incluye síndrome de Rett, Paráisis Cerebral, Epilepsia, TEA)","Otras Enfermedades crónicas neurológicas (No incluye síndrome de Rett, Parálisis Cerebral, Epiepsia, TEA)",{"$f":"SUM(D185:E185)","v":0},{"$f":"+F185+H185+J185+L185+N185+P185+R185+T185+V185+X185+Z185+AB185+AD185+AF185+AH185+AN185+AP185+AJ185+AL185","v":0},0,null,null,null,null,null,null,null,null,null,null,null,null,null,null,null,null,null,null,null,null,null,null,null,null,null,null,null,null,null,null,null,null,null,null,null,null,null,null,null,null,null,null,"",null,null,null,null,null,null,null,null,null,null,null,null,null,null,null,null,null,null,null,null,null,null,null,null,null,null,null,null,null,null,"","","","",null,null,null,null,null,null,null,null,null,null,null,null,null,null,null,null,null,null,null,null,null,null,null,null,null,null,null,null,null,null,null,null,null,null,null,null,null,0,0,0,0]
["Disrrafias espinales","Disrafias espinales",0,0,0,null,null,null,null,null,null,null,null,null,null,null,null,null,null,null,null,null,null,null,null,null,null,null,null,null,null,null,null,null,null,null,null,null,null,null,null,null,null,null,null,null,null,"",null,null,null,null,null,null,null,null,null,null,null,null,null,null,null,null,null,null,null,null,null,null,null,null,null,null,null,null,null,null,"","","","",null,null,null,null,null,null,null,null,null,null,null,null,null,null,null,null,null,null,null,null,null,null,null,null,null,null,null,null,null,null,null,null,null,null,null,null,null,0,0,0,0]
["Escoliosis","Escoliosis",0,0,0,null,null,null,null,null,null,null,null,null,null,null,null,null,null,null,null,null,null,null,null,null,null,null,null,null,null,null,null,null,null,null,null,null,null,null,null,null,null,null,null,null,null,"",null,null,null,null,null,null,null,null,null,null,null,null,null,null,null,null,null,null,null,null,null,null,null,null,null,null,null,null,null,null,"","","","",null,null,null,null,null,null,null,null,null,null,null,null,null,null,null,null,null,null,null,null,null,null,null,null,null,null,null,null,null,null,null,null,null,null,null,null,null,0,0,0,0]
["Displasia luxante de caderas","Displasia luxante de caderas",0,0,0,null,null,null,null,null,null,null,null,null,null,null,null,null,null,null,null,null,null,null,null,null,null,null,null,null,null,null,null,null,null,null,null,null,null,null,null,null,null,null,null,null,null,"",null,null,null,null,null,null,null,null,null,null,null,null,null,null,null,null,null,null,null,null,null,null,null,null,null,null,null,null,null,null,"","","","",null,null,null,null,null,null,null,null,null,null,null,null,null,null,null,null,null,null,null,null,null,null,null,null,null,null,null,null,null,null,null,null,null,null,null,null,null,0,0,0,0]
["Cuidados paliativos","Cuidados paliativos",0,0,{"$f":"+G189+I189+K189+M189+O189+Q189+S189+U189+W189+Y189+AA189+AC189+AE189+AG189+AI189+AO189+AQ189+AK189+AM189","v":0},null,null,null,null,null,null,null,null,null,null,null,null,null,null,null,null,null,null,null,null,null,null,null,null,null,null,null,null,null,null,null,null,null,null,null,null,null,null,null,null,null,null,"",null,null,null,null,null,null,null,null,null,null,null,null,null,null,null,null,null,null,null,null,null,null,null,null,null,null,null,null,null,null,"","","","",null,null,null,null,null,null,null,null,null,null,null,null,null,null,null,null,null,null,null,null,null,null,null,null,null,null,null,null,null,null,null,null,null,null,null,null,null,0,0,0,0]
["Gran Quemado","Gran Quemado",0,0,0,null,null,null,null,null,null,null,null,null,null,null,null,null,null,null,null,null,null,null,null,null,null,null,null,null,null,null,null,null,null,null,null,null,null,null,null,null,null,null,null,null,null,"",null,null,null,null,null,null,null,null,null,null,null,null,null,null,null,null,null,null,null,null,null,null,null,null,null,null,null,null,null,null,"","","","",null,null,null,null,null,null,null,null,null,null,null,null,null,null,null,null,null,null,null,null,null,null,null,null,null,null,null,null,null,null,null,null,null,null,null,null,null,0,0,0,0]
["SECCION I: POBLACIÓN SEGÚN NIVEL DE COMPLEJIDAD DE NIÑOS, NIÑAS Y ADOLESCENTES CON NECESIDADES ESPECIALES DE ATENCIÓN EN SALUD (NANEAS) (Incluida en sección A y A1)"]
["NIVELES DE COMPLEJIDAD",null,"TOTAL",null,null,"RANGO ETARIO (en meses - años) Y SEXO",null,null,null,null,null,null,null,null,null,null,null,null,null,null,null,null,null,null,null,null,null,null,null,null,null,null,null,null,null,null,null,null,null,null,null,null,null,"Pueblos Originarios",null," Migrantes"]
[null,null,null,null,null,"Menor de 1 mes",null,"1 mes",null,"2 meses",null,"3 meses",null,"4 meses",null,"5 meses",null,"6 meses",null,"7 a 11 meses",null,"12 a 17 meses",null,"18 a 23 meses",null,"24 a 35 meses",null,"36 a 41 meses",null,"42 a 47 meses",null,"48 a 59 meses",null,"60 a 71 meses",null,"6 a 7 años",null,"8 a 9 años",null,"10 a 14 años",null,"15 a 19 años"]
[null,null,"Ambos sexos","Hombres","Mujeres","Hombres","Mujeres","Hombres","Mujeres","Hombres","Mujeres","Hombres","Mujeres","Hombres","Mujeres","Hombres","Mujeres","Hombres","Mujeres","Hombres","Mujeres","Hombres","Mujeres","Hombres","Mujeres","Hombres","Mujeres","Hombres","Mujeres","Hombres","Mujeres","Hombres","Mujeres","Hombres","Mujeres","Hombres","Mujeres","Hombres","Mujeres","Hombres","Mujeres","Hombres","Mujeres","Hombres","Mujeres","Hombres","Mujeres"]
["TOTAL POBLACIÓN NANEAS BAJO CONTROL",null,{"$f":"SUM(D195:E195)","v":0},{"$f":"+F195+H195+J195+L195+N195+P195+R195+T195+V195+X195+Z195+AB195+AD195+AF195+AH195+AN195+AP195+AJ195+AL195","v":0},{"$f":"+G195+I195+K195+M195+O195+Q195+S195+U195+W195+Y195+AA195+AC195+AE195+AG195+AI195+AO195+AQ195+AK195+AM195","v":0},{"$f":"SUM(F196:F198)","v":0},{"$f":"SUM(G196:G198)","v":0},{"$f":"SUM(H196:H198)","v":0},0,0,0,0,0,0,0,0,0,0,0,0,0,0,0,0,0,0,0,0,0,0,0,0,0,0,0,0,0,0,0,0,0,0,0,{"$f":"SUM(AR196:AR198)","v":0},{"$f":"SUM(AS196:AS198)","v":0},{"$f":"SUM(AT196:AT198)","v":0},{"$f":"SUM(AU196:AU198)","v":0},null,null,null,null,null,null,null,null,null,null,null,null,null,null,null,null,null,null,null,null,null,null,null,null,null,null,null,null,null,null,null,null,null,null,null,null,null,null,null,null,null,null,null,null,null,null,null,null,null,null,null,null,null,null,null,null,null,null,null,null,null,null,null,null,null,null,null,null,null,null,null,null,{"$f":"IF(AND(D195>0,AR195=\"\"),1,IF(AR195>D195,1,0))","v":0},0,{"$f":"IF(AND(D195>0,AT195=\"\"),1,IF(AT195>D195,1,0))","v":0},0]
["Baja Complejidad",null,{"$f":"SUM(D196:E196)","v":0},{"$f":"+F196+H196+J196+L196+N196+P196+R196+T196+V196+X196+Z196+AB196+AD196+AF196+AH196+AN196+AP196+AJ196+AL196","v":0},{"$f":"+G196+I196+K196+M196+O196+Q196+S196+U196+W196+Y196+AA196+AC196+AE196+AG196+AI196+AO196+AQ196+AK196+AM196","v":0},null,null,null,null,null,null,null,null,null,null,null,null,null,null,null,null,null,null,null,null,null,null,null,null,null,null,null,null,null,null,null,null,null,null,null,null,null,null,null,null,null,null,{"$f":"CA196&CB196&CC196&CD196","v":""},null,null,null,null,null,null,null,null,null,null,null,null,null,null,null,null,null,null,null,null,null,null,null,null,null,null,null,null,null,null,{"$f":"IF(AND(D196>0,AR196=\"\"),\" * No olvide digitar la variable Pueblos Originarios hombres (Digite Cero si no tiene).\",IF(AR196>D196,\" * La variable Pueblos Originarios hombres  no debe ser mayor que el Total de Hombres.\",\"\"))","v":""},{"$f":"IF(AND(E196>0,AS196=\"\"),\" * No olvide digitar la variable Pueblos Originarios Mujeres (Digite Cero si no tiene). Digite Cero si no tiene.\",IF(AS196>E196,\" * La variable Pueblos Originarios Mujeres no debe ser mayor que el Total de Mujeres\",\"\"))","v":""},{"$f":"IF(AND(D196>0,AT196=\"\"),\" * No olvide digitar la variable Migrantes hombres (Digite Cero si no tiene).\",IF(AT196>D196,\" * La variable Migrantes hombres  no debe ser mayor que el Total de Hombres\",\"\"))","v":""},{"$f":"IF(AND(E196>0,AU196=\"\"),\" * No olvide digitar la variable Migrantes Mujeres (Digite Cero si no tiene).\",IF(AU196>E196,\" * La variable Migrantes Mujeres no debe ser mayor que el Total de Mujeres\",\"\"))","v":""},null,null,{"$f":"IF(AND(D196>0,AF196=\"\"),\" * No olvide digitar la variable Niños, Niñas, adolescentes y jóvenes Mejor Niñez hombres (Digite Cero si no tiene).\",IF(AF196>D196,\" * La variable Niños, Niñas, adolescentes y jóvenes Mejor Niñez hombres  no debe ser mayor que el Total de Hombres\",\"\"))","v":""},{"$f":"IF(AND(E196>0,AG196=\"\"),\" * No olvide digitar la variable Niños, Niñas, adolescentes y jóvenes Mejor Niñez Mujeres (Digite Cero si no tiene).\",IF(AG196>E196,\" * La variable Niños, Niñas, adolescentes y jóvenes Mejor Niñez Mujeres no debe ser mayor que el Total de Mujeres\",\"\"))","v":""},null,null,null,null,null,null,null,null,null,null,null,null,null,null,null,null,null,null,null,null,null,null,null,null,null,null,null,null,null,null,null,null,null,0,0,0,0]
["Mediana Complejidad",null,{"$f":"SUM(D197:E197)","v":0},{"$f":"+F197+H197+J197+L197+N197+P197+R197+T197+V197+X197+Z197+AB197+AD197+AF197+AH197+AN197+AP197+AJ197+AL197","v":0},{"$f":"+G197+I197+K197+M197+O197+Q197+S197+U197+W197+Y197+AA197+AC197+AE197+AG197+AI197+AO197+AQ197+AK197+AM197","v":0},null,null,null,null,null,null,null,null,null,null,null,null,null,null,null,null,null,null,null,null,null,null,null,null,null,null,null,null,null,null,null,null,null,null,null,null,null,null,null,null,null,null,{"$f":"CA197&CB197&CC197&CD197","v":""},null,null,null,null,null,null,null,null,null,null,null,null,null,null,null,null,null,null,null,null,null,null,null,null,null,null,null,null,null,null,{"$f":"IF(AND(D197>0,AR197=\"\"),\" * No olvide digitar la variable Pueblos Originarios hombres (Digite Cero si no tiene).\",IF(AR197>D197,\" * La variable Pueblos Originarios hombres  no debe ser mayor que el Total de Hombres.\",\"\"))","v":""},{"$f":"IF(AND(E197>0,AS197=\"\"),\" * No olvide digitar la variable Pueblos Originarios Mujeres (Digite Cero si no tiene). Digite Cero si no tiene.\",IF(AS197>E197,\" * La variable Pueblos Originarios Mujeres no debe ser mayor que el Total de Mujeres\",\"\"))","v":""},{"$f":"IF(AND(D197>0,AT197=\"\"),\" * No olvide digitar la variable Migrantes hombres (Digite Cero si no tiene).\",IF(AT197>D197,\" * La variable Migrantes hombres  no debe ser mayor que el Total de Hombres\",\"\"))","v":""},{"$f":"IF(AND(E197>0,AU197=\"\"),\" * No olvide digitar la variable Migrantes Mujeres (Digite Cero si no tiene).\",IF(AU197>E197,\" * La variable Migrantes Mujeres no debe ser mayor que el Total de Mujeres\",\"\"))","v":""},null,null,{"$f":"IF(AND(D197>0,AF197=\"\"),\" * No olvide digitar la variable Niños, Niñas, adolescentes y jóvenes Mejor Niñez hombres (Digite Cero si no tiene).\",IF(AF197>D197,\" * La variable Niños, Niñas, adolescentes y jóvenes Mejor Niñez hombres  no debe ser mayor que el Total de Hombres\",\"\"))","v":""},{"$f":"IF(AND(E197>0,AG197=\"\"),\" * No olvide digitar la variable Niños, Niñas, adolescentes y jóvenes Mejor Niñez Mujeres (Digite Cero si no tiene).\",IF(AG197>E197,\" * La variable Niños, Niñas, adolescentes y jóvenes Mejor Niñez Mujeres no debe ser mayor que el Total de Mujeres\",\"\"))","v":""},null,null,null,null,null,null,null,null,null,null,null,null,null,null,null,null,null,null,null,null,null,null,null,null,null,null,null,null,null,null,null,null,null,{"$f":"IF(AND(D197>0,AR197=\"\"),1,IF(AR197>D197,1,0))","v":0},0,0,0]
["Alta Complejidad",null,0,0,0,null,null,null,null,null,null,null,null,null,null,null,null,null,null,null,null,null,null,null,null,null,null,null,null,null,null,null,null,null,null,null,null,null,null,null,null,null,null,null,null,null,null,{"$f":"CA198&CB198&CC198&CD198","v":""},null,null,null,null,null,null,null,null,null,null,null,null,null,null,null,null,null,null,null,null,null,null,null,null,null,null,null,null,null,null,{"$f":"IF(AND(D198>0,AR198=\"\"),\" * No olvide digitar la variable Pueblos Originarios hombres (Digite Cero si no tiene).\",IF(AR198>D198,\" * La variable Pueblos Originarios hombres  no debe ser mayor que el Total de Hombres.\",\"\"))","v":""},{"$f":"IF(AND(E198>0,AS198=\"\"),\" * No olvide digitar la variable Pueblos Originarios Mujeres (Digite Cero si no tiene). Digite Cero si no tiene.\",IF(AS198>E198,\" * La variable Pueblos Originarios Mujeres no debe ser mayor que el Total de Mujeres\",\"\"))","v":""},{"$f":"IF(AND(D198>0,AT198=\"\"),\" * No olvide digitar la variable Migrantes hombres (Digite Cero si no tiene).\",IF(AT198>D198,\" * La variable Migrantes hombres  no debe ser mayor que el Total de Hombres\",\"\"))","v":""},{"$f":"IF(AND(E198>0,AU198=\"\"),\" * No olvide digitar la variable Migrantes Mujeres (Digite Cero si no tiene).\",IF(AU198>E198,\" * La variable Migrantes Mujeres no debe ser mayor que el Total de Mujeres\",\"\"))","v":""},null,null,{"$f":"IF(AND(D198>0,AF198=\"\"),\" * No olvide digitar la variable Niños, Niñas, adolescentes y jóvenes Mejor Niñez hombres (Digite Cero si no tiene).\",IF(AF198>D198,\" * La variable Niños, Niñas, adolescentes y jóvenes Mejor Niñez hombres  no debe ser mayor que el Total de Hombres\",\"\"))","v":""},{"$f":"IF(AND(E198>0,AG198=\"\"),\" * No olvide digitar la variable Niños, Niñas, adolescentes y jóvenes Mejor Niñez Mujeres (Digite Cero si no tiene).\",IF(AG198>E198,\" * La variable Niños, Niñas, adolescentes y jóvenes Mejor Niñez Mujeres no debe ser mayor que el Total de Mujeres\",\"\"))","v":""},null,null,null,null,null,null,null,null,null,null,null,null,null,null,null,null,null,null,null,null,null,null,null,null,null,null,null,null,null,null,null,null,null,{"$f":"IF(AND(D198>0,AR198=\"\"),1,IF(AR198>D198,1,0))","v":0},0,0,0]
["SECCION J: POBLACIÓN EN CONTROL, SEGÚN RIESGO ODONTOLÓGICO Y DAÑO POR CARIES"]
["INDICADOR ODONTOLÓGICO\nY\nPARÁMETROS DE MEDICIÓN",null,"TOTAL",null,null,"RANGO ETARIO Y SEXO",null,null,null,null,null,null,null,null,null,null,null,null,null,null,null,null,null,null,null,"Pueblos Originarios",null," Migrantes",null,"Usuarios con Discapacidad",null,"Servicio Nacional Protección Especializada a la Niñez y Adolescencia"]
[null,null,null,null,null,"< 1 año",null,"1 año",null,"2 años",null,"3  años",null,"4  años",null,"5  años",null,"6  años",null,"7  años",null,"8  años",null,"9  años"]
[null,null,"Ambos sexos","Hombres","Mujeres","Hombres","Mujeres","Hombres","Mujeres","Hombres","Mujeres","Hombres","Mujeres","Hombres","Mujeres","Hombres","Mujeres","Hombres","Mujeres","Hombres","Mujeres","Hombres","Mujeres","Hombres","Mujeres","Hombres","Mujeres","Hombres","Mujeres","Hombres","Mujeres","Hombres","Mujeres"]
["TOTAL DE NIÑOS(AS) EN CONTROL CON ENFOQUE DE RIESGO ODONTOLÓGICO",null,{"$f":"SUM(D203:E203)","v":0},{"$f":"+F203+H203+J203+L203+N203+P203+R203+T203+V203+X203","v":0},{"$f":"+G203+I203+K203+M203+O203+Q203+S203+U203+W203+Y203","v":0},null,null,null,null,null,null,null,null,null,null,null,null,null,null,null,null,null,null,null,null,null,null,null,null,null,null,null,null,{"$f":"CA203&CB203&CC203&CD203&CE203&CF203&CG203&CH203","v":""},null,null,null,null,null,null,null,null,null,null,null,null,null,null,null,null,null,null,null,null,null,null,null,null,null,null,null,null,null,null,null,null,null,null,null,null,null,null,null,null,null,null,null,null,{"$f":"IF(AND(D203>0,Z203=\"\"),\" * No olvide digitar la variable Pueblos Originarios hombres (Digite Cero si no tiene).\",IF(Z203>D203,\" * La variable Pueblos Originarios hombres  no debe ser mayor que el Total de Hombres.\",\"\"))","v":""},{"$f":"IF(AND(E203>0,AA203=\"\"),\" * No olvide digitar la variable Pueblos Originarios Mujeres (Digite Cero si no tiene). Digite Cero si no tiene.\",IF(AA203>E203,\" * La variable Pueblos Originarios Mujeres no debe ser mayor que el Total de Mujeres\",\"\"))","v":""},{"$f":"IF(AND(D203>0,AB203=\"\"),\" * No olvide digitar la variable Migrantes Hombres (Digite Cero si no tiene).\",IF(AB203>D203,\" * La variable Migrantes hombres  no debe ser mayor que el Total de Hombres\",\"\"))","v":""},{"$f":"IF(AND(E203>0,AC203=\"\"),\" * No olvide digitar la variable Migrantes Mujeres (Digite Cero si no tiene).\",IF(AC203>E203,\" * La variable Migrantes Mujeres no debe ser mayor que el Total de Mujeres\",\"\"))","v":""},{"$f":"IF(AND(D203>0,AD203=\"\"),\" * No olvide digitar la variable Usuarios con Discapacidad hombres (Digite Cero si no tiene).\",IF(AD203>D203,\" * La variable Usuarios con Discapacidad hombres  no debe ser mayor que el Total de Hombres\",\"\"))","v":""},{"$f":"IF(AND(E203>0,AE203=\"\"),\" * No olvide digitar la variable Usuarios con Discapacidad  Mujeres (Digite Cero si no tiene).\",IF(AE203>E203,\" * La variable Usuarios con Discapacidad Mujeres no debe ser mayor que el Total de Mujeres\",\"\"))","v":""},{"$f":"IF(AND(D203>0,AF203=\"\"),\" * No olvide digitar la variable \"&AF$200&\" hombres (Digite Cero si no tiene).\",IF(AF203>D203,\" * La variable \"&AF$200&\" hombres  no debe ser mayor que el Total de Hombres\",\"\"))","v":""},{"$f":"IF(AND(E203>0,AG203=\"\"),\" * No olvide digitar la variable \"&AF$200&\" Mujeres (Digite Cero si no tiene).\",IF(AG203>E203,\" * La variable \"&AF$200&\" Mujeres no debe ser mayor que el Total de Mujeres\",\"\"))","v":""},null,null,null,null,null,null,null,null,null,null,null,null,null,null,null,null,null,null,null,null,null,null,null,null,null,null,null,null,null,null,null,null,null,{"$f":"IF(AND(D203>0,Z203=\"\"),1,IF(Z203>D203,1,0))","v":0},0,{"$f":"IF(AND(D203>0,AB203=\"\"),1,IF(AB203>D203,1,0))","v":0},0,{"$f":"IF(AND(D203>0,AD203=\"\"),1,IF(AD203>D203,1,0))","v":0},0,{"$f":"IF(AND(D203>0,AF203=\"\"),1,IF(AF203>D203,1,0))","v":0},0]
[" Alto riesgo pauta cero con control vigente",null,0,{"$f":"+F204+H204+J204+L204+N204+P204+R204+T204+V204+X204","v":0},{"$f":"+G204+I204+K204+M204+O204+Q204+S204+U204+W204+Y204","v":0},null,null,null,null,null,null,null,null,null,null,null,null,null,null,null,null,null,null,null,null,null,null,null,null,null,null,null,null,{"$f":"CA204&CB204&CC204&CD204&CE204&CF204&CG204&CH204","v":""},null,null,null,null,null,null,null,null,null,null,null,null,null,null,null,null,null,null,null,null,null,null,null,null,null,null,null,null,null,null,null,null,null,null,null,null,null,null,null,null,null,null,null,null,{"$f":"IF(AND(D204>0,Z204=\"\"),\" * No olvide digitar la variable Pueblos Originarios hombres (Digite Cero si no tiene).\",IF(Z204>D204,\" * La variable Pueblos Originarios hombres  no debe ser mayor que el Total de Hombres.\",\"\"))","v":""},{"$f":"IF(AND(E204>0,AA204=\"\"),\" * No olvide digitar la variable Pueblos Originarios Mujeres (Digite Cero si no tiene). Digite Cero si no tiene.\",IF(AA204>E204,\" * La variable Pueblos Originarios Mujeres no debe ser mayor que el Total de Mujeres\",\"\"))","v":""},{"$f":"IF(AND(D204>0,AB204=\"\"),\" * No olvide digitar la variable Migrantes hombres (Digite Cero si no tiene).\",IF(AB204>D204,\" * La variable Migrantes hombres  no debe ser mayor que el Total de Hombres\",\"\"))","v":""},{"$f":"IF(AND(E204>0,AC204=\"\"),\" * No olvide digitar la variable Migrantes Mujeres (Digite Cero si no tiene).\",IF(AC204>E204,\" * La variable Migrantes Mujeres no debe ser mayor que el Total de Mujeres\",\"\"))","v":""},{"$f":"IF(AND(D204>0,AD204=\"\"),\" * No olvide digitar la variable Usuarios con Discapacidad hombres (Digite Cero si no tiene).\",IF(AD204>D204,\" * La variable Usuarios con Discapacidad hombres  no debe ser mayor que el Total de Hombres\",\"\"))","v":""},{"$f":"IF(AND(E204>0,AE204=\"\"),\" * No olvide digitar la variable Usuarios con Discapacidad  Mujeres (Digite Cero si no tiene).\",IF(AE204>E204,\" * La variable Usuarios con Discapacidad Mujeres no debe ser mayor que el Total de Mujeres\",\"\"))","v":""},{"$f":"IF(AND(D204>0,AF204=\"\"),\" * No olvide digitar la variable \"&AF$200&\" hombres (Digite Cero si no tiene).\",IF(AF204>D204,\" * La variable \"&AF$200&\" hombres  no debe ser mayor que el Total de Hombres\",\"\"))","v":""},{"$f":"IF(AND(E204>0,AG204=\"\"),\" * No olvide digitar la variable \"&AF$200&\" Mujeres (Digite Cero si no tiene).\",IF(AG204>E204,\" * La variable \"&AF$200&\" Mujeres no debe ser mayor que el Total de Mujeres\",\"\"))","v":""},null,null,null,null,null,null,null,null,null,null,null,null,null,null,null,null,null,null,null,null,null,null,null,null,null,null,null,null,null,null,null,null,null,0,0,0,0,0,0,0,0]
["Bajo Riesgo pauta cero con control vigente",null,0,{"$f":"+F205+H205+J205+L205+N205+P205+R205+T205+V205+X205","v":0},0,null,null,null,null,null,null,null,null,null,null,null,null,null,null,null,null,null,null,null,null,null,null,null,null,null,null,null,null,{"$f":"CA205&CB205&CC205&CD205&CE205&CF205&CG205&CH205","v":""},null,null,null,null,null,null,null,null,null,null,null,null,null,null,null,null,null,null,null,null,null,null,null,null,null,null,null,null,null,null,null,null,null,null,null,null,null,null,null,null,null,null,null,null,{"$f":"IF(AND(D205>0,Z205=\"\"),\" * No olvide digitar la variable Pueblos Originarios hombres (Digite Cero si no tiene).\",IF(Z205>D205,\" * La variable Pueblos Originarios hombres  no debe ser mayor que el Total de Hombres.\",\"\"))","v":""},{"$f":"IF(AND(E205>0,AA205=\"\"),\" * No olvide digitar la variable Pueblos Originarios Mujeres (Digite Cero si no tiene). Digite Cero si no tiene.\",IF(AA205>E205,\" * La variable Pueblos Originarios Mujeres no debe ser mayor que el Total de Mujeres\",\"\"))","v":""},{"$f":"IF(AND(D205>0,AB205=\"\"),\" * No olvide digitar la variable Migrantes hombres (Digite Cero si no tiene).\",IF(AB205>D205,\" * La variable Migrantes hombres  no debe ser mayor que el Total de Hombres\",\"\"))","v":""},{"$f":"IF(AND(E205>0,AC205=\"\"),\" * No olvide digitar la variable Migrantes Mujeres (Digite Cero si no tiene).\",IF(AC205>E205,\" * La variable Migrantes Mujeres no debe ser mayor que el Total de Mujeres\",\"\"))","v":""},{"$f":"IF(AND(D205>0,AD205=\"\"),\" * No olvide digitar la variable Usuarios con Discapacidad hombres (Digite Cero si no tiene).\",IF(AD205>D205,\" * La variable Usuarios con Discapacidad hombres  no debe ser mayor que el Total de Hombres\",\"\"))","v":""},{"$f":"IF(AND(E205>0,AE205=\"\"),\" * No olvide digitar la variable Usuarios con Discapacidad  Mujeres (Digite Cero si no tiene).\",IF(AE205>E205,\" * La variable Usuarios con Discapacidad Mujeres no debe ser mayor que el Total de Mujeres\",\"\"))","v":""},{"$f":"IF(AND(D205>0,AF205=\"\"),\" * No olvide digitar la variable \"&AF$200&\" hombres (Digite Cero si no tiene).\",IF(AF205>D205,\" * La variable \"&AF$200&\" hombres  no debe ser mayor que el Total de Hombres\",\"\"))","v":""},{"$f":"IF(AND(E205>0,AG205=\"\"),\" * No olvide digitar la variable \"&AF$200&\" Mujeres (Digite Cero si no tiene).\",IF(AG205>E205,\" * La variable \"&AF$200&\" Mujeres no debe ser mayor que el Total de Mujeres\",\"\"))","v":""},null,null,null,null,null,null,null,null,null,null,null,null,null,null,null,null,null,null,null,null,null,null,null,null,null,null,null,null,null,null,null,null,null,0,0,0,0,0,0,0,0]
[null,"Total",{"$f":"SUM(D206:E206)","v":0},{"$f":"+F206+H206+J206+L206+N206+P206+R206+T206+V206+X206","v":0},{"$f":"+G206+I206+K206+M206+O206+Q206+S206+U206+W206+Y206","v":0},{"$f":"SUM(F204:F205)","v":0},{"$f":"SUM(G204:G205)","v":0},0,0,0,0,0,0,0,0,0,0,0,0,0,0,0,0,{"$f":"SUM(X204:X205)","v":0},0,0,0,0,0,0,{"$f":"SUM(AE204:AE205)","v":0},0,0]
["Evaluación de daño por caries según ïndice  ceod o copd ",0,null,null,null,null,null,null,null,null,null,null,null,null,null,null,null,null,null,null,null,null,null,null,null,null,null,null,null,null,null,null,null,{"$f":"CA207&CB207&CC207&CD207&CE207&CF207&CG207&CH207","v":""}]
[null,"1 a 2",null,null,null,null,null,null,null,null,null,null,null,null,null,null,null,null,null,null,null,null,null,null,null,null,null,null,null,null,null,null,null,""]
[null,"3 a 4",null,null,null,null,null,null,null,null,null,null,null,null,null,null,null,null,null,null,null,null,null,null,null,null,null,null,null,null,null,null,null,""]
[null,"5 a 6",null,null,null,null,null,null,null,null,null,null,null,null,null,null,null,null,null,null,null,null,null,null,null,null,null,null,null,null,null,null,null,""]
[null,"7 a 8",null,null,null,null,null,null,null,null,null,null,null,null,null,null,null,null,null,null,null,null,null,null,null,null,null,null,null,null,null,null,null,""]
[null,"9 o más",null,null,null,null,null,null,null,null,null,null,null,null,null,null,null,null,null,null,null,null,null,null,null,null,null,null,null,null,null,null,null,""]
[null,"Total",null,null,null,null,null,null,null,null,null,null,null,null,null,null,null,null,null,null,null,null,null,null,null,null,null,null,null,null,null,null,null,null,null,null,null,null,null,null,null,null,null,null,null,null,null,null,null,null,null,null,null,null,null,null,null,null,null,null,null,null,null,null,null,null,null,null,null,null,null,null,null,null,null,null,null,null,null,null,null,null,null,null,{"$f":"IF(AND(D213>0,AF213=\"\"),\" * No olvide digitar la variable \"&AF$200&\" hombres (Digite Cero si no tiene).\",IF(AF213>D213,\" * La variable\"&AF$200&\"  hombres  no debe ser mayor que el Total de Hombres\",\"\"))","v":""}]
["Inasistentes a control odontológico",null,{"$f":"SUM(D214:E214)","v":0},{"$f":"+F214+H214+J214+L214+N214+P214+R214+T214+V214+X214","v":0},{"$f":"+G214+I214+K214+M214+O214+Q214+S214+U214+W214+Y214","v":0},null,null,null,null,null,null,null,null,null,null,null,null,null,null,null,null,null,null,null,null,null,null,null,null,null,null,null,null,{"$f":"CA214&CB214&CC214&CD214&CE214&CF214&CG214&CH214","v":""},null,null,null,null,null,null,null,null,null,null,null,null,null,null,null,null,null,null,null,null,null,null,null,null,null,null,null,null,null,null,null,null,null,null,null,null,null,null,null,null,null,null,null,null,{"$f":"IF(AND(D214>0,Z214=\"\"),\" * No olvide digitar la variable Pueblos Originarios hombres (Digite Cero si no tiene).\",IF(Z214>D214,\" * La variable Pueblos Originarios hombres  no debe ser mayor que el Total de Hombres.\",\"\"))","v":""},{"$f":"IF(AND(E214>0,AA214=\"\"),\" * No olvide digitar la variable Pueblos Originarios Mujeres (Digite Cero si no tiene). Digite Cero si no tiene.\",IF(AA214>E214,\" * La variable Pueblos Originarios Mujeres no debe ser mayor que el Total de Mujeres\",\"\"))","v":""},{"$f":"IF(AND(D214>0,AB214=\"\"),\" * No olvide digitar la variable Migrantes hombres (Digite Cero si no tiene).\",IF(AB214>D214,\" * La variable Migrantes hombres  no debe ser mayor que el Total de Hombres\",\"\"))","v":""},{"$f":"IF(AND(E214>0,AC214=\"\"),\" * No olvide digitar la variable Migrantes Mujeres (Digite Cero si no tiene).\",IF(AC214>E214,\" * La variable Migrantes Mujeres no debe ser mayor que el Total de Mujeres\",\"\"))","v":""},{"$f":"IF(AND(D214>0,AD214=\"\"),\" * No olvide digitar la variable Usuarios con Discapacidad hombres (Digite Cero si no tiene).\",IF(AD214>D214,\" * La variable Usuarios con Discapacidad hombres  no debe ser mayor que el Total de Hombres\",\"\"))","v":""},{"$f":"IF(AND(E214>0,AE214=\"\"),\" * No olvide digitar la variable Usuarios con Discapacidad  Mujeres (Digite Cero si no tiene).\",IF(AE214>E214,\" * La variable Usuarios con Discapacidad Mujeres no debe ser mayor que el Total de Mujeres\",\"\"))","v":""},"",{"$f":"IF(AND(E214>0,AG214=\"\"),\" * No olvide digitar la variable \"&AF$200&\" Mujeres (Digite Cero si no tiene).\",IF(AG214>E214,\" * La variable \"&AF$200&\" Mujeres no debe ser mayor que el Total de Mujeres\",\"\"))","v":""},null,null,null,null,null,null,null,null,null,null,null,null,null,null,null,null,null,null,null,null,null,null,null,null,null,null,null,null,null,null,null,null,null,{"$f":"IF(AND(D214>0,Z214=\"\"),1,IF(Z214>D214,1,0))","v":0},{"$f":"IF(AND(E214>0,AA214=\"\"),1,IF(AA214>E214,1,0))","v":0},{"$f":"IF(AND(D214>0,AB214=\"\"),1,IF(AB214>D214,1,0))","v":0},{"$f":"IF(AND(E214>0,AC214=\"\"),1,IF(AC214>E214,1,0))","v":0},{"$f":"IF(AND(D214>0,AD214=\"\"),1,IF(AD214>D214,1,0))","v":0},{"$f":"IF(AND(E214>0,AE214=\"\"),1,IF(AE214>E214,1,0))","v":0},{"$f":"IF(AND(D214>0,AF214=\"\"),1,IF(AF214>D214,1,0))","v":0},{"$f":"IF(AND(E214>0,AG214=\"\"),1,IF(AG214>E214,1,0))","v":0}]
[]
[]
[]
[]
[]
[{"$f":"SUM(C12:C40,C45:C48,C50:C51,C53,C54:C55,C57:C58,C60:C63,C65:C70,C72,C74,C78:C105,C109:C111,C116:C117,C121:C125,C131:C134,C139:C140,C146:C190,C196:C198,C203,C206,C213,C214)","v":0},"datos"]
[{"$f":"SUM(DP$12:EU214)","v":0},"errores"]

{"sheet":"P3","index":3,"n_rows":94,"n_cols":104,"rows_kept":94,"cut":false,"hidden":false,"merged":[[6,0,6,19],[8,40,9,41],[37,0,43,0],[31,0,31,1],[32,0,32,1],[21,0,21,1],[22,0,22,1],[23,0,23,1],[48,0,48,41],[24,0,24,1],[25,0,25,1],[26,0,26,1],[27,0,27,1],[9,27,9,28],[19,0,19,1],[11,0,13,0],[34,0,36,0],[29,0,29,1],[30,0,30,1],[53,39,54,40],[53,41,54,42],[61,39,62,40],[61,41,62,42],[72,39,73,40],[72,41,73,42],[8,39,10,39],[9,7,9,8],[9,9,9,10],[9,11,9,12],[9,13,9,14],[9,31,9,32],[9,33,9,34],[8,5,8,38],[9,35,9,36],[9,17,9,18],[9,37,9,38],[9,15,9,16],[9,29,9,30],[62,31,62,32],[8,42,9,43],[54,5,54,6],[62,35,62,36],[62,37,62,38],[62,33,62,34],[61,2,62,4],[61,5,61,38],[54,29,54,30],[53,2,54,4],[54,33,54,34],[60,0,60,38],[8,0,10,1],[8,2,9,4],[9,19,9,20],[9,5,9,6],[9,23,9,24],[9,21,9,22],[52,0,52,38],[54,13,54,14],[54,35,54,36],[54,23,54,24],[54,19,54,20],[54,21,54,22],[54,25,54,26],[54,15,54,16],[14,0,16,0],[17,0,18,0],[54,27,54,28],[54,31,54,32],[9,25,9,26],[28,0,28,1],[33,0,33,1],[20,0,20,1],[44,0,46,0],[49,3,50,3],[49,2,50,2],[49,1,50,1],[49,0,50,0],[49,4,49,15],[81,0,83,0],[53,0,55,1],[56,0,59,0],[72,5,72,38],[73,37,73,38],[73,17,73,18],[73,19,73,20],[73,5,73,6],[73,7,73,8],[73,9,73,10],[73,11,73,12],[73,13,73,14],[73,15,73,16],[73,21,73,22],[73,23,73,24],[73,25,73,26],[73,27,73,28],[73,29,73,30],[73,31,73,32],[73,33,73,34],[73,35,73,36],[54,11,54,12],[54,37,54,38],[53,5,53,38],[75,0,77,0],[78,0,80,0],[54,9,54,10],[68,0,70,0],[62,27,62,28],[62,29,62,30],[62,7,62,8],[62,9,62,10],[62,11,62,12],[62,13,62,14],[62,15,62,16],[62,17,62,18],[62,19,62,20],[64,0,67,0],[62,5,62,6],[54,7,54,8],[72,0,74,0],[61,0,63,1],[62,23,62,24],[62,25,62,26],[72,1,74,1],[72,2,73,4],[54,17,54,18],[62,21,62,22]]}
["DATOS DEL ESTABLECIMIENTO"]
[{"$f":"CONCATENATE(\"COMUNA: \",NOMBRE!$B$2,\"   \",\"( \",NOMBRE!$C$2,NOMBRE!$D$2,NOMBRE!$E$2,NOMBRE!$F$2,NOMBRE!$G$2,\" )\")","v":"COMUNA:    (  )"}]
[{"$f":"CONCATENATE(\"ESTABLECIMIENTO/ESTRATEGIA: \",NOMBRE!$B$3,\"   \",\"( \",NOMBRE!$C$3,NOMBRE!$D$3,NOMBRE!$E$3,NOMBRE!$F$3,NOMBRE!$G$3,NOMBRE!$H$3,\" )\")","v":"ESTABLECIMIENTO/ESTRATEGIA:    (  )"}]
[{"$f":"CONCATENATE(\"MES: \",NOMBRE!$B$6,\"   \",\"( \",NOMBRE!$C$6,NOMBRE!$D$6,\" )\")","v":"MES:    (  )"}]
[{"$f":"CONCATENATE(\"AÑO: \",NOMBRE!$B$7)","v":"AÑO: 2026"}]
[]
["REM-P3. POBLACIÓN EN CONTROL OTROS PROGRAMAS"]
["SECCIÓN A: EXISTENCIA DE POBLACIÓN EN CONTROL"]
["PROGRAMAS",null,"TOTAL",null,null,"RANGO ETARIO Y SEXO",null,null,null,null,null,null,null,null,null,null,null,null,null,null,null,null,null,null,null,null,null,null,null,null,null,null,null,null,null,null,null,null,null,"Con espirometría vigente","Pueblos Originarios",null,"Migrantes"]
[null,null,null,null,null,"0 a 4 años",null,"5 a 9 años",null,"10 a 14 años",null,"15 a 19 años",null,"20 a 24 años",null,"25 a 29 años",null,"30 a 34 años",null,"35 a 39 años",null,"40 a 44 años",null,"45 a 49 años",null,"50 a 54 años",null,"55 a 59 años",null,"60 a 64 años",null,"65 a 69 años",null,"70 a 74 años",null,"75 a 79 años",null,"80 y más años"]
[null,null,"Ambos\nsexos","Hombres","Mujeres","Hombres","Mujeres","Hombres","Mujeres","Hombres","Mujeres","Hombres","Mujeres","Hombres","Mujeres","Hombres","Mujeres","Hombres","Mujeres","Hombres","Mujeres","Hombres","Mujeres","Hombres","Mujeres","Hombres","Mujeres","Hombres","Mujeres","Hombres","Mujeres","Hombres ","Mujeres","Hombres ","Mujeres","Hombres ","Mujeres","Hombres ","Mujeres",null,"Hombres ","Mujeres","Hombres ","Mujeres"]
["Síndrome Bronquial Obstructiva Recurrente (SBOR)","Leve",{"$f":"SUM(D12:E12)","v":0},{"$f":"+F12","v":0},{"$f":"+G12","v":0},null,null,null,null,null,null,null,null,null,null,null,null,null,null,null,null,null,null,null,null,null,null,null,null,null,null,null,null,null,null,null,null,null,null,null,null,null,null,null,{"$f":"$CA12&$CB12&$CC12&$CD12&$CE12&$CF12&$CG12","v":""},null,null,null,null,null,null,null,null,null,null,null,null,null,null,null,null,null,null,null,null,null,null,null,null,null,null,null,null,null,null,null,null,null,{"$f":"IF($AN12<=C12,\"\",\"* La variable con Espirometría Vigente no debe ser mayor al Total Ambos Sexos. \")","v":""},{"$f":"IF(AND(D12>0,OR(AO12=\"\")),\" * No olvide digitar la variable Pueblos Originarios Hombres. Digite Cero si no tiene.\",IF(AO12>D12,\" * La variable Pueblos Originarios Hombres no puede ser Mayor al Total Hombres.\",\"\"))","v":""},{"$f":"IF(AND(E12>0,OR(AP12=\"\")),\" * No olvide digitar la variable Pueblos Originarios Mujeres. Digite Cero si no tiene.\",IF(AP12>E12,\" * La variable Pueblos Originarios Mujeres no puede ser Mayor al Total Mujeres.\",\"\"))","v":""},{"$f":"IF(AND($D12>0,OR(AQ12=\"\")),\" * No olvide digitar la variable Migrantes Hombres. Digite Cero si no tiene.\",IF(AQ12>$D12,\" * La variable Migrantes Hombres no puede ser Mayor al Total Hombres.\",\"\"))","v":""},{"$f":"IF(AND(E12>0,OR(AR12=\"\")),\" * No olvide digitar la variable Migrantes Mujeres. Digite Cero si no tiene.\",IF(AR12>E12,\" * La variable Migrantes Mujeres no puede ser Mayor al Total Mujeres.\",\"\"))","v":""},null,null,null,null,null,null,null,{"$f":"IF($AN12<=$C12,0,1)","v":0},{"$f":"IF(AND(D12>0,OR(AO12=\"\")),1,IF(AO12>D12,1,0))","v":0},{"$f":"IF(AND(E12>0,OR(AP12=\"\")),1,IF(AP12>E12,1,0))","v":0},{"$f":"IF(AND(D12>0,OR(AQ12=\"\")),1,IF(AQ12>D12,1,0))","v":0},{"$f":"IF(AND(E12>0,OR(AR12=\"\")),1,IF(AR12>E12,1,0))","v":0}]
[null,"Moderado",{"$f":"SUM(D13:E13)","v":0},{"$f":"+F13","v":0},{"$f":"+G13","v":0},null,null,null,null,null,null,null,null,null,null,null,null,null,null,null,null,null,null,null,null,null,null,null,null,null,null,null,null,null,null,null,null,null,null,null,null,null,null,null,{"$f":"$CA13&$CB13&$CC13&$CD13&$CE13&$CF13&$CG13","v":""},null,null,null,null,null,null,null,null,null,null,null,null,null,null,null,null,null,null,null,null,null,null,null,null,null,null,null,null,null,null,null,null,null,{"$f":"IF($AN13<=C13,\"\",\"* La variable con Espirometría Vigente no debe ser mayor al Total Ambos Sexos. \")","v":""},{"$f":"IF(AND(D13>0,OR(AO13=\"\")),\" * No olvide digitar la variable Pueblos Originarios Hombres. Digite Cero si no tiene.\",IF(AO13>D13,\" * La variable Pueblos Originarios Hombres no puede ser Mayor al Total Hombres.\",\"\"))","v":""},{"$f":"IF(AND(E13>0,OR(AP13=\"\")),\" * No olvide digitar la variable Pueblos Originarios Mujeres. Digite Cero si no tiene.\",IF(AP13>E13,\" * La variable Pueblos Originarios Mujeres no puede ser Mayor al Total Mujeres.\",\"\"))","v":""},{"$f":"IF(AND($D13>0,OR(AQ13=\"\")),\" * No olvide digitar la variable Migrantes Hombres. Digite Cero si no tiene.\",IF(AQ13>$D13,\" * La variable Migrantes Hombres no puede ser Mayor al Total Hombres.\",\"\"))","v":""},{"$f":"IF(AND(E13>0,OR(AR13=\"\")),\" * No olvide digitar la variable Migrantes Mujeres. Digite Cero si no tiene.\",IF(AR13>E13,\" * La variable Migrantes Mujeres no puede ser Mayor al Total Mujeres.\",\"\"))","v":""},null,null,null,null,null,null,null,{"$f":"IF($AN13<=$C13,0,1)","v":0},{"$f":"IF(AND(D13>0,OR(AO13=\"\")),1,IF(AO13>D13,1,0))","v":0},{"$f":"IF(AND(E13>0,OR(AP13=\"\")),1,IF(AP13>E13,1,0))","v":0},{"$f":"IF(AND(D13>0,OR(AQ13=\"\")),1,IF(AQ13>D13,1,0))","v":0},{"$f":"IF(AND(E13>0,OR(AR13=\"\")),1,IF(AR13>E13,1,0))","v":0}]
[null,"Severo",0,0,0,null,null,null,null,null,null,null,null,null,null,null,null,null,null,null,null,null,null,null,null,null,null,null,null,null,null,null,null,null,null,null,null,null,null,null,null,null,null,null,"",null,null,null,null,null,null,null,null,null,null,null,null,null,null,null,null,null,null,null,null,null,null,null,null,null,null,null,null,null,null,null,null,null,"","","","","",null,null,null,null,null,null,null,0,0,0,0,0]
["Asma Bronquial","Leve",0,{"$f":"+F15+H15+J15+L15+N15+P15+R15+T15+V15+X15+Z15+AB15+AD15+AF15+AH15+AJ15+AL15","v":0},{"$f":"+G15+I15+K15+M15+O15+Q15+S15+U15+W15+Y15+AA15+AC15+AE15+AG15+AI15+AK15+AM15","v":0},null,null,null,null,null,null,null,null,null,null,null,null,null,null,null,null,null,null,null,null,null,null,null,null,null,null,null,null,null,null,null,null,null,null,null,null,null,null,null,"",null,null,null,null,null,null,null,null,null,null,null,null,null,null,null,null,null,null,null,null,null,null,null,null,null,null,null,null,null,null,null,null,null,"","","","","",null,null,null,null,null,null,null,0,0,0,0,0]
[null,"Moderado",0,{"$f":"+F16+H16+J16+L16+N16+P16+R16+T16+V16+X16+Z16+AB16+AD16+AF16+AH16+AJ16+AL16","v":0},0,null,null,null,null,null,null,null,null,null,null,null,null,null,null,null,null,null,null,null,null,null,null,null,null,null,null,null,null,null,null,null,null,null,null,null,null,null,null,null,"",null,null,null,null,null,null,null,null,null,null,null,null,null,null,null,null,null,null,null,null,null,null,null,null,null,null,null,null,null,null,null,null,null,"","","","","",null,null,null,null,null,null,null,0,0,0,0,0]
[null,"Severo",0,0,0,null,null,null,null,null,null,null,null,null,null,null,null,null,null,null,null,null,null,null,null,null,null,null,null,null,null,null,null,null,null,null,null,null,null,null,null,null,null,null,"",null,null,null,null,null,null,null,null,null,null,null,null,null,null,null,null,null,null,null,null,null,null,null,null,null,null,null,null,null,null,null,null,null,"","","","","",null,null,null,null,null,null,null,0,0,0,0,0]
["Enfermedad Pulmonar Obstructiva Crónica (EPOC)","Tipo A",{"$f":"SUM(D18:E18)","v":0},{"$f":"+V18+X18+Z18+AB18+AD18+AF18+AH18+AJ18+AL18","v":0},{"$f":"+W18+Y18+AA18+AC18+AE18+AG18+AI18+AK18+AM18","v":0},null,null,null,null,null,null,null,null,null,null,null,null,null,null,null,null,null,null,null,null,null,null,null,null,null,null,null,null,null,null,null,null,null,null,null,null,null,null,null,"",null,null,null,null,null,null,null,null,null,null,null,null,null,null,null,null,null,null,null,null,null,null,null,null,null,null,null,null,null,null,null,null,null,"","","","","",null,null,null,null,null,null,null,0,0,0,0,0]
[null,"Tipo B",{"$f":"SUM(D19:E19)","v":0},{"$f":"+V19+X19+Z19+AB19+AD19+AF19+AH19+AJ19+AL19","v":0},{"$f":"+W19+Y19+AA19+AC19+AE19+AG19+AI19+AK19+AM19","v":0},null,null,null,null,null,null,null,null,null,null,null,null,null,null,null,null,null,null,null,null,null,null,null,null,null,null,null,null,null,null,null,null,null,null,null,null,null,null,null,"",null,null,null,null,null,null,null,null,null,null,null,null,null,null,null,null,null,null,null,null,null,null,null,null,null,null,null,null,null,null,null,null,null,{"$f":"IF($AN19<=C19,\"\",\"* La variable con Espirometría Vigente no debe ser mayor al Total Ambos Sexos. \")","v":""},"",{"$f":"IF(AND(E19>0,OR(AP19=\"\")),\" * No olvide digitar la variable Pueblos Originarios Mujeres. Digite Cero si no tiene.\",IF(AP19>E19,\" * La variable Pueblos Originarios Mujeres no puede ser Mayor al Total Mujeres.\",\"\"))","v":""},"","",null,null,null,null,null,null,null,{"$f":"IF($AN19<=$C19,0,1)","v":0},0,0,0,0]
["Otras Respiratorias Crónicas",null,0,{"$f":"+F20+H20+J20+L20+N20+P20+R20+T20+V20+X20+Z20+AB20+AD20+AF20+AH20+AJ20+AL20","v":0},{"$f":"+G20+I20+K20+M20+O20+Q20+S20+U20+W20+Y20+AA20+AC20+AE20+AG20+AI20+AK20+AM20","v":0},null,null,null,null,null,null,null,null,null,null,null,null,null,null,null,null,null,null,null,null,null,null,null,null,null,null,null,null,null,null,null,null,null,null,null,null,null,null,null,{"$f":"$CB20&$CC20&$CD20&$CE20","v":""},null,null,null,null,null,null,null,null,null,null,null,null,null,null,null,null,null,null,null,null,null,null,null,null,null,null,null,null,null,null,null,null,null,null,"","",{"$f":"IF(AND($D20>0,OR(AQ20=\"\")),\" * No olvide digitar la variable Migrantes Hombres. Digite Cero si no tiene.\",IF(AQ20>$D20,\" * La variable Migrantes Hombres no puede ser Mayor al Total Hombres.\",\"\"))","v":""},{"$f":"IF(AND(E20>0,OR(AR20=\"\")),\" * No olvide digitar la variable Migrantes Mujeres. Digite Cero si no tiene.\",IF(AR20>E20,\" * La variable Migrantes Mujeres no puede ser Mayor al Total Mujeres.\",\"\"))","v":""},null,null,null,null,null,null,null,null,0,0,0,0]
["Oxigeno Dependiente",null,0,{"$f":"+F21+H21+J21+L21+N21+P21+R21+T21+V21+X21+Z21+AB21+AD21+AF21+AH21+AJ21+AL21","v":0},{"$f":"+G21+I21+K21+M21+O21+Q21+S21+U21+W21+Y21+AA21+AC21+AE21+AG21+AI21+AK21+AM21","v":0},null,null,null,null,null,null,null,null,null,null,null,null,null,null,null,null,null,null,null,null,null,null,null,null,null,null,null,null,null,null,null,null,null,null,null,null,null,null,null,{"$f":"$CB21&$CC21&$CD21&$CE21","v":""},null,null,null,null,null,null,null,null,null,null,null,null,null,null,null,null,null,null,null,null,null,null,null,null,null,null,null,null,null,null,null,null,null,null,"","","","",null,null,null,null,null,null,null,null,0,0,0,0]
["Asistencia Ventilatoria No Invasiva o Invasiva ",null,{"$f":"SUM(D22:E22)","v":0},0,0,null,null,null,null,null,null,null,null,null,null,null,null,null,null,null,null,null,null,null,null,null,null,null,null,null,null,null,null,null,null,null,null,null,null,null,null,null,null,null,"",null,null,null,null,null,null,null,null,null,null,null,null,null,null,null,null,null,null,null,null,null,null,null,null,null,null,null,null,null,null,null,null,null,null,"","","","",null,null,null,null,null,null,null,null,0,0,0,0]
["Fibrosis Quística ",null,{"$f":"SUM(D23:E23)","v":0},{"$f":"+F23+H23+J23+L23+N23+P23+R23+T23+V23+X23+Z23+AB23+AD23","v":0},{"$f":"+G23+I23+K23+M23+O23+Q23+S23+U23+W23+Y23+AA23+AC23+AE23","v":0},null,null,null,null,null,null,null,null,null,null,null,null,null,null,null,null,null,null,null,null,null,null,null,null,null,null,null,null,null,null,null,null,null,null,null,null,null,null,null,"",null,null,null,null,null,null,null,null,null,null,null,null,null,null,null,null,null,null,null,null,null,null,null,null,null,null,null,null,null,null,null,null,null,null,"","","","",null,null,null,null,null,null,null,null,0,0,0,0]
["Epilepsia ",null,0,{"$f":"+F24+H24+J24+L24+N24+P24+R24+T24+V24+X24+Z24+AB24+AD24+AF24+AH24+AJ24+AL24","v":0},{"$f":"+G24+I24+K24+M24+O24+Q24+S24+U24+W24+Y24+AA24+AC24+AE24+AG24+AI24+AK24+AM24","v":0},null,null,null,null,null,null,null,null,null,null,null,null,null,null,null,null,null,null,null,null,null,null,null,null,null,null,null,null,null,null,null,null,null,null,null,null,null,null,null,"",null,null,null,null,null,null,null,null,null,null,null,null,null,null,null,null,null,null,null,null,null,null,null,null,null,null,null,null,null,null,null,null,null,null,"","","","",null,null,null,null,null,null,null,null,0,0,0,0]
["Trastorno Espectro Autista",null,{"$f":"SUM(D25:E25)","v":0},{"$f":"+F25+H25+J25+L25+N25+P25+R25+T25+V25+X25+Z25+AB25+AD25+AF25+AH25+AJ25+AL25","v":0},{"$f":"+G25+I25+K25+M25+O25+Q25+S25+U25+W25+Y25+AA25+AC25+AE25+AG25+AI25+AK25+AM25","v":0},null,null,null,null,null,null,null,null,null,null,null,null,null,null,null,null,null,null,null,null,null,null,null,null,null,null,null,null,null,null,null,null,null,null,null,null,null,null,null,"",null,null,null,null,null,null,null,null,null,null,null,null,null,null,null,null,null,null,null,null,null,null,null,null,null,null,null,null,null,null,null,null,null,null,"","","","",null,null,null,null,null,null,null,null,{"$f":"IF(AND(D25>0,OR(AO25=\"\")),1,IF(AO25>D25,1,0))","v":0},{"$f":"IF(AND(E25>0,OR(AP25=\"\")),1,IF(AP25>E25,1,0))","v":0},0,0]
["Autismo Atípico",null,0,0,0]
["Asperger",null,0,0,0]
["Glaucoma",null,0,{"$f":"+F28+H28+J28+L28+N28+P28+R28+T28+V28+X28+Z28+AB28+AD28+AF28+AH28+AJ28+AL28","v":0},0,null,null,null,null,null,null,null,null,null,null,null,null,null,null,null,null,null,null,null,null,null,null,null,null,null,null,null,null,null,null,null,null,null,null,null,null,null,null,null,"",null,null,null,null,null,null,null,null,null,null,null,null,null,null,null,null,null,null,null,null,null,null,null,null,null,null,null,null,null,null,null,null,null,null,"","","","",null,null,null,null,null,null,null,null,0,0,0,0]
["Enfermedad de Parkinson ",null,0,0,0,null,null,null,null,null,null,null,null,null,null,null,null,null,null,null,null,null,null,null,null,null,null,null,null,null,null,null,null,null,null,null,null,null,null,null,null,null,null,null,"",null,null,null,null,null,null,null,null,null,null,null,null,null,null,null,null,null,null,null,null,null,null,null,null,null,null,null,null,null,null,null,null,null,null,"","","","",null,null,null,null,null,null,null,null,0,0,0,0]
["Artrosis de Cadera Y Rodilla ",null,0,0,0,null,null,null,null,null,null,null,null,null,null,null,null,null,null,null,null,null,null,null,null,null,null,null,null,null,null,null,null,null,null,null,null,null,null,null,null,null,null,null,"",null,null,null,null,null,null,null,null,null,null,null,null,null,null,null,null,null,null,null,null,null,null,null,null,null,null,null,null,null,null,null,null,null,null,"","","","",null,null,null,null,null,null,null,null,0,0,0,0]
["Alivio del Dolor",null,0,0,0,null,null,null,null,null,null,null,null,null,null,null,null,null,null,null,null,null,null,null,null,null,null,null,null,null,null,null,null,null,null,null,null,null,null,null,null,null,null,null,"",null,null,null,null,null,null,null,null,null,null,null,null,null,null,null,null,null,null,null,null,null,null,null,null,null,null,null,null,null,null,null,null,null,null,"","","","",null,null,null,null,null,null,null,null,0,0,0,0]
["Hipotiroidismo",null,0,0,0,null,null,null,null,null,null,null,null,null,null,null,null,null,null,null,null,null,null,null,null,null,null,null,null,null,null,null,null,null,null,null,null,null,null,null,null,null,null,null,"",null,null,null,null,null,null,null,null,null,null,null,null,null,null,null,null,null,null,null,null,null,null,null,null,null,null,null,null,null,null,null,null,null,null,"","","","",null,null,null,null,null,null,null,null,0,0,0,0]
["Dependencia Leve",null,0,0,0,null,null,null,null,null,null,null,null,null,null,null,null,null,null,null,null,null,null,null,null,null,null,null,null,null,null,null,null,null,null,null,null,null,null,null,null,null,null,null,"",null,null,null,null,null,null,null,null,null,null,null,null,null,null,null,null,null,null,null,null,null,null,null,null,null,null,null,null,null,null,null,null,null,null,"","","","",null,null,null,null,null,null,null,null,0,0,0,0]
["Dependencia Moderada",null,0,0,0,null,null,null,null,null,null,null,null,null,null,null,null,null,null,null,null,null,null,null,null,null,null,null,null,null,null,null,null,null,null,null,null,null,null,null,null,null,null,null,"",null,null,null,null,null,null,null,null,null,null,null,null,null,null,null,null,null,null,null,null,null,null,null,null,null,null,null,null,null,null,null,null,null,null,"","","","",null,null,null,null,null,null,null,null,0,0,0,0]
["Dependencia severa","Oncológica",0,0,0,null,null,null,null,null,null,null,null,null,null,null,null,null,null,null,null,null,null,null,null,null,null,null,null,null,null,null,null,null,null,null,null,null,null,null,null,null,null,null,"",null,null,null,null,null,null,null,null,null,null,null,null,null,null,null,null,null,null,null,null,null,null,null,null,null,null,null,null,null,null,null,null,null,null,"","","","",null,null,null,null,null,null,null,null,0,0,0,0]
[null,"No Oncológica",{"$f":"SUM(D36:E36)","v":0},0,0,null,null,null,null,null,null,null,null,null,null,null,null,null,null,null,null,null,null,null,null,null,null,null,null,null,null,null,null,null,null,null,null,null,null,null,null,null,null,null,"",null,null,null,null,null,null,null,null,null,null,null,null,null,null,null,null,null,null,null,null,null,null,null,null,null,null,null,null,null,null,null,null,null,null,"","","","",null,null,null,null,null,null,null,null,0,0,0,0]
[null,"Total personas con lesión por presión*",{"$f":"SUM(D37:E37)","v":0},{"$f":"+F37+H37+J37+L37+N37+P37+R37+T37+V37+X37+Z37+AB37+AD37+AF37+AH37+AJ37+AL37","v":0},{"$f":"+G37+I37+K37+M37+O37+Q37+S37+U37+W37+Y37+AA37+AC37+AE37+AG37+AI37+AK37+AM37","v":0},null,null,null,null,null,null,null,null,null,null,null,null,null,null,null,null,null,null,null,null,null,null,null,null,null,null,null,null,null,null,null,null,null,null,null,null,null,null,null,{"$f":"$CB37&$CC37&$CD37&$CE37&CF37","v":""},null,null,null,null,null,null,null,null,null,null,null,null,null,null,null,null,null,null,null,null,null,null,null,null,null,null,null,null,null,null,null,null,null,null,"","","","",{"$f":"IF($C37<=$C35+$C36,\"\",\"TOTAL PERSONAS CON LESIÓN POR PRESIÓN* no debe ser mayor que los Dependientes oncológicos + no Oncológicos. \")","v":""},null,null,null,null,null,null,null,0,0,0,0,{"$f":"IF($C37<=$C35+$C36,0,1)","v":0}]
["Atención domiciliaria por dependencia severa","Total personas",{"$f":"SUM(D38:E38)","v":0},{"$f":"+F38+H38+J38+L38+N38+P38+R38+T38+V38+X38+Z38+AB38+AD38+AF38+AH38+AJ38+AL38","v":0},{"$f":"+G38+I38+K38+M38+O38+Q38+S38+U38+W38+Y38+AA38+AC38+AE38+AG38+AI38+AK38+AM38","v":0},null,null,null,null,null,null,null,null,null,null,null,null,null,null,null,null,null,null,null,null,null,null,null,null,null,null,null,null,null,null,null,null,null,null,null,null,null,null,null,{"$f":"$CB38&$CC38&$CD38&$CE38&$CF38&$CG38","v":""},null,null,null,null,null,null,null,null,null,null,null,null,null,null,null,null,null,null,null,null,null,null,null,null,null,null,null,null,null,null,null,null,null,null,"","","","",{"$f":"IF($C38<=$C35+$C36,\"\",\"*Total Personas con Atención Domiciliaria por Dependencia Severa no debe ser mayor que la variable Dependencia Severa / oncológicos + no Oncológicos. \")","v":""},null,null,null,null,null,null,null,0,0,0,0,{"$f":"IF($C38<=$C35+$C36,0,1)","v":0}]
[null,"Oncológica",0,0,0,null,null,null,null,null,null,null,null,null,null,null,null,null,null,null,null,null,null,null,null,null,null,null,null,null,null,null,null,null,null,null,null,null,null,null,null,null,null,null,{"$f":"$CB39&$CC39&$CD39&$CE39&$CF39&$CG39","v":""},null,null,null,null,null,null,null,null,null,null,null,null,null,null,null,null,null,null,null,null,null,null,null,null,null,null,null,null,null,null,null,null,null,null,"","","","",{"$f":"IF($C39<=$C$38,\"\",\"* Atención Domiciliaria por Dependencia Severa: Total Oncológica no debe ser mayor al Total Personas. \")","v":""},{"$f":"IF($C39<=$C35,\"\",\"* Atención Domiciliaria por Dependencia Severa: Total Oncológica no debe ser mayor a la variable Dependencia Severa / Oncológica.\")","v":""},null,null,null,null,null,null,0,0,0,0,{"$f":"IF($C39<=$C$38,0,1)","v":0},{"$f":"IF($C39<=$C35,0,1)","v":0}]
[null,"No Oncológica",{"$f":"SUM(D40:E40)","v":0},{"$f":"+F40+H40+J40+L40+N40+P40+R40+T40+V40+X40+Z40+AB40+AD40+AF40+AH40+AJ40+AL40","v":0},{"$f":"+G40+I40+K40+M40+O40+Q40+S40+U40+W40+Y40+AA40+AC40+AE40+AG40+AI40+AK40+AM40","v":0},null,null,null,null,null,null,null,null,null,null,null,null,null,null,null,null,null,null,null,null,null,null,null,null,null,null,null,null,null,null,null,null,null,null,null,null,null,null,null,{"$f":"$CB40&$CC40&$CD40&$CE40&$CF40&$CG40","v":""},null,null,null,null,null,null,null,null,null,null,null,null,null,null,null,null,null,null,null,null,null,null,null,null,null,null,null,null,null,null,null,null,null,null,"","","","",{"$f":"IF($C40<=$C$38,\"\",\"* Atención Domiciliaria por Dependencia Severa: Total No Oncológica no debe ser mayor al Total Personas. \")","v":""},{"$f":"IF($C40<=$C36,\"\",\"* Atención Domiciliaria por Dependencia Severa: Total No Oncológica no debe ser mayor a la variable Dependencia Severa / No Oncológica.\")","v":""},null,null,null,null,null,null,0,0,0,0,{"$f":"IF($C40<=$C$38,0,1)","v":0},{"$f":"IF($C40<=$C36,0,1)","v":0}]
[null,"Con Demencia",0,0,0,null,null,null,null,null,null,null,null,null,null,null,null,null,null,null,null,null,null,null,null,null,null,null,null,null,null,null,null,null,null,null,null,null,null,null,null,null,null,null,{"$f":"$CB41&$CC41&$CD41&$CE41&$CF41","v":""},null,null,null,null,null,null,null,null,null,null,null,null,null,null,null,null,null,null,null,null,null,null,null,null,null,null,null,null,null,null,null,null,null,null,"","","","",{"$f":"IF($C41<=$C$38,\"\",\"* Atención Domiciliaria por Dependencia Severa / Con Demencia no debe ser mayor al Total Personas. \")","v":""},null,null,null,null,null,null,null,0,0,0,0,{"$f":"IF($C41<=$C$38,0,1)","v":0}]
[null,"Institucionalizada",0,0,0,null,null,null,null,null,null,null,null,null,null,null,null,null,null,null,null,null,null,null,null,null,null,null,null,null,null,null,null,null,null,null,null,null,null,null,null,null,null,null,{"$f":"$CB42&$CC42&$CD42&$CE42&$CF42","v":""},null,null,null,null,null,null,null,null,null,null,null,null,null,null,null,null,null,null,null,null,null,null,null,null,null,null,null,null,null,null,null,null,null,null,"","","","",{"$f":"IF($C42<=$C$38,\"\",\"* Atención Domiciliaria por Dependencia Severa / Total Institucionalizada no debe ser mayor al Total Personas. \")","v":""},null,null,null,null,null,null,null,0,0,0,0,{"$f":"IF($C42<=$C$38,0,1)","v":0}]
[null,"Total personas con lesión por presión*",{"$f":"SUM(D43:E43)","v":0},0,0,null,null,null,null,null,null,null,null,null,null,null,null,null,null,null,null,null,null,null,null,null,null,null,null,null,null,null,null,null,null,null,null,null,null,null,null,null,null,null,{"$f":"$CB43&$CC43&$CD43&$CE43&$CF43&$CG43","v":""},null,null,null,null,null,null,null,null,null,null,null,null,null,null,null,null,null,null,null,null,null,null,null,null,null,null,null,null,null,null,null,null,null,null,"","","","",{"$f":"IF($C43<=$C38,\"\",\"* Atención Domiciliaria por Dependencia Severa / Total Personas con lesión por Presión no debe ser mayor al Total Personas. \")","v":""},{"$f":"IF($C43<=$C37,\"\",\"* Atención Domiciliaria por Dependencia Severa: Total Personas con Lesión por Presión no debe ser mayor a la variable Dependencia Severa / Total Personas con Lesión por Presión. \")","v":""},null,null,null,null,null,null,0,0,0,0,{"$f":"IF($C43<=$C38,0,1)","v":0},{"$f":"IF($C43<=$C37,0,1)","v":0}]
[null,"Con indicación de nutrición enteral domiciliaria (NED)",{"$f":"SUM(D44:E44)","v":0},{"$f":"+F44+H44+J44+L44+N44+P44+R44+T44+V44+X44+Z44+AB44+AD44+AF44+AH44+AJ44+AL44","v":0},{"$f":"+G44+I44+K44+M44+O44+Q44+S44+U44+W44+Y44+AA44+AC44+AE44+AG44+AI44+AK44+AM44","v":0},null,null,null,null,null,null,null,null,null,null,null,null,null,null,null,null,null,null,null,null,null,null,null,null,null,null,null,null,null,null,null,null,null,null,null,null,null,null,null,{"$f":"$CB44&$CC44&$CD44&$CE44&$CF44","v":""},null,null,null,null,null,null,null,null,null,null,null,null,null,null,null,null,null,null,null,null,null,null,null,null,null,null,null,null,null,null,null,null,null,null,"","","","",{"$f":"IF($C44<=$C$38,\"\",\"Atención Domiciliaria por Dependencia Severa/ Con indicación de Nutrición Enteral Domiciliaria no debe ser mayor al Total Personas. \")","v":""},null,null,null,null,null,null,null,0,0,0,0,{"$f":"IF($C44<=$C$38,0,1)","v":0}]
["Cuidados Paliativos Universales","Cuidados Paliativos Oncológico Progresivo",{"$f":"SUM(D45:E45)","v":0},{"$f":"+F45+H45+J45+L45+N45+P45+R45+T45+V45+X45+Z45+AB45+AD45+AF45+AH45+AJ45+AL45","v":0},{"$f":"+G45+I45+K45+M45+O45+Q45+S45+U45+W45+Y45+AA45+AC45+AE45+AG45+AI45+AK45+AM45","v":0},null,null,null,null,null,null,null,null,null,null,null,null,null,null,null,null,null,null,null,null,null,null,null,null,null,null,null,null,null,null,null,null,null,null,null,null,null,null,null,{"$f":"$CB45&$CC45&$CD45&$CE45&$CF45","v":""},null,null,null,null,null,null,null,null,null,null,null,null,null,null,null,null,null,null,null,null,null,null,null,null,null,null,null,null,null,null,null,null,null,null,"","","","",null,null,null,null,null,null,null,null,{"$f":"IF(AND(D45>0,OR(AO45=\"\")),1,IF(AO45>D45,1,0))","v":0},{"$f":"IF(AND(E45>0,OR(AP45=\"\")),1,IF(AP45>E45,1,0))","v":0},{"$f":"IF(AND(D45>0,OR(AQ45=\"\")),1,IF(AQ45>D45,1,0))","v":0},{"$f":"IF(AND(E45>0,OR(AR45=\"\")),1,IF(AR45>E45,1,0))","v":0}]
[null,"Cuidados Paliativos Oncológico No Progresivo",0,0,0,null,null,null,null,null,null,null,null,null,null,null,null,null,null,null,null,null,null,null,null,null,null,null,null,null,null,null,null,null,null,null,null,null,null,null,null,null,null,null,"",null,null,null,null,null,null,null,null,null,null,null,null,null,null,null,null,null,null,null,null,null,null,null,null,null,null,null,null,null,null,null,null,null,null,"","","","",null,null,null,null,null,null,null,null,0,0,0,0]
[null,"Cuidados Paliativos No Oncológico",0,{"$f":"+F47+H47+J47+L47+N47+P47+R47+T47+V47+X47+Z47+AB47+AD47+AF47+AH47+AJ47+AL47","v":0},{"$f":"+G47+I47+K47+M47+O47+Q47+S47+U47+W47+Y47+AA47+AC47+AE47+AG47+AI47+AK47+AM47","v":0},null,null,null,null,null,null,null,null,null,null,null,null,null,null,null,null,null,null,null,null,null,null,null,null,null,null,null,null,null,null,null,null,null,null,null,null,null,null,null,"",null,null,null,null,null,null,null,null,null,null,null,null,null,null,null,null,null,null,null,null,null,null,null,null,null,null,null,null,null,null,null,null,null,null,"","","","",null,null,null,null,null,null,null,null,0,0,0,0]
["(*) Incluidos en Dependencia Severa Oncológica y NO Oncológica"]
["SECCION B: CUIDADORES DE PACIENTES CON DEPENDENCIA SEVERA"]
["CONCEPTO","Total","Hombres","Mujeres","ATENCIÓN DOMICILIARIA POR DEPENDENCIA SEVERA"]
[null,null,null,null,"Total Cuidadoras/es capacitadas/os","Total Cuidadoras/es con Examen de Medicina Preventivo Vigente","Total Cuidadores con condiciones crónicas en control en centro de salud","Cuidadoras/es con apoyo monetario","Cuidadoras/es en espera de apoyo monetario","Total Cuidadoras/es con evaluacion de sobrecarga vigente","Total Cuidadoras/es mayores de 65 años","Total Cuidadoras/es atendidas por ECICEP","Total Cuidadoras/es en Programas de Apoyo Intersectoriales","Total Cuidadoras/es con Atención Preferente en Centro de Salud","Pueblos originarios ","Migrantes"]
["Número de cuidadores",{"$f":"SUM(C52:D52)","v":0},null,null,null,null,null,null,null,null,null,null,null,null,null,null,{"$f":"BZ52&CA52&CB52&CC52&CD52&CE52&CF52&CG52&CH52&CI52&CJ52&CK52","v":""},null,null,null,null,null,null,null,null,null,null,null,null,null,null,null,null,null,null,null,null,null,null,null,null,null,null,null,null,null,null,null,null,null,null,null,null,null,null,null,null,null,null,null,null,null,null,null,null,null,null,null,null,null,null,null,null,null,null,null,null,{"$f":"IF(E52>B52,\" * El \"&E$51&\"\"&\" No debe ser mayor que el Total Número de cuidadores.\",\"\")","v":""},{"$f":"IF(F52>B52,\" * El \"&F$51&\"\"&\" No debe ser mayor que el Total Número de cuidadores.\",\"\")","v":""},{"$f":"IF(G52>B52,\" * El \"&G$51&\"\"&\" No debe ser mayor que el Total Número de cuidadores.\",\"\")","v":""},{"$f":"IF(H52>B52,\" * El \"&H$51&\"\"&\" No debe ser mayor que el Total Número de cuidadores.\",\"\")","v":""},{"$f":"IF(I52>B52,\" * El \"&I$51&\"\"&\" No debe ser mayor que el Total Número de cuidadores.\",\"\")","v":""},{"$f":"IF(J52>B52,\" * El \"&J$51&\"\"&\" No debe ser mayor que el Total Número de cuidadores.\",\"\")","v":""},{"$f":"IF(K52>B52,\" * El \"&K$51&\"\"&\" No debe ser mayor que el Total Número de cuidadores.\",\"\")","v":""},{"$f":"IF(L52>B52,\" * El \"&L$51&\"\"&\" No debe ser mayor que el Total Número de cuidadores.\",\"\")","v":""},{"$f":"IF(M52>B52,\" * El \"&M$51&\"\"&\" No debe ser mayor que el Total Número de cuidadores.\",\"\")","v":""},{"$f":"IF(N52>B52,\" * El \"&N$51&\"\"&\" No debe ser mayor que el Total Número de cuidadores.\",\"\")","v":""},{"$f":"IF(AND(B52>0,OR(O52=\"\",O52>B52)),\"* La variable Pueblos originarios no puede estar vacía ni ser mayor al total. Digite Cero si no tiene.\",\"\")","v":""},{"$f":"IF(AND(B52>0,OR(P52=\"\",P52>B52)),\"* La variable Migrantes no puede estar vacía ni ser mayor al total. Digite Cero si no tiene.\",\"\")","v":""},null,null,null,{"$f":"IF(E52>B52,1,0)","v":0},{"$f":"IF(F52>B52,1,0)","v":0},{"$f":"IF(G52>B52,1,0)","v":0},{"$f":"IF(H52>B52,1,0)","v":0},{"$f":"IF(I52>B52,1,0)","v":0},{"$f":"IF(J52>B52,1,0)","v":0},{"$f":"IF(K52>B52,1,0)","v":0},{"$f":"IF(L52>B52,1,0)","v":0},{"$f":"IF(M52>B52,1,0)","v":0},{"$f":"IF(N52>B52,1,0)","v":0},{"$f":"IF(AND(B52>0,OR(O52=\"\",O52>B52)),1,0)","v":0},{"$f":"IF(AND(B52>0,OR(P52=\"\",P52>B52)),1,0)","v":0}]
["SECCION C: POBLACIÓN EN CONTROL EN PROGRAMA DE REHABILITACIÓN PULMONAR EN SALA IRA-ERA"]
["PROGRAMA",null,"TOTAL",null,null,"RANGO ETARIO Y SEXO",null,null,null,null,null,null,null,null,null,null,null,null,null,null,null,null,null,null,null,null,null,null,null,null,null,null,null,null,null,null,null,null,null,"Pueblos Originarios",null,"Migrantes"]
[null,null,null,null,null,"0 a 4 años",null,"5 a 9 años",null,"10 a 14 años",null,"15 a 19 años",null,"20 a 24 años",null,"25 a 29 años",null,"30 a 34 años",null,"35 a 39 años",null,"40 a 44 años",null,"45 a 49 años",null,"50 a 54 años",null,"55 a 59 años",null,"60 a 64 años",null,"65 a 69 años",null,"70 a 74 años",null,"75 a 79 años",null,"80 y más años"]
[null,null,"Ambos\nsexos","Hombres","Mujeres","Hombres","Mujeres","Hombres","Mujeres","Hombres","Mujeres","Hombres","Mujeres","Hombres","Mujeres","Hombres","Mujeres","Hombres","Mujeres","Hombres","Mujeres","Hombres","Mujeres","Hombres","Mujeres","Hombres","Mujeres","Hombres","Mujeres","Hombres","Mujeres","Hombres ","Mujeres","Hombres ","Mujeres","Hombres ","Mujeres","Hombres ","Mujeres","Hombres ","Mujeres","Hombres ","Mujeres"]
["Rehabilitación Pulmonar","Ingresos",{"$f":"SUM(D57:E57)","v":0},{"$f":"+F57+H57+J57+L57+N57+P57+R57+T57+V57+X57+Z57+AB57+AD57+AF57+AH57+AJ57+AL57","v":0},{"$f":"+G57+I57+K57+M57+O57+Q57+S57+U57+W57+Y57+AA57+AC57+AE57+AG57+AI57+AK57+AM57","v":0},null,null,null,null,null,null,null,null,null,null,null,null,null,null,null,null,null,null,null,null,null,null,null,null,null,null,null,null,null,null,null,null,null,null,null,null,null,null,{"$f":"$CA57&CB57&CC57&CD57","v":""},null,null,null,null,null,null,null,null,null,null,null,null,null,null,null,null,null,null,null,null,null,null,null,null,null,null,null,null,null,null,null,null,null,null,{"$f":"IF(AND($D57>0,OR(AN57=\"\")),\" * No olvide digitar la variable Pueblos Originarios Hombres. Digite Cero si no tiene.\",IF(AN57>$D57,\" * La variable Pueblos Originarios Hombres no puede ser Mayor al Total Hombres.\",\"\"))","v":""},{"$f":"IF(AND($E57>0,OR(AO57=\"\")),\" * No olvide digitar la variable Pueblos Originarios Mujeres. Digite Cero si no tiene.\",IF(AO57>$E57,\" * La variable Pueblos Originarios Mujeres no puede ser Mayor al Total Mujeres.\",\"\"))","v":""},{"$f":"IF(AND($D57>0,OR(AP57=\"\")),\" * No olvide digitar la variable Migrantes Hombres. Digite Cero si no tiene.\",IF(AP57>$D57,\" * La variable Migrantes Hombres no puede ser Mayor al Total Hombres.\",\"\"))","v":""},{"$f":"IF(AND($E57>0,OR(AQ57=\"\")),\" * No olvide digitar la variable Migrantes Mujeres. Digite Cero si no tiene.\",IF(AQ57>$E57,\" * La variable Migrantes Mujeres no puede ser Mayor al Total Mujeres.\",\"\"))","v":""},null,null,null,null,null,null,null,null,{"$f":"IF(AND($D57>0,OR(AN57=\"\")),1,IF(AN57>$D57,1,0))","v":0},{"$f":"IF(AND($E57>0,OR(AO57=\"\")),1,IF(AO57>$E57,1,0))","v":0},{"$f":"IF(AND($D57>0,OR(AP57=\"\")),1,IF(AP57>$D57,1,0))","v":0},{"$f":"IF(AND($E57>0,OR(AQ57=\"\")),1,IF(AQ57>$E57,1,0))","v":0}]
[null,"Abandonos",{"$f":"SUM(D58:E58)","v":0},{"$f":"+F58+H58+J58+L58+N58+P58+R58+T58+V58+X58+Z58+AB58+AD58+AF58+AH58+AJ58+AL58","v":0},{"$f":"+G58+I58+K58+M58+O58+Q58+S58+U58+W58+Y58+AA58+AC58+AE58+AG58+AI58+AK58+AM58","v":0},null,null,null,null,null,null,null,null,null,null,null,null,null,null,null,null,null,null,null,null,null,null,null,null,null,null,null,null,null,null,null,null,null,null,null,null,null,null,{"$f":"$CA58&CB58&CC58&CD58","v":""},null,null,null,null,null,null,null,null,null,null,null,null,null,null,null,null,null,null,null,null,null,null,null,null,null,null,null,null,null,null,null,null,null,null,{"$f":"IF(AND($D58>0,OR(AN58=\"\")),\" * No olvide digitar la variable Pueblos Originarios Hombres. Digite Cero si no tiene.\",IF(AN58>$D58,\" * La variable Pueblos Originarios Hombres no puede ser Mayor al Total Hombres.\",\"\"))","v":""},{"$f":"IF(AND($E58>0,OR(AO58=\"\")),\" * No olvide digitar la variable Pueblos Originarios Mujeres. Digite Cero si no tiene.\",IF(AO58>$E58,\" * La variable Pueblos Originarios Mujeres no puede ser Mayor al Total Mujeres.\",\"\"))","v":""},{"$f":"IF(AND($D58>0,OR(AP58=\"\")),\" * No olvide digitar la variable Migrantes Hombres. Digite Cero si no tiene.\",IF(AP58>$D58,\" * La variable Migrantes Hombres no puede ser Mayor al Total Hombres.\",\"\"))","v":""},{"$f":"IF(AND($E58>0,OR(AQ58=\"\")),\" * No olvide digitar la variable Migrantes Mujeres. Digite Cero si no tiene.\",IF(AQ58>$E58,\" * La variable Migrantes Mujeres no puede ser Mayor al Total Mujeres.\",\"\"))","v":""},null,null,null,null,null,null,null,null,{"$f":"IF(AND($D58>0,OR(AN58=\"\")),1,IF(AN58>$D58,1,0))","v":0},{"$f":"IF(AND($E58>0,OR(AO58=\"\")),1,IF(AO58>$E58,1,0))","v":0},{"$f":"IF(AND($D58>0,OR(AP58=\"\")),1,IF(AP58>$D58,1,0))","v":0},{"$f":"IF(AND($E58>0,OR(AQ58=\"\")),1,IF(AQ58>$E58,1,0))","v":0}]
[null,"Egresos por termino de ciclo",0,0,{"$f":"+G59+I59+K59+M59+O59+Q59+S59+U59+W59+Y59+AA59+AC59+AE59+AG59+AI59+AK59+AM59","v":0},null,null,null,null,null,null,null,null,null,null,null,null,null,null,null,null,null,null,null,null,null,null,null,null,null,null,null,null,null,null,null,null,null,null,null,null,null,null,"",null,null,null,null,null,null,null,null,null,null,null,null,null,null,null,null,null,null,null,null,null,null,null,null,null,null,null,null,null,null,null,null,null,null,"","","","",null,null,null,null,null,null,null,null,0,0,{"$f":"IF(AND($D59>0,OR(AP59=\"\")),1,IF(AP59>$D59,1,0))","v":0},0]
[null,"Articulacion continuidad en intersector",0,0,{"$f":"+G60+I60+K60+M60+O60+Q60+S60+U60+W60+Y60+AA60+AC60+AE60+AG60+AI60+AK60+AM60","v":0},null,null,null,null,null,null,null,null,null,null,null,null,null,null,null,null,null,null,null,null,null,null,null,null,null,null,null,null,null,null,null,null,null,null,null,null,null,null,"",null,null,null,null,null,null,null,null,null,null,null,null,null,null,null,null,null,null,null,null,null,null,null,null,null,null,null,null,null,null,null,null,null,null,"","","","",null,null,null,null,null,null,null,null,0,0,0,0]
["SECCION D: NIVEL DE CONTROL DE POBLACION RESPIRATORIA CRONICA"]
["PROGRAMAS",null,"TOTAL",null,null,"RANGO ETARIO  Y SEXO",null,null,null,null,null,null,null,null,null,null,null,null,null,null,null,null,null,null,null,null,null,null,null,null,null,null,null,null,null,null,null,null,null,"Pueblos Originarios",null,"Migrantes"]
[null,null,null,null,null,"0 a 4 años",null,"5 a 9 años",null,"10 a 14 años",null,"15 a 19 años",null,"20 a 24 años",null,"25 a 29 años",null,"30 a 34 años",null,"35 a 39 años",null,"40 a 44 años",null,"45 a 49 años",null,"50 a 54 años",null,"55 a 59 años",null,"60 a 64 años",null,"65 a 69 años",null,"70 a 74 años",null,"75 a 79 años",null,"80 y más años"]
[null,null,"Ambos\nsexos","Hombres","Mujeres","Hombres","Mujeres","Hombres","Mujeres","Hombres","Mujeres","Hombres","Mujeres","Hombres","Mujeres","Hombres","Mujeres","Hombres","Mujeres","Hombres","Mujeres","Hombres","Mujeres","Hombres","Mujeres","Hombres","Mujeres","Hombres","Mujeres","Hombres","Mujeres","Hombres ","Mujeres","Hombres ","Mujeres","Hombres ","Mujeres","Hombres ","Mujeres","Hombres ","Mujeres","Hombres ","Mujeres"]
["Asma Bronquial","Controlado",{"$f":"+D65+E65","v":0},{"$f":"+F65+H65+J65+L65+N65+P65+R65++T65+V65+X65+Z65+AB65+AD65++AF65+AH65+AJ65+AL65","v":0},{"$f":"+G65+I65+K65+M65+O65+Q65+S65++U65+W65+Y65+AA65+AC65+AE65++AG65+AI65+AK65+AM65","v":0},null,null,null,null,null,null,null,null,null,null,null,null,null,null,null,null,null,null,null,null,null,null,null,null,null,null,null,null,null,null,null,null,null,null,null,null,null,null,{"$f":"$CA65&CB65&CC65&CD65&CE65","v":""},null,null,null,null,null,null,null,null,null,null,null,null,null,null,null,null,null,null,null,null,null,null,null,null,null,null,null,null,null,null,null,null,null,null,{"$f":"IF(SUM(C15:C17)>=SUM(C65:C68),\"\",\"* El total de Asma Bronquial en ambos sexo no puede ser mayor al total de Asma Bronquial de ambos sexo de la Sección A. \")","v":""},{"$f":"IF(AND($D65>0,OR(AN65=\"\")),\" * No olvide digitar la variable Pueblos Originarios Hombres. Digite Cero si no tiene.\",IF(AN65>$D65,\" * La variable Pueblos Originarios Hombres no puede ser Mayor al Total Hombres.\",\"\"))","v":""},{"$f":"IF(AND($E65>0,OR(AO65=\"\")),\" * No olvide digitar la variable Pueblos Originarios Mujeres. Digite Cero si no tiene.\",IF(AO65>$E65,\" * La variable Pueblos Originarios Mujeres no puede ser Mayor al Total Mujeres.\",\"\"))","v":""},{"$f":"IF(AND($D65>0,OR(AP65=\"\")),\" * No olvide digitar la variable Migrantes Hombres. Digite Cero si no tiene.\",IF(AP65>$D65,\" * La variable Migrantes Hombres no puede ser Mayor al Total Hombres.\",\"\"))","v":""},{"$f":"IF(AND($E65>0,OR(AQ65=\"\")),\" * No olvide digitar la variable Migrantes Mujeres. Digite Cero si no tiene.\",IF(AQ65>$E65,\" * La variable Migrantes Mujeres no puede ser Mayor al Total Mujeres.\",\"\"))","v":""},null,null,null,null,null,null,null,{"$f":"IF(SUM(C15:C17)>=SUM(C65:C68),0,1)","v":0},{"$f":"IF(AND($D65>0,OR(AN65=\"\")),1,IF(AN65>$D65,1,0))","v":0},{"$f":"IF(AND($E65>0,OR(AO65=\"\")),1,IF(AO65>$E65,1,0))","v":0},{"$f":"IF(AND($D65>0,OR(AP65=\"\")),1,IF(AP65>$D65,1,0))","v":0},{"$f":"IF(AND($E65>0,OR(AQ65=\"\")),1,IF(AQ65>$E65,1,0))","v":0}]
[null,"Parcialmente Controlado",{"$f":"+D66+E66","v":0},{"$f":"+F66+H66+J66+L66+N66+P66+R66++T66+V66+X66+Z66+AB66+AD66++AF66+AH66+AJ66+AL66","v":0},{"$f":"+G66+I66+K66+M66+O66+Q66+S66++U66+W66+Y66+AA66+AC66+AE66++AG66+AI66+AK66+AM66","v":0},null,null,null,null,null,null,null,null,null,null,null,null,null,null,null,null,null,null,null,null,null,null,null,null,null,null,null,null,null,null,null,null,null,null,null,null,null,null,{"$f":"$CB66&CC66&CD66&CE66","v":""},null,null,null,null,null,null,null,null,null,null,null,null,null,null,null,null,null,null,null,null,null,null,null,null,null,null,null,null,null,null,null,null,null,null,null,"","","",{"$f":"IF(AND($E66>0,OR(AQ66=\"\")),\" * No olvide digitar la variable Migrantes Mujeres. Digite Cero si no tiene.\",IF(AQ66>$E66,\" * La variable Migrantes Mujeres no puede ser Mayor al Total Mujeres.\",\"\"))","v":""},null,null,null,null,null,null,null,null,{"$f":"IF(AND($D66>0,OR(AN66=\"\")),1,IF(AN66>$D66,1,0))","v":0},0,0,0]
[null,"No Controlado",0,0,0,null,null,null,null,null,null,null,null,null,null,null,null,null,null,null,null,null,null,null,null,null,null,null,null,null,null,null,null,null,null,null,null,null,null,null,null,null,null,{"$f":"$CB67&CC67&CD67&CE67","v":""},null,null,null,null,null,null,null,null,null,null,null,null,null,null,null,null,null,null,null,null,null,null,null,null,null,null,null,null,null,null,null,null,null,null,null,"","","","",null,null,null,null,null,null,null,null,0,0,0,0]
[null,"No evaluada",0,0,0,null,null,null,null,null,null,null,null,null,null,null,null,null,null,null,null,null,null,null,null,null,null,null,null,null,null,null,null,null,null,null,null,null,null,null,null,null,null,"",null,null,null,null,null,null,null,null,null,null,null,null,null,null,null,null,null,null,null,null,null,null,null,null,null,null,null,null,null,null,null,null,null,null,null,"","","","",null,null,null,null,null,null,null,null,0,0,0,0]
["Enfermedad Pulmonar Obstructiva Crónica (EPOC)","Logra Control Adecuado",0,{"$f":"+V69+X69+Z69+AB69+AD69+AF69+AH69+AJ69+AL69","v":0},{"$f":"+W69+Y69+AA69+AC69+AE69+AG69+AI69+AK69+AM69","v":0},null,null,null,null,null,null,null,null,null,null,null,null,null,null,null,null,null,null,null,null,null,null,null,null,null,null,null,null,null,null,null,null,null,null,null,null,null,null,"",null,null,null,null,null,null,null,null,null,null,null,null,null,null,null,null,null,null,null,null,null,null,null,null,null,null,null,null,null,null,null,null,null,null,null,"","","","",null,null,null,null,null,null,null,null,0,0,0,0]
[null,"No Logra Control Adecuado",0,{"$f":"+V70+X70+Z70+AB70+AD70+AF70+AH70+AJ70+AL70","v":0},{"$f":"+W70+Y70+AA70+AC70+AE70+AG70+AI70+AK70+AM70","v":0},null,null,null,null,null,null,null,null,null,null,null,null,null,null,null,null,null,null,null,null,null,null,null,null,null,null,null,null,null,null,null,null,null,null,null,null,null,null,"",null,null,null,null,null,null,null,null,null,null,null,null,null,null,null,null,null,null,null,null,null,null,null,null,null,null,null,null,null,null,null,null,null,null,null,"","","","",null,null,null,null,null,null,null,null,0,0,0,0]
[null,"No evaluada",0,0,0,null,null,null,null,null,null,null,null,null,null,null,null,null,null,null,null,null,null,null,null,null,null,null,null,null,null,null,null,null,null,null,null,null,null,null,null,null,null,{"$f":"$CA71&CB71&CC71&CD71&CE71","v":""},null,null,null,null,null,null,null,null,null,null,null,null,null,null,null,null,null,null,null,null,null,null,null,null,null,null,null,null,null,null,null,null,null,null,{"$f":"IF(SUM(C18:C19)>=SUM(C69:C71),\"\",\"* El total de Enfermedad Pulmonar Obstructiva Crónica (EPOC) en ambos sexo no puede ser mayor al total de Enfermedad Pulmonar Obstructiva Crónica (EPOC) de ambos sexo de la Sección A. \")","v":""},"","","","",null,null,null,null,null,null,null,{"$f":"IF(SUM(C18:C19)>=SUM(C69:C71),0,1)","v":0},0,0,0,0]
["SECCIÓN E:  RESULTADO DE ENCUESTA CALIDAD DE VIDA"]
["DIAGNÓSTICO","ACTIVIDAD","TOTAL",null,null,"RANGO ETARIO  Y SEXO",null,null,null,null,null,null,null,null,null,null,null,null,null,null,null,null,null,null,null,null,null,null,null,null,null,null,null,null,null,null,null,null,null,"Pueblos Originarios",null,"Migrantes"]
[null,null,null,null,null,"0 a 4 años",null,"5 - 9 \naños",null,"10 - 14\naños",null,"15 - 19\naños",null,"20 a 24 años\n",null,"25 a 29 años",null,"30 a 34 años",null,"35 a 39 años",null,"40 - 44 años",null,"45 - 49 años",null,"50 - 54 años",null,"55 - 59 años",null,"60 - 64 años",null,"65 - 69 años",null,"70 - 74 años",null,"75 - 79 años",null,"80 y mas años"]
[null,null,"Ambos Sexos","Hombres","Mujeres","Hombres","Mujeres","Hombres","Mujeres","Hombres","Mujeres","Hombres","Mujeres","Hombres","Mujeres","Hombres","Mujeres","Hombres","Mujeres","Hombres","Mujeres","Hombres","Mujeres","Hombres","Mujeres","Hombres","Mujeres","Hombres","Mujeres","Hombres","Mujeres","Hombres","Mujeres","Hombres","Mujeres","Hombres","Mujeres","Hombres","Mujeres","Hombres ","Mujeres","Hombres ","Mujeres"]
["Enfermedad Pulmonar Obstructiva Crónica (EPOC)","Evaluados",{"$f":"SUM(D76:E76)","v":0},{"$f":"+V76+X76+Z76+AB76+AD76+AF76+AH76+AJ76+AL76","v":0},{"$f":"+W76+Y76+AA76+AC76+AE76+AG76+AI76+AK76+AM76","v":0},null,null,null,null,null,null,null,null,null,null,null,null,null,null,null,null,null,null,null,null,null,null,null,null,null,null,null,null,null,null,null,null,null,null,null,null,null,null,{"$f":"$CB76&CC76&CD76&CE76&CA76","v":""},null,null,null,null,null,null,null,null,null,null,null,null,null,null,null,null,null,null,null,null,null,null,null,null,null,null,null,null,null,null,null,null,null,null,{"$f":"IF(SUM(C18:C19)>=SUM(C76:C78),\"\",\"* El total de Enfermedad Pulmonar Obstructiva Crónica (EPOC) en ambos sexo no puede ser mayor al total de Enfermedad Pulmonar Obstructiva Crónica (EPOC) de ambos sexo de la Sección A. \")","v":""},{"$f":"IF(AND($D76>0,OR(AN76=\"\")),\" * No olvide digitar la variable Pueblos Originarios Hombres. Digite Cero si no tiene.\",IF(AN76>$D76,\" * La variable Pueblos Originarios Hombres no puede ser Mayor al Total Hombres.\",\"\"))","v":""},{"$f":"IF(AND($E76>0,OR(AO76=\"\")),\" * No olvide digitar la variable Pueblos Originarios Mujeres. Digite Cero si no tiene.\",IF(AO76>$E76,\" * La variable Pueblos Originarios Mujeres no puede ser Mayor al Total Mujeres.\",\"\"))","v":""},{"$f":"IF(AND($D76>0,OR(AP76=\"\")),\" * No olvide digitar la variable Migrantes Hombres. Digite Cero si no tiene.\",IF(AP76>$D76,\" * La variable Migrantes Hombres no puede ser Mayor al Total Hombres.\",\"\"))","v":""},{"$f":"IF(AND($E76>0,OR(AQ76=\"\")),\" * No olvide digitar la variable Migrantes Mujeres. Digite Cero si no tiene.\",IF(AQ76>$E76,\" * La variable Migrantes Mujeres no puede ser Mayor al Total Mujeres.\",\"\"))","v":""},null,null,null,null,null,null,null,{"$f":"IF(SUM(C15:C17)>=SUM(C79:C81),0,1)","v":0},{"$f":"IF(AND($D76>0,OR(AN76=\"\")),1,IF(AN76>$D76,1,0))","v":0},{"$f":"IF(AND($E76>0,OR(AO76=\"\")),1,IF(AO76>$E76,1,0))","v":0},{"$f":"IF(AND($D76>0,OR(AP76=\"\")),1,IF(AP76>$D76,1,0))","v":0},{"$f":"IF(AND($E76>0,OR(AQ76=\"\")),1,IF(AQ76>$E76,1,0))","v":0}]
[null,"Mejora en relación a año anterior",{"$f":"SUM(D77:E77)","v":0},{"$f":"+V77+X77+Z77+AB77+AD77+AF77+AH77+AJ77+AL77","v":0},{"$f":"+W77+Y77+AA77+AC77+AE77+AG77+AI77+AK77+AM77","v":0},null,null,null,null,null,null,null,null,null,null,null,null,null,null,null,null,null,null,null,null,null,null,null,null,null,null,null,null,null,null,null,null,null,null,null,null,null,null,{"$f":"$CB77&CC77&CD77&CE77","v":""},null,null,null,null,null,null,null,null,null,null,null,null,null,null,null,null,null,null,null,null,null,null,null,null,null,null,null,null,null,null,null,null,null,null,null,"","","",{"$f":"IF(AND($E77>0,OR(AQ77=\"\")),\" * No olvide digitar la variable Migrantes Mujeres. Digite Cero si no tiene.\",IF(AQ77>$E77,\" * La variable Migrantes Mujeres no puede ser Mayor al Total Mujeres.\",\"\"))","v":""},null,null,null,null,null,null,null,null,{"$f":"IF(AND($D77>0,OR(AN77=\"\")),1,IF(AN77>$D77,1,0))","v":0},{"$f":"IF(AND($E77>0,OR(AO77=\"\")),1,IF(AO77>$E77,1,0))","v":0},0,{"$f":"IF(AND($E77>0,OR(AQ77=\"\")),1,IF(AQ77>$E77,1,0))","v":0}]
[null,"No mejora en relación a año anterior",{"$f":"SUM(D78:E78)","v":0},{"$f":"+V78+X78+Z78+AB78+AD78+AF78+AH78+AJ78+AL78","v":0},{"$f":"+W78+Y78+AA78+AC78+AE78+AG78+AI78+AK78+AM78","v":0},null,null,null,null,null,null,null,null,null,null,null,null,null,null,null,null,null,null,null,null,null,null,null,null,null,null,null,null,null,null,null,null,null,null,null,null,null,null,{"$f":"$CB78&CC78&CD78&CE78","v":""},null,null,null,null,null,null,null,null,null,null,null,null,null,null,null,null,null,null,null,null,null,null,null,null,null,null,null,null,null,null,null,null,null,null,null,"","","","",null,null,null,null,null,null,null,null,0,0,0,0]
["Asma Bronquial","Evaluados",0,{"$f":"+F79+H79+J79+L79+N79+P79+R79+T79+V79+X79+Z79+AB79+AD79+AF79+AH79+AJ79+AL79","v":0},{"$f":"+G79+I79+K79+M79+O79+Q79+S79+U79+W79+Y79+AA79+AC79+AE79+AG79+AI79+AK79+AM79","v":0},null,null,null,null,null,null,null,null,null,null,null,null,null,null,null,null,null,null,null,null,null,null,null,null,null,null,null,null,null,null,null,null,null,null,null,null,null,null,{"$f":"$CA79&CB79&CC79&CD79&CE79","v":""},null,null,null,null,null,null,null,null,null,null,null,null,null,null,null,null,null,null,null,null,null,null,null,null,null,null,null,null,null,null,null,null,null,null,{"$f":"IF(SUM(C15:C17)>=SUM(C79:C81),\"\",\"* El total de Asma Bronquial en ambos sexo no puede ser mayor al total de Asma Bronquial de ambos sexo de la Sección A. \")","v":""},"","","","",null,null,null,null,null,null,null,null,0,0,0,0]
[null,"Mejora en relación a  año anterior",{"$f":"SUM(D80:E80)","v":0},{"$f":"+F80+H80+J80+L80+N80+P80+R80+T80+V80+X80+Z80+AB80+AD80+AF80+AH80+AJ80+AL80","v":0},{"$f":"+G80+I80+K80+M80+O80+Q80+S80+U80+W80+Y80+AA80+AC80+AE80+AG80+AI80+AK80+AM80","v":0},null,null,null,null,null,null,null,null,null,null,null,null,null,null,null,null,null,null,null,null,null,null,null,null,null,null,null,null,null,null,null,null,null,null,null,null,null,null,"",null,null,null,null,null,null,null,null,null,null,null,null,null,null,null,null,null,null,null,null,null,null,null,null,null,null,null,null,null,null,null,null,null,null,null,"","","","",null,null,null,null,null,null,null,null,0,0,0,0]
[null,"No mejora en relación a año anterior",0,{"$f":"+F81+H81+J81+L81+N81+P81+R81+T81+V81+X81+Z81+AB81+AD81+AF81+AH81+AJ81+AL81","v":0},0,null,null,null,null,null,null,null,null,null,null,null,null,null,null,null,null,null,null,null,null,null,null,null,null,null,null,null,null,null,null,null,null,null,null,null,null,null,null,"",null,null,null,null,null,null,null,null,null,null,null,null,null,null,null,null,null,null,null,null,null,null,null,null,null,null,null,null,null,null,null,null,null,null,null,"","","","",null,null,null,null,null,null,null,null,0,0,0,0]
["Otras crónicas respiratorias","Evaluados",0,{"$f":"+F82+H82+J82+L82+N82+P82+R82+T82+V82+X82+Z82+AB82+AD82+AF82+AH82+AJ82+AL82","v":0},{"$f":"+G82+I82+K82+M82+O82+Q82+S82+U82+W82+Y82+AA82+AC82+AE82+AG82+AI82+AK82+AM82","v":0},null,null,null,null,null,null,null,null,null,null,null,null,null,null,null,null,null,null,null,null,null,null,null,null,null,null,null,null,null,null,null,null,null,null,null,null,null,null,{"$f":"$CB82&CC82&CD82&CE82","v":""},null,null,null,null,null,null,null,null,null,null,null,null,null,null,null,null,null,null,null,null,null,null,null,null,null,null,null,null,null,null,null,null,null,null,null,"","","","",null,null,null,null,null,null,null,{"$f":"IF(SUM(C18:C19)>=SUM(C76:C78),0,1)","v":0},0,0,0,0]
[null,"Mejora en relación a año anterior",0,0,{"$f":"+G83+I83+K83+M83+O83+Q83+S83+U83+W83+Y83+AA83+AC83+AE83+AG83+AI83+AK83+AM83","v":0},null,null,null,null,null,null,null,null,null,null,null,null,null,null,null,null,null,null,null,null,null,null,null,null,null,null,null,null,null,null,null,null,null,null,null,null,null,null,"",null,null,null,null,null,null,null,null,null,null,null,null,null,null,null,null,null,null,null,null,null,null,null,null,null,null,null,null,null,null,null,null,null,null,null,{"$f":"IF(AND($D83>0,OR(AN83=\"\")),\" * No olvide digitar la variable Pueblos Originarios Hombres. Digite Cero si no tiene.\",IF(AN83>$D83,\" * La variable Pueblos Originarios Hombres no puede ser Mayor al Total Hombres.\",\"\"))","v":""},{"$f":"IF(AND($E83>0,OR(AO83=\"\")),\" * No olvide digitar la variable Pueblos Originarios Mujeres. Digite Cero si no tiene.\",IF(AO83>$E83,\" * La variable Pueblos Originarios Mujeres no puede ser Mayor al Total Mujeres.\",\"\"))","v":""},{"$f":"IF(AND($D83>0,OR(AP83=\"\")),\" * No olvide digitar la variable Migrantes Hombres. Digite Cero si no tiene.\",IF(AP83>$D83,\" * La variable Migrantes Hombres no puede ser Mayor al Total Hombres.\",\"\"))","v":""},{"$f":"IF(AND($E83>0,OR(AQ83=\"\")),\" * No olvide digitar la variable Migrantes Mujeres. Digite Cero si no tiene.\",IF(AQ83>$E83,\" * La variable Migrantes Mujeres no puede ser Mayor al Total Mujeres.\",\"\"))","v":""},null,null,null,null,null,null,null,null,{"$f":"IF(AND($D83>0,OR(AN83=\"\")),1,IF(AN83>$D83,1,0))","v":0},{"$f":"IF(AND($E83>0,OR(AO83=\"\")),1,IF(AO83>$E83,1,0))","v":0},{"$f":"IF(AND($D83>0,OR(AP83=\"\")),1,IF(AP83>$D83,1,0))","v":0},{"$f":"IF(AND($E83>0,OR(AQ83=\"\")),1,IF(AQ83>$E83,1,0))","v":0}]
[null,"No mejora en relación a año anterior",0,0,0,null,null,null,null,null,null,null,null,null,null,null,null,null,null,null,null,null,null,null,null,null,null,null,null,null,null,null,null,null,null,null,null,null,null,null,null,null,null,{"$f":"$CA84&CB84&CC84&CD84&CE84","v":""},null,null,null,null,null,null,null,null,null,null,null,null,null,null,null,null,null,null,null,null,null,null,null,null,null,null,null,null,null,null,null,null,null,null,null,"","","","",null,null,null,null,null,null,null,null,0,0,0,0]
[]
[]
[]
[]
[]
[]
[]
[]
[{"$f":"SUM(C12:C47,B52,C57:C60,C65:C71,C76:C84)","v":0},"datos"]
[{"$f":"SUM(CM12:CZ84)","v":0},"errores"]

{"sheet":"P4","index":4,"n_rows":111,"n_cols":148,"rows_kept":111,"cut":false,"hidden":false,"merged":[[86,0,86,1],[87,0,95,0],[12,0,14,0],[44,27,44,28],[29,0,31,0],[80,2,80,36],[60,0,63,0],[59,0,59,1],[75,0,75,1],[43,2,44,4],[43,5,43,32],[77,0,77,1],[64,0,66,0],[57,0,57,1],[74,0,74,1],[76,0,76,1],[50,0,50,1],[52,0,52,1],[84,0,84,1],[67,0,67,1],[68,0,68,1],[51,0,51,1],[81,0,81,1],[54,0,54,1],[15,0,22,0],[24,2,25,4],[25,5,25,6],[33,0,35,0],[27,0,28,0],[23,0,23,1],[24,0,26,1],[25,29,25,30],[44,17,44,18],[44,29,44,30],[43,0,45,1],[6,0,6,20],[8,0,10,1],[8,2,9,4],[9,15,9,16],[9,17,9,18],[9,19,9,20],[9,9,9,10],[9,11,9,12],[9,13,9,14],[8,5,8,32],[9,5,9,6],[9,7,9,8],[9,27,9,28],[9,21,9,22],[9,29,9,30],[9,31,9,32],[9,23,9,24],[7,0,7,32],[8,35,9,36],[11,0,11,1],[9,25,9,26],[85,0,85,1],[43,80,44,81],[44,31,44,32],[69,0,69,1],[24,33,25,34],[24,35,25,36],[25,13,25,14],[25,15,25,16],[83,0,83,1],[24,5,24,32],[78,0,78,1],[43,33,44,34],[53,0,53,1],[82,0,82,1],[79,0,79,1],[73,2,73,36],[48,0,48,1],[49,0,49,1],[46,2,46,36],[8,33,9,34],[47,0,47,1],[43,86,44,86],[25,21,25,22],[25,23,25,24],[44,23,44,24],[44,25,44,26],[44,19,44,20],[44,21,44,22],[55,0,55,1],[80,0,80,1],[25,27,25,28],[25,17,25,18],[25,19,25,20],[44,11,44,12],[44,13,44,14],[25,31,25,32],[25,25,25,26],[43,116,44,117],[8,85,9,85],[56,0,56,1],[58,0,58,1],[70,0,70,1],[71,0,71,1],[72,0,72,1],[8,78,9,79],[43,78,44,79],[43,114,44,115],[43,87,44,87],[44,15,44,16],[25,7,25,8],[44,5,44,6],[44,7,44,8],[44,9,44,10],[25,9,25,10],[36,0,38,0],[8,86,9,86],[8,80,9,81],[8,84,10,84],[43,35,44,36],[25,11,25,12],[39,0,41,0]]}
["DATOS DEL ESTABLECIMIENTO"]
[{"$f":"CONCATENATE(\"COMUNA: \",NOMBRE!$B$2,\"   \",\"( \",NOMBRE!$C$2,NOMBRE!$D$2,NOMBRE!$E$2,NOMBRE!$F$2,NOMBRE!$G$2,\" )\")","v":"COMUNA:    (  )"}]
[{"$f":"CONCATENATE(\"ESTABLECIMIENTO/ESTRATEGIA: \",NOMBRE!$B$3,\"   \",\"( \",NOMBRE!$C$3,NOMBRE!$D$3,NOMBRE!$E$3,NOMBRE!$F$3,NOMBRE!$G$3,NOMBRE!$H$3,\" )\")","v":"ESTABLECIMIENTO/ESTRATEGIA:    (  )"}]
[{"$f":"CONCATENATE(\"MES: \",NOMBRE!$B$6,\"   \",\"( \",NOMBRE!$C$6,NOMBRE!$D$6,\" )\")","v":"MES:    (  )"}]
[{"$f":"CONCATENATE(\"AÑO: \",NOMBRE!$B$7)","v":"AÑO: 2026"}]
[]
["REM-P4. POBLACIÓN EN CONTROL PROGRAMA DE SALUD CARDIOVASCULAR (PSCV)"]
["SECCIÓN A: PROGRAMA SALUD CARDIOVASCULAR (PSCV)"]
["CONCEPTO",null,"TOTAL ",null,null,"RANGO ETARIO Y SEXO",null,null,null,null,null,null,null,null,null,null,null,null,null,null,null,null,null,null,null,null,null,null,null,null,null,null,null,"Pueblos Originarios",null," Migrantes"]
[null,null,null,null,null,"15 a 19 años",null,"20 a 24 años",null,"25 a 29 años",null,"30 a 34 años",null,"35 a 39 años",null,"40 a 44 años",null,"45 a 49 años",null,"50 a 54 años",null,"55 a 59 años",null,"60 a 64 años",null,"65 a 69 años",null,"70 a 74 años",null,"75 a 79 años",null,"80 y más años"]
[null,null,"Ambos sexos","Hombres","Mujeres","Hombres","Mujeres","Hombres","Mujeres","Hombres","Mujeres","Hombres","Mujeres","Hombres","Mujeres","Hombres","Mujeres","Hombres","Mujeres","Hombres","Mujeres","Hombres","Mujeres","Hombres","Mujeres","Hombres ","Mujeres","Hombres ","Mujeres","Hombres ","Mujeres","Hombres ","Mujeres","Hombres","Mujeres","Hombres","Mujeres"]
["NUMERO DE PERSONAS EN PSCV",null,{"$f":"SUM(D12:E12)","v":0},{"$f":"+F12+H12+J12+L12+N12+P12+R12+T12+V12+X12+Z12+AB12+AD12+AF12","v":0},{"$f":"+G12+I12+K12+M12+O12+Q12+S12+U12+W12+Y12+AA12+AC12+AE12+AG12","v":0},{"$f":"SUM(F13:F15)","v":0},{"$f":"SUM(G13:G15)","v":0},0,0,0,0,0,0,0,0,0,0,0,0,0,0,0,0,0,0,0,0,0,0,0,0,0,0,{"$f":"SUM(AH13:AH15)","v":0},{"$f":"SUM(AI13:AI15)","v":0},0,{"$f":"SUM(AK13:AK15)","v":0}]
["Clasificación del\nRiesgo\nCardiovascular","Bajo",{"$f":"SUM(D13:E13)","v":0},{"$f":"+F13+H13+J13+L13+N13+P13+R13+T13+V13+X13+Z13+AB13+AD13+AF13","v":0},{"$f":"+G13+I13+K13+M13+O13+Q13+S13+U13+W13+Y13+AA13+AC13+AE13+AG13","v":0},null,null,null,null,null,null,null,null,null,null,null,null,null,null,null,null,null,null,null,null,null,null,null,null,null,null,null,null,null,null,null,null,{"$f":"CA13&CB13&CC13&CD13","v":""},null,null,null,null,null,null,null,null,null,null,null,null,null,null,null,null,null,null,null,null,null,null,null,null,null,null,null,null,null,null,null,null,null,null,null,null,null,null,null,null,{"$f":"IF(AND(D13>0,OR(AH13=\"\")),\" * No olvide digitar la variable Pueblos Originarios Hombres. Digite Cero si no tiene.\",IF(AH13>D13,\" * La variable Pueblos Originarios Hombres no puede ser Mayor al Total Hombres.\",\"\"))","v":""},{"$f":"IF(AND(E13>0,OR(AI13=\"\")),\" * No olvide digitar la variable Pueblos Originarios Mujeres. Digite Cero si no tiene.\",IF(AI13>E13,\" * La variable Pueblos Originarios Mujeres no puede ser Mayor al Total Mujeres.\",\"\"))","v":""},{"$f":"IF(AND($D13>0,OR(AJ13=\"\")),\" * No olvide digitar la variable Migrantes Hombres. Digite Cero si no tiene.\",IF(AJ13>$D13,\" * La variable Migrantes Hombres no puede ser Mayor al Total Hombres.\",\"\"))","v":""},{"$f":"IF(AND(E13>0,OR(AK13=\"\")),\" * No olvide digitar la variable Migrantes Mujeres. Digite Cero si no tiene.\",IF(AK13>E13,\" * La variable Migrantes Mujeres no puede ser Mayor al Total Mujeres.\",\"\"))","v":""},null,null,null,null,null,null,null,null,null,null,null,null,null,null,null,null,null,null,null,null,null,null,null,null,null,null,null,null,null,null,null,null,{"$f":"IF(AND(D13>0,OR(AH13=\"\")),1,IF(AH13>D13,1,0))","v":0},{"$f":"IF(AND(E13>0,OR(AI13=\"\")),1,IF(AI13>E13,1,0))","v":0},{"$f":"IF(AND(D13>0,OR(AJ13=\"\")),1,IF(AJ13>D13,1,0))","v":0},{"$f":"IF(AND(E13>0,OR(AK13=\"\")),1,IF(AK13>E13,1,0))","v":0}]
[null,"Moderado",0,{"$f":"+F14+H14+J14+L14+N14+P14+R14+T14+V14+X14+Z14+AB14+AD14+AF14","v":0},0,null,null,null,null,null,null,null,null,null,null,null,null,null,null,null,null,null,null,null,null,null,null,null,null,null,null,null,null,null,null,null,null,{"$f":"CA14&CB14&CC14&CD14","v":""},null,null,null,null,null,null,null,null,null,null,null,null,null,null,null,null,null,null,null,null,null,null,null,null,null,null,null,null,null,null,null,null,null,null,null,null,null,null,null,null,{"$f":"IF(AND(D14>0,OR(AH14=\"\")),\" * No olvide digitar la variable Pueblos Originarios Hombres. Digite Cero si no tiene.\",IF(AH14>D14,\" * La variable Pueblos Originarios Hombres no puede ser Mayor al Total Hombres.\",\"\"))","v":""},{"$f":"IF(AND(E14>0,OR(AI14=\"\")),\" * No olvide digitar la variable Pueblos Originarios Mujeres. Digite Cero si no tiene.\",IF(AI14>E14,\" * La variable Pueblos Originarios Mujeres no puede ser Mayor al Total Mujeres.\",\"\"))","v":""},{"$f":"IF(AND($D14>0,OR(AJ14=\"\")),\" * No olvide digitar la variable Migrantes Hombres. Digite Cero si no tiene.\",IF(AJ14>$D14,\" * La variable Migrantes Hombres no puede ser Mayor al Total Hombres.\",\"\"))","v":""},{"$f":"IF(AND(E14>0,OR(AK14=\"\")),\" * No olvide digitar la variable Migrantes Mujeres. Digite Cero si no tiene.\",IF(AK14>E14,\" * La variable Migrantes Mujeres no puede ser Mayor al Total Mujeres.\",\"\"))","v":""},null,null,null,null,null,null,null,null,null,null,null,null,null,null,null,null,null,null,null,null,null,null,null,null,null,null,null,null,null,null,null,null,0,0,0,0]
[null,"Ato",0,0,0,null,null,null,null,null,null,null,null,null,null,null,null,null,null,null,null,null,null,null,null,null,null,null,null,null,null,null,null,null,null,null,null,"",null,null,null,null,null,null,null,null,null,null,null,null,null,null,null,null,null,null,null,null,null,null,null,null,null,null,null,null,null,null,null,null,null,null,null,null,null,null,null,null,"","","","",null,null,null,null,null,null,null,null,null,null,null,null,null,null,null,null,null,null,null,null,null,null,null,null,null,null,null,null,null,null,null,null,0,0,0,0]
["Personas bajo control según patología y factores de riesgo (existencia)","Hipertensión Arterial ",0,0,0,null,null,null,null,null,null,null,null,null,null,null,null,null,null,null,null,null,null,null,null,null,null,null,null,null,null,null,null,null,null,null,null,"",null,null,null,null,null,null,null,null,null,null,null,null,null,null,null,null,null,null,null,null,null,null,null,null,null,null,null,null,null,null,null,null,null,null,null,null,null,null,null,null,"","","","",null,null,null,null,null,null,null,null,null,null,null,null,null,null,null,null,null,null,null,null,null,null,null,null,null,null,null,null,null,null,null,null,0,0,0,0]
[null,"Diabetes Mellitus tipo 2 ",0,{"$f":"+F17+H17+J17+L17+N17+P17+R17+T17+V17+X17+Z17+AB17+AD17+AF17","v":0},0,null,null,null,null,null,null,null,null,null,null,null,null,null,null,null,null,null,null,null,null,null,null,null,null,null,null,null,null,null,null,null,null,"",null,null,null,null,null,null,null,null,null,null,null,null,null,null,null,null,null,null,null,null,null,null,null,null,null,null,null,null,null,null,null,null,null,null,null,null,null,null,null,null,"","","","",null,null,null,null,null,null,null,null,null,null,null,null,null,null,null,null,null,null,null,null,null,null,null,null,null,null,null,null,null,null,null,null,0,0,0,0]
[null,"Dislipidemia ",0,0,0,null,null,null,null,null,null,null,null,null,null,null,null,null,null,null,null,null,null,null,null,null,null,null,null,null,null,null,null,null,null,null,null,"",null,null,null,null,null,null,null,null,null,null,null,null,null,null,null,null,null,null,null,null,null,null,null,null,null,null,null,null,null,null,null,null,null,null,null,null,null,null,null,null,"","","","",null,null,null,null,null,null,null,null,null,null,null,null,null,null,null,null,null,null,null,null,null,null,null,null,null,null,null,null,null,null,null,null,0,0,0,0]
[null,"Tabaquismo ≥ 55 años ",0,{"$f":"+V19+X19+Z19+AB19+AD19+AF19","v":0},{"$f":"+W19+Y19+AA19+AC19+AE19+AG19","v":0},null,null,null,null,null,null,null,null,null,null,null,null,null,null,null,null,null,null,null,null,null,null,null,null,null,null,null,null,null,null,null,null,"",null,null,null,null,null,null,null,null,null,null,null,null,null,null,null,null,null,null,null,null,null,null,null,null,null,null,null,null,null,null,null,null,null,null,null,null,null,null,null,null,"","","","",null,null,null,null,null,null,null,null,null,null,null,null,null,null,null,null,null,null,null,null,null,null,null,null,null,null,null,null,null,null,null,null,0,0,0,0]
[null,"Antecedentes de Infarto Agudo al Miocardio (IAM)",{"$f":"SUM(D20:E20)","v":0},{"$f":"+F20+H20+J20+L20+N20+P20+R20+T20+V20+X20+Z20+AB20+AD20+AF20","v":0},0,null,null,null,null,null,null,null,null,null,null,null,null,null,null,null,null,null,null,null,null,null,null,null,null,null,null,null,null,null,null,null,null,"",null,null,null,null,null,null,null,null,null,null,null,null,null,null,null,null,null,null,null,null,null,null,null,null,null,null,null,null,null,null,null,null,null,null,null,null,null,null,null,null,"","","","",null,null,null,null,null,null,null,null,null,null,null,null,null,null,null,null,null,null,null,null,null,null,null,null,null,null,null,null,null,null,null,null,{"$f":"IF(AND(D20>0,OR(AH20=\"\")),1,IF(AH20>D20,1,0))","v":0},0,{"$f":"IF(AND(D20>0,OR(AJ20=\"\")),1,IF(AJ20>D20,1,0))","v":0},0]
[null,"Antecedentes de Ataque Cerebro Vascular (ACV)",{"$f":"SUM(D21:E21)","v":0},0,0,null,null,null,null,null,null,null,null,null,null,null,null,null,null,null,null,null,null,null,null,null,null,null,null,null,null,null,null,null,null,null,null,"",null,null,null,null,null,null,null,null,null,null,null,null,null,null,null,null,null,null,null,null,null,null,null,null,null,null,null,null,null,null,null,null,null,null,null,null,null,null,null,null,"","","","",null,null,null,null,null,null,null,null,null,null,null,null,null,null,null,null,null,null,null,null,null,null,null,null,null,null,null,null,null,null,null,null,0,0,0,0]
[null,"Antecedentes de otras Enfermedades Cardiovasculares ECV (excepto IAM y ACV)",{"$f":"SUM(D22:E22)","v":0},0,0,null,null,null,null,null,null,null,null,null,null,null,null,null,null,null,null,null,null,null,null,null,null,null,null,null,null,null,null,null,null,null,null,"",null,null,null,null,null,null,null,null,null,null,null,null,null,null,null,null,null,null,null,null,null,null,null,null,null,null,null,null,null,null,null,null,null,null,null,null,null,null,null,null,"","","","",null,null,null,null,null,null,null,null,null,null,null,null,null,null,null,null,null,null,null,null,null,null,null,null,null,null,null,null,null,null,null,null,0,0,0,0]
[null,"Enfermedad renal crónica (etapas 1 a 5)",{"$f":"SUM(D23:E23)","v":0},{"$f":"+F23+H23+J23+L23+N23+P23+R23+T23+V23+X23+Z23+AB23+AD23+AF23","v":0},{"$f":"+G23+I23+K23+M23+O23+Q23+S23+U23+W23+Y23+AA23+AC23+AE23+AG23","v":0},null,null,null,null,null,null,null,null,null,null,null,null,null,null,null,null,null,null,null,null,null,null,null,null,null,null,null,null,null,null,null,null,"",null,null,null,null,null,null,null,null,null,null,null,null,null,null,null,null,null,null,null,null,null,null,null,null,null,null,null,null,null,null,null,null,null,null,null,null,null,null,null,null,"","","","",null,null,null,null,null,null,null,null,null,null,null,null,null,null,null,null,null,null,null,null,null,null,null,null,null,null,null,null,null,null,null,null,0,0,0,0]
["SECCIÓN B: METAS DE COMPENSACIÓN"]
["CONCEPTO",null,"TOTAL ",null,null,"RANGO ETARIO Y SEXO",null,null,null,null,null,null,null,null,null,null,null,null,null,null,null,null,null,null,null,null,null,null,null,null,null,null,null,"Pueblos Originarios",null," Migrantes"]
[null,null,null,null,null,"15 a 19 años",null,"20 a 24 años",null,"25 a 29 años",null,"30 a 34 años",null,"35 a 39 años",null,"40 a 44 años",null,"45 a 49 años",null,"50 a 54 años",null,"55 a 59 años",null,"60 a 64 años",null,"65 a 69 años",null,"70 a 74 años",null,"75 a 79 años",null,"80 y más años"]
[null,null,"Ambos sexos","Hombres","Mujeres","Hombres","Mujeres","Hombres","Mujeres","Hombres","Mujeres","Hombres","Mujeres","Hombres","Mujeres","Hombres","Mujeres","Hombres","Mujeres","Hombres","Mujeres","Hombres","Mujeres","Hombres","Mujeres","Hombres ","Mujeres","Hombres ","Mujeres","Hombres ","Mujeres","Hombres ","Mujeres","Hombres","Mujeres","Hombres","Mujeres"]
["Personas Bajo Control por Hipertensión ","PA < 140/90 mmHg ",{"$f":"SUM(D28:E28)","v":0},{"$f":"+F28+H28+J28+L28+N28+P28+R28+T28+V28+X28+Z28+AB28+AD28","v":0},{"$f":"+G28+I28+K28+M28+O28+Q28+S28+U28+W28+Y28+AA28+AC28+AE28","v":0},null,null,null,null,null,null,null,null,null,null,null,null,null,null,null,null,null,null,null,null,null,null,null,null,null,null,null,null,null,null,null,null,{"$f":"CA28&CB28& CC28 & CD28 & CE28 & CF28 & CG28 & CH28 & CI28 & CJ28 & CK28 & CL28 & CM28 & CN28 & CO28 & CP28 & CQ28 & CR28 & CS28 & CT28 & CU28 & CV28 & CW28 & CX28 & CY28 & CZ28 & DA28 & DB28 & DC28 & DE28 & DF28 &DD28","v":""},null,null,null,null,null,null,null,null,null,null,null,null,null,null,null,null,null,null,null,null,null,null,null,null,null,null,null,null,null,null,null,null,null,null,null,null,null,null,null,null,{"$f":"IF(AND(D28>0,OR(AH28=\"\")),\" * No olvide digitar la variable Pueblos Originarios Hombres. Digite Cero si no tiene.\",IF(AH28>D28,\" * La variable Pueblos Originarios Hombres no puede ser Mayor al Total Hombres.\",\"\"))","v":""},{"$f":"IF(AND(E28>0,OR(AI28=\"\")),\" * No olvide digitar la variable Pueblos Originarios Mujeres. Digite Cero si no tiene.\",IF(AI28>E28,\" * La variable Pueblos Originarios Mujeres no puede ser Mayor al Total Mujeres.\",\"\"))","v":""},{"$f":"IF(AND($D28>0,OR(AJ28=\"\")),\" * No olvide digitar la variable Migrantes Hombres. Digite Cero si no tiene.\",IF(AJ28>$D28,\" * La variable Migrantes Hombres no puede ser Mayor al Total Hombres.\",\"\"))","v":""},{"$f":"IF(AND(E28>0,OR(AK28=\"\")),\" * No olvide digitar la variable Migrantes Mujeres. Digite Cero si no tiene.\",IF(AK28>E28,\" * La variable Migrantes Mujeres no puede ser Mayor al Total Mujeres.\",\"\"))","v":""},{"$f":"IF($F$28<=$F$16,\"\",\"* Pacientes 15 a 19 años (Hombres) con PA<140/90 mmHg debe ser menor o igual a Hipertensos en Sección A. \")","v":""},{"$f":"IF($G$28<=$G$16,\"\",\"* Pacientes 15 a 19 años (Mujeres) con PA<140/90 mmHg debe ser menor o igual a Hipertensos en Sección A. \")","v":""},{"$f":"IF($H$28<=$H$16,\"\",\"* Pacientes 20 a 24 años (Hombres) con PA<140/90 mmHg debe ser menor o igual a Hipertensos en Sección A. \")","v":""},{"$f":"IF($I$28<=$I$16,\"\",\"* Pacientes 20 a 24 años (Mujeres) con PA<140/90 mmHg debe ser menor o igual a Hipertensos en Sección A. \")","v":""},{"$f":"IF($J$28<=$J$16,\"\",\"* Pacientes 25 a 29 años (Hombres) con PA<140/90 mmHg debe ser menor o igual a Hipertensos en Sección A. \")","v":""},{"$f":"IF($K$28<=$K$16,\"\",\"* Pacientes 25 a 29 años (Mujeres) con PA<140/90 mmHg debe ser menor o igual a Hipertensos en Sección A. \")","v":""},{"$f":"IF($L$28<=$L$16,\"\",\"* Pacientes 30 a 34 años (Hombres) con PA<140/90 mmHg debe ser menor o igual a Hipertensos en Sección A. \")","v":""},{"$f":"IF($M$28<=$M$16,\"\",\"* Pacientes 30 a 34 años (Mujeres) con PA<140/90 mmHg debe ser menor o igual a Hipertensos en Sección A. \")","v":""},{"$f":"IF($N$28<=$N$16,\"\",\"* Pacientes 35 a 39 años (Hombres) con PA<140/90 mmHg debe ser menor o igual a Hipertensos en Sección A. \")","v":""},{"$f":"IF($O$28<=$O$16,\"\",\"* Pacientes 35 a 39 años (Mujeres) con PA<140/90 mmHg debe ser menor o igual a Hipertensos en Sección A. \")","v":""},{"$f":"IF($P$28<=$P$16,\"\",\"* Pacientes 40 a 44 años (Hombres) con PA<140/90 mmHg debe ser menor o igual a Hipertensos en Sección A. \")","v":""},{"$f":"IF($Q$28<=$Q$16,\"\",\"* Pacientes 40 a 44 años (Mujeres) con PA<140/90 mmHg debe ser menor o igual a Hipertensos en Sección A. \")","v":""},{"$f":"IF($R$28<=$R$16,\"\",\"* Pacientes 45 a 49 años (Hombres) con PA<140/90 mmHg debe ser menor o igual a Hipertensos en Sección A. \")","v":""},{"$f":"IF($S$28<=$S$16,\"\",\"* Pacientes 45 a 49 años (Mujeres) con PA<140/90 mmHg debe ser menor o igual a Hipertensos en Sección A. \")","v":""},{"$f":"IF($T$28<=$T$16,\"\",\"* Pacientes 50 a 54 años (Hombres) con PA<140/90 mmHg debe ser menor o igual a Hipertensos en Sección A. \")","v":""},{"$f":"IF($U$28<=$U$16,\"\",\"* Pacientes 50 a 54 años (Mujeres) con PA<140/90 mmHg debe ser menor o igual a Hipertensos en Sección A. \")","v":""},{"$f":"IF($V$28<=$V$16,\"\",\"* Pacientes 55 a 59 años (Hombres) con PA<140/90 mmHg debe ser menor o igual a Hipertensos en Sección A. \")","v":""},{"$f":"IF($W$28<=$W$16,\"\",\"* Pacientes 55 a 59 años (Mujeres) con PA<140/90 mmHg debe ser menor o igual a Hipertensos en Sección A. \")","v":""},{"$f":"IF($X$28<=$X$16,\"\",\"* Pacientes 60 a 64 años (Hombres) con PA<140/90 mmHg debe ser menor o igual a Hipertensos en Sección A. \")","v":""},{"$f":"IF($Y$28<=$Y$16,\"\",\"* Pacientes 60 a 64 años (Mujeres) con PA<140/90 mmHg debe ser menor o igual a Hipertensos en Sección A. \")","v":""},{"$f":"IF($Z$28<=$Z$16,\"\",\"* Pacientes 65 a 69 años (Hombres) con PA<140/90 mmHg debe ser menor o igual a Hipertensos en Sección A. \")","v":""},{"$f":"IF($AA$28<=$AA$16,\"\",\"* Pacientes 65 a 69 años (Mujeres) con PA<140/90 mmHg debe ser menor o igual a Hipertensos en Sección A. \")","v":""},{"$f":"IF($AB$28<=$AB$16,\"\",\"* Pacientes 70 a 74 años (Hombres) con PA<140/90 mmHg debe ser menor o igual a Hipertensos en Sección A. \")","v":""},{"$f":"IF($AC$28<=$AC$16,\"\",\"* Pacientes 70 a 74 años (Mujeres) con PA<140/90 mmHg debe ser menor o igual a Hipertensos en Sección A. \")","v":""},{"$f":"IF($AD$28<=$AD$16,\"\",\"* Pacientes 75 a 79 años (Hombres) con PA<140/90 mmHg debe ser menor o igual a Hipertensos en Sección A. \")","v":""},{"$f":"IF($AE$28<=$AE$16,\"\",\"* Pacientes 75 a 79 años (Mujeres) con PA<140/90 mmHg debe ser menor o igual a Hipertensos en Sección A. \")","v":""},null,null,null,null,null,null,{"$f":"IF(AND(D28<>0,AH28=\"\"),1,IF(AND(E28<>0,AI28=\"\"),1,0))","v":0},{"$f":"IF(AND(D28<>0,AJ28=\"\"),1,IF(AND(E28<>0,AK28=\"\"),1,0))","v":0},{"$f":"IF($D$28>=$AH$28,0,1)","v":0},{"$f":"IF(E$28>=AI28,0,1)","v":0},{"$f":"IF($D28>=$AJ28,0,1)","v":0},{"$f":"IF(E28>=AK28,0,1)","v":0},{"$f":"IF(F$28<=F$16,0,1)","v":0},0,0,0,0,0,0,0,0,0,0,0,0,0,0,0,0,0,0,0,0,0,0,0,0,0]
[null,"PA < 150/90 mmHg ",{"$f":"SUM(D29:E29)","v":0},{"$f":"+AF29","v":0},{"$f":"+AG29","v":0},null,null,null,null,null,null,null,null,null,null,null,null,null,null,null,null,null,null,null,null,null,null,null,null,null,null,null,null,null,null,null,null,{"$f":"CA29&CB29& CC29 & CD29 & CE29 & CF29 & CG29 & CH29 & CI29 & CJ29 & CK29 & CL29 & CM29 & CN29 & CO29 & CP29 & CQ29 & CR29 & CS29 & CT29 & CU29 & CV29 & CW29 & CX29 & CY29 & CZ29 & DA29 & DB29 & DC29 & DE29 & DF29 &DD29","v":""},null,null,null,null,null,null,null,null,null,null,null,null,null,null,null,null,null,null,null,null,null,null,null,null,null,null,null,null,null,null,null,null,null,null,null,null,null,null,null,null,{"$f":"IF(AND(D29>0,OR(AH29=\"\")),\" * No olvide digitar la variable Pueblos Originarios Hombres. Digite Cero si no tiene.\",IF(AH29>D29,\" * La variable Pueblos Originarios Hombres no puede ser Mayor al Total Hombres.\",\"\"))","v":""},{"$f":"IF(AND(E29>0,OR(AI29=\"\")),\" * No olvide digitar la variable Pueblos Originarios Mujeres. Digite Cero si no tiene.\",IF(AI29>E29,\" * La variable Pueblos Originarios Mujeres no puede ser Mayor al Total Mujeres.\",\"\"))","v":""},{"$f":"IF(AND($D29>0,OR(AJ29=\"\")),\" * No olvide digitar la variable Migrantes Hombres. Digite Cero si no tiene.\",IF(AJ29>$D29,\" * La variable Migrantes Hombres no puede ser Mayor al Total Hombres.\",\"\"))","v":""},{"$f":"IF(AND(E29>0,OR(AK29=\"\")),\" * No olvide digitar la variable Migrantes Mujeres. Digite Cero si no tiene.\",IF(AK29>E29,\" * La variable Migrantes Mujeres no puede ser Mayor al Total Mujeres.\",\"\"))","v":""},null,null,null,null,null,null,null,null,null,null,null,null,null,null,null,null,null,null,null,null,null,null,null,null,null,null,null,null,null,null,null,null,{"$f":"IF(AND(D29<>0,AH29=\"\"),1,IF(AND(E29<>0,AI29=\"\"),1,0))","v":0},{"$f":"IF(AND(D29<>0,AJ29=\"\"),1,IF(AND(E29<>0,AK29=\"\"),1,0))","v":0},{"$f":"IF($D$29>=$AH$29,0,1)","v":0},{"$f":"IF(E$28>=AI29,0,1)","v":0},0,0]
["Personas Bajo Control por Diabetes Mellitus ","HbA1C<7% ",0,{"$f":"+F30+H30+J30+L30+N30+P30+R30+T30+V30+X30+Z30+AB30+AD30","v":0},{"$f":"+G30+I30+K30+M30+O30+Q30+S30+U30+W30+Y30+AA30+AC30+AE30","v":0},null,null,null,null,null,null,null,null,null,null,null,null,null,null,null,null,null,null,null,null,null,null,null,null,null,null,null,null,null,null,null,null,{"$f":"CA30&CB30& CC30 & CD30 & CE30 & CF30 & CG30 & CH30 & CI30 & CJ30 & CK30 & CL30 & CM30 & CN30 & CO30 & CP30 & CQ30 & CR30 & CS30 & CT30 & CU30 & CV30 & CW30 & CX30 & CY30 & CZ30 & DA30 & DB30 & DC30 & DE30 & DF30 &DD30","v":""},null,null,null,null,null,null,null,null,null,null,null,null,null,null,null,null,null,null,null,null,null,null,null,null,null,null,null,null,null,null,null,null,null,null,null,null,null,null,null,null,"","","","",{"$f":"IF($F$30<=$F$17,\"\",\"* Pacientes 15 a 19 años (Hombres) con HbA1C<7% debe ser menor o igual a Diabéticos en Sección A. \")","v":""},{"$f":"IF($G$30<=$G$17,\"\",\"* Pacientes 15 a 19 años (Mujeres) con HbA1C<7% debe ser menor o igual a Diabéticos en Sección A. \")","v":""},{"$f":"IF($H$30<=$H$17,\"\",\"* Pacientes 20 a 24 años (Hombres) con HbA1C<7% debe ser menor o igual a Diabéticos en Sección A. \")","v":""},{"$f":"IF($I$30<=$I$17,\"\",\"* Pacientes 20 a 24 años (Mujeres) con HbA1C<7% debe ser menor o igual a Diabéticos en Sección A. \")","v":""},{"$f":"IF($J$30<=$J$17,\"\",\"* Pacientes 25 a 29 años (Hombres) con HbA1C<7% debe ser menor o igual a Diabéticos en Sección A. \")","v":""},{"$f":"IF($K$30<=$K$17,\"\",\"* Pacientes 25 a 29 años (Mujeres) con HbA1C<7% debe ser menor o igual a Diabéticos en Sección A. \")","v":""},{"$f":"IF($L$30<=$L$17,\"\",\"* Pacientes 30 a 34 años (Hombres) con HbA1C<7% debe ser menor o igual a Diabéticos en Sección A. \")","v":""},{"$f":"IF($M$30<=$M$17,\"\",\"* Pacientes 30 a 34 años (Mujeres) con HbA1C<7% debe ser menor o igual a Diabéticos en Sección A. \")","v":""},{"$f":"IF($N$30<=$N$17,\"\",\"* Pacientes 35 a 39 años (Hombres) con HbA1C<7% debe ser menor o igual a Diabéticos en Sección A. \")","v":""},{"$f":"IF($O$30<=$O$17,\"\",\"* Pacientes 35 a 39 años (Mujeres) con HbA1C<7% debe ser menor o igual a Diabéticos en Sección A. \")","v":""},{"$f":"IF($P$30<=$P$17,\"\",\"* Pacientes 40 a 44 años (Hombres) con HbA1C<7% debe ser menor o igual a Diabéticos en Sección A. \")","v":""},{"$f":"IF($Q$30<=$Q$17,\"\",\"* Pacientes 40 a 44 años (Mujeres) con HbA1C<7% debe ser menor o igual a Diabéticos en Sección A. \")","v":""},{"$f":"IF($R$30<=$R$17,\"\",\"* Pacientes 45 a 49 años (Hombres) con HbA1C<7% debe ser menor o igual a Diabéticos en Sección A. \")","v":""},{"$f":"IF($S$30<=$S$17,\"\",\"* Pacientes 45 a 49 años (Mujeres) con HbA1C<7% debe ser menor o igual a Diabéticos en Sección A. \")","v":""},{"$f":"IF($T$30<=$T$17,\"\",\"* Pacientes 50 a 54 años (Hombres) con HbA1C<7% debe ser menor o igual a Diabéticos en Sección A. \")","v":""},{"$f":"IF($U$30<=$U$17,\"\",\"* Pacientes 50 a 54 años (Mujeres) con HbA1C<7% debe ser menor o igual a Diabéticos en Sección A. \")","v":""},{"$f":"IF($V$30<=$V$17,\"\",\"* Pacientes 55 a 59 años (Hombres) con HbA1C<7% debe ser menor o igual a Diabéticos en Sección A. \")","v":""},{"$f":"IF($W$30<=$W$17,\"\",\"* Pacientes 55 a 59 años (Mujeres) con HbA1C<7% debe ser menor o igual a Diabéticos en Sección A. \")","v":""},{"$f":"IF($X$30<=$X$17,\"\",\"* Pacientes 60 a 64 años (Hombres) con HbA1C<7% debe ser menor o igual a Diabéticos en Sección A. \")","v":""},{"$f":"IF($Y$30<=$Y$17,\"\",\"* Pacientes 60 a 64 años (Mujeres) con HbA1C<7% debe ser menor o igual a Diabéticos en Sección A. \")","v":""},{"$f":"IF($Z$30<=$Z$17,\"\",\"* Pacientes 65 a 69 años (Hombres) con HbA1C<7% debe ser menor o igual a Diabéticos en Sección A. \")","v":""},{"$f":"IF($AA$30<=$AA$17,\"\",\"* Pacientes 65 a 69 años (Mujeres) con HbA1C<7% debe ser menor o igual a Diabéticos en Sección A. \")","v":""},{"$f":"IF($AB$30<=$AB$17,\"\",\"* Pacientes 70 a 74 años (Hombres) con HbA1C<7% debe ser menor o igual a Diabéticos en Sección A. \")","v":""},{"$f":"IF($AC$30<=$AC$17,\"\",\"* Pacientes 70 a 74 años (Mujeres) con HbA1C<7% debe ser menor o igual a Diabéticos en Sección A. \")","v":""},{"$f":"IF($AD$30<=$AD$17,\"\",\"* Pacientes 75 a 79 años (Hombres) con HbA1C<7% debe ser menor o igual a Diabéticos en Sección A. \")","v":""},{"$f":"IF($AE$30<=$AE$17,\"\",\"* Pacientes 75 a 79 años (Mujeres) con HbA1C<7% debe ser menor o igual a Diabéticos en Sección A. \")","v":""},{"$f":"IF($AF$30<=$AF$17,\"\",\"* Pacientes 80 y más años (Hombres) con HbA1C<7% debe ser menor o igual a Diabéticos en Sección A. \")","v":""},null,null,null,null,null,0,0,{"$f":"IF($D$30>=$AH$30,0,1)","v":0},0,0,0,{"$f":"IF(F$30<=F$17,0,1)","v":0},0,0,0,0,0,0,0,0,0,0,0,0,0,0,0,0,0,0,0,0,0,0,0,0,0,0,0]
[null,"HbA1C<8%",0,{"$f":"+AF31","v":0},{"$f":"+AG31","v":0},null,null,null,null,null,null,null,null,null,null,null,null,null,null,null,null,null,null,null,null,null,null,null,null,null,null,null,null,null,null,null,null,"",null,null,null,null,null,null,null,null,null,null,null,null,null,null,null,null,null,null,null,null,null,null,null,null,null,null,null,null,null,null,null,null,null,null,null,null,null,null,null,null,"","","","",null,null,null,null,null,null,null,null,null,null,null,null,null,null,null,null,null,null,null,null,null,null,null,null,null,null,null,null,null,null,null,null,0,0,{"$f":"IF($D$31>=$AH$31,0,1)","v":0},0,{"$f":"IF($D31>=$AJ31,0,1)","v":0},0]
[null,"HbA1C<7% - PA < 140/90mmHg y Colesterol LDL < 70 mg/dl",0,{"$f":"+F32+H32+J32+L32+N32+P32+R32+T32+V32+X32+Z32+AB32+AD32+AF32","v":0},{"$f":"+G32+I32+K32+M32+O32+Q32+S32+U32+W32+Y32+AA32+AC32+AE32+AG32","v":0},null,null,null,null,null,null,null,null,null,null,null,null,null,null,null,null,null,null,null,null,null,null,null,null,null,null,null,null,null,null,null,null,"",null,null,null,null,null,null,null,null,null,null,null,null,null,null,null,null,null,null,null,null,null,null,null,null,null,null,null,null,null,null,null,null,null,null,null,null,null,null,null,null,"","","","",{"$f":"IF($F$32<=$F$30,\"\",\"* Pacientes 15 a 19 años (Hombres) con HbA1C<7% - PA<140/90mmHg debe ser menor o igual a los con HbA1C<7%. \")","v":""},{"$f":"IF($G$32<=$G$30,\"\",\"* Pacientes 15 a 19 años (Mujeres) con HbA1C<7% - PA<140/90mmHg debe ser menor o igual a los con HbA1C<7%. \")","v":""},{"$f":"IF($H$32<=$H$30,\"\",\"* Pacientes 20 a 24 años (Hombres) con HbA1C<7% - PA<140/90mmHg debe ser menor o igual a los con HbA1C<7%. \")","v":""},{"$f":"IF($I$32<=$I$30,\"\",\"* Pacientes 20 a 24 años (Mujeres) con HbA1C<7% - PA<140/90mmHg debe ser menor o igual a los con HbA1C<7%. \")","v":""},{"$f":"IF($J$32<=$J$30,\"\",\"* Pacientes 25 a 29 años (Hombres) con HbA1C<7% - PA<140/90mmHg debe ser menor o igual a los con HbA1C<7%. \")","v":""},{"$f":"IF($K$32<=$K$30,\"\",\"* Pacientes 25 a 29 años (Mujeres) con HbA1C<7% - PA<140/90mmHg debe ser menor o igual a los con HbA1C<7%. \")","v":""},{"$f":"IF($L$32<=$L$30,\"\",\"* Pacientes 30 a 34 años (Hombres) con HbA1C<7% - PA<140/90mmHg debe ser menor o igual a los con HbA1C<7%. \")","v":""},{"$f":"IF($M$32<=$M$30,\"\",\"* Pacientes 30 a 34 años (Mujeres) con HbA1C<7% - PA<140/90mmHg debe ser menor o igual a los con HbA1C<7%. \")","v":""},{"$f":"IF($N$32<=$N$30,\"\",\"* Pacientes 35 a 39 años (Hombres) con HbA1C<7% - PA<140/90mmHg debe ser menor o igual a los con HbA1C<7%. \")","v":""},{"$f":"IF($O$32<=$O$30,\"\",\"* Pacientes 35 a 39 años (Mujeres) con HbA1C<7% - PA<140/90mmHg debe ser menor o igual a los con HbA1C<7%. \")","v":""},{"$f":"IF($P$32<=$P$30,\"\",\"* Pacientes 40 a 44 años (Hombres) con HbA1C<7% - PA<140/90mmHg debe ser menor o igual a los con HbA1C<7%. \")","v":""},{"$f":"IF($Q$32<=$Q$30,\"\",\"* Pacientes 40 a 44 años (Mujeres) con HbA1C<7% - PA<140/90mmHg debe ser menor o igual a los con HbA1C<7%. \")","v":""},{"$f":"IF($R$32<=$R$30,\"\",\"* Pacientes 45 a 49 años (Hombres) con HbA1C<7% - PA<140/90mmHg debe ser menor o igual a los con HbA1C<7%. \")","v":""},{"$f":"IF($S$32<=$S$30,\"\",\"* Pacientes 45 a 49 años (Mujeres) con HbA1C<7% - PA<140/90mmHg debe ser menor o igual a los con HbA1C<7%. \")","v":""},{"$f":"IF($T$32<=$T$30,\"\",\"* Pacientes 50 a 54 años (Hombres) con HbA1C<7% - PA<140/90mmHg debe ser menor o igual a los con HbA1C<7%. \")","v":""},{"$f":"IF($U$32<=$U$30,\"\",\"* Pacientes 50 a 54 años (Mujeres) con HbA1C<7% - PA<140/90mmHg debe ser menor o igual a los con HbA1C<7%. \")","v":""},{"$f":"IF($V$32<=$V$30,\"\",\"* Pacientes 55 a 59 años (Hombres) con HbA1C<7% - PA<140/90mmHg debe ser menor o igual a los con HbA1C<7%. \")","v":""},{"$f":"IF($W$32<=$W$30,\"\",\"* Pacientes 55 a 59 años (Mujeres) con HbA1C<7% - PA<140/90mmHg debe ser menor o igual a los con HbA1C<7%. \")","v":""},{"$f":"IF($X$32<=$X$30,\"\",\"* Pacientes 60 a 64 años (Hombres) con HbA1C<7% - PA<140/90mmHg debe ser menor o igual a los con HbA1C<7%. \")","v":""},{"$f":"IF($Y$32<=$Y$30,\"\",\"* Pacientes 60 a 64 años (Mujeres) con HbA1C<7% - PA<140/90mmHg debe ser menor o igual a los con HbA1C<7%. \")","v":""},{"$f":"IF($Z$32<=$Z$30,\"\",\"* Pacientes 65 a 69 años (Hombres) con HbA1C<7% - PA<140/90mmHg debe ser menor o igual a los con HbA1C<7%. \")","v":""},{"$f":"IF($AA$32<=$AA$30,\"\",\"* Pacientes 65 a 69 años (Mujeres) con HbA1C<7% - PA<140/90mmHg debe ser menor o igual a los con HbA1C<7%. \")","v":""},{"$f":"IF($AB$32<=$AB$30,\"\",\"* Pacientes 70 a 74 años (Hombres) con HbA1C<7% - PA<140/90mmHg debe ser menor o igual a los con HbA1C<7%. \")","v":""},{"$f":"IF($AC$32<=$AC$30,\"\",\"* Pacientes 70 a 74 años (Mujeres) con HbA1C<7% - PA<140/90mmHg debe ser menor o igual a los con HbA1C<7%. \")","v":""},{"$f":"IF($AD$32<=$AD$30,\"\",\"* Pacientes 75 a 79 años (Hombres) con HbA1C<7% - PA<140/90mmHg debe ser menor o igual a los con HbA1C<7%. \")","v":""},{"$f":"IF($AE$32<=$AE$30,\"\",\"* Pacientes 75 a 79 años (Mujeres) con HbA1C<7% - PA<140/70mmHg debe ser menor o igual a los con HbA1C<7%. \")","v":""},null,null,null,null,null,null,0,0,{"$f":"IF($D$32>=$AH$32,0,1)","v":0},0,0,0,{"$f":"IF(F$32<=F$30,0,1)","v":0},0,0,0,0,0,0,0,0,0,0,0,0,0,0,0,0,0,0,0,0,0,0,0,0,0]
["Personas con RCV alto ","Colesterol LDL < 70 mg/dL",0,{"$f":"+F33+H33+J33+L33+N33+P33+R33+T33+V33+X33+Z33+AB33+AD33+AF33","v":0},0,null,null,null,null,null,null,null,null,null,null,null,null,null,null,null,null,null,null,null,null,null,null,null,null,null,null,null,null,null,null,null,null,"",null,null,null,null,null,null,null,null,null,null,null,null,null,null,null,null,null,null,null,null,null,null,null,null,null,null,null,null,null,null,null,null,null,null,null,null,null,null,null,null,"","","","",{"$f":"IF($F$33<=$F$15,\"\",\"* Pacientes 15 a 19 años (Hombres) con RCV Alto con Colesterol LDL <70 mg/dl no debe ser mayor al Total RCV Alto de Sección A. \")","v":""},{"$f":"IF($G$33<=$G$15,\"\",\"* Pacientes 15 a 19 años (Mujeres) con RCV Alto con Colesterol LDL <70 mg/dl no debe ser mayor al Total RCV Alto de Sección A. \")","v":""},{"$f":"IF($H$33<=+$H$15,\"\",\"* Pacientes 20 a 24 años (Hombres) con RCV Alto con Colesterol LDL <70 mg/dl no debe ser mayor al Total RCV Alto de Sección A. \")","v":""},{"$f":"IF($I$33<=+$I$15,\"\",\"* Pacientes 20 a 24 años (Mujeres) con RCV Alto con Colesterol LDL <70 mg/dl no debe ser mayor al Total RCV Alto de Sección A. \")","v":""},{"$f":"IF($J$33<=+$J$15,\"\",\"* Pacientes 25 a 29 años (Hombres) con RCV Alto con Colesterol LDL <70 mg/dl no debe ser mayor al Total RCV Alto de Sección A. \")","v":""},{"$f":"IF($K$33<=+$K$15,\"\",\"* Pacientes 25 a 29 años (Mujeres) con RCV Alto con Colesterol LDL <70 mg/dl no debe ser mayor al Total RCV Alto de Sección A. \")","v":""},{"$f":"IF($L$33<=+$L$15,\"\",\"* Pacientes 30 a 34 años (Hombres) con RCV Alto con Colesterol LDL <70 mg/dl no debe ser mayor al Total RCV Alto de Sección A. \")","v":""},{"$f":"IF($M$33<=+$M$15,\"\",\"* Pacientes 30 a 34 años (Mujeres) con RCV Alto con Colesterol LDL <70 mg/dl no debe ser mayor al Total RCV Alto de Sección A. \")","v":""},{"$f":"IF($N$33<=+$N$15,\"\",\"* Pacientes 35 a 39 años (Hombres) con RCV Alto con Colesterol LDL <70 mg/dl no debe ser mayor al Total RCV Alto de Sección A. \")","v":""},{"$f":"IF($O$33<=+$O$15,\"\",\"* Pacientes 35 a 39 años (Mujeres) con RCV Alto con Colesterol LDL <70 mg/dl no debe ser mayor al Total RCV Alto de Sección A. \")","v":""},{"$f":"IF($P$33<=+$P$15,\"\",\"* Pacientes 40 a 44 años (Hombres) con RCV Alto con Colesterol LDL <70 mg/dl no debe ser mayor al Total RCV Alto de Sección A. \")","v":""},{"$f":"IF($Q$33<=+$Q$15,\"\",\"* Pacientes 40 a 44 años (Mujeres) con RCV Alto con Colesterol LDL <70 mg/dl no debe ser mayor al Total RCV Alto de Sección A. \")","v":""},{"$f":"IF($R$33<=+$R$15,\"\",\"* Pacientes 45 a 49 años (Hombres) con RCV Alto con Colesterol LDL <70 mg/dl no debe ser mayor al Total RCV Alto de Sección A. \")","v":""},{"$f":"IF($S$33<=+$S$15,\"\",\"* Pacientes 45 a 49 años (Mujeres) con RCV Alto con Colesterol LDL <70 mg/dl no debe ser mayor al Total RCV Alto de Sección A. \")","v":""},{"$f":"IF($T$33<=+$T$15,\"\",\"* Pacientes 50 a 54 años (Hombres) con RCV Alto con Colesterol LDL <70 mg/dl no debe ser mayor al Total RCV Alto de Sección A. \")","v":""},{"$f":"IF($U$33<=+$U$15,\"\",\"* Pacientes 50 a 54 años (Mujeres) con RCV Alto con Colesterol LDL <70 mg/dl no debe ser mayor al Total RCV Alto de Sección A. \")","v":""},{"$f":"IF($V$33<=+$V$15,\"\",\"* Pacientes 55 a 59 años (Hombres) con RCV Alto con Colesterol LDL <70 mg/dl no debe ser mayor al Total RCV Alto de Sección A. \")","v":""},{"$f":"IF($W$33<=+$W$15,\"\",\"* Pacientes 55 a 59 años (Mujeres) con RCV Alto con Colesterol LDL <70 mg/dl no debe ser mayor al Total RCV Alto de Sección A. \")","v":""},{"$f":"IF($X$33<=+$X$15,\"\",\"* Pacientes 60 a 64 años (Hombres) con RCV Alto con Colesterol LDL <70 mg/dl no debe ser mayor al Total RCV Alto de Sección A. \")","v":""},{"$f":"IF($Y$33<=+$Y$15,\"\",\"* Pacientes 60 a 64 años (Mujeres) con RCV Alto con Colesterol LDL <70 mg/dl no debe ser mayor al Total RCV Alto de Sección A. \")","v":""},{"$f":"IF($Z$33<=+$Z$15,\"\",\"* Pacientes 65 a 69 años (Hombres) con RCV Alto con Colesterol LDL <70 mg/dl no debe ser mayor al Total RCV Alto de Sección A. \")","v":""},{"$f":"IF($AA$33<=+$AA$15,\"\",\"* Pacientes 65 a 69 años (Mujeres) con RCV Alto con Colesterol LDL <70 mg/dl no debe ser mayor al Total RCV Alto de Sección A. \")","v":""},{"$f":"IF($AB$33<=+$AB$15,\"\",\"* Pacientes 70 a 74 años (Hombres) con RCV Alto con Colesterol LDL <70 mg/dl no debe ser mayor al Total RCV Alto de Sección A. \")","v":""},{"$f":"IF($AC$33<=+$AC$15,\"\",\"* Pacientes 70 a 74 años (Mujeres) con RCV Alto con Colesterol LDL <70 mg/dl no debe ser mayor al Total RCV Alto de Sección A. \")","v":""},{"$f":"IF($AD$33<=+$AD$15,\"\",\"* Pacientes 75 a 79 años (Hombres) con RCV Alto con Colesterol LDL <70 mg/dl no debe ser mayor al Total RCV Alto de Sección A. \")","v":""},{"$f":"IF($AE$33<=+$AE$15,\"\",\"* Pacientes 75 a 79 años (Mujeres) con RCV Alto con Colesterol LDL <70 mg/dl no debe ser mayor al Total RCV Alto de Sección A. \")","v":""},{"$f":"IF($AF$33<=+$AF$15,\"\",\"* Pacientes 80 y más años (Hombres) con RCV Alto con Colesterol LDL <70 mg/dl no debe ser mayor al Total RCV Alto de Sección A. \")","v":""},{"$f":"IF($AG$33<=+$AG$15,\"\",\"* Pacientes 80 y más años (Mujeres) con RCV Alto con Colesterol LDL <70 mg/dl no debe ser mayor al Total RCV Alto de Sección A. \")","v":""},null,null,null,null,0,0,{"$f":"IF($D$33>=$AH$33,0,1)","v":0},0,0,0,{"$f":"IF(F$33<=+F$15,0,1)","v":0},0,0,0,0,0,0,0,0,0,0,0,0,0,0,0,0,0,0,0,0,0,0,0,0,0,0,0]
["Personas bajo control con antecedentes enfermedad cardiovascular (ECV), excepto IAM y ACV","En tratamiento con Antiagregantes plaquetarios",0,0,0,null,null,null,null,null,null,null,null,null,null,null,null,null,null,null,null,null,null,null,null,null,null,null,null,null,null,null,null,null,null,null,null,"",null,null,null,null,null,null,null,null,null,null,null,null,null,null,null,null,null,null,null,null,null,null,null,null,null,null,null,null,null,null,null,null,null,null,null,null,null,null,null,null,{"$f":"IF(AND(D34>0,OR(AH34=\"\")),\" * No olvide digitar la variable Pueblos Originarios Hombres. Digite Cero si no tiene.\",IF(AH34>D34,\" * La variable Pueblos Originarios Hombres no puede ser Mayor al Total Hombres.\",\"\"))","v":""},"","","",{"$f":"IF($F$34<=$F$22,\"\",\"* Pacientes 15 a 19 años (Hombres) con antecedentes de ECV en Tratamiento con Antiagregante plaquetario no debe ser mayor a la suma de Personas con Antecedentes de ECV de Sección A. \")","v":""},{"$f":"IF($G$34<=$G$22,\"\",\"* Pacientes 15 a 19 años (Mujeres) con antecedentes ECV en Tratamiento con Antiagregante plaquetario no debe ser mayor a la suma de Personas con Antecedentes de ECV de Sección A. \")","v":""},{"$f":"IF($H$34<=$H$22,\"\",\"* Pacientes 20 a 24 años (Hombres) con antecedentes ECV en Tratamiento con Antiagregante plaquetario no debe ser mayor a la suma de Personas con Antecedentes de ECV de Sección A. \")","v":""},{"$f":"IF($I$34<=$I$22,\"\",\"* Pacientes 20 a 24 años (Mujeres) con antecedentes ECV en Tratamiento con Antiagregante plaquetario no debe ser mayor a la suma de Personas con Antecedentes de ECV de Sección A. \")","v":""},{"$f":"IF($J$34<=$J$22,\"\",\"* Pacientes 25 a 29 años (Hombres) con antecedentes ECV en Tratamiento con Antiagregante plaquetario no debe ser mayor a la suma de Personas con Antecedentes de ECV de Sección A. \")","v":""},{"$f":"IF($K$34<=$K$22,\"\",\"* Pacientes 25 a 29 años (Mujeres) con antecedentes ECV en Tratamiento con Antiagregante plaquetario no debe ser mayor a la suma de Personas con Antecedentes de ECV de Sección A. \")","v":""},{"$f":"IF($L$34<=$L$22,\"\",\"* Pacientes 30 a 34 años (Hombres) con antecedentes ECV en Tratamiento con Antiagregante plaquetario no debe ser mayor a la suma de Personas con Antecedentes de ECV de Sección A. \")","v":""},{"$f":"IF($M$34<=$M$22,\"\",\"* Pacientes 30 a 34 años (Mujeres) con antecedentes ECV en Tratamiento con Antiagregante plaquetario no debe ser mayor a la suma de Personas con Antecedentes de ECV de Sección A. \")","v":""},{"$f":"IF($N$34<=$N$22,\"\",\"* Pacientes 35 a 39 años (Hombres) con antecedentes ECV en Tratamiento con Antiagregante plaquetario no debe ser mayor a la suma de Personas con Antecedentes de ECV de Sección A. \")","v":""},{"$f":"IF($O$34<=$O$22,\"\",\"* Pacientes 35 a 39 años (Mujeres) con antecedentes ECV en Tratamiento con Antiagregante plaquetario no debe ser mayor a la suma de Personas con Antecedentes de ECV de Sección A. \")","v":""},{"$f":"IF($P$34<=$P$22,\"\",\"* Pacientes 40 a 44 años (Hombres) con antecedentes ECV en Tratamiento conAntiagregante plaquetario no debe ser mayor a la suma de Personas con Antecedentes de ECV de Sección A. \")","v":""},{"$f":"IF($Q$34<=$Q$22,\"\",\"* Pacientes 40 a 44 años (Mujeres) con antecedentes ECV en Tratamiento con Antiagregante plaquetario no debe ser mayor a la suma de Personas con Antecedentes de ECV de Sección A. \")","v":""},{"$f":"IF($R$34<=$R$22,\"\",\"* Pacientes 45 a 49 años (Hombres) con antecedentes ECV en Tratamiento con Antiagregante plaquetario no debe ser mayor a la suma de Personas con Antecedentes de ECV de Sección A. \")","v":""},{"$f":"IF($S$34<=$S$22,\"\",\"* Pacientes 45 a 49 años (Mujeres) con antecedentes ECV en Tratamiento con Antiagregante plaquetario no debe ser mayor a la suma de Personas con Antecedentes de ECV de Sección A. \")","v":""},{"$f":"IF($T$34<=$T$22,\"\",\"* Pacientes 50 a 54 años (Hombres) con antecedentes ECV en Tratamiento con Antiagregante plaquetario no debe ser mayor a la suma de Personas con Antecedentes de ECV de Sección A.\")","v":""},{"$f":"IF($U$34<=$U$22,\"\",\"* Pacientes 50 a 54 años (Mujeres) con antecedentes ECV en Tratamiento con Antiagregante plaquetario no debe ser mayor a la suma de Personas con Antecedentes de ECV de Sección A. \")","v":""},{"$f":"IF($V$34<=$V$22,\"\",\"* Pacientes 55 a 59 años (Hombres) con antecedentes ECV en Tratamiento con Antiagregante plaquetario no debe ser mayor a la suma de Personas con Antecedentes de ECV de Sección A. \")","v":""},{"$f":"IF($W$34<=$W$22,\"\",\"* Pacientes 55 a 59 años (Mujeres) con antecedentes ECV en Tratamiento con Antiagregante plaquetario no debe ser mayor a la suma de Personas con Antecedentes de ECV de Sección A. \")","v":""},{"$f":"IF($X$34<=$X$22,\"\",\"* Pacientes 60 a 64 años (Hombres) con antecedentes ECV en Tratamiento con Antiagregante plaquetario no debe ser mayor a la suma de Personas con Antecedentes de ECV de Sección A. \")","v":""},{"$f":"IF($Y$34<=$Y$22,\"\",\"* Pacientes 60 a 64 años (Mujeres) con antecedentes ECV en Tratamiento con Antiagregante plaquetario no debe ser mayor a la suma de Personas con Antecedentes de ECV de Sección A. \")","v":""},{"$f":"IF($Z$34<=$Z$22,\"\",\"* Pacientes 65 a 69 años (Hombres) con antecedentes ECV en Tratamiento con Antiagregante plaquetario no debe ser mayor a la suma de Personas con Antecedentes de ECV de Sección A. \")","v":""},{"$f":"IF($AA$34<=$AA$22,\"\",\"* Pacientes 65 a 69 años (Mujeres) con antecedentes ECV en Tratamiento con Antiagregante plaquetario no debe ser mayor a la suma de Personas con Antecedentes de ECV de Sección A. \")","v":""},{"$f":"IF($AB$34<=$AB$22,\"\",\"* Pacientes 70 a 74 años (Hombres) con antecedentes ECV en Tratamiento con Antiagregante plaquetario no debe ser mayor a la suma de Personas con Antecedentes de ECV de Sección A. \")","v":""},{"$f":"IF($AC$34<=$AC$22,\"\",\"* Pacientes 70 a 74 años (Mujeres) con antecedentes ECV en Tratamiento con Antiagregante plaquetario no debe ser mayor a la suma de Personas con Antecedentes de ECV de Sección A. \")","v":""},{"$f":"IF($AD$34<=$AD$22,\"\",\"* Pacientes 75 a 79 años (Hombres) con antecedentes ECV en Tratamiento con Antiagregante plaquetario no debe ser mayor a la suma de Personas con Antecedentes de ECV de Sección A. \")","v":""},{"$f":"IF($AE$34<=$AE$22,\"\",\"* Pacientes 75 a 79 años (Mujeres) con antecedentes ECV en Tratamiento con Antiagregante plaquetario no debe ser mayor a la suma de Personas con Antecedentes de ECV de Sección A. \")","v":""},{"$f":"IF($AF$34<=$AF$22,\"\",\"* Pacientes 80 y más años (Hombres) con antecedentes ECV en Tratamiento con Antiagregante plaquetario no debe ser mayor a la suma de Personas con Antecedentes de ECV de Sección A. \")","v":""},{"$f":"IF($AG$34<=$AG$22,\"\",\"* Pacientes 80 y más años (Mujeres) con antecedentes ECV en Tratamiento con Antiagregante plaquetario no debe ser mayor a la suma de Personas con Antecedentes de ECV de Sección A. \")","v":""},null,null,null,null,0,0,{"$f":"IF($D$34>=$AH$34,0,1)","v":0},0,0,0,{"$f":"IF(F34<=F$22,0,1)","v":0},0,0,0,0,0,0,0,0,0,{"$f":"IF(P34<=P$22,0,1)","v":0},0,0,0,0,0,0,0,0,0,{"$f":"IF(Z34<=Z$22,0,1)","v":0},0,0,0,0,0,0,0]
[null,"En tratamiento con Estatina",{"$f":"SUM(D35:E35)","v":0},{"$f":"+F35+H35+J35+L35+N35+P35+R35+T35+V35+X35+Z35+AB35+AD35+AF35","v":0},{"$f":"+G35+I35+K35+M35+O35+Q35+S35+U35+W35+Y35+AA35+AC35+AE35+AG35","v":0},null,null,null,null,null,null,null,null,null,null,null,null,null,null,null,null,null,null,null,null,null,null,null,null,null,null,null,null,null,null,null,null,"",null,null,null,null,null,null,null,null,null,null,null,null,null,null,null,null,null,null,null,null,null,null,null,null,null,null,null,null,null,null,null,null,null,null,null,null,null,null,null,null,"","","","",{"$f":"IF($F35<=$F$22,\"\",\"* Pacientes 15 a 19 años (Hombres) con con antecedentes ECV con Estatina no debe ser mayor a la suma de Personas con Antecedentes de ECV de Sección A. \")","v":""},{"$f":"IF($G35<=$G$22,\"\",\"* Pacientes 15 a 19 años (Mujeres) con  antecedentes ECV en Tratamiento con Estatina no debe ser mayor a la suma de Personas con Antecedentes de ECV de Sección A. \")","v":""},{"$f":"IF($H35<=$H$22,\"\",\"* Pacientes 20 a 24 años (Hombres) con  antecedentes ECV en Tratamiento con Estatina no debe ser mayor a la suma de Personas con Antecedentes de ECV de Sección A. \")","v":""},{"$f":"IF($I35<=$I$22,\"\",\"* Pacientes 20 a 24 años (Mujeres) con antecedentes ECV en Tratamiento con Estatina no debe ser mayor a la suma de Personas con Antecedentes de ECV de Sección A. \")","v":""},{"$f":"IF($J35<=$J$22,\"\",\"* Pacientes 25 a 29 años (Hombres) con  antecedentes ECV en Tratamiento con Estatina no debe ser mayor a la suma de Personas con Antecedentes de ECV de Sección A. \")","v":""},{"$f":"IF($K35<=$K$22,\"\",\"* Pacientes 25 a 29 años (Mujeres) con antecedentes ECV en Tratamiento con Estatina no debe ser mayor a la suma de Personas con Antecedentes de ECV de Sección A. \")","v":""},{"$f":"IF($L35<=$L$22,\"\",\"* Pacientes 30 a 34 años (Hombres) con antecedentes ECV en Tratamiento con Estatina no debe ser mayor a la suma de Personas con Antecedentes de ECV de Sección A. \")","v":""},{"$f":"IF($M35<=$M$22,\"\",\"* Pacientes 30 a 34 años (Mujeres) con antecedentes ECV en Tratamiento con Estatina no debe ser mayor a la suma de Personas con Antecedentes de ECV de Sección A. \")","v":""},{"$f":"IF($N35<=$N$22,\"\",\"* Pacientes 35 a 39 años (Hombres) con antecedentes ECV en Tratamiento con Estatina no debe ser mayor a la suma de Personas con Antecedentes de ECV de Sección A. \")","v":""},{"$f":"IF($O35<=$O$22,\"\",\"* Pacientes 35 a 39 años (Mujeres) con  antecedentes ECV en Tratamiento con Estatina no debe ser mayor a la suma de Personas con Antecedentes de ECV de Sección A. \")","v":""},{"$f":"IF($P35<=$P$22,\"\",\"* Pacientes 40 a 44 años (Hombres) con antecedentes ECV en Tratamiento con Estatina no debe ser mayor a la suma de Personas con Antecedentes de ECV de Sección A. \")","v":""},{"$f":"IF($Q35<=$Q$22,\"\",\"* Pacientes 40 a 44 años (Mujeres) con antecedentes ECV en Tratamiento con Estatina no debe ser mayor a la suma de Personas con Antecedentes de ECV de Sección A. \")","v":""},{"$f":"IF($R35<=$R$22,\"\",\"* Pacientes 45 a 49 años (Hombres) con antecedentes ECV en Tratamiento con Estatina no debe ser mayor a la suma de Personas con Antecedentes de ECV de Sección A. \")","v":""},{"$f":"IF($S35<=$S$22,\"\",\"* Pacientes 45 a 49 años (Mujeres) con  antecedentes ECV en Tratamiento con Estatina no debe ser mayor a la suma de Personas con Antecedentes de ECV de Sección A. \")","v":""},{"$f":"IF($T35<=$T$22,\"\",\"* Pacientes 50 a 54 años (Hombres) con  antecedentes ECV en Tratamiento con Estatina no debe ser mayor a la suma de Personas con Antecedentes de IAM, ACV, ECV de Sección A. \")","v":""},{"$f":"IF($U35<=$U$22,\"\",\"* Pacientes 50 a 54 años (Mujeres) con antecedentes ECV en Tratamiento con Estatina no debe ser mayor a la suma de Personas con Antecedentes de ECV de Sección A. \")","v":""},{"$f":"IF($V35<=$V$22,\"\",\"* Pacientes 55 a 59 años (Hombres) con  antecedentes ECV en Tratamiento con Estatina no debe ser mayor a la suma de Personas con Antecedentes de ECV de Sección A. \")","v":""},{"$f":"IF($W35<=$W$22,\"\",\"* Pacientes 55 a 59 años (Mujeres) con antecedentes ECV en Tratamiento con Estatina no debe ser mayor a la suma de Personas con Antecedentes de ECV de Sección A. \")","v":""},{"$f":"IF($X35<=$X$22,\"\",\"* Pacientes 60 a 64 años (Hombres) con antecedentes ECV en Tratamiento con Estatina no debe ser mayor a la suma de Personas con Antecedentes de ECV de Sección A. \")","v":""},{"$f":"IF($Y35<=$Y$22,\"\",\"* Pacientes 60 a 64 años (Mujeres) con  antecedentes ECV en Tratamiento con Estatina no debe ser mayor a la suma de Personas con Antecedentes de ECV de Sección A. \")","v":""},{"$f":"IF($Z35<=$Z$22,\"\",\"* Pacientes 65 a 69 años (Hombres) con antecedentes ECV en Tratamiento con Estatina no debe ser mayor a la suma de Personas con Antecedentes de ECV de Sección A. \")","v":""},{"$f":"IF($AA35<=$AA$22,\"\",\"* Pacientes 65 a 69 años (Mujeres) con antecedentes ECV en Tratamiento con Estatina no debe ser mayor a la suma de Personas con Antecedentes de ECV de Sección A. \")","v":""},{"$f":"IF($AB35<=$AB$22,\"\",\"* Pacientes 70 a 74 años (Hombres) con antecedentes ECV en Tratamiento con Estatina no debe ser mayor a la suma de Personas con Antecedentes de ECV de Sección A. \")","v":""},{"$f":"IF($AC35<=$AC$22,\"\",\"* Pacientes 70 a 74 años (Mujeres) con  antecedentes ECV en Tratamiento con Estatina no debe ser mayor a la suma de Personas con Antecedentes de ECV de Sección A. \")","v":""},{"$f":"IF($AD35<=$AD$22,\"\",\"* Pacientes 75 a 79 años (Hombres) con  antecedentes ECV en Tratamiento con Estatina no debe ser mayor a la suma de Personas con Antecedentes de ECV de Sección A. \")","v":""},{"$f":"IF($AE35<=$AE$22,\"\",\"* Pacientes 75 a 79 años (Mujeres) con con antecedentes ECV en Tratamiento con Estatina no debe ser mayor a la suma de Personas con Antecedentes de ECV de Sección A. \")","v":""},{"$f":"IF($AF35<=$AF$22,\"\",\"* Pacientes 80 y más años (Hombres) con antecedentes ECV en Tratamiento con Estatina no debe ser mayor a la suma de Personas con Antecedentes de ECV de Sección A. \")","v":""},{"$f":"IF($AG35<=AG$22,\"\",\"* Pacientes 80 y más años (Mujeres) con antecedentes ECV en Tratamiento con Estatina no debe ser mayor a la suma de Personas con Antecedentes de ECV de Sección A. \")","v":""},null,null,null,null,0,0,{"$f":"IF($D$36>=$AH$36,0,1)","v":0},0,0,0,0,0,0,0,0,0,0,0,0,0,0,0,0,0,0,0,0,0,0,0,0,0,0,0,0,0,0,0]
[null,"Fumador actual",{"$f":"SUM(D36:E36)","v":0},{"$f":"+F36+H36+J36+L36+N36+P36+R36+T36+V36+X36+Z36+AB36+AD36+AF36","v":0},{"$f":"+G36+I36+K36+M36+O36+Q36+S36+U36+W36+Y36+AA36+AC36+AE36+AG36","v":0},null,null,null,null,null,null,null,null,null,null,null,null,null,null,null,null,null,null,null,null,null,null,null,null,null,null,null,null,null,null,null,null,{"$f":"CA36&CB36& CC36 & CD36 & CE36 & CF36 & CG36 & CH36 & CI36 & CJ36 & CK36 & CL36 & CM36 & CN36 & CO36 & CP36 & CQ36 & CR36 & CS36 & CT36 & CU36 & CV36 & CW36 & CX36 & CY36 & CZ36 & DA36 & DB36 & DC36 & DE36 & DF36 &DD36","v":""},null,null,null,null,null,null,null,null,null,null,null,null,null,null,null,null,null,null,null,null,null,null,null,null,null,null,null,null,null,null,null,null,null,null,null,null,null,null,null,null,"","","","",null,null,null,null,null,null,null,null,null,null,null,null,null,null,null,null,null,null,null,null,null,null,null,null,null,null,null,null,null,null,null,null,0,0,{"$f":"IF($D$36>=$AH$36,0,1)","v":0},0,0,0]
["Personas bajo control con antecedentes de Infarto agudo al miocardio (IAM)","En tratamiento con Antiagregantes plaquetarios",{"$f":"SUM(D37:E37)","v":0},{"$f":"+F37+H37+J37+L37+N37+P37+R37+T37+V37+X37+Z37+AB37+AD37+AF37","v":0},{"$f":"+G37+I37+K37+M37+O37+Q37+S37+U37+W37+Y37+AA37+AC37+AE37+AG37","v":0},null,null,null,null,null,null,null,null,null,null,null,null,null,null,null,null,null,null,null,null,null,null,null,null,null,null,null,null,null,null,null,null,"",null,null,null,null,null,null,null,null,null,null,null,null,null,null,null,null,null,null,null,null,null,null,null,null,null,null,null,null,null,null,null,null,null,null,null,null,null,null,null,null,"","","","",{"$f":"IF($F$37<=$F$20,\"\",\"* Personas de 15 a 19 años Hombres, con antecedentes IAM En Tratamiento con Antiagregante plaquetario no debe ser mayor a Personas mismo grupo de edad con Antecedentes de IAM de Sección A. \")","v":""},{"$f":"IF($G$37<=$G$20,\"\",\"* Personas de 15 a 19 años Mujeres, con con antecedentes IAM En Tratamiento con Antiagregante plaquetario no debe ser mayor a Personas mismo grupo de edad con Antecedentes de IAM y ECV de Sección A. \")","v":""},{"$f":"IF($H$37<=$H$20,\"\",\"* Personas de 20 a 24 años Hombres, con antecedentes IAM En Tratamiento con Antiagregante plaquetario no debe ser mayor a Personas mismo grupo de edad con Antecedentes de IAM de Sección A. \")","v":""},{"$f":"IF($I$37<=$I$20,\"\",\"* Personas de 20 a 24 años Mujeres, con antecedentes IAM En Tratamiento con Antiagregante plaquetario no debe ser mayor a Personas mismo grupo de edad con Antecedentes de IAM de Sección A. \")","v":""},{"$f":"IF($J$37<=$J$20,\"\",\"* Personas de 25 a 29 años Hombres, con antecedentes IAM En Tratamiento con Antiagregante plaquetario no debe ser mayor a Personas mismo grupo de edad con Antecedentes de IAM de Sección A. \")","v":""},{"$f":"IF($K$37<=$K$20,\"\",\"* Personas de 25 a 29 años Mujeres, con antecedentes IAM En Tratamiento con Antiagregante plaquetario no debe ser mayor a Personas mismo grupo de edad con Antecedentes de IAM de Sección A. \")","v":""},{"$f":"IF($L$37<=$L$20,\"\",\"* Personas de 30 a 34 años Hombres, con antecedentes IAM En Tratamiento con Antiagregante plaquetario no debe ser mayor a Personas mismo grupo de edad con Antecedentes de IAM de Sección A. \")","v":""},{"$f":"IF($M$37<=$M$20,\"\",\"* Personas de 30 a 34 años Mujeres, con antecedentes IAM En Tratamiento con Antiagregante plaquetario no debe ser mayor a Personas mismo grupo de edad con Antecedentes de IAM de Sección A. \")","v":""},{"$f":"IF($N$37<=$N$20,\"\",\"* Personas de 35 a 39 años Hombres, con antecedentes IAM En Tratamiento con Antiagregante plaquetario no debe ser mayor a Personas mismo grupo de edad con Antecedentes de IAM de Sección A. \")","v":""},{"$f":"IF($O$37<=$O$20,\"\",\"* Personas de 35 a 39 años Mujeres, con antecedentes IAM En Tratamiento con Antiagregante plaquetario no debe ser mayor a Personas mismo grupo de edad con Antecedentes de IAM de Sección A. \")","v":""},{"$f":"IF($P$37<=$P$20,\"\",\"* Personas de 40 a 44 años Hombres, con antecedentes IAM En Tratamiento con Antiagregante plaquetario no debe ser mayor a Personas mismo grupo de edad con Antecedentes de IAM de Sección A. \")","v":""},{"$f":"IF($Q$37<=$Q$20,\"\",\"* Personas de 40 a 44 años Mujeres, con antecedentes IAM En Tratamiento con Antiagregante plaquetario no debe ser mayor a Personas mismo grupo de edad con Antecedentes de IAM de Sección A. \")","v":""},{"$f":"IF($R$37<=$R$20,\"\",\"* Personas de 45 a 49 años Hombres, con antecedentes IAM En Tratamiento con Antiagregante plaquetario no debe ser mayor a Personas mismo grupo de edad con Antecedentes de IAM de Sección A. \")","v":""},{"$f":"IF($S$37<=$S$20,\"\",\"* Personas de 45 a 49 años Mujeres, con antecedentes IAM En Tratamiento con Antiagregante plaquetario no debe ser mayor a Personas mismo grupo de edad con Antecedentes de IAM de Sección A. \")","v":""},{"$f":"IF($T$37<=$T$20,\"\",\"* Personas de 50 a 54 años Hombres, con antecedentes IAM En Tratamiento con Antiagregante plaquetario no debe ser mayor a Personas mismo grupo de edad con Antecedentes de IAM de Sección A. \")","v":""},{"$f":"IF($U$37<=$U$20,\"\",\"* Personas de 50 a 54 años Mujeres, con antecedentes IAM En Tratamiento con Antiagregante plaquetario no debe ser mayor a Personas mismo grupo de edad con Antecedentes de IAM de Sección A. \")","v":""},{"$f":"IF($V$37<=$V$20,\"\",\"* Personas de 55 a 59 años Hombres, con antecedentes IAM En Tratamiento con Antiagregante plaquetario no debe ser mayor a Personas mismo grupo de edad con Antecedentes de IAM de Sección A. \")","v":""},{"$f":"IF($W$37<=$W$20,\"\",\"* Personas de 55 a 59 años Mujeres, con antecedentes IAM En Tratamiento con Antiagregante plaquetario no debe ser mayor a Personas mismo grupo de edad con Antecedentes de IAM de Sección A. \")","v":""},{"$f":"IF($X$37<=$X$20,\"\",\"* Personas de 60 a 64 años Hombres, con antecedentes IAM En Tratamiento con Antiagregante plaquetario no debe ser mayor a Personas mismo grupo de edad con Antecedentes de IAM de Sección A. \")","v":""},{"$f":"IF($Y$37<=$Y$20,\"\",\"* Personas de 60 a 64 años Mujeres, con antecedentes IAM En Tratamiento con Antiagregante plaquetario no debe ser mayor a Personas mismo grupo de edad con Antecedentes de IAM de Sección A. \")","v":""},{"$f":"IF($Z$37<=$Z$20,\"\",\"* Personas de 65 a 69 años Hombres, con antecedentes IAM En Tratamiento con Antiagregante plaquetario no debe ser mayor a Personas mismo grupo de edad con Antecedentes de IAM de Sección A. \")","v":""},{"$f":"IF($AA$37<=$AA$20,\"\",\"* Personas de 65 a 69 años Mujeres, con antecedentes IAM En Tratamiento con Antiagregante plaquetario no debe ser mayor a Personas mismo grupo de edad con Antecedentes de IAM de Sección A. \")","v":""},{"$f":"IF($AB$37<=$AB$20,\"\",\"* Perdonas de 70 a 74 años Hombres, con antecedentes IAM En Tratamiento con Antiagregante plaquetario no debe ser mayor a Personas mismo grupo de edad con Antecedentes de IAM  de Sección A. \")","v":""},{"$f":"IF($AC$37<=$AC$20,\"\",\"* Personas de 70 a 74 años Mujeres, con antecedentes IAM En Tratamiento con Antiagregante plaquetario no debe ser mayor a Personas mismo grupo de edad con Antecedentes de IAM de Sección A. \")","v":""},{"$f":"IF($AD$37<=$AD$20,\"\",\"* Personas de 75 a 79 años Hombres, con antecedentes IAM En Tratamiento con Antiagregante plaquetario no debe ser mayor a Personas mismo grupo de edad con Antecedentes de IAM de Sección A. \")","v":""},{"$f":"IF($AE$37<=$AE$20,\"\",\"* Personas de 75 a 79 años Mujeres, con antecedentes IAM En Tratamiento con Antiagregante plaquetario no debe ser mayor a Personas mismo grupo de edad con Antecedentes de IAM de Sección A. \")","v":""},{"$f":"IF($AF$37<=$AF$20,\"\",\"* Personas de 80 y más años Hombres, con antecedentes IAM En Tratamiento con Antiagregante plaquetario no debe ser mayor a Personas mismo grupo de edad con Antecedentes de IAM de Sección A. \")","v":""},{"$f":"IF($AG$37<=$AG$20,\"\",\"* Personas de 80 y más años Mujeres, con antecedentes IAM En Tratamiento con Antiagregante plaquetario no debe ser mayor a Personas mismo grupo de edad con Antecedentes de IAM de Sección A. \")","v":""},null,null,null,null,0,0,{"$f":"IF($D$34>=$AH$34,0,1)","v":0},0,0,0,{"$f":"IF(F37<=F$20,0,1)","v":0},{"$f":"IF(G37<=G$20,0,1)","v":0},0,0,0,0,0,0,0,0,0,0,0,0,0,0,0,0,0,0,0,0,0,0,0,0,{"$f":"IF(AF37<=AF$20,0,1)","v":0},0]
[null,"En tratamiento con Estatina",{"$f":"SUM(D38:E38)","v":0},{"$f":"+F38+H38+J38+L38+N38+P38+R38+T38+V38+X38+Z38+AB38+AD38+AF38","v":0},0,null,null,null,null,null,null,null,null,null,null,null,null,null,null,null,null,null,null,null,null,null,null,null,null,null,null,null,null,null,null,null,null,"",null,null,null,null,null,null,null,null,null,null,null,null,null,null,null,null,null,null,null,null,null,null,null,null,null,null,null,null,null,null,null,null,null,null,null,null,null,null,null,null,"","","","",{"$f":"IF($F38<=$F$20,\"\",\"* Personas de 15 a 19 años Hombres, con antecedentes IAM En tratamiento con Estatina no debe ser mayor a Personas mismo grupo de edad con Antecedentes de IAM de Sección A. \")","v":""},{"$f":"IF($G38<=$G$20,\"\",\"* Personas de 15 a 19 años Mujeres, con antecedentes IAM En Tratamiento con Estatina no debe ser mayor a Personas mismo grupo de edad con Antecedentes de IAM y ECV de Sección A. \")","v":""},{"$f":"IF($H38<=$H$20,\"\",\"* Personas de 20 a 24 años Hombres, con con antecedentes IAM En Tratamiento con Estatina no debe ser mayor a Personas mismo grupo de edad con Antecedentes de IAM de Sección A. \")","v":""},{"$f":"IF($I38<=$I$20,\"\",\"* Personas de 20 a 24 años Mujeres, con antecedentes IAM En Tratamiento con Estatina no debe ser mayor a Personas mismo grupo de edad con Antecedentes de IAM de Sección A. \")","v":""},{"$f":"IF($J38<=$J$20,\"\",\"* Personas de 25 a 29 años Hombres, con antecedentes IAM En Tratamiento con Estatina no debe ser mayor a Personas mismo grupo de edad con Antecedentes de IAM de Sección A. \")","v":""},{"$f":"IF($K38<=$K$20,\"\",\"* Personas de 25 a 29 años Mujeres, con antecedentes IAM En Tratamiento con Estatina no debe ser mayor a Personas mismo grupo de edad con Antecedentes de IAM de Sección A. \")","v":""},{"$f":"IF($L38<=$L$20,\"\",\"* Personas de 30 a 34 años Hombres, con antecedentes IAM En Tratamiento con Estatina no debe ser mayor a Personas mismo grupo de edad con Antecedentes de IAM de Sección A. \")","v":""},{"$f":"IF($M38<=$M$20,\"\",\"* Personas de 30 a 34 años Mujeres, con antecedentes IAM En Tratamiento con Estatina no debe ser mayor a Personas mismo grupo de edad con Antecedentes de IAM de Sección A. \")","v":""},{"$f":"IF($N38<=$N$20,\"\",\"* Personas de 35 a 39 años Hombres, con antecedentes IAM En Tratamiento con Estatina no debe ser mayor a Personas mismo grupo de edad con Antecedentes de IAM de Sección A. \")","v":""},{"$f":"IF($O38<=$O$20,\"\",\"* Persona de 35 a 39 años Mujeres, con antecedentes IAM En Tratamiento con Estatina no debe ser mayor a Personas mismo grupo de edad con Antecedentes de IAM de Sección A. \")","v":""},{"$f":"IF($P38<=$P$20,\"\",\"* Personas de 40 a 44 años Hombres, con antecedentes IAM En Tratamiento con Estatina no debe ser mayor a Personas mismo grupo de edad con Antecedentes de IAM de Sección A. \")","v":""},{"$f":"IF($Q38<=$Q$20,\"\",\"* Personas de 40 a 44 años Mujeres, con antecedentes IAM En Tratamiento con Estatina no debe ser mayor a Personas mismo grupo de edad con Antecedentes de IAM de Sección A. \")","v":""},{"$f":"IF($R38<=$R$20,\"\",\"* Personas de 45 a 49 años Hombres, con antecedentes IAM En Tratamiento con Estatina no debe ser mayor a Personas mismo grupo de edad con Antecedentes de IAM de Sección A. \")","v":""},{"$f":"IF($S38<=$S$20,\"\",\"* Personas de 45 a 49 años Mujeres, con antecedentes IAM En Tratamiento con Estatina no debe ser mayor a Personas mismo grupo de edad con Antecedentes de IAM de Sección A. \")","v":""},{"$f":"IF($T38<=$T$20,\"\",\"* Personas de 50 a 54 años Hombres, con antecedentes IAM En Tratamiento con Estatina no debe ser mayor a Personas mismo grupo de edad con Antecedentes de IAM de Sección A. \")","v":""},{"$f":"IF($U38<=$U$20,\"\",\"* Personas de 50 a 54 años Mujeres, con antecedentes IAM En Tratamiento con Estatina no debe ser mayor a Personas mismo grupo de edad con Antecedentes de IAM de Sección A. \")","v":""},{"$f":"IF($V38<=$V$20,\"\",\"* Personas de 55 a 59 años Hombres, con antecedentes IAM En Tratamiento con Estatina no debe ser mayor a Personas mismo grupo de edad con Antecedentes de IAM de Sección A. \")","v":""},{"$f":"IF($W38<=$W$20,\"\",\"* Personas de 55 a 59 años Mujeres, con antecedentes IAM En Tratamiento con Estatina no debe ser mayor a Personas mismo grupo de edad con Antecedentes de IAM de Sección A. \")","v":""},{"$f":"IF($X38<=$X$20,\"\",\"* Personas de 60 a 64 años Hombres, con antecedentes IAM En Tratamiento con Estatina no debe ser mayor a Personas mismo grupo de edad con Antecedentes de IAM de Sección A. \")","v":""},{"$f":"IF($Y38<=$Y$20,\"\",\"* Personas de 60 a 64 años Mujeres, con antecedentes IAM En Tratamiento con Estatina no debe ser mayor a Personas mismo grupo de edad con Antecedentes de IAM de Sección A. \")","v":""},{"$f":"IF($Z38<=$Z$20,\"\",\"* Personas de 65 a 69 años Hombres, con antecedentes IAM En Tratamiento con Estatina no debe ser mayor a Personas mismo grupo de edad con Antecedentes de IAM de Sección A. \")","v":""},{"$f":"IF($AA38<=$AA$20,\"\",\"* Personas de 65 a 69 años Mujeres, con antecedentes IAM En Tratamiento con Estatina no debe ser mayor a Personas mismo grupo de edad con Antecedentes de IAM de Sección A. \")","v":""},{"$f":"IF($AB38<=$AB$20,\"\",\"* Personas de 70 a 74 años Hombres, con antecedentes IAM En Tratamiento con Estatina no debe ser mayor a Personas mismo grupo de edad con Antecedentes de IAM de Sección A. \")","v":""},{"$f":"IF($AC38<=$AC$20,\"\",\"* Personas de 70 a 74 años Mujeres, con antecedentes IAM En Tratamiento con Estatina no debe ser mayor a Personas mismo grupo de edad con Antecedentes de IAM de Sección A. \")","v":""},{"$f":"IF($AD38<=$AD$20,\"\",\"* personas de 75 a 79 años Hombres, con antecedentes IAM En Tratamiento con Estatina no debe ser mayor a Personas mismo grupo de edad con Antecedentes de IAM de Sección A. \")","v":""},{"$f":"IF($AE38<=$AE$20,\"\",\"* Personas de 75 a 79 años Mujeres, con antecedentes IAM En Tratamiento con Estatina no debe ser mayor a Personas mismo grupo de edad con Antecedentes de IAM de Sección A. \")","v":""},{"$f":"IF($AF38<=$AF$20,\"\",\"* Personas de 80 y más años Hombres, con antecedentes IAM En Tratamiento con Estatina no debe ser mayor a Personas mismo grupo de edad con Antecedentes de IAM de Sección A. \")","v":""},{"$f":"IF($AG38<=$AG$20,\"\",\"* Personas de 80 y más años Mujeres, con antecedentes IAM En Tratamiento con Estatina no debe ser mayor a Personas mismo grupo de edad con Antecedentes de IAM de Sección A. \")","v":""},null,null,null,null,0,0,{"$f":"IF($D$36>=$AH$36,0,1)","v":0},0,0,0,{"$f":"IF(F38<=F$20,0,1)","v":0},0,0,0,0,0,0,0,0,0,0,0,0,0,0,0,0,0,0,0,0,0,0,0,0,0,0,0]
[null,"Fumador actual",{"$f":"SUM(D39:E39)","v":0},{"$f":"+F39+H39+J39+L39+N39+P39+R39+T39+V39+X39+Z39+AB39+AD39+AF39","v":0},{"$f":"+G39+I39+K39+M39+O39+Q39+S39+U39+W39+Y39+AA39+AC39+AE39+AG39","v":0},null,null,null,null,null,null,null,null,null,null,null,null,null,null,null,null,null,null,null,null,null,null,null,null,null,null,null,null,null,null,null,null,"",null,null,null,null,null,null,null,null,null,null,null,null,null,null,null,null,null,null,null,null,null,null,null,null,null,null,null,null,null,null,null,null,null,null,null,null,null,null,null,null,"","","","",null,null,null,null,null,null,null,null,null,null,null,null,null,null,null,null,null,null,null,null,null,null,null,null,null,null,null,null,null,null,null,null,0,0,{"$f":"IF($D$36>=$AH$36,0,1)","v":0},0,0,0]
["Personas bajo control con Antecedentes de Ataque Cerebrovascular (ACV)","En tratamiento con Antiagregantes plaquetarios",{"$f":"SUM(D40:E40)","v":0},{"$f":"+F40+H40+J40+L40+N40+P40+R40+T40+V40+X40+Z40+AB40+AD40+AF40","v":0},{"$f":"+G40+I40+K40+M40+O40+Q40+S40+U40+W40+Y40+AA40+AC40+AE40+AG40","v":0},null,null,null,null,null,null,null,null,null,null,null,null,null,null,null,null,null,null,null,null,null,null,null,null,null,null,null,null,null,null,null,null,"",null,null,null,null,null,null,null,null,null,null,null,null,null,null,null,null,null,null,null,null,null,null,null,null,null,null,null,null,null,null,null,null,null,null,null,null,null,null,null,null,"","","","",{"$f":"IF(F$40<=F$21,\"\",\"* Personas de 15 a 19 años Hombres, con antecedentes ACV En Tratamiento con Antiagregante plaquetario no debe ser mayor a la suma de Personas con Antecedentes de ACV de Sección A. \")","v":""},{"$f":"IF(G$40<=G$21,\"\",\"* Personas de 15 a 19 años Mujeres, con antecedentes ACV En Tratamiento con Antiagregante plaquetario no debe ser mayor a la suma de Personas con Antecedentes de ACV de Sección A. \")","v":""},{"$f":"IF(H$40<=H$21,\"\",\"* Personas de 20 a 24 años Hombres, con antecedentes ACV En Tratamiento con Antiagregante plaquetario no debe ser mayor a la suma de Personas con Antecedentes de ACV de Sección A. \")","v":""},{"$f":"IF(I$40<=I$21,\"\",\"* Personas de 20 a 24 años Mujeres, con antecedentes ACV En Tratamiento con Antiagregante plaquetario no debe ser mayor a la suma de Personas con Antecedentes de ACV de Sección A. \")","v":""},{"$f":"IF(J$40<=J$21,\"\",\"* Personas de 25 a 29 años Hombres, con antecedentes ACV En Tratamiento con Antiagregante plaquetario no debe ser mayor a la suma de Personas con Antecedentes de ACV de Sección A. \")","v":""},{"$f":"IF(K$40<=K$21,\"\",\"* Personas de 25 a 29 años Mujeres, con antecedentes ACV En Tratamiento con Antiagregante plaquetario no debe ser mayor a la suma de Personas con Antecedentes de ACV de Sección A. \")","v":""},{"$f":"IF(L$40<=L$21,\"\",\"* Personas de 30 a 34 años Hombres, con antecedentes ACV En Tratamiento con Antiagregante plaquetario no debe ser mayor a la suma de Personas con Antecedentes de ACV de Sección A. \")","v":""},{"$f":"IF(M$40<=M$21,\"\",\"* Personas de 30 a 34 años Mujeres, con antecedentes ACV En Tratamiento con Antiagregante plaquetario no debe ser mayor a la suma de Personas con Antecedentes de ACV de Sección A. \")","v":""},{"$f":"IF(N$40<=N$21,\"\",\"* Personas de 35 a 39 años Hombres, con antecedentes ACV En Tratamiento con Antiagregante plaquetario no debe ser mayor a la suma de Personas con Antecedentes de ACV de Sección A. \")","v":""},{"$f":"IF(O$40<=O$21,\"\",\"* Personas de 35 a 39 años Mujeres, con antecedentes ACV En Tratamiento con Antiagregante plaquetario no debe ser mayor a la suma de Personas con Antecedentes de ACV de Sección A. \")","v":""},{"$f":"IF(P$40<=P$21,\"\",\"* Personas de 40 a 44 años Hombres, con antecedentes ACV En Tratamiento con Antiagregante plaquetario no debe ser mayor a la suma de Personas con Antecedentes de ACV de Sección A. \")","v":""},{"$f":"IF(Q$40<=Q$21,\"\",\"* Personas de 40 a 44 años Mujeres, con antecedentes ACV En Tratamiento con Antiagregante plaquetario no debe ser mayor a la suma de Personas con Antecedentes de ACV de Sección A. \")","v":""},{"$f":"IF(R$40<=R$21,\"\",\"* Personas de 45 a 49 años Hombres, con antecedentes ACV En Tratamiento con Antiagregante plaquetario no debe ser mayor a la suma de Personas con Antecedentes de ACV de Sección A. \")","v":""},{"$f":"IF(S$40<=S$21,\"\",\"* Personas de 45 a 49 años Mujeres, con antecedentes ACV En Tratamiento con Antiagregante plaquetario no debe ser mayor a la suma de Personas con Antecedentes de ACV de Sección A. \")","v":""},{"$f":"IF(T$40<=T$21,\"\",\"* Personas de 50 a 54 años Hombres, con antecedentes ACV En Tratamiento con Antiagregante plaquetario no debe ser mayor a la suma de Personas con Antecedentes de ACV de Sección A. \")","v":""},{"$f":"IF(U$40<=U$21,\"\",\"* Personas de 50 a 54 años Mujeres, con antecedentes ACV En Tratamiento con Antiagregante plaquetario no debe ser mayor a la suma de Personas con Antecedentes de ACV de Sección A. \")","v":""},{"$f":"IF(V$40<=V$21,\"\",\"* Personas de 55 a 59 años Hombres, con antecedentes ACV En Tratamiento con Antiagregante plaquetario no debe ser mayor a la suma de Personas con Antecedentes de ACV de Sección A. \")","v":""},{"$f":"IF(W$40<=W$21,\"\",\"* Personas de 55 a 59 años Mujeres, con antecedentes ACV En Tratamiento con Antiagregante plaquetario no debe ser mayor a la suma de Personas con Antecedentes de ACV de Sección A. \")","v":""},{"$f":"IF(X$40<=X$21,\"\",\"* Personas de 60 a 64 años Hombres, con antecedentes ACV En Tratamiento con Antiagregante plaquetario no debe ser mayor a la suma de Personas con Antecedentes de ACV de Sección A. \")","v":""},{"$f":"IF(Y$40<=Y$21,\"\",\"* Personas de 60 a 64 años Mujeres, con antecedentes ACV En Tratamiento con Antiagregante plaquetario no debe ser mayor a la suma de Personas con Antecedentes de ACV de Sección A. \")","v":""},{"$f":"IF(Z$40<=Z$21,\"\",\"* Personas de 65 a 69 años Hombres, con antecedentes ACV En Tratamiento con Antiagregante plaquetario no debe ser mayor a la suma de Personas con Antecedentes de ACV de Sección A. \")","v":""},{"$f":"IF(AA$40<=AA$21,\"\",\"* Personas de 65 a 69 años Mujeres, con antecedentes ACV En Tratamiento con Antiagregante plaquetario no debe ser mayor a la suma de Personas con Antecedentes de ACV de Sección A. \")","v":""},{"$f":"IF(AB$40<=AB$21,\"\",\"* Personas de 70 a 74 años Hombres, con antecedentes ACV En Tratamiento con Antiagregante plaquetario no debe ser mayor a la suma de Personas con Antecedentes de ACV de Sección A. \")","v":""},{"$f":"IF(AC$40<=AC$21,\"\",\"* Personas de 70 a 74 años Mujeres, con antecedentes ACV En Tratamiento con Antiagregante plaquetario no debe ser mayor a la suma de Personas con Antecedentes de ACV de Sección A. \")","v":""},{"$f":"IF(AD$40<=AD$21,\"\",\"* Personas de 75 a 79 años Hombres, con antecedentes ACV En Tratamiento con Antiagregante plaquetario no debe ser mayor a la suma de Personas con Antecedentes de ACV de Sección A. \")","v":""},{"$f":"IF(AE$40<=AE$21,\"\",\"* Personas de 75 a 79 años Mujeres, con antecedentes ACV En Tratamiento con Antiagregante plaquetario no debe ser mayor a la suma de Personas con Antecedentes de ACV de Sección A. \")","v":""},{"$f":"IF(AF$40<=AF$21,\"\",\"* Personas de 80 y más años Hombres, con antecedentes ACV En Tratamiento con Antiagregante plaquetario no debe ser mayor a la suma de Personas con Antecedentes de ACV de Sección A. \")","v":""},{"$f":"IF(AG$40<=AG$21,\"\",\"* Personas de 80 y más años Mujeres, con antecedentes ACV En Tratamiento con Antiagregante plaquetario no debe ser mayor a la suma de Personas con Antecedentes de ACV de Sección A. \")","v":""},null,null,null,null,0,0,{"$f":"IF($D$34>=$AH$34,0,1)","v":0},0,0,0,{"$f":"IF(F40<=F$21,0,1)","v":0},{"$f":"IF(G40<=G$21,0,1)","v":0},0,0,0,0,0,0,0,0,0,0,0,0,0,0,0,0,0,0,0,0,0,0,0,0,0,0]
[null,"En tratamiento con Estatina",{"$f":"SUM(D41:E41)","v":0},0,0,null,null,null,null,null,null,null,null,null,null,null,null,null,null,null,null,null,null,null,null,null,null,null,null,null,null,null,null,null,null,null,null,"",null,null,null,null,null,null,null,null,null,null,null,null,null,null,null,null,null,null,null,null,null,null,null,null,null,null,null,null,null,null,null,null,null,null,null,null,null,null,null,null,"","","","",{"$f":"IF(F41<=F$21,\"\",\"* Personas de 15 a 19 años Hombres, con antecedentes ACV En Tratamiento con Estatina no debe ser mayor a la suma de Personas con Antecedentes de ACV de Sección A. \")","v":""},{"$f":"IF(G41<=G$21,\"\",\"* Personas de 15 a 19 años Mujeres, con antecedentes ACV En Tratamiento con Estatina no debe ser mayor a la suma de Personas con Antecedentes de ACV de Sección A. \")","v":""},{"$f":"IF(H41<=H$21,\"\",\"* Personas de 20 a 24 años Hombres, con antecedentes ACV En Tratamiento con Estatina no debe ser mayor a la suma de Personas con Antecedentes de ACV de Sección A. \")","v":""},{"$f":"IF(I41<=I$21,\"\",\"* Personas de 20 a 24 años Mujeres, con antecedentes ACV En Tratamiento con Estatina no debe ser mayor a la suma de Personas con Antecedentes de ACV de Sección A. \")","v":""},{"$f":"IF(J41<=J$21,\"\",\"* Personas de 25 a 29 años Hombres, con antecedentes ACV En Tratamiento con Estatina no debe ser mayor a la suma de Personas con Antecedentes de ACV de Sección A. \")","v":""},{"$f":"IF(K41<=K$21,\"\",\"* Personas de 25 a 29 años Mujeres, con antecedentes ACV En Tratamiento con Estatina no debe ser mayor a la suma de Personas con Antecedentes de ACV de Sección A. \")","v":""},{"$f":"IF(L41<=L$21,\"\",\"* Personas de 30 a 34 años Hombres, con antecedentes ACV En Tratamiento con Estatina no debe ser mayor a la suma de Personas con Antecedentes de ACV de Sección A. \")","v":""},{"$f":"IF(M41<=M$21,\"\",\"* Personas de 30 a 34 años Mujeres, con antecedentes ACV En Tratamiento con Estatina no debe ser mayor a la suma de Personas con Antecedentes de ACV de Sección A. \")","v":""},{"$f":"IF(N41<=N$21,\"\",\"* Personas de 35 a 39 años Hombres, con antecedentes ACV En Tratamiento con Estatina no debe ser mayor a la suma de Personas con Antecedentes de ACV de Sección A. \")","v":""},{"$f":"IF(O41<=O$21,\"\",\"* Personas de 35 a 39 años Mujeres, con antecedentes ACV En Tratamiento con Estatina no debe ser mayor a la suma de Personas con Antecedentes de ACV de Sección A. \")","v":""},{"$f":"IF(P41<=P$21,\"\",\"* Personas de 40 a 44 años Hombres, con antecedentes ACV En Tratamiento con Estatina no debe ser mayor a la suma de Personas con Antecedentes de ACV de Sección A. \")","v":""},{"$f":"IF(Q41<=Q$21,\"\",\"* Personas de 40 a 44 años Mujeres, con antecedentes ACV En Tratamiento con Estatina no debe ser mayor a la suma de Personas con Antecedentes de ACV de Sección A. \")","v":""},{"$f":"IF(R41<=R$21,\"\",\"* Personas de 45 a 49 años Hombres, con antecedentes ACV En Tratamiento con Estatina no debe ser mayor a la suma de Personas con Antecedentes de ACV de Sección A. \")","v":""},{"$f":"IF(S41<=S$21,\"\",\"* Personas de 45 a 49 años Mujeres, con antecedentes ACV En Tratamiento con Estatina no debe ser mayor a la suma de Personas con Antecedentes de ACV de Sección A. \")","v":""},{"$f":"IF(T41<=T$21,\"\",\"* Personas de 50 a 54 años Hombres, con antecedentes ACV En Tratamiento con Estatina no debe ser mayor a la suma de Personas con Antecedentes de ACV de Sección A. \")","v":""},{"$f":"IF(U41<=U$21,\"\",\"* Personas de 50 a 54 años Mujeres, con antecedentes ACV En Tratamiento con Estatina no debe ser mayor a la suma de Personas con Antecedentes de ACV de Sección A. \")","v":""},{"$f":"IF(V41<=V$21,\"\",\"* Personas de 55 a 59 años Hombres, con antecedentes ACV En Tratamiento con Estatina no debe ser mayor a la suma de Personas con Antecedentes de ACV de Sección A. \")","v":""},{"$f":"IF(W41<=W$21,\"\",\"* Personas de 55 a 59 años Mujeres, con antecedentes ACV En Tratamiento con Estatina no debe ser mayor a la suma de Personas con Antecedentes de ACV de Sección A. \")","v":""},{"$f":"IF(X41<=X$21,\"\",\"* Personas de 60 a 64 años Hombres, con antecedentes ACV En Tratamiento con Estatina no debe ser mayor a la suma de Personas con Antecedentes de ACV de Sección A. \")","v":""},{"$f":"IF(Y41<=Y$21,\"\",\"* Personas de 60 a 64 años Mujeres, con antecedentes ACV En Tratamiento con Estatina no debe ser mayor a la suma de Personas con Antecedentes de ACV de Sección A. \")","v":""},{"$f":"IF(Z41<=Z$21,\"\",\"* Personas de 65 a 69 años Hombres, con antecedentes ACV En Tratamiento con Estatina no debe ser mayor a la suma de Personas con Antecedentes de ACV de Sección A. \")","v":""},{"$f":"IF(AA41<=AA$21,\"\",\"* Personas de 65 a 69 años Mujeres, con antecedentes ACV En Tratamiento con Estatina no debe ser mayor a la suma de Personas con Antecedentes de ACV de Sección A. \")","v":""},{"$f":"IF(AB41<=AB$21,\"\",\"* Personas de 70 a 74 años Hombres, con antecedentes ACV En Tratamiento con Estatina no debe ser mayor a la suma de Personas con Antecedentes de ACV de Sección A. \")","v":""},{"$f":"IF(AC41<=AC$21,\"\",\"* Personas de 70 a 74 años Mujeres, con antecedentes ACV En Tratamiento con Estatina no debe ser mayor a la suma de Personas con Antecedentes de ACV de Sección A. \")","v":""},{"$f":"IF(AD41<=AD$21,\"\",\"* Personas de 75 a 79 años Hombres, con antecedentes ACV En Tratamiento con Estatina no debe ser mayor a la suma de Personas con Antecedentes de ACV de Sección A. \")","v":""},{"$f":"IF(AE41<=AE$21,\"\",\"* Personas de 75 a 79 años Mujeres, con antecedentes ACV En Tratamiento con Estatina no debe ser mayor a la suma de Personas con Antecedentes de ACV de Sección A. \")","v":""},{"$f":"IF(AF41<=AF$21,\"\",\"* Personas de 80 y más años Hombres, con antecedentes ACV En Tratamiento con Estatina no debe ser mayor a la suma de Personas con Antecedentes de ACV de Sección A. \")","v":""},{"$f":"IF(AG41<=AG$21,\"\",\"* Personas de 80 y más años Mujeres, con antecedentes ACV En Tratamiento con Estatina no debe ser mayor a la suma de Personas con Antecedentes de ACV de Sección A. \")","v":""},null,null,null,null,0,0,{"$f":"IF($D$36>=$AH$36,0,1)","v":0},0,0,0,{"$f":"IF(F41<=F$21,0,1)","v":0},0,0,0,0,0,0,0,0,0,0,0,0,0,0,0,0,0,0,0,0,0,0,0,0,0,0,0]
[null,"Fumador actual",{"$f":"SUM(D42:E42)","v":0},{"$f":"+F42+H42+J42+L42+N42+P42+R42+T42+V42+X42+Z42+AB42+AD42+AF42","v":0},{"$f":"+G42+I42+K42+M42+O42+Q42+S42+U42+W42+Y42+AA42+AC42+AE42+AG42","v":0},null,null,null,null,null,null,null,null,null,null,null,null,null,null,null,null,null,null,null,null,null,null,null,null,null,null,null,null,null,null,null,null,{"$f":"CA42&CB42& CC42 & CD42 & CE42 & CF42 & CG42 & CH42 & CI42 & CJ42 & CK42 & CL42 & CM42 & CN42 & CO42 & CP42 & CQ42 & CR42 & CS42 & CT42 & CU42 & CV42 & CW42 & CX42 & CY42 & CZ42 & DA42 & DB42 & DC42 & DE42 & DF42 &DD42","v":""},null,null,null,null,null,null,null,null,null,null,null,null,null,null,null,null,null,null,null,null,null,null,null,null,null,null,null,null,null,null,null,null,null,null,null,null,null,null,null,null,"","","",{"$f":"IF(AND(E42>0,OR(AK42=\"\")),\" * No olvide digitar la variable Migrantes Mujeres. Digite Cero si no tiene.\",IF(AK42>E42,\" * La variable Migrantes Mujeres no puede ser Mayor al Total Mujeres.\",\"\"))","v":""},null,null,null,null,null,null,null,null,null,null,null,null,null,null,null,null,null,null,null,null,null,null,null,null,null,null,null,null,null,null,null,null,0,0,{"$f":"IF($D$36>=$AH$36,0,1)","v":0},0,0,0]
["SECCIÓN C: VARIABLES DE SEGUIMIENTO DEL PSCV AL CORTE"]
["VARIABLES",null,"TOTAL ",null,null,"RANGO ETARIO Y SEXO",null,null,null,null,null,null,null,null,null,null,null,null,null,null,null,null,null,null,null,null,null,null,null,null,null,null,null,"Pueblos Originarios",null," Migrantes"]
[null,null,null,null,null,"15 a 19 años",null,"20 a 24 años",null,"25 a 29 años",null,"30 a 34 años",null,"35 a 39 años",null,"40 a 44 años",null,"45 a 49 años",null,"50 a 54 años",null,"55 a 59 años",null,"60 a 64 años",null,"65 a 69 años",null,"70 a 74 años",null,"75 a 79 años",null,"80 y más años"]
[null,null,"Ambos\nsexos","Hombres","Mujeres","Hombres","Mujeres","Hombres","Mujeres","Hombres","Mujeres","Hombres","Mujeres","Hombres","Mujeres","Hombres","Mujeres","Hombres","Mujeres","Hombres","Mujeres","Hombres","Mujeres","Hombres","Mujeres","Hombres ","Mujeres","Hombres ","Mujeres","Hombres ","Mujeres","Hombres ","Mujeres","Hombres","Mujeres","Hombres","Mujeres"]
["PERSONAS CON DIABETES  EN PSCV"]
["Con razón albúmina creatinina (RAC), vigente",null,{"$f":"SUM(D48:E48)","v":0},{"$f":"+F48+H48+J48+L48+N48+P48+R48+T48+V48+X48+Z48+AB48+AD48+AF48","v":0},{"$f":"+G48+I48+K48+M48+O48+Q48+S48+U48+W48+Y48+AA48+AC48+AE48+AG48","v":0},null,null,null,null,null,null,null,null,null,null,null,null,null,null,null,null,null,null,null,null,null,null,null,null,null,null,null,null,null,null,null,null,{"$f":"CA48&CB48&CC48&CD48","v":""},null,null,null,null,null,null,null,null,null,null,null,null,null,null,null,null,null,null,null,null,null,null,null,null,null,null,null,null,null,null,null,null,null,null,null,null,null,null,null,null,{"$f":"IF(AND(D48>0,OR(AH48=\"\")),\" * No olvide digitar la variable Pueblos Originarios Hombres. Digite Cero si no tiene.\",IF(AH48>D48,\" * La variable Pueblos Originarios Hombres no puede ser Mayor al Total Hombres.\",\"\"))","v":""},{"$f":"IF(AND(E48>0,OR(AI48=\"\")),\" * No olvide digitar la variable Pueblos Originarios Mujeres. Digite Cero si no tiene.\",IF(AI48>E48,\" * La variable Pueblos Originarios Mujeres no puede ser Mayor al Total Mujeres.\",\"\"))","v":""},{"$f":"IF(AND($D48>0,OR(AJ48=\"\")),\" * No olvide digitar la variable Migrantes Hombres. Digite Cero si no tiene.\",IF(AJ48>$D48,\" * La variable Migrantes Hombres no puede ser Mayor al Total Hombres.\",\"\"))","v":""},{"$f":"IF(AND(E48>0,OR(AK48=\"\")),\" * No olvide digitar la variable Migrantes Mujeres. Digite Cero si no tiene.\",IF(AK48>E48,\" * La variable Migrantes Mujeres no puede ser Mayor al Total Mujeres.\",\"\"))","v":""},null,null,null,null,null,null,null,null,null,null,null,null,null,null,null,null,null,null,null,null,null,null,null,null,null,null,null,null,null,null,null,null,{"$f":"IF(AND(D48>0,OR(AH48=\"\")),1,IF(AH48>D48,1,0))","v":0},{"$f":"IF(AND(E48>0,OR(AI48=\"\")),1,IF(AI48>E48,1,0))","v":0},{"$f":"IF(AND(D48>0,OR(AJ48=\"\")),1,IF(AJ48>D48,1,0))","v":0},{"$f":"IF(AND(E48>0,OR(AK48=\"\")),1,IF(AK48>E48,1,0))","v":0}]
["Con velocidad de filtración glomerular estimada (VFG), vigente",null,{"$f":"SUM(D49:E49)","v":0},{"$f":"+F49+H49+J49+L49+N49+P49+R49+T49+V49+X49+Z49+AB49+AD49+AF49","v":0},{"$f":"+G49+I49+K49+M49+O49+Q49+S49+U49+W49+Y49+AA49+AC49+AE49+AG49","v":0},null,null,null,null,null,null,null,null,null,null,null,null,null,null,null,null,null,null,null,null,null,null,null,null,null,null,null,null,null,null,null,null,{"$f":"CA49&CB49&CC49&CD49","v":""},null,null,null,null,null,null,null,null,null,null,null,null,null,null,null,null,null,null,null,null,null,null,null,null,null,null,null,null,null,null,null,null,null,null,null,null,null,null,null,null,{"$f":"IF(AND(D49>0,OR(AH49=\"\")),\" * No olvide digitar la variable Pueblos Originarios Hombres. Digite Cero si no tiene.\",IF(AH49>D49,\" * La variable Pueblos Originarios Hombres no puede ser Mayor al Total Hombres.\",\"\"))","v":""},{"$f":"IF(AND(E49>0,OR(AI49=\"\")),\" * No olvide digitar la variable Pueblos Originarios Mujeres. Digite Cero si no tiene.\",IF(AI49>E49,\" * La variable Pueblos Originarios Mujeres no puede ser Mayor al Total Mujeres.\",\"\"))","v":""},{"$f":"IF(AND($D49>0,OR(AJ49=\"\")),\" * No olvide digitar la variable Migrantes Hombres. Digite Cero si no tiene.\",IF(AJ49>$D49,\" * La variable Migrantes Hombres no puede ser Mayor al Total Hombres.\",\"\"))","v":""},{"$f":"IF(AND(E49>0,OR(AK49=\"\")),\" * No olvide digitar la variable Migrantes Mujeres. Digite Cero si no tiene.\",IF(AK49>E49,\" * La variable Migrantes Mujeres no puede ser Mayor al Total Mujeres.\",\"\"))","v":""},null,null,null,null,null,null,null,null,null,null,null,null,null,null,null,null,null,null,null,null,null,null,null,null,null,null,null,null,null,null,null,null,0,0,0,0]
["Con velocidad de filtración glomerular estimada (VFGE) y con razón albúmina creatinina (RAC) vigente",null,{"$f":"SUM(D50:E50)","v":0},{"$f":"+F50+H50+J50+L50+N50+P50+R50+T50+V50+X50+Z50+AB50+AD50+AF50","v":0},{"$f":"+G50+I50+K50+M50+O50+Q50+S50+U50+W50+Y50+AA50+AC50+AE50+AG50","v":0},null,null,null,null,null,null,null,null,null,null,null,null,null,null,null,null,null,null,null,null,null,null,null,null,null,null,null,null,null,null,null,null,"",null,null,null,null,null,null,null,null,null,null,null,null,null,null,null,null,null,null,null,null,null,null,null,null,null,null,null,null,null,null,null,null,null,null,null,null,null,null,null,null,"","","","",null,null,null,null,null,null,null,null,null,null,null,null,null,null,null,null,null,null,null,null,null,null,null,null,null,null,null,null,null,null,null,null,0,0,0,0]
["Con fondo de ojo, vigente",null,0,0,0,null,null,null,null,null,null,null,null,null,null,null,null,null,null,null,null,null,null,null,null,null,null,null,null,null,null,null,null,null,null,null,null,"",null,null,null,null,null,null,null,null,null,null,null,null,null,null,null,null,null,null,null,null,null,null,null,null,null,null,null,null,null,null,null,null,null,null,null,null,null,null,null,null,"","","","",null,null,null,null,null,null,null,null,null,null,null,null,null,null,null,null,null,null,null,null,null,null,null,null,null,null,null,null,null,null,null,null,0,0,0,0]
["Con atención podológica vigente",null,0,0,0,null,null,null,null,null,null,null,null,null,null,null,null,null,null,null,null,null,null,null,null,null,null,null,null,null,null,null,null,null,null,null,null,"",null,null,null,null,null,null,null,null,null,null,null,null,null,null,null,null,null,null,null,null,null,null,null,null,null,null,null,null,null,null,null,null,null,null,null,null,null,null,null,null,"","","","",null,null,null,null,null,null,null,null,null,null,null,null,null,null,null,null,null,null,null,null,null,null,null,null,null,null,null,null,null,null,null,null,0,0,0,0]
["Con ECG vigente",null,0,0,0,null,null,null,null,null,null,null,null,null,null,null,null,null,null,null,null,null,null,null,null,null,null,null,null,null,null,null,null,null,null,null,null,"",null,null,null,null,null,null,null,null,null,null,null,null,null,null,null,null,null,null,null,null,null,null,null,null,null,null,null,null,null,null,null,null,null,null,null,null,null,null,null,null,"","","","",null,null,null,null,null,null,null,null,null,null,null,null,null,null,null,null,null,null,null,null,null,null,null,null,null,null,null,null,null,null,null,null,0,0,0,0]
["En tratamiento con insulina",null,0,0,0,null,null,null,null,null,null,null,null,null,null,null,null,null,null,null,null,null,null,null,null,null,null,null,null,null,null,null,null,null,null,null,null,"",null,null,null,null,null,null,null,null,null,null,null,null,null,null,null,null,null,null,null,null,null,null,null,null,null,null,null,null,null,null,null,null,null,null,null,null,null,null,null,null,"","","","",null,null,null,null,null,null,null,null,null,null,null,null,null,null,null,null,null,null,null,null,null,null,null,null,null,null,null,null,null,null,null,null,0,0,0,0]
["En tratamiento con insulina que logra meta con HBA1C según edad",null,0,0,0,null,null,null,null,null,null,null,null,null,null,null,null,null,null,null,null,null,null,null,null,null,null,null,null,null,null,null,null,null,null,null,null,"",null,null,null,null,null,null,null,null,null,null,null,null,null,null,null,null,null,null,null,null,null,null,null,null,null,null,null,null,null,null,null,null,null,null,null,null,null,null,null,null,"","","","",null,null,null,null,null,null,null,null,null,null,null,null,null,null,null,null,null,null,null,null,null,null,null,null,null,null,null,null,null,null,null,null,0,0,0,0]
["Con HBA1C >= 9 %",null,0,0,0,null,null,null,null,null,null,null,null,null,null,null,null,null,null,null,null,null,null,null,null,null,null,null,null,null,null,null,null,null,null,null,null,"",null,null,null,null,null,null,null,null,null,null,null,null,null,null,null,null,null,null,null,null,null,null,null,null,null,null,null,null,null,null,null,null,null,null,null,null,null,null,null,null,"","","","",null,null,null,null,null,null,null,null,null,null,null,null,null,null,null,null,null,null,null,null,null,null,null,null,null,null,null,null,null,null,null,null,0,0,0,0]
["Fumador actual",null,{"$f":"SUM(D57:E57)","v":0},{"$f":"+F57+H57+J57+L57+N57+P57+R57+T57+V57+X57+Z57+AB57+AD57+AF57","v":0},{"$f":"+G57+I57+K57+M57+O57+Q57+S57+U57+W57+Y57+AA57+AC57+AE57+AG57","v":0},null,null,null,null,null,null,null,null,null,null,null,null,null,null,null,null,null,null,null,null,null,null,null,null,null,null,null,null,null,null,null,null,"",null,null,null,null,null,null,null,null,null,null,null,null,null,null,null,null,null,null,null,null,null,null,null,null,null,null,null,null,null,null,null,null,null,null,null,null,null,null,null,null,"","","","",null,null,null,null,null,null,null,null,null,null,null,null,null,null,null,null,null,null,null,null,null,null,null,null,null,null,null,null,null,null,null,null,0,0,0,0]
["Con ERC (todas las etapas) y en tratamiento con IECA o ARA II",null,0,{"$f":"+F58+H58+J58+L58+N58+P58+R58+T58+V58+X58+Z58+AB58+AD58+AF58","v":0},{"$f":"+G58+I58+K58+M58+O58+Q58+S58+U58+W58+Y58+AA58+AC58+AE58+AG58","v":0},null,null,null,null,null,null,null,null,null,null,null,null,null,null,null,null,null,null,null,null,null,null,null,null,null,null,null,null,null,null,null,null,"",null,null,null,null,null,null,null,null,null,null,null,null,null,null,null,null,null,null,null,null,null,null,null,null,null,null,null,null,null,null,null,null,null,null,null,null,null,null,null,null,"","","","",null,null,null,null,null,null,null,null,null,null,null,null,null,null,null,null,null,null,null,null,null,null,null,null,null,null,null,null,null,null,null,null,0,0,0,0]
["Con un examen de colesterol LDL vigente",null,0,0,0,null,null,null,null,null,null,null,null,null,null,null,null,null,null,null,null,null,null,null,null,null,null,null,null,null,null,null,null,null,null,null,null,"",null,null,null,null,null,null,null,null,null,null,null,null,null,null,null,null,null,null,null,null,null,null,null,null,null,null,null,null,null,null,null,null,null,null,null,null,null,null,null,null,"","","","",null,null,null,null,null,null,null,null,null,null,null,null,null,null,null,null,null,null,null,null,null,null,null,null,null,null,null,null,null,null,null,null,0,0,0,0]
["Con hipoglicemias recurrentes",null,{"$f":"SUM(D60:E60)","v":0},{"$f":"+F60+H60+J60+L60+N60+P60+R60+T60+V60+X60+Z60+AB60+AD60+AF60","v":0},{"$f":"+G60+I60+K60+M60+O60+Q60+S60+U60+W60+Y60+AA60+AC60+AE60+AG60","v":0},null,null,null,null,null,null,null,null,null,null,null,null,null,null,null,null,null,null,null,null,null,null,null,null,null,null,null,null,null,null,null,null,"",null,null,null,null,null,null,null,null,null,null,null,null,null,null,null,null,null,null,null,null,null,null,null,null,null,null,null,null,null,null,null,null,null,null,null,null,null,null,null,null,"","","","",null,null,null,null,null,null,null,null,null,null,null,null,null,null,null,null,null,null,null,null,null,null,null,null,null,null,null,null,null,null,null,null,0,0,0,0]
["Con *evaluación vigente del pie según pauta de estimación del riesgo de ulceración en personas con diabetes","Riesgo bajo",0,{"$f":"+F61+H61+J61+L61+N61+P61+R61+T61+V61+X61+Z61+AB61+AD61+AF61","v":0},{"$f":"+G61+I61+K61+M61+O61+Q61+S61+U61+W61+Y61+AA61+AC61+AE61+AG61","v":0},null,null,null,null,null,null,null,null,null,null,null,null,null,null,null,null,null,null,null,null,null,null,null,null,null,null,null,null,null,null,null,null,"",null,null,null,null,null,null,null,null,null,null,null,null,null,null,null,null,null,null,null,null,null,null,null,null,null,null,null,null,null,null,null,null,null,null,null,null,null,null,null,null,"","","","",null,null,null,null,null,null,null,null,null,null,null,null,null,null,null,null,null,null,null,null,null,null,null,null,null,null,null,null,null,null,null,null,0,0,0,0]
[null,"Riesgo moderado ",0,0,0,null,null,null,null,null,null,null,null,null,null,null,null,null,null,null,null,null,null,null,null,null,null,null,null,null,null,null,null,null,null,null,null,"",null,null,null,null,null,null,null,null,null,null,null,null,null,null,null,null,null,null,null,null,null,null,null,null,null,null,null,null,null,null,null,null,null,null,null,null,null,null,null,null,"","","","",null,null,null,null,null,null,null,null,null,null,null,null,null,null,null,null,null,null,null,null,null,null,null,null,null,null,null,null,null,null,null,null,0,0,0,0]
[null,"Riesgo alto",0,0,0,null,null,null,null,null,null,null,null,null,null,null,null,null,null,null,null,null,null,null,null,null,null,null,null,null,null,null,null,null,null,null,null,"",null,null,null,null,null,null,null,null,null,null,null,null,null,null,null,null,null,null,null,null,null,null,null,null,null,null,null,null,null,null,null,null,null,null,null,null,null,null,null,null,"","","","",null,null,null,null,null,null,null,null,null,null,null,null,null,null,null,null,null,null,null,null,null,null,null,null,null,null,null,null,null,null,null,null,0,0,0,0]
[null,"Riesgo máximo ",0,0,0,null,null,null,null,null,null,null,null,null,null,null,null,null,null,null,null,null,null,null,null,null,null,null,null,null,null,null,null,null,null,null,null,"",null,null,null,null,null,null,null,null,null,null,null,null,null,null,null,null,null,null,null,null,null,null,null,null,null,null,null,null,null,null,null,null,null,null,null,null,null,null,null,null,"","","","",null,null,null,null,null,null,null,null,null,null,null,null,null,null,null,null,null,null,null,null,null,null,null,null,null,null,null,null,null,null,null,null,0,0,0,0]
["Con úlceras activas de pie diabético tratadas con curación","Curación Convencional",0,{"$f":"+F65+H65+J65+L65+N65+P65+R65+T65+V65+X65+Z65+AB65+AD65+AF65","v":0},{"$f":"+G65+I65+K65+M65+O65+Q65+S65+U65+W65+Y65+AA65+AC65+AE65+AG65","v":0},null,null,null,null,null,null,null,null,null,null,null,null,null,null,null,null,null,null,null,null,null,null,null,null,null,null,null,null,null,null,null,null,"",null,null,null,null,null,null,null,null,null,null,null,null,null,null,null,null,null,null,null,null,null,null,null,null,null,null,null,null,null,null,null,null,null,null,null,null,null,null,null,null,"","","","",null,null,null,null,null,null,null,null,null,null,null,null,null,null,null,null,null,null,null,null,null,null,null,null,null,null,null,null,null,null,null,null,0,0,0,0]
[null,"Curación Avanzada",{"$f":"SUM(D66:E66)","v":0},{"$f":"+F66+H66+J66+L66+N66+P66+R66+T66+V66+X66+Z66+AB66+AD66+AF66","v":0},{"$f":"+G66+I66+K66+M66+O66+Q66+S66+U66+W66+Y66+AA66+AC66+AE66+AG66","v":0},null,null,null,null,null,null,null,null,null,null,null,null,null,null,null,null,null,null,null,null,null,null,null,null,null,null,null,null,null,null,null,null,"",null,null,null,null,null,null,null,null,null,null,null,null,null,null,null,null,null,null,null,null,null,null,null,null,null,null,null,null,null,null,null,null,null,null,null,null,null,null,null,null,"","","","",null,null,null,null,null,null,null,null,null,null,null,null,null,null,null,null,null,null,null,null,null,null,null,null,null,null,null,null,null,null,null,null,0,0,0,0]
[null,"Con ayuda técnica de descarga",{"$f":"SUM(D67:E67)","v":0},{"$f":"+F67+H67+J67+L67+N67+P67+R67+T67+V67+X67+Z67+AB67+AD67+AF67","v":0},0,null,null,null,null,null,null,null,null,null,null,null,null,null,null,null,null,null,null,null,null,null,null,null,null,null,null,null,null,null,null,null,null,"",null,null,null,null,null,null,null,null,null,null,null,null,null,null,null,null,null,null,null,null,null,null,null,null,null,null,null,null,null,null,null,null,null,null,null,null,null,null,null,null,"","","","",null,null,null,null,null,null,null,null,null,null,null,null,null,null,null,null,null,null,null,null,null,null,null,null,null,null,null,null,null,null,null,null,0,0,0,0]
["Con amputación por pie diabético",null,0,0,0,null,null,null,null,null,null,null,null,null,null,null,null,null,null,null,null,null,null,null,null,null,null,null,null,null,null,null,null,null,null,null,null,"",null,null,null,null,null,null,null,null,null,null,null,null,null,null,null,null,null,null,null,null,null,null,null,null,null,null,null,null,null,null,null,null,null,null,null,null,null,null,null,null,"","","","",null,null,null,null,null,null,null,null,null,null,null,null,null,null,null,null,null,null,null,null,null,null,null,null,null,null,null,null,null,null,null,null,0,0,0,0]
["Con diagnóstico asociado de hipertensión arterial",null,0,0,0,null,null,null,null,null,null,null,null,null,null,null,null,null,null,null,null,null,null,null,null,null,null,null,null,null,null,null,null,null,null,null,null,"",null,null,null,null,null,null,null,null,null,null,null,null,null,null,null,null,null,null,null,null,null,null,null,null,null,null,null,null,null,null,null,null,null,null,null,null,null,null,null,null,"","","","",null,null,null,null,null,null,null,null,null,null,null,null,null,null,null,null,null,null,null,null,null,null,null,null,null,null,null,null,null,null,null,null,0,0,0,0]
["Con diagnóstico de enfermedad renal crónica",null,{"$f":"SUM(D70:E70)","v":0},{"$f":"+F70+H70+J70+L70+N70+P70+R70+T70+V70+X70+Z70+AB70+AD70+AF70","v":0},{"$f":"+G70+I70+K70+M70+O70+Q70+S70+U70+W70+Y70+AA70+AC70+AE70+AG70","v":0},null,null,null,null,null,null,null,null,null,null,null,null,null,null,null,null,null,null,null,null,null,null,null,null,null,null,null,null,null,null,null,null,"",null,null,null,null,null,null,null,null,null,null,null,null,null,null,null,null,null,null,null,null,null,null,null,null,null,null,null,null,null,null,null,null,null,null,null,null,null,null,null,null,"","","","",null,null,null,null,null,null,null,null,null,null,null,null,null,null,null,null,null,null,null,null,null,null,null,null,null,null,null,null,null,null,null,null,0,0,0,0]
["Antecedente de ataque cerebro vascular",null,{"$f":"SUM(D71:E71)","v":0},0,0,null,null,null,null,null,null,null,null,null,null,null,null,null,null,null,null,null,null,null,null,null,null,null,null,null,null,null,null,null,null,null,null,"",null,null,null,null,null,null,null,null,null,null,null,null,null,null,null,null,null,null,null,null,null,null,null,null,null,null,null,null,null,null,null,null,null,null,null,null,null,null,null,null,"","","","",null,null,null,null,null,null,null,null,null,null,null,null,null,null,null,null,null,null,null,null,null,null,null,null,null,null,null,null,null,null,null,null,0,0,0,0]
["Antecedentes de infarto agudo al miocardio",null,0,0,0,null,null,null,null,null,null,null,null,null,null,null,null,null,null,null,null,null,null,null,null,null,null,null,null,null,null,null,null,null,null,null,null,"",null,null,null,null,null,null,null,null,null,null,null,null,null,null,null,null,null,null,null,null,null,null,null,null,null,null,null,null,null,null,null,null,null,null,null,null,null,null,null,null,"","","","",null,null,null,null,null,null,null,null,null,null,null,null,null,null,null,null,null,null,null,null,null,null,null,null,null,null,null,null,null,null,null,null,0,0,0,0]
["Retinopatía diabética",null,{"$f":"SUM(D73:E73)","v":0},{"$f":"+F73+H73+J73+L73+N73+P73+R73+T73+V73+X73+Z73+AB73+AD73+AF73","v":0},{"$f":"+G73+I73+K73+M73+O73+Q73+S73+U73+W73+Y73+AA73+AC73+AE73+AG73","v":0},null,null,null,null,null,null,null,null,null,null,null,null,null,null,null,null,null,null,null,null,null,null,null,null,null,null,null,null,null,null,null,null,"",null,null,null,null,null,null,null,null,null,null,null,null,null,null,null,null,null,null,null,null,null,null,null,null,null,null,null,null,null,null,null,null,null,null,null,null,null,null,null,null,"","","","",null,null,null,null,null,null,null,null,null,null,null,null,null,null,null,null,null,null,null,null,null,null,null,null,null,null,null,null,null,null,null,null,0,0,0,0]
["PERSONAS CON HIPERTENSION EN PSCV"]
["Con razón albúmina creatinina (RAC), vigente",null,{"$f":"SUM(D75:E75)","v":0},{"$f":"+F75+H75+J75+L75+N75+P75+R75+T75+V75+X75+Z75+AB75+AD75+AF75","v":0},{"$f":"+G75+I75+K75+M75+O75+Q75+S75+U75+W75+Y75+AA75+AC75+AE75+AG75","v":0},null,null,null,null,null,null,null,null,null,null,null,null,null,null,null,null,null,null,null,null,null,null,null,null,null,null,null,null,null,null,null,null,{"$f":"CA75&CB75&CC75&CD75","v":""},null,null,null,null,null,null,null,null,null,null,null,null,null,null,null,null,null,null,null,null,null,null,null,null,null,null,null,null,null,null,null,null,null,null,null,null,null,null,null,null,{"$f":"IF(AND(D75>0,OR(AH75=\"\")),\" * No olvide digitar la variable Pueblos Originarios Hombres. Digite Cero si no tiene.\",IF(AH75>D75,\" * La variable Pueblos Originarios Hombres no puede ser Mayor al Total Hombres.\",\"\"))","v":""},{"$f":"IF(AND(E75>0,OR(AI75=\"\")),\" * No olvide digitar la variable Pueblos Originarios Mujeres. Digite Cero si no tiene.\",IF(AI75>E75,\" * La variable Pueblos Originarios Mujeres no puede ser Mayor al Total Mujeres.\",\"\"))","v":""},{"$f":"IF(AND($D75>0,OR(AJ75=\"\")),\" * No olvide digitar la variable Migrantes Hombres. Digite Cero si no tiene.\",IF(AJ75>$D75,\" * La variable Migrantes Hombres no puede ser Mayor al Total Hombres.\",\"\"))","v":""},{"$f":"IF(AND(E75>0,OR(AK75=\"\")),\" * No olvide digitar la variable Migrantes Mujeres. Digite Cero si no tiene.\",IF(AK75>E75,\" * La variable Migrantes Mujeres no puede ser Mayor al Total Mujeres.\",\"\"))","v":""},null,null,null,null,null,null,null,null,null,null,null,null,null,null,null,null,null,null,null,null,null,null,null,null,null,null,null,null,null,null,null,null,0,0,0,0]
["Con velocidad de filtración glomerular estimada (VFGE) vigente",null,{"$f":"SUM(D76:E76)","v":0},{"$f":"+F76+H76+J76+L76+N76+P76+R76+T76+V76+X76+Z76+AB76+AD76+AF76","v":0},{"$f":"+G76+I76+K76+M76+O76+Q76+S76+U76+W76+Y76+AA76+AC76+AE76+AG76","v":0},null,null,null,null,null,null,null,null,null,null,null,null,null,null,null,null,null,null,null,null,null,null,null,null,null,null,null,null,null,null,null,null,"",null,null,null,null,null,null,null,null,null,null,null,null,null,null,null,null,null,null,null,null,null,null,null,null,null,null,null,null,null,null,null,null,null,null,null,null,null,null,null,null,"","","","",null,null,null,null,null,null,null,null,null,null,null,null,null,null,null,null,null,null,null,null,null,null,null,null,null,null,null,null,null,null,null,null,0,0,0,0]
["Con velocidad de filtración glomerular estimada (VFGE) y con razón albúmina creatinina (RAC) vigente",null,0,0,0,null,null,null,null,null,null,null,null,null,null,null,null,null,null,null,null,null,null,null,null,null,null,null,null,null,null,null,null,null,null,null,null,"",null,null,null,null,null,null,null,null,null,null,null,null,null,null,null,null,null,null,null,null,null,null,null,null,null,null,null,null,null,null,null,null,null,null,null,null,null,null,null,null,"","","","",null,null,null,null,null,null,null,null,null,null,null,null,null,null,null,null,null,null,null,null,null,null,null,null,null,null,null,null,null,null,null,null,0,0,0,0]
["Con presión arterial igual o mayor 160/100 MMHG",null,0,{"$f":"+F78+H78+J78+L78+N78+P78+R78+T78+V78+X78+Z78+AB78+AD78+AF78","v":0},{"$f":"+G78+I78+K78+M78+O78+Q78+S78+U78+W78+Y78+AA78+AC78+AE78+AG78","v":0},null,null,null,null,null,null,null,null,null,null,null,null,null,null,null,null,null,null,null,null,null,null,null,null,null,null,null,null,null,null,null,null,"",null,null,null,null,null,null,null,null,null,null,null,null,null,null,null,null,null,null,null,null,null,null,null,null,null,null,null,null,null,null,null,null,null,null,null,null,null,null,null,null,"","","","",null,null,null,null,null,null,null,null,null,null,null,null,null,null,null,null,null,null,null,null,null,null,null,null,null,null,null,null,null,null,null,null,0,0,0,0]
["Con diagnóstico de enfermedad renal crónica",null,0,0,0,null,null,null,null,null,null,null,null,null,null,null,null,null,null,null,null,null,null,null,null,null,null,null,null,null,null,null,null,null,null,null,null,"",null,null,null,null,null,null,null,null,null,null,null,null,null,null,null,null,null,null,null,null,null,null,null,null,null,null,null,null,null,null,null,null,null,null,null,null,null,null,null,null,"","","","",null,null,null,null,null,null,null,null,null,null,null,null,null,null,null,null,null,null,null,null,null,null,null,null,null,null,null,null,null,null,null,null,0,0,0,0]
["Protocolo Hearts",null,{"$f":"SUM(D80:E80)","v":0},{"$f":"+F80+H80+J80+L80+N80+P80+R80+T80+V80+X80+Z80+AB80+AD80+AF80","v":0},{"$f":"+G80+I80+K80+M80+O80+Q80+S80+U80+W80+Y80+AA80+AC80+AE80+AG80","v":0},null,null,null,null,null,null,null,null,null,null,null,null,null,null,null,null,null,null,null,null,null,null,null,null,null,null,null,null,null,null,null,null,"",null,null,null,null,null,null,null,null,null,null,null,null,null,null,null,null,null,null,null,null,null,null,null,null,null,null,null,null,null,null,null,null,null,null,null,null,null,null,null,null,"","","","",null,null,null,null,null,null,null,null,null,null,null,null,null,null,null,null,null,null,null,null,null,null,null,null,null,null,null,null,null,null,null,null,0,0,0,0]
["TODAS LAS PERSONAS EN PSCV"]
["Sobrepeso: IMC entre 25 y 29.9 <65 años",null,{"$f":"SUM(D82:E82)","v":0},{"$f":"+F82+H82+J82+L82+N82+P82+R82+T82+V82+X82","v":0},{"$f":"+G82+I82+K82+M82+O82+Q82+S82+U82+W82+Y82","v":0},null,null,null,null,null,null,null,null,null,null,null,null,null,null,null,null,null,null,null,null,null,null,null,null,null,null,null,null,null,null,null,null,"",null,null,null,null,null,null,null,null,null,null,null,null,null,null,null,null,null,null,null,null,null,null,null,null,null,null,null,null,null,null,null,null,null,null,null,null,null,null,null,null,{"$f":"IF(AND(D82>0,OR(AH82=\"\")),\" * No olvide digitar la variable Pueblos Originarios Hombres. Digite Cero si no tiene.\",IF(AH82>D82,\" * La variable Pueblos Originarios Hombres no puede ser Mayor al Total Hombres.\",\"\"))","v":""},{"$f":"IF(AND(E82>0,OR(AI82=\"\")),\" * No olvide digitar la variable Pueblos Originarios Mujeres. Digite Cero si no tiene.\",IF(AI82>E82,\" * La variable Pueblos Originarios Mujeres no puede ser Mayor al Total Mujeres.\",\"\"))","v":""},{"$f":"IF(AND($D82>0,OR(AJ82=\"\")),\" * No olvide digitar la variable Migrantes Hombres. Digite Cero si no tiene.\",IF(AJ82>$D82,\" * La variable Migrantes Hombres no puede ser Mayor al Total Hombres.\",\"\"))","v":""},{"$f":"IF(AND(E82>0,OR(AK82=\"\")),\" * No olvide digitar la variable Migrantes Mujeres. Digite Cero si no tiene.\",IF(AK82>E82,\" * La variable Migrantes Mujeres no puede ser Mayor al Total Mujeres.\",\"\"))","v":""},null,null,null,null,null,null,null,null,null,null,null,null,null,null,null,null,null,null,null,null,null,null,null,null,null,null,null,null,null,null,null,null,0,0,0,0]
["Sobrepeso: IMC entre 28 y 31.9 >65 años",null,0,{"$f":"+Z83+AB83+AD83+AF83","v":0},{"$f":"+AA83+AC83+AE83+AG83","v":0},null,null,null,null,null,null,null,null,null,null,null,null,null,null,null,null,null,null,null,null,null,null,null,null,null,null,null,null,null,null,null,null,"",null,null,null,null,null,null,null,null,null,null,null,null,null,null,null,null,null,null,null,null,null,null,null,null,null,null,null,null,null,null,null,null,null,null,null,null,null,null,null,null,{"$f":"IF(AND(D83>0,OR(AH83=\"\")),\" * No olvide digitar la variable Pueblos Originarios Hombres. Digite Cero si no tiene.\",IF(AH83>D83,\" * La variable Pueblos Originarios Hombres no puede ser Mayor al Total Hombres.\",\"\"))","v":""},"","","",null,null,null,null,null,null,null,null,null,null,null,null,null,null,null,null,null,null,null,null,null,null,null,null,null,null,null,null,null,null,null,null,0,0,0,0]
["Obesidad: IMC igual o Mayor a 30KG/M2 <65 años",null,0,{"$f":"+F84+H84+J84+L84+N84+P84+R84+T84+V84+X84","v":0},{"$f":"+G84+I84+K84+M84+O84+Q84+S84+U84+W84+Y84","v":0},null,null,null,null,null,null,null,null,null,null,null,null,null,null,null,null,null,null,null,null,null,null,null,null,null,null,null,null,null,null,null,null,"",null,null,null,null,null,null,null,null,null,null,null,null,null,null,null,null,null,null,null,null,null,null,null,null,null,null,null,null,null,null,null,null,null,null,null,null,null,null,null,null,"","","","",null,null,null,null,null,null,null,null,null,null,null,null,null,null,null,null,null,null,null,null,null,null,null,null,null,null,null,null,null,null,null,null,0,0,0,0]
["Obesidad: IMC igual o Mayor a 32KG/M2 >65 años",null,0,{"$f":"+Z85+AB85+AD85+AF85","v":0},{"$f":"+AA85+AC85+AE85+AG85","v":0},null,null,null,null,null,null,null,null,null,null,null,null,null,null,null,null,null,null,null,null,null,null,null,null,null,null,null,null,null,null,null,null,"",null,null,null,null,null,null,null,null,null,null,null,null,null,null,null,null,null,null,null,null,null,null,null,null,null,null,null,null,null,null,null,null,null,null,null,null,null,null,null,null,"","","","",null,null,null,null,null,null,null,null,null,null,null,null,null,null,null,null,null,null,null,null,null,null,null,null,null,null,null,null,null,null,null,null,0,0,0,0]
["Personas en actividad física salud cardiovascular",null,{"$f":"SUM(D86:E86)","v":0},{"$f":"+F86+H86+J86+L86+N86+P86+R86+T86+V86+X86+Z86+AB86+AD86+AF86","v":0},{"$f":"+G86+I86+K86+M86+O86+Q86+S86+U86+W86+Y86+AA86+AC86+AE86+AG86","v":0},null,null,null,null,null,null,null,null,null,null,null,null,null,null,null,null,null,null,null,null,null,null,null,null,null,null,null,null,null,null,null,null,"",null,null,null,null,null,null,null,null,null,null,null,null,null,null,null,null,null,null,null,null,null,null,null,null,null,null,null,null,null,null,null,null,null,null,null,null,null,null,null,null,"","","","",null,null,null,null,null,null,null,null,null,null,null,null,null,null,null,null,null,null,null,null,null,null,null,null,null,null,null,null,null,null,null,null,0,0,0,0]
["Fumador actual",null,0,{"$f":"+F87+H87+J87+L87+N87+P87+R87+T87+V87+X87+Z87+AB87+AD87+AF87","v":0},{"$f":"+G87+I87+K87+M87+O87+Q87+S87+U87+W87+Y87+AA87+AC87+AE87+AG87","v":0},null,null,null,null,null,null,null,null,null,null,null,null,null,null,null,null,null,null,null,null,null,null,null,null,null,null,null,null,null,null,null,null,"",null,null,null,null,null,null,null,null,null,null,null,null,null,null,null,null,null,null,null,null,null,null,null,null,null,null,null,null,null,null,null,null,null,null,null,null,null,null,null,null,"","","","",null,null,null,null,null,null,null,null,null,null,null,null,null,null,null,null,null,null,null,null,null,null,null,null,null,null,null,null,null,null,null,null,0,0,0,0]
["Enfermedad Renal Crónica (ERC)","Sin enfermedad renal (S/ERC)",{"$f":"SUM(D88:E88)","v":0},{"$f":"+F88+H88+J88+L88+N88+P88+R88+T88+V88+X88+Z88+AB88+AD88+AF88","v":0},0,null,null,null,null,null,null,null,null,null,null,null,null,null,null,null,null,null,null,null,null,null,null,null,null,null,null,null,null,null,null,null,null,"",null,null,null,null,null,null,null,null,null,null,null,null,null,null,null,null,null,null,null,null,null,null,null,null,null,null,null,null,null,null,null,null,null,null,null,null,null,null,null,null,"",{"$f":"IF(AND(E88>0,OR(AI88=\"\")),\" * No olvide digitar la variable Pueblos Originarios Mujeres. Digite Cero si no tiene.\",IF(AI88>E88,\" * La variable Pueblos Originarios Mujeres no puede ser Mayor al Total Mujeres.\",\"\"))","v":""},{"$f":"IF(AND($D88>0,OR(AJ88=\"\")),\" * No olvide digitar la variable Migrantes Hombres. Digite Cero si no tiene.\",IF(AJ88>$D88,\" * La variable Migrantes Hombres no puede ser Mayor al Total Hombres.\",\"\"))","v":""},{"$f":"IF(AND(E88>0,OR(AK88=\"\")),\" * No olvide digitar la variable Migrantes Mujeres. Digite Cero si no tiene.\",IF(AK88>E88,\" * La variable Migrantes Mujeres no puede ser Mayor al Total Mujeres.\",\"\"))","v":""},null,null,null,null,null,null,null,null,null,null,null,null,null,null,null,null,null,null,null,null,null,null,null,null,null,null,null,null,null,null,null,null,0,0,0,0]
[null,"Etapa  G1 ",{"$f":"SUM(D89:E89)","v":0},0,0,null,null,null,null,null,null,null,null,null,null,null,null,null,null,null,null,null,null,null,null,null,null,null,null,null,null,null,null,null,null,null,null,{"$f":"CA89&CB89&CC89&CD89&CE89&CF89&CG89&CH89&CI89&CJ89&CK89&CL89&CM89&CN89&CO89&CP89&CQ89&CR89&CS89&CT89&CU89&CV89&CW89&CX89&CY89&CZ89&DA89&DB89&DC89&DD89&DE89&DF89","v":""},null,null,null,null,null,null,null,null,null,null,null,null,null,null,null,null,null,null,null,null,null,null,null,null,null,null,null,null,null,null,null,null,null,null,null,null,null,null,null,null,"","","","",{"$f":"IF(F$89+F$90+F$91+F$92+F$93+F$94<=$F$23,\"\",\"* La suma de Personas Hombres con Enfermedad Renal Crónica (ERC) grupo de edad de 15 a 19 años no debe ser mayor al número de Personas con Enf. Renal Cronica de Sección A. \")","v":""},{"$f":"IF(G$89+G$90+G$91+G$92+G$93+G$94<=G$23,\"\",\"* La suma de Personas Mujeres con Enfermedad Renal Crónica (ERC) grupo de edad de 15 a 19 años no debe ser mayor al número de Personas con Enf. Renal Cronica de Sección A. \")","v":""},{"$f":"IF(H$89+H$90+H$91+H$92+H$93+H$94<=H$23,\"\",\"* La suma de Personas Hombres con Enfermedad Renal Crónica (ERC) grupo de edad de 20 a 24 años no debe ser mayor al número de Personas con Enf. Renal Cronica de Sección A. \")","v":""},{"$f":"IF(I$89+I$90+I$91+I$92+I$93+I$94<=I$23,\"\",\"* La suma de Personas Mujeres con Enfermedad Renal Crónica (ERC) grupo de edad de 20 a 24 años no debe ser mayor al número de Personas con Enf. Renal Cronica de Sección A. \")","v":""},{"$f":"IF(J$89+J$90+J$91+J$92+J$93+J$94<=J$23,\"\",\"* La suma de Personas Hombres con Enfermedad Renal Crónica (ERC) grupo de edad de 25 a 29 años no debe ser mayor al número de Personas con Enf. Renal Cronica de Sección A. \")","v":""},{"$f":"IF(K$89+K$90+K$91+K$92+K$93+K$94<=K$23,\"\",\"* La suma de Personas Mujeres con Enfermedad Renal Crónica (ERC) grupo de edad de 25 a 29 años no debe ser mayor al número de Personas con Enf. Renal Cronica de Sección A. \")","v":""},{"$f":"IF(L$89+L$90+L$91+L$92+L$93+L$94<=L$23,\"\",\"* La suma de Personas Hombres con Enfermedad Renal Crónica (ERC) grupo de edad de 30 a 34 años no debe ser mayor al número de Personas con Enf. Renal Cronica de Sección A. \")","v":""},{"$f":"IF(M$89+M$90+M$91+M$92+M$93+M$94<=M$23,\"\",\"* La suma de Personas Mujeres con Enfermedad Renal Crónica (ERC) grupo de edad de 30 a 34 años no debe ser mayor al número de Personas con Enf. Renal Cronica de Sección A. \")","v":""},{"$f":"IF(N$89+N$90+N$91+N$92+N$93+N$94<=N$23,\"\",\"* La suma de Personas Hombres con Enfermedad Renal Crónica (ERC) grupo de edad de 35 a 39 años no debe ser mayor al número de Personas con Enf. Renal Cronica de Sección A. \")","v":""},{"$f":"IF(O$89+O$90+O$91+O$92+O$93+O$94<=O$23,\"\",\"* La suma de Personas Mujeres con Enfermedad Renal Crónica (ERC) grupo de edad de 35 a 39 años no debe ser mayor al número de Personas con Enf. Renal Cronica de Sección A. \")","v":""},{"$f":"IF(P$89+P$90+P$91+P$92+P$93+P$94<=P$23,\"\",\"* La suma de Personas Hombres con Enfermedad Renal Crónica (ERC) grupo de edad de 40 a 44 años no debe ser mayor al número de Personas con Enf. Renal Cronica de Sección A. \")","v":""},{"$f":"IF(Q$89+Q$90+Q$91+Q$92+Q$93+Q$94<=Q$23,\"\",\"* La suma de Personas Mujeres con Enfermedad Renal Crónica (ERC) grupo de edad de 40 a 44 años no debe ser mayor al número de Personas con Enf. Renal Cronica de Sección A. \")","v":""},{"$f":"IF(R$89+R$90+R$91+R$92+R$93+R$94<=R$23,\"\",\"* La suma de Personas Hombres con Enfermedad Renal Crónica (ERC) grupo de edad de 45 a 49 años no debe ser mayor al número de Personas con Enf. Renal Cronica de Sección A. \")","v":""},{"$f":"IF(S$89+S$90+S$91+S$92+S$93+S$94<=S$23,\"\",\"* La suma de Personas Mujeres con Enfermedad Renal Crónica (ERC) grupo de edad de 45 a 49 años no debe ser mayor al número de Personas con Enf. Renal Cronica de Sección A. \")","v":""},{"$f":"IF(T$89+T$90+T$91+T$92+T$93+T$94<=T$23,\"\",\"* La suma de Personas Hombres con Enfermedad Renal Crónica (ERC) grupo de edad de 50 a 54 años no debe ser mayor al número de Personas con Enf. Renal Cronica de Sección A. \")","v":""},{"$f":"IF(U$89+U$90+U$91+U$92+U$93+U$94<=U$23,\"\",\"* La suma de Personas Mujeres con Enfermedad Renal Crónica (ERC) grupo de edad de 50 a 54 años no debe ser mayor al número de Personas con Enf. Renal Cronica de Sección A. \")","v":""},{"$f":"IF(V$89+V$90+V$91+V$92+V$93+V$94<=V$23,\"\",\"* La suma de Personas Hombres con Enfermedad Renal Crónica (ERC) grupo de edad de 55 a 59 años no debe ser mayor al número de Personas con Enf. Renal Cronica de Sección A. \")","v":""},{"$f":"IF(W$89+W$90+W$91+W$92+W$93+W$94<=W$23,\"\",\"* La suma de Personas Mujeres con Enfermedad Renal Crónica (ERC) grupo de edad de 55 a 59 años no debe ser mayor al número de Personas con Enf. Renal Cronica de Sección A. \")","v":""},{"$f":"IF(X$89+X$90+X$91+X$92+X$93+X$94<=X$23,\"\",\"* La suma de Personas Hombres con Enfermedad Renal Crónica (ERC) grupo de edad de 60 a 64 años no debe ser mayor al número de Personas con Enf. Renal Cronica de Sección A. \")","v":""},{"$f":"IF(Y$89+Y$90+Y$91+Y$92+Y$93+Y$94<=Y$23,\"\",\"* La suma de Personas Mujeres con Enfermedad Renal Crónica (ERC) grupo de edad de 60 a 64 años no debe ser mayor al número de Personas con Enf. Renal Cronica de Sección A. \")","v":""},{"$f":"IF(Z$89+Z$90+Z$91+Z$92+Z$93+Z$94<=Z$23,\"\",\"* La suma de Personas Hombres con Enfermedad Renal Crónica (ERC) grupo de edad de 65 a 69 años no debe ser mayor al número de Personas con Enf. Renal Cronica de Sección A. \")","v":""},{"$f":"IF(AA$89+AA$90+AA$91+AA$92+AA$93+AA$94<=AA$23,\"\",\"* La suma de Personas Mujeres con Enfermedad Renal Crónica (ERC) grupo de edad de 65 a 69 años no debe ser mayor al número de Personas con Enf. Renal Cronica de Sección A. \")","v":""},{"$f":"IF(AB$89+AB$90+AB$91+AB$92+AB$93+AB$94<=AB$23,\"\",\"* La suma de Personas Hombres con Enfermedad Renal Crónica (ERC) grupo de edad de 70 a 74 años no debe ser mayor al número de Personas con Enf. Renal Cronica de Sección A. \")","v":""},{"$f":"IF(AC$89+AC$90+AC$91+AC$92+AC$93+AC$94<=AC$23,\"\",\"* La suma de Personas Mujeres con Enfermedad Renal Crónica (ERC) grupo de edad de 70 a 74 años no debe ser mayor al número de Personas con Enf. Renal Cronica de Sección A. \")","v":""},{"$f":"IF(AD$89+AD$90+AD$91+AD$92+AD$93+AD$94<=AD$23,\"\",\"* La suma de Personas Hombres con Enfermedad Renal Crónica (ERC) grupo de edad de 75 a 79 años no debe ser mayor al número de Personas con Enf. Renal Cronica de Sección A. \")","v":""},{"$f":"IF(AE$89+AE$90+AE$91+AE$92+AE$93+AE$94<=AE$23,\"\",\"* La suma de Personas Mujeres con Enfermedad Renal Crónica (ERC) grupo de edad de 75 a 79 años no debe ser mayor al número de Personas con Enf. Renal Cronica de Sección A. \")","v":""},{"$f":"IF(AF$89+AF$90+AF$91+AF$92+AF$93+AF$94<=AF$23,\"\",\"* La suma de Personas Hombres con Enfermedad Renal Crónica (ERC) grupo de edad de 80 y más años no debe ser mayor al número de Personas con Enf. Renal Cronica de Sección A. \")","v":""},{"$f":"IF(AG$89+AG$90+AG$91+AG$92+AG$93+AG$94<=AG$23,\"\",\"* La suma de Personas Mujeres con Enfermedad Renal Crónica (ERC) grupo de edad de 80 y más años no debe ser mayor al número de Personas con Enf. Renal Cronica de Sección A. \")","v":""},null,null,null,null,0,0,0,0,{"$f":"IF(F$89+F$90+F$91+F$92+F$93+F$94<=F$23,0,1)","v":0},{"$f":"IF(G$89+G$90+G$91+G$92+G$93+G$94<=G$23,0,1)","v":0},0,0,0,0,0,0,0,0,0,0,0,0,0,0,0,0,0,0,0,0,0,0,0,0,0,0]
[null,"Etapa G2 ",0,0,0,null,null,null,null,null,null,null,null,null,null,null,null,null,null,null,null,null,null,null,null,null,null,null,null,null,null,null,null,null,null,null,null,"",null,null,null,null,null,null,null,null,null,null,null,null,null,null,null,null,null,null,null,null,null,null,null,null,null,null,null,null,null,null,null,null,null,null,null,null,null,null,null,null,"","","","",null,null,null,null,null,null,null,null,null,null,null,null,null,null,null,null,null,null,null,null,null,null,null,null,null,null,null,null,null,null,null,null,0,0,0,0]
[null,"Etapa G3a",0,0,0,null,null,null,null,null,null,null,null,null,null,null,null,null,null,null,null,null,null,null,null,null,null,null,null,null,null,null,null,null,null,null,null,"",null,null,null,null,null,null,null,null,null,null,null,null,null,null,null,null,null,null,null,null,null,null,null,null,null,null,null,null,null,null,null,null,null,null,null,null,null,null,null,null,{"$f":"IF(AND(D91>0,OR(AH91=\"\")),\" * No olvide digitar la variable Pueblos Originarios Hombres. Digite Cero si no tiene.\",IF(AH91>D91,\" * La variable Pueblos Originarios Hombres no puede ser Mayor al Total Hombres.\",\"\"))","v":""},"","","",null,null,null,null,null,null,null,null,null,null,null,null,null,null,null,null,null,null,null,null,null,null,null,null,null,null,null,null,null,null,null,null,0,0,0,0]
[null,"Etapa G3b ",0,0,0,null,null,null,null,null,null,null,null,null,null,null,null,null,null,null,null,null,null,null,null,null,null,null,null,null,null,null,null,null,null,null,null,"",null,null,null,null,null,null,null,null,null,null,null,null,null,null,null,null,null,null,null,null,null,null,null,null,null,null,null,null,null,null,null,null,null,null,null,null,null,null,null,null,"","","","",null,null,null,null,null,null,null,null,null,null,null,null,null,null,null,null,null,null,null,null,null,null,null,null,null,null,null,null,null,null,null,null,0,0,0,0]
[null,"Etapa G4  ",0,0,0,null,null,null,null,null,null,null,null,null,null,null,null,null,null,null,null,null,null,null,null,null,null,null,null,null,null,null,null,null,null,null,null,"",null,null,null,null,null,null,null,null,null,null,null,null,null,null,null,null,null,null,null,null,null,null,null,null,null,null,null,null,null,null,null,null,null,null,null,null,null,null,null,null,"","","","",null,null,null,null,null,null,null,null,null,null,null,null,null,null,null,null,null,null,null,null,null,null,null,null,null,null,null,null,null,null,null,null,0,0,0,0]
[null,"Etapa G5",{"$f":"SUM(D94:E94)","v":0},{"$f":"+F94+H94+J94+L94+N94+P94+R94+T94+V94+X94+Z94+AB94+AD94+AF94","v":0},{"$f":"+G94+I94+K94+M94+O94+Q94+S94+U94+W94+Y94+AA94+AC94+AE94+AG94","v":0},null,null,null,null,null,null,null,null,null,null,null,null,null,null,null,null,null,null,null,null,null,null,null,null,null,null,null,null,null,null,null,null,"",null,null,null,null,null,null,null,null,null,null,null,null,null,null,null,null,null,null,null,null,null,null,null,null,null,null,null,null,null,null,null,null,null,null,null,null,null,null,null,null,"","","","",null,null,null,null,null,null,null,null,null,null,null,null,null,null,null,null,null,null,null,null,null,null,null,null,null,null,null,null,null,null,null,null,0,0,0,0]
[null,"Desconoce si tiene ERC",0,0,0,null,null,null,null,null,null,null,null,null,null,null,null,null,null,null,null,null,null,null,null,null,null,null,null,null,null,null,null,null,null,null,null,"",null,null,null,null,null,null,null,null,null,null,null,null,null,null,null,null,null,null,null,null,null,null,null,null,null,null,null,null,null,null,null,null,null,null,null,null,null,null,null,null,"","","","",null,null,null,null,null,null,null,null,null,null,null,null,null,null,null,null,null,null,null,null,null,null,null,null,null,null,null,null,null,null,null,null,0,0,0,0]
[null,"TOTAL",{"$f":"SUM(D96:E96)","v":0},{"$f":"+F96+H96+J96+L96+N96+P96+R96+T96+V96+X96+Z96+AB96+AD96+AF96","v":0},{"$f":"+G96+I96+K96+M96+O96+Q96+S96+U96+W96+Y96+AA96+AC96+AE96+AG96","v":0},{"$f":"SUM(F88:F95)","v":0},{"$f":"SUM(G88:G95)","v":0},0,0,0,0,0,0,0,0,0,0,0,0,0,0,0,0,0,0,0,0,0,0,0,0,0,0,0,0,0,0]
["NOTA (*): La vigencia de la evaluación del pie diabético es de 12 meses."]
[]
[]
[]
[]
[]
[]
[]
[]
[]
[]
[]
[]
[{"$f":"SUM(C12:C23,C28:C42,C48:C73,C75:C80,C82:C95)","v":0},"datos"]
[{"$f":"SUM(DK13:ER95)","v":0},"errores"]

{"sheet":"P5","index":5,"n_rows":82,"n_cols":98,"rows_kept":82,"cut":false,"hidden":false,"merged":[[6,0,6,20],[30,99,31,99],[49,25,50,26],[49,21,50,22],[49,23,50,24],[40,15,40,16],[40,17,40,18],[40,19,40,20],[39,21,40,22],[39,23,40,24],[44,21,45,22],[44,23,45,24],[39,25,40,26],[44,25,45,26],[49,0,51,0],[45,5,45,6],[50,5,50,6],[50,9,50,10],[45,9,45,10],[45,11,45,12],[50,7,50,8],[40,11,40,12],[44,2,45,4],[39,0,41,1],[8,2,9,4],[40,13,40,14],[9,13,9,14],[9,11,9,12],[9,15,9,16],[9,17,9,18],[23,15,23,16],[39,2,40,4],[38,0,38,6],[39,5,39,20],[36,0,36,1],[37,0,37,1],[33,0,33,1],[40,5,40,6],[40,9,40,10],[40,7,40,8],[42,0,42,1],[44,0,46,1],[55,0,56,0],[49,2,50,4],[52,0,54,0],[48,0,48,8],[43,0,43,7],[45,7,45,8],[44,5,44,20],[50,15,50,16],[50,17,50,18],[50,19,50,20],[50,11,50,12],[49,5,49,20],[49,1,51,1],[50,13,50,14],[45,13,45,14],[45,15,45,16],[45,17,45,18],[45,19,45,20],[47,0,47,1],[30,23,31,24],[30,21,31,22],[31,13,31,14],[23,5,23,6],[31,19,31,20],[31,7,31,8],[30,2,31,4],[30,0,32,1],[22,2,23,4],[31,9,31,10],[31,11,31,12],[31,15,31,16],[31,17,31,18],[30,5,30,20],[31,5,31,6],[22,0,24,1],[25,0,25,1],[26,0,26,1],[27,0,27,1],[28,0,28,1],[23,17,23,18],[22,25,23,26],[23,7,23,8],[23,9,23,10],[23,11,23,12],[23,13,23,14],[9,5,9,6],[9,7,9,8],[9,9,9,10],[9,19,9,20],[8,25,9,26],[22,23,23,24],[8,21,9,22],[8,23,9,24],[7,79,8,80],[7,81,8,82],[7,83,8,84],[7,92,8,93],[7,94,8,95],[7,96,8,97],[34,0,34,1],[35,0,35,1],[8,0,10,1],[11,0,11,1],[12,0,12,1],[13,0,13,1],[14,0,14,1],[15,0,15,1],[16,0,16,1],[17,0,17,1],[18,0,18,1],[19,0,19,1],[20,0,20,1],[23,19,23,20],[23,21,23,22],[30,25,31,26],[22,5,22,22],[8,5,8,20]]}
["DATOS DEL ESTABLECIMIENTO"]
[{"$f":"CONCATENATE(\"COMUNA: \",NOMBRE!$B$2,\"   \",\"( \",NOMBRE!$C$2,NOMBRE!$D$2,NOMBRE!$E$2,NOMBRE!$F$2,NOMBRE!$G$2,\" )\")","v":"COMUNA:    (  )"}]
[{"$f":"CONCATENATE(\"ESTABLECIMIENTO/ESTRATEGIA: \",NOMBRE!$B$3,\"   \",\"( \",NOMBRE!$C$3,NOMBRE!$D$3,NOMBRE!$E$3,NOMBRE!$F$3,NOMBRE!$G$3,NOMBRE!$H$3,\" )\")","v":"ESTABLECIMIENTO/ESTRATEGIA:    (  )"}]
[{"$f":"CONCATENATE(\"MES: \",NOMBRE!$B$6,\"   \",\"( \",NOMBRE!$C$6,NOMBRE!$D$6,\" )\")","v":"MES:    (  )"}]
[{"$f":"CONCATENATE(\"AÑO: \",NOMBRE!$B$7)","v":"AÑO: 2026"}]
[]
["REM-P5. POBLACIÓN EN CONTROL PROGRAMA NACIONAL DE SALUD INTEGRAL DE PERSONAS MAYORES "]
["SECCION A: POBLACIÓN EN CONTROL POR CONDICIÓN DE FUNCIONALIDAD",null,null,null,null,null,null,null,null,null,null,null,null,null,null,null,null,null,null,null,null,null,null,null,null,null,null,null,null,null,null,null,null,null,null,null,null,null,null,null,null,null,null,null,null,null,null,null,null,null,null,null,null,null,null,null,null,null,null,null,null,null,null,null,null,null,null,null,null,null,null,null,null,null,null,null,null,null,null,"Pueblos Originarios",null,"Población Migrantes",null,"Personas Mayores en ELEAM",null,null,null,null,null,null,null,null,"Pueblos Originarios",null,"Población Migrantes",null,"Personas Mayores en ELEAM"]
["CONDICIÓN DE \nFUNCIONALIDAD",null,"TOTAL",null,null,"RANGO ETARIO Y SEXO",null,null,null,null,null,null,null,null,null,null,null,null,null,null,null,"Pueblos Originarios",null," Migrantes",null,"Personas Mayores en ELEAM"]
[null,null,null,null,null,"65 a 69 años",null,"70 a 74 años",null,"75 a 79 años",null,"80 a 84 años",null,"85 a 89 años",null,"90 a 94 años",null,"95 a 99 años",null,"100 y más años",null,null,null,null,null,null,null,null,null,null,null,null,null,null,null,null,null,null,null,null,null,null,null,null,null,null,null,null,null,null,null,null,null,null,null,null,null,null,null,null,null,null,null,null,null,null,null,null,null,null,null,null,null,null,null,null,null,null,null,"Hombres","Mujeres","Hombres","Mujeres","Hombres","Mujeres",null,null,null,null,null,null,null,"Hombres","Mujeres","Hombres","Mujeres","Hombres","Mujeres"]
[null,null,"Ambos\nsexos","Hombres","Mujeres","Hombres ","Mujeres","Hombres ","Mujeres","Hombres ","Mujeres","Hombres ","Mujeres","Hombres ","Mujeres","Hombres ","Mujeres","Hombres ","Mujeres","Hombres ","Mujeres","Hombres","Mujeres","Hombres","Mujeres","Hombres","Mujeres"]
["Autovalente sin riesgo",null,{"$f":"SUM(D12:E12)","v":0},{"$f":"+F12+H12+J12+L12+N12+P12+R12+T12","v":0},{"$f":"+G12+I12+K12+M12+O12+Q12+S12+U12","v":0},null,null,null,null,null,null,null,null,null,null,null,null,null,null,null,null,null,null,null,null,null,null,{"$f":"CB12&CC12&CD12&CE12&CF12&CG12","v":""},null,null,null,null,null,null,null,null,null,null,null,null,null,null,null,null,null,null,null,null,null,null,null,null,null,null,null,null,null,null,null,null,null,null,null,null,null,null,null,null,null,null,null,null,null,null,null,null,null,null,null,{"$f":"IF(AND(D12>0,OR(V12=\"\")),\" * No olvide digitar la variable Pueblos Originarios Hombres. Digite Cero si no tiene.\",IF(V12>D12,\" * La variable Pueblos Originarios Hombres no puede ser Mayor al Total Hombres.\",\"\"))","v":""},{"$f":"IF(AND(E12>0,OR(W12=\"\")),\" * No olvide digitar la variable Pueblos Originarios Mujeres. Digite Cero si no tiene.\",IF(W12>E12,\" * La variable Pueblos Originarios Mujeres no puede ser Mayor al Total Mujeres.\",\"\"))","v":""},{"$f":"IF(AND($D12>0,OR(X12=\"\")),\" * No olvide digitar la variable Migrantes Hombres. Digite Cero si no tiene.\",IF(X12>$D12,\" * La variable Migrantes Hombres no puede ser Mayor al Total Hombres.\",\"\"))","v":""},{"$f":"IF(AND($E12>0,OR(Y12=\"\")),\" * No olvide digitar la variable Migrantes Mujeres. Digite Cero si no tiene.\",IF(Y12>$E12,\" * La variable Migrantes Mujeres no puede ser Mayor al Total Mujeres.\",\"\"))","v":""},{"$f":"IF(AND($D12>0,OR(Z12=\"\")),\" * No olvide digitar la variable Personas Mayores en ELEAM Hombres. Digite Cero si no tiene.\",IF(Z12>$D12,\" * La variable Personas Mayores en ELEAM Hombres no puede ser Mayor al Total Hombres.\",\"\"))","v":""},{"$f":"IF(AND($E12>0,OR(AA12=\"\")),\" * No olvide digitar la variable Personas Mayores en ELEAM Mujeres. Digite Cero si no tiene.\",IF(AA12>$E12,\" * La variable Personas Mayores en ELEAM Mujeres no puede ser Mayor al Total Mujeres.\",\"\"))","v":""},null,null,null,null,null,null,null,{"$f":"IF(AND(D12>0,OR(V12=\"\")),1,IF(V12>D12,1,0))","v":0},{"$f":"IF(AND(E12>0,OR(W12=\"\")),1,IF(W12>E12,1,0))","v":0},{"$f":"IF(AND($D12>0,OR(X12=\"\")),1,IF(X12>$D12,1,0))","v":0},{"$f":"IF(AND(E12>0,OR(Y12=\"\")),1,IF(Y12>E12,1,0))","v":0},{"$f":"IF(AND($D12>0,OR(Z12=\"\")),1,IF(Z12>$D12,1,0))","v":0},{"$f":"IF(AND($E12>0,OR(AA12=\"\")),1,IF(AA12>$E12,1,0))","v":0}]
["Autovalente con riesgo",null,0,{"$f":"+F13+H13+J13+L13+N13+P13+R13+T13","v":0},{"$f":"+G13+I13+K13+M13+O13+Q13+S13+U13","v":0},null,null,null,null,null,null,null,null,null,null,null,null,null,null,null,null,null,null,null,null,null,null,{"$f":"CB13&CC13&CD13&CE13&CF13&CG13","v":""},null,null,null,null,null,null,null,null,null,null,null,null,null,null,null,null,null,null,null,null,null,null,null,null,null,null,null,null,null,null,null,null,null,null,null,null,null,null,null,null,null,null,null,null,null,null,null,null,null,null,null,{"$f":"IF(AND(D13>0,OR(V13=\"\")),\" * No olvide digitar la variable Pueblos Originarios Hombres. Digite Cero si no tiene.\",IF(V13>D13,\" * La variable Pueblos Originarios Hombres no puede ser Mayor al Total Hombres.\",\"\"))","v":""},{"$f":"IF(AND(E13>0,OR(W13=\"\")),\" * No olvide digitar la variable Pueblos Originarios Mujeres. Digite Cero si no tiene.\",IF(W13>E13,\" * La variable Pueblos Originarios Mujeres no puede ser Mayor al Total Mujeres.\",\"\"))","v":""},{"$f":"IF(AND($D13>0,OR(X13=\"\")),\" * No olvide digitar la variable Migrantes Hombres. Digite Cero si no tiene.\",IF(X13>$D13,\" * La variable Migrantes Hombres no puede ser Mayor al Total Hombres.\",\"\"))","v":""},{"$f":"IF(AND($E13>0,OR(Y13=\"\")),\" * No olvide digitar la variable Migrantes Mujeres. Digite Cero si no tiene.\",IF(Y13>$E13,\" * La variable Migrantes Mujeres no puede ser Mayor al Total Mujeres.\",\"\"))","v":""},{"$f":"IF(AND($D13>0,OR(Z13=\"\")),\" * No olvide digitar la variable Personas Mayores en ELEAM Hombres. Digite Cero si no tiene.\",IF(Z13>$D13,\" * La variable Personas Mayores en ELEAM Hombres no puede ser Mayor al Total Hombres.\",\"\"))","v":""},{"$f":"IF(AND($E13>0,OR(AA13=\"\")),\" * No olvide digitar la variable Personas Mayores en ELEAM Mujeres. Digite Cero si no tiene.\",IF(AA13>$E13,\" * La variable Personas Mayores en ELEAM Mujeres no puede ser Mayor al Total Mujeres.\",\"\"))","v":""},null,null,null,null,null,null,null,{"$f":"IF(AND(D13>0,OR(V13=\"\")),1,IF(V13>D13,1,0))","v":0},0,{"$f":"IF(AND($D13>0,OR(X13=\"\")),1,IF(X13>$D13,1,0))","v":0},{"$f":"IF(AND(E13>0,OR(Y13=\"\")),1,IF(Y13>E13,1,0))","v":0},{"$f":"IF(AND($D13>0,OR(Z13=\"\")),1,IF(Z13>$D13,1,0))","v":0},{"$f":"IF(AND($E13>0,OR(AA13=\"\")),1,IF(AA13>$E13,1,0))","v":0}]
["Riesgo de dependencia ",null,0,0,0,null,null,null,null,null,null,null,null,null,null,null,null,null,null,null,null,null,null,null,null,null,null,{"$f":"CB14&CC14&CD14&CE14&CF14&CG14","v":""},null,null,null,null,null,null,null,null,null,null,null,null,null,null,null,null,null,null,null,null,null,null,null,null,null,null,null,null,null,null,null,null,null,null,null,null,null,null,null,null,null,null,null,null,null,null,null,null,null,null,null,{"$f":"IF(AND(D14>0,OR(V14=\"\")),\" * No olvide digitar la variable Pueblos Originarios Hombres. Digite Cero si no tiene.\",IF(V14>D14,\" * La variable Pueblos Originarios Hombres no puede ser Mayor al Total Hombres.\",\"\"))","v":""},{"$f":"IF(AND(E14>0,OR(W14=\"\")),\" * No olvide digitar la variable Pueblos Originarios Mujeres. Digite Cero si no tiene.\",IF(W14>E14,\" * La variable Pueblos Originarios Mujeres no puede ser Mayor al Total Mujeres.\",\"\"))","v":""},{"$f":"IF(AND($D14>0,OR(X14=\"\")),\" * No olvide digitar la variable Migrantes Hombres. Digite Cero si no tiene.\",IF(X14>$D14,\" * La variable Migrantes Hombres no puede ser Mayor al Total Hombres.\",\"\"))","v":""},{"$f":"IF(AND($E14>0,OR(Y14=\"\")),\" * No olvide digitar la variable Migrantes Mujeres. Digite Cero si no tiene.\",IF(Y14>$E14,\" * La variable Migrantes Mujeres no puede ser Mayor al Total Mujeres.\",\"\"))","v":""},{"$f":"IF(AND($D14>0,OR(Z14=\"\")),\" * No olvide digitar la variable Personas Mayores en ELEAM Hombres. Digite Cero si no tiene.\",IF(Z14>$D14,\" * La variable Personas Mayores en ELEAM Hombres no puede ser Mayor al Total Hombres.\",\"\"))","v":""},{"$f":"IF(AND($E14>0,OR(AA14=\"\")),\" * No olvide digitar la variable Personas Mayores en ELEAM Mujeres. Digite Cero si no tiene.\",IF(AA14>$E14,\" * La variable Personas Mayores en ELEAM Mujeres no puede ser Mayor al Total Mujeres.\",\"\"))","v":""},null,null,null,null,null,null,null,0,0,{"$f":"IF(AND($D14>0,OR(X14=\"\")),1,IF(X14>$D14,1,0))","v":0},{"$f":"IF(AND(E14>0,OR(Y14=\"\")),1,IF(Y14>E14,1,0))","v":0},{"$f":"IF(AND($D14>0,OR(Z14=\"\")),1,IF(Z14>$D14,1,0))","v":0},{"$f":"IF(AND($E14>0,OR(AA14=\"\")),1,IF(AA14>$E14,1,0))","v":0}]
["SUBTOTAL (EFAM)",null,{"$f":"SUM(D15:E15)","v":0},{"$f":"+F15+H15+J15+L15+N15+P15+R15+T15","v":0},{"$f":"+G15+I15+K15+M15+O15+Q15+S15+U15","v":0},{"$f":"SUM(F12:F14)","v":0},{"$f":"SUM(G12:G14)","v":0},0,0,0,0,0,0,{"$f":"SUM(N12:N14)","v":0},0,{"$f":"SUM(P12:P14)","v":0},0,{"$f":"SUM(R12:R14)","v":0},0,0,0,{"$f":"SUM(V12:V14)","v":0},{"$f":"SUM(W12:W14)","v":0},0,{"$f":"SUM(Y12:Y14)","v":0},{"$f":"SUM(Z12:Z14)","v":0},{"$f":"SUM(AA12:AA14)","v":0}]
["Dependiente leve",null,0,{"$f":"+F16+H16+J16+L16+N16+P16+R16+T16","v":0},{"$f":"+G16+I16+K16+M16+O16+Q16+S16+U16","v":0},null,null,null,null,null,null,null,null,null,null,null,null,null,null,null,null,null,null,null,null,null,null,{"$f":"CB16&CC16&CD16&CE16&CF16&CG16","v":""},null,null,null,null,null,null,null,null,null,null,null,null,null,null,null,null,null,null,null,null,null,null,null,null,null,null,null,null,null,null,null,null,null,null,null,null,null,null,null,null,null,null,null,null,null,null,null,null,null,null,null,{"$f":"IF(AND(D16>0,OR(V16=\"\")),\" * No olvide digitar la variable Pueblos Originarios Hombres. Digite Cero si no tiene.\",IF(V16>D16,\" * La variable Pueblos Originarios Hombres no puede ser Mayor al Total Hombres.\",\"\"))","v":""},{"$f":"IF(AND(E16>0,OR(W16=\"\")),\" * No olvide digitar la variable Pueblos Originarios Mujeres. Digite Cero si no tiene.\",IF(W16>E16,\" * La variable Pueblos Originarios Mujeres no puede ser Mayor al Total Mujeres.\",\"\"))","v":""},{"$f":"IF(AND($D16>0,OR(X16=\"\")),\" * No olvide digitar la variable Migrantes Hombres. Digite Cero si no tiene.\",IF(X16>$D16,\" * La variable Migrantes Hombres no puede ser Mayor al Total Hombres.\",\"\"))","v":""},{"$f":"IF(AND($E16>0,OR(Y16=\"\")),\" * No olvide digitar la variable Migrantes Mujeres. Digite Cero si no tiene.\",IF(Y16>$E16,\" * La variable Migrantes Mujeres no puede ser Mayor al Total Mujeres.\",\"\"))","v":""},{"$f":"IF(AND($D16>0,OR(Z16=\"\")),\" * No olvide digitar la variable Personas Mayores en ELEAM Hombres. Digite Cero si no tiene.\",IF(Z16>$D16,\" * La variable Personas Mayores en ELEAM Hombres no puede ser Mayor al Total Hombres.\",\"\"))","v":""},{"$f":"IF(AND($E16>0,OR(AA16=\"\")),\" * No olvide digitar la variable Personas Mayores en ELEAM Mujeres. Digite Cero si no tiene.\",IF(AA16>$E16,\" * La variable Personas Mayores en ELEAM Mujeres no puede ser Mayor al Total Mujeres.\",\"\"))","v":""},null,null,null,null,null,null,null,{"$f":"IF(AND(D16>0,OR(V16=\"\")),1,IF(V16>D16,1,0))","v":0},0,{"$f":"IF(AND($D16>0,OR(X16=\"\")),1,IF(X16>$D16,1,0))","v":0},{"$f":"IF(AND($E16>0,OR(Y16=\"\")),1,IF(Y16>$E16,1,0))","v":0},{"$f":"IF(AND($D16>0,OR(Z16=\"\")),1,IF(Z16>$D16,1,0))","v":0},{"$f":"IF(AND($E16>0,OR(AA16=\"\")),1,IF(AA16>$E16,1,0))","v":0}]
["Dependiente moderado ",null,0,{"$f":"+F17+H17+J17+L17+N17+P17+R17+T17","v":0},0,null,null,null,null,null,null,null,null,null,null,null,null,null,null,null,null,null,null,null,null,null,null,{"$f":"CB17&CC17&CD17&CE17&CF17&CG17","v":""},null,null,null,null,null,null,null,null,null,null,null,null,null,null,null,null,null,null,null,null,null,null,null,null,null,null,null,null,null,null,null,null,null,null,null,null,null,null,null,null,null,null,null,null,null,null,null,null,null,null,null,{"$f":"IF(AND(D17>0,OR(V17=\"\")),\" * No olvide digitar la variable Pueblos Originarios Hombres. Digite Cero si no tiene.\",IF(V17>D17,\" * La variable Pueblos Originarios Hombres no puede ser Mayor al Total Hombres.\",\"\"))","v":""},{"$f":"IF(AND(E17>0,OR(W17=\"\")),\" * No olvide digitar la variable Pueblos Originarios Mujeres. Digite Cero si no tiene.\",IF(W17>E17,\" * La variable Pueblos Originarios Mujeres no puede ser Mayor al Total Mujeres.\",\"\"))","v":""},{"$f":"IF(AND($D17>0,OR(X17=\"\")),\" * No olvide digitar la variable Migrantes Hombres. Digite Cero si no tiene.\",IF(X17>$D17,\" * La variable Migrantes Hombres no puede ser Mayor al Total Hombres.\",\"\"))","v":""},{"$f":"IF(AND($E17>0,OR(Y17=\"\")),\" * No olvide digitar la variable Migrantes Mujeres. Digite Cero si no tiene.\",IF(Y17>$E17,\" * La variable Migrantes Mujeres no puede ser Mayor al Total Mujeres.\",\"\"))","v":""},{"$f":"IF(AND($D17>0,OR(Z17=\"\")),\" * No olvide digitar la variable Personas Mayores en ELEAM Hombres. Digite Cero si no tiene.\",IF(Z17>$D17,\" * La variable Personas Mayores en ELEAM Hombres no puede ser Mayor al Total Hombres.\",\"\"))","v":""},{"$f":"IF(AND($E17>0,OR(AA17=\"\")),\" * No olvide digitar la variable Personas Mayores en ELEAM Mujeres. Digite Cero si no tiene.\",IF(AA17>$E17,\" * La variable Personas Mayores en ELEAM Mujeres no puede ser Mayor al Total Mujeres.\",\"\"))","v":""},null,null,null,null,null,null,null,0,0,{"$f":"IF(AND($D17>0,OR(X17=\"\")),1,IF(X17>$D17,1,0))","v":0},{"$f":"IF(AND($E17>0,OR(Y17=\"\")),1,IF(Y17>$E17,1,0))","v":0},{"$f":"IF(AND($D17>0,OR(Z17=\"\")),1,IF(Z17>$D17,1,0))","v":0},{"$f":"IF(AND($E17>0,OR(AA17=\"\")),1,IF(AA17>$E17,1,0))","v":0}]
["Dependiente grave ",null,0,0,0,null,null,null,null,null,null,null,null,null,null,null,null,null,null,null,null,null,null,null,null,null,null,{"$f":"CB18&CC18&CD18&CE18&CF18&CG18","v":""},null,null,null,null,null,null,null,null,null,null,null,null,null,null,null,null,null,null,null,null,null,null,null,null,null,null,null,null,null,null,null,null,null,null,null,null,null,null,null,null,null,null,null,null,null,null,null,null,null,null,null,{"$f":"IF(AND(D18>0,OR(V18=\"\")),\" * No olvide digitar la variable Pueblos Originarios Hombres. Digite Cero si no tiene.\",IF(V18>D18,\" * La variable Pueblos Originarios Hombres no puede ser Mayor al Total Hombres.\",\"\"))","v":""},{"$f":"IF(AND(E18>0,OR(W18=\"\")),\" * No olvide digitar la variable Pueblos Originarios Mujeres. Digite Cero si no tiene.\",IF(W18>E18,\" * La variable Pueblos Originarios Mujeres no puede ser Mayor al Total Mujeres.\",\"\"))","v":""},{"$f":"IF(AND($D18>0,OR(X18=\"\")),\" * No olvide digitar la variable Migrantes Hombres. Digite Cero si no tiene.\",IF(X18>$D18,\" * La variable Migrantes Hombres no puede ser Mayor al Total Hombres.\",\"\"))","v":""},{"$f":"IF(AND($E18>0,OR(Y18=\"\")),\" * No olvide digitar la variable Migrantes Mujeres. Digite Cero si no tiene.\",IF(Y18>$E18,\" * La variable Migrantes Mujeres no puede ser Mayor al Total Mujeres.\",\"\"))","v":""},{"$f":"IF(AND($D18>0,OR(Z18=\"\")),\" * No olvide digitar la variable Personas Mayores en ELEAM Hombres. Digite Cero si no tiene.\",IF(Z18>$D18,\" * La variable Personas Mayores en ELEAM Hombres no puede ser Mayor al Total Hombres.\",\"\"))","v":""},{"$f":"IF(AND($E18>0,OR(AA18=\"\")),\" * No olvide digitar la variable Personas Mayores en ELEAM Mujeres. Digite Cero si no tiene.\",IF(AA18>$E18,\" * La variable Personas Mayores en ELEAM Mujeres no puede ser Mayor al Total Mujeres.\",\"\"))","v":""},null,null,null,null,null,null,null,0,0,{"$f":"IF(AND($D18>0,OR(X18=\"\")),1,IF(X18>$D18,1,0))","v":0},{"$f":"IF(AND($E18>0,OR(Y18=\"\")),1,IF(Y18>$E18,1,0))","v":0},{"$f":"IF(AND($D18>0,OR(Z18=\"\")),1,IF(Z18>$D18,1,0))","v":0},{"$f":"IF(AND($E18>0,OR(AA18=\"\")),1,IF(AA18>$E18,1,0))","v":0}]
["Dependiente total",null,0,{"$f":"+F19+H19+J19+L19+N19+P19+R19+T19","v":0},0,null,null,null,null,null,null,null,null,null,null,null,null,null,null,null,null,null,null,null,null,null,null,{"$f":"CB19&CC19&CD19&CE19&CF19&CG19","v":""},null,null,null,null,null,null,null,null,null,null,null,null,null,null,null,null,null,null,null,null,null,null,null,null,null,null,null,null,null,null,null,null,null,null,null,null,null,null,null,null,null,null,null,null,null,null,null,null,null,null,null,{"$f":"IF(AND(D19>0,OR(V19=\"\")),\" * No olvide digitar la variable Pueblos Originarios Hombres. Digite Cero si no tiene.\",IF(V19>D19,\" * La variable Pueblos Originarios Hombres no puede ser Mayor al Total Hombres.\",\"\"))","v":""},{"$f":"IF(AND(E19>0,OR(W19=\"\")),\" * No olvide digitar la variable Pueblos Originarios Mujeres. Digite Cero si no tiene.\",IF(W19>E19,\" * La variable Pueblos Originarios Mujeres no puede ser Mayor al Total Mujeres.\",\"\"))","v":""},{"$f":"IF(AND($D19>0,OR(X19=\"\")),\" * No olvide digitar la variable Migrantes Hombres. Digite Cero si no tiene.\",IF(X19>$D19,\" * La variable Migrantes Hombres no puede ser Mayor al Total Hombres.\",\"\"))","v":""},{"$f":"IF(AND($E19>0,OR(Y19=\"\")),\" * No olvide digitar la variable Migrantes Mujeres. Digite Cero si no tiene.\",IF(Y19>$E19,\" * La variable Migrantes Mujeres no puede ser Mayor al Total Mujeres.\",\"\"))","v":""},{"$f":"IF(AND($D19>0,OR(Z19=\"\")),\" * No olvide digitar la variable Personas Mayores en ELEAM Hombres. Digite Cero si no tiene.\",IF(Z19>$D19,\" * La variable Personas Mayores en ELEAM Hombres no puede ser Mayor al Total Hombres.\",\"\"))","v":""},{"$f":"IF(AND($E19>0,OR(AA19=\"\")),\" * No olvide digitar la variable Personas Mayores en ELEAM Mujeres. Digite Cero si no tiene.\",IF(AA19>$E19,\" * La variable Personas Mayores en ELEAM Mujeres no puede ser Mayor al Total Mujeres.\",\"\"))","v":""},null,null,null,null,null,null,null,0,0,{"$f":"IF(AND($D19>0,OR(X19=\"\")),1,IF(X19>$D19,1,0))","v":0},{"$f":"IF(AND($E19>0,OR(Y19=\"\")),1,IF(Y19>$E19,1,0))","v":0},{"$f":"IF(AND($D19>0,OR(Z19=\"\")),1,IF(Z19>$D19,1,0))","v":0},{"$f":"IF(AND($E19>0,OR(AA19=\"\")),1,IF(AA19>$E19,1,0))","v":0}]
["SUBTOTAL (INDICE BARTHEL)",null,{"$f":"SUM(D20:E20)","v":0},{"$f":"+F20+H20+J20+L20+N20+P20+R20+T20","v":0},{"$f":"+G20+I20+K20+M20+O20+Q20+S20+U20","v":0},{"$f":"SUM(F16:F19)","v":0},{"$f":"SUM(G16:G19)","v":0},0,0,0,0,0,0,{"$f":"SUM(N16:N19)","v":0},0,{"$f":"SUM(P16:P19)","v":0},0,{"$f":"SUM(R16:R19)","v":0},0,0,0,{"$f":"SUM(V16:V19)","v":0},{"$f":"SUM(W16:W19)","v":0},0,{"$f":"SUM(Y16:Y19)","v":0},{"$f":"SUM(Z16:Z19)","v":0},{"$f":"SUM(AA16:AA19)","v":0}]
["TOTAL PERSONAS MAYORES EN CONTROL",null,0,{"$f":"+F21+H21+J21+L21+N21+P21+R21+T21","v":0},{"$f":"+G21+I21+K21+M21+O21+Q21+S21+U21","v":0},{"$f":"+F15+F20","v":0},{"$f":"+G15+G20","v":0},0,0,0,0,0,0,{"$f":"+N15+N20","v":0},0,{"$f":"+P15+P20","v":0},0,{"$f":"+R15+R20","v":0},0,0,0,{"$f":"+V15+V20","v":0},{"$f":"+W15+W20","v":0},0,{"$f":"+Y15+Y20","v":0},{"$f":"+Z15+Z20","v":0},{"$f":"+AA15+AA20","v":0}]
["SECCION A.1: EXISTENCIA DE POBLACIÓN EN CONTROL EN PROGRAMA \"MÁS ADULTOS MAYORES AUTOVALENTES\" POR CONDICIÓN DE FUNCIONALIDAD"]
["CONDICIÓN DE \nFUNCIONALIDAD",null,"TOTAL",null,null,"RANGO ETARIO Y SEXO",null,null,null,null,null,null,null,null,null,null,null,null,null,null,null,null,null,"Pueblos Originarios",null," Migrantes"]
[null,null,null,null,null,"60 a 64 años",null,"65 a 69 años",null,"70 a 74 años",null,"75 a 79 años",null,"80 a 84 años",null,"85 a 89 años",null,"90 a 94 años",null,"95 a 99 años",null,"100 y más años"]
[null,null,"Ambos\nsexos","Hombres","Mujeres","Hombres ","Mujeres","Hombres ","Mujeres","Hombres ","Mujeres","Hombres ","Mujeres","Hombres ","Mujeres","Hombres ","Mujeres","Hombres ","Mujeres","Hombres ","Mujeres","Hombres ","Mujeres","Hombres","Mujeres","Hombres","Mujeres"]
["Autovalente sin riesgo",null,{"$f":"SUM(D26:E26)","v":0},{"$f":"+F26+H26+J26+L26+N26+P26+R26+T26+V26","v":0},{"$f":"+G26+I26+K26+M26+O26+Q26+S26+U26+W26","v":0},null,null,null,null,null,null,null,null,null,null,null,null,null,null,null,null,null,null,null,null,null,null,{"$f":"CB26&CC26&CD26&CE26","v":""},null,null,null,null,null,null,null,null,null,null,null,null,null,null,null,null,null,null,null,null,null,null,null,null,null,null,null,null,null,null,null,null,null,null,null,null,null,null,null,null,null,null,null,null,null,null,null,null,null,null,null,{"$f":"IF(AND($D26>0,OR(X26=\"\")),\" * No olvide digitar la variable Pueblos Originarios Hombres. Digite Cero si no tiene.\",IF(X26>$D26,\" * La variable Pueblos Originarios Hombres no puede ser Mayor al Total Hombres.\",\"\"))","v":""},{"$f":"IF(AND($E26>0,OR(Y26=\"\")),\" * No olvide digitar la variable Pueblos Originarios Mujeres. Digite Cero si no tiene.\",IF(Y26>$E26,\" * La variable Pueblos Originarios Mujeres no puede ser Mayor al Total Mujeres.\",\"\"))","v":""},{"$f":"IF(AND($D26>0,OR(Z26=\"\")),\" * No olvide digitar la variable Pueblos Originarios Hombres. Digite Cero si no tiene.\",IF(Z26>$D26,\" * La variable Pueblos Originarios Hombres no puede ser Mayor al Total Hombres.\",\"\"))","v":""},{"$f":"IF(AND($E26>0,OR(AA26=\"\")),\" * No olvide digitar la variable Migrantes Mujeres. Digite Cero si no tiene.\",IF(AA26>$E26,\" * La variable Migrantes Mujeres no puede ser Mayor al Total Mujeres.\",\"\"))","v":""},null,null,null,null,null,null,null,null,null,{"$f":"IF(AND(D26>0,OR(X26=\"\")),1,IF(X26>D26,1,0))","v":0},{"$f":"IF(AND(E26>0,OR(Y26=\"\")),1,IF(Y26>E26,1,0))","v":0},{"$f":"IF(AND($D26>0,OR(Z26=\"\")),1,IF(Z26>$D26,1,0))","v":0},{"$f":"IF(AND($E26>0,OR(AA26=\"\")),1,IF(AA26>$E26,1,0))","v":0}]
["Autovalente con riesgo",null,{"$f":"SUM(D27:E27)","v":0},{"$f":"H27+J27+L27+N27+P27+R27+T27+V27","v":0},{"$f":"I27+K27+M27+O27+Q27+S27+U27+W27","v":0},null,null,null,null,null,null,null,null,null,null,null,null,null,null,null,null,null,null,null,null,null,null,{"$f":"CB27&CC27&CD27&CE27","v":""},null,null,null,null,null,null,null,null,null,null,null,null,null,null,null,null,null,null,null,null,null,null,null,null,null,null,null,null,null,null,null,null,null,null,null,null,null,null,null,null,null,null,null,null,null,null,null,null,null,null,null,{"$f":"IF(AND($D27>0,OR(X27=\"\")),\" * No olvide digitar la variable Pueblos Originarios Hombres. Digite Cero si no tiene.\",IF(X27>$D27,\" * La variable Pueblos Originarios Hombres no puede ser Mayor al Total Hombres.\",\"\"))","v":""},{"$f":"IF(AND($E27>0,OR(Y27=\"\")),\" * No olvide digitar la variable Pueblos Originarios Mujeres. Digite Cero si no tiene.\",IF(Y27>$E27,\" * La variable Pueblos Originarios Mujeres no puede ser Mayor al Total Mujeres.\",\"\"))","v":""},{"$f":"IF(AND($D27>0,OR(Z27=\"\")),\" * No olvide digitar la variable Pueblos Originarios Hombres. Digite Cero si no tiene.\",IF(Z27>$D27,\" * La variable Pueblos Originarios Hombres no puede ser Mayor al Total Hombres.\",\"\"))","v":""},{"$f":"IF(AND($E27>0,OR(AA27=\"\")),\" * No olvide digitar la variable Migrantes Mujeres. Digite Cero si no tiene.\",IF(AA27>$E27,\" * La variable Migrantes Mujeres no puede ser Mayor al Total Mujeres.\",\"\"))","v":""},null,null,null,null,null,null,null,null,null,{"$f":"IF(AND(D27>0,OR(X27=\"\")),1,IF(X27>D27,1,0))","v":0},0,{"$f":"IF(AND($D27>0,OR(Z27=\"\")),1,IF(Z27>$D27,1,0))","v":0},{"$f":"IF(AND($E27>0,OR(AA27=\"\")),1,IF(AA27>$E27,1,0))","v":0}]
["Riesgo de dependencia ",null,{"$f":"SUM(D28:E28)","v":0},{"$f":"H28+J28+L28+N28+P28+R28+T28+V28","v":0},{"$f":"I28+K28+M28+O28+Q28+S28+U28+W28","v":0},null,null,null,null,null,null,null,null,null,null,null,null,null,null,null,null,null,null,null,null,null,null,{"$f":"CB28&CC28&CD28&CE28","v":""},null,null,null,null,null,null,null,null,null,null,null,null,null,null,null,null,null,null,null,null,null,null,null,null,null,null,null,null,null,null,null,null,null,null,null,null,null,null,null,null,null,null,null,null,null,null,null,null,null,null,null,{"$f":"IF(AND($D28>0,OR(X28=\"\")),\" * No olvide digitar la variable Pueblos Originarios Hombres. Digite Cero si no tiene.\",IF(X28>$D28,\" * La variable Pueblos Originarios Hombres no puede ser Mayor al Total Hombres.\",\"\"))","v":""},"",{"$f":"IF(AND($D28>0,OR(Z28=\"\")),\" * No olvide digitar la variable Pueblos Originarios Hombres. Digite Cero si no tiene.\",IF(Z28>$D28,\" * La variable Pueblos Originarios Hombres no puede ser Mayor al Total Hombres.\",\"\"))","v":""},"",null,null,null,null,null,null,null,null,null,0,0,{"$f":"IF(AND($D28>0,OR(Z28=\"\")),1,IF(Z28>$D28,1,0))","v":0},{"$f":"IF(AND($E28>0,OR(AA28=\"\")),1,IF(AA28>$E28,1,0))","v":0}]
["TOTAL (EFAM)",null,{"$f":"SUM(D29:E29)","v":0},{"$f":"+F29+H29+J29+L29+N29+P29+R29+T29+V29","v":0},{"$f":"+G29+I29+K29+M29+O29+Q29+S29+U29+W29","v":0},{"$f":"SUM(F26)","v":0},{"$f":"SUM(G26)","v":0},{"$f":"SUM(H26:H28)","v":0},{"$f":"SUM(I26:I28)","v":0},0,0,0,0,0,0,{"$f":"SUM(P26:P28)","v":0},0,0,0,0,0,{"$f":"SUM(V26:V28)","v":0},0,{"$f":"SUM(X26:X28)","v":0},{"$f":"SUM(Y26:Y28)","v":0},{"$f":"SUM(Z26:Z28)","v":0},{"$f":"SUM(AA26:AA28)","v":0}]
["SECCION B: POBLACIÓN BAJO CONTROL POR ESTADO NUTRICIONAL"]
["ESTADO NUTRICIONAL",null,"TOTAL",null,null,"RANGO ETARIO Y SEXO",null,null,null,null,null,null,null,null,null,null,null,null,null,null,null,"Pueblos Originarios",null,"Migrantes",null,"Personas Mayores en ELEAM"]
[null,null,null,null,null,"65 a 69 años",null,"70 a 74 años",null,"75 a 79 años",null,"80 a 84 años",null,"85 a 89 años",null,"90 a 94 años",null,"95 a 99 años",null,"100 y más años"]
[null,null,"Ambos\nsexos","Hombres","Mujeres","Hombres ","Mujeres","Hombres ","Mujeres","Hombres ","Mujeres","Hombres","Mujeres","Hombres ","Mujeres","Hombres ","Mujeres","Hombres","Mujeres","Hombres","Mujeres","Hombres","Mujeres","Hombres","Mujeres","Hombres","Mujeres"]
["Bajo peso",null,{"$f":"SUM(D34:E34)","v":0},{"$f":"+F34+H34+J34+L34+N34+P34+R34+T34","v":0},{"$f":"+G34+I34+K34+M34+O34+Q34+S34+U34","v":0},null,null,null,null,null,null,null,null,null,null,null,null,null,null,null,null,null,null,null,null,null,null,{"$f":"CB34&CC34&CD34&CE34&CF34&CG34","v":""},null,null,null,null,null,null,null,null,null,null,null,null,null,null,null,null,null,null,null,null,null,null,null,null,null,null,null,null,null,null,null,null,null,null,null,null,null,null,null,null,null,null,null,null,null,null,null,null,null,null,null,{"$f":"IF(AND($D34>0,OR(V34=\"\")),\" * No olvide digitar la variable Pueblos Originarios Hombres. Digite Cero si no tiene.\",IF(V34>$D34,\" * La variable Pueblos Originarios Hombres no puede ser Mayor al Total Hombres.\",\"\"))","v":""},{"$f":"IF(AND($E34>0,OR(W34=\"\")),\" * No olvide digitar la variable Pueblos Originarios Mujeres. Digite Cero si no tiene.\",IF(W34>$E34,\" * La variable Pueblos Originarios Mujeres no puede ser Mayor al Total Mujeres.\",\"\"))","v":""},{"$f":"IF(AND($D34>0,OR(X34=\"\")),\" * No olvide digitar la variable Migrantes Hombres. Digite Cero si no tiene.\",IF(X34>$D34,\" * La variable Migrantes Hombres no puede ser Mayor al Total Hombres.\",\"\"))","v":""},{"$f":"IF(AND($E34>0,OR(Y34=\"\")),\" * No olvide digitar la variable Migrantes Mujeres. Digite Cero si no tiene.\",IF(Y34>$E34,\" * La variable Migrantes Mujeres no puede ser Mayor al Total Mujeres.\",\"\"))","v":""},{"$f":"IF(AND($D34>0,OR(Z34=\"\")),\" * No olvide digitar la variable Personas Mayores en ELEAM Hombres. Digite Cero si no tiene.\",IF(Z34>$D34,\" * La variable Personas Mayores en ELEAM Hombres no puede ser Mayor al Total Hombres.\",\"\"))","v":""},{"$f":"IF(AND($E34>0,OR(AA34=\"\")),\" * No olvide digitar la variable Personas Mayores en ELEAM Mujeres. Digite Cero si no tiene.\",IF(AA34>$E34,\" * La variable Personas Mayores en ELEAM Mujeres no puede ser Mayor al Total Mujeres.\",\"\"))","v":""},null,null,null,null,null,null,null,{"$f":"IF(AND(D34>0,OR(V34=\"\")),1,IF(V34>D34,1,0))","v":0},0,{"$f":"IF(AND($D34>0,OR(X34=\"\")),1,IF(X34>$D34,1,0))","v":0},{"$f":"IF(AND($E34>0,OR(Y34=\"\")),1,IF(Y34>$E34,1,0))","v":0},{"$f":"IF(AND($D34>0,OR(Z34=\"\")),1,IF(Z34>$D34,1,0))","v":0},{"$f":"IF(AND($E34>0,OR(AA34=\"\")),1,IF(AA34>$E34,1,0))","v":0}]
["Normal",null,{"$f":"SUM(D35:E35)","v":0},{"$f":"+F35+H35+J35+L35+N35+P35+R35+T35","v":0},{"$f":"+G35+I35+K35+M35+O35+Q35+S35+U35","v":0},null,null,null,null,null,null,null,null,null,null,null,null,null,null,null,null,null,null,null,null,null,null,{"$f":"CB35&CC35&CD35&CE35&CF35&CG35","v":""},null,null,null,null,null,null,null,null,null,null,null,null,null,null,null,null,null,null,null,null,null,null,null,null,null,null,null,null,null,null,null,null,null,null,null,null,null,null,null,null,null,null,null,null,null,null,null,null,null,null,null,{"$f":"IF(AND($D35>0,OR(V35=\"\")),\" * No olvide digitar la variable Pueblos Originarios Hombres. Digite Cero si no tiene.\",IF(V35>$D35,\" * La variable Pueblos Originarios Hombres no puede ser Mayor al Total Hombres.\",\"\"))","v":""},{"$f":"IF(AND($E35>0,OR(W35=\"\")),\" * No olvide digitar la variable Pueblos Originarios Mujeres. Digite Cero si no tiene.\",IF(W35>$E35,\" * La variable Pueblos Originarios Mujeres no puede ser Mayor al Total Mujeres.\",\"\"))","v":""},{"$f":"IF(AND($D35>0,OR(X35=\"\")),\" * No olvide digitar la variable Migrantes Hombres. Digite Cero si no tiene.\",IF(X35>$D35,\" * La variable Migrantes Hombres no puede ser Mayor al Total Hombres.\",\"\"))","v":""},{"$f":"IF(AND($E35>0,OR(Y35=\"\")),\" * No olvide digitar la variable Migrantes Mujeres. Digite Cero si no tiene.\",IF(Y35>$E35,\" * La variable Migrantes Mujeres no puede ser Mayor al Total Mujeres.\",\"\"))","v":""},{"$f":"IF(AND($D35>0,OR(Z35=\"\")),\" * No olvide digitar la variable Personas Mayores en ELEAM Hombres. Digite Cero si no tiene.\",IF(Z35>$D35,\" * La variable Personas Mayores en ELEAM Hombres no puede ser Mayor al Total Hombres.\",\"\"))","v":""},{"$f":"IF(AND($E35>0,OR(AA35=\"\")),\" * No olvide digitar la variable Personas Mayores en ELEAM Mujeres. Digite Cero si no tiene.\",IF(AA35>$E35,\" * La variable Personas Mayores en ELEAM Mujeres no puede ser Mayor al Total Mujeres.\",\"\"))","v":""},null,null,null,null,null,null,null,0,0,{"$f":"IF(AND($D35>0,OR(X35=\"\")),1,IF(X35>$D35,1,0))","v":0},{"$f":"IF(AND($E35>0,OR(Y35=\"\")),1,IF(Y35>$E35,1,0))","v":0},{"$f":"IF(AND($D35>0,OR(Z35=\"\")),1,IF(Z35>$D35,1,0))","v":0},{"$f":"IF(AND($E35>0,OR(AA35=\"\")),1,IF(AA35>$E35,1,0))","v":0}]
["Sobrepeso",null,{"$f":"SUM(D36:E36)","v":0},0,0,null,null,null,null,null,null,null,null,null,null,null,null,null,null,null,null,null,null,null,null,null,null,{"$f":"CB36&CC36&CD36&CE36&CF36&CG36","v":""},null,null,null,null,null,null,null,null,null,null,null,null,null,null,null,null,null,null,null,null,null,null,null,null,null,null,null,null,null,null,null,null,null,null,null,null,null,null,null,null,null,null,null,null,null,null,null,null,null,null,null,{"$f":"IF(AND($D36>0,OR(V36=\"\")),\" * No olvide digitar la variable Pueblos Originarios Hombres. Digite Cero si no tiene.\",IF(V36>$D36,\" * La variable Pueblos Originarios Hombres no puede ser Mayor al Total Hombres.\",\"\"))","v":""},{"$f":"IF(AND($E36>0,OR(W36=\"\")),\" * No olvide digitar la variable Pueblos Originarios Mujeres. Digite Cero si no tiene.\",IF(W36>$E36,\" * La variable Pueblos Originarios Mujeres no puede ser Mayor al Total Mujeres.\",\"\"))","v":""},{"$f":"IF(AND($D36>0,OR(X36=\"\")),\" * No olvide digitar la variable Migrantes Hombres. Digite Cero si no tiene.\",IF(X36>$D36,\" * La variable Migrantes Hombres no puede ser Mayor al Total Hombres.\",\"\"))","v":""},{"$f":"IF(AND($E36>0,OR(Y36=\"\")),\" * No olvide digitar la variable Migrantes Mujeres. Digite Cero si no tiene.\",IF(Y36>$E36,\" * La variable Migrantes Mujeres no puede ser Mayor al Total Mujeres.\",\"\"))","v":""},{"$f":"IF(AND($D36>0,OR(Z36=\"\")),\" * No olvide digitar la variable Personas Mayores en ELEAM Hombres. Digite Cero si no tiene.\",IF(Z36>$D36,\" * La variable Personas Mayores en ELEAM Hombres no puede ser Mayor al Total Hombres.\",\"\"))","v":""},{"$f":"IF(AND($E36>0,OR(AA36=\"\")),\" * No olvide digitar la variable Personas Mayores en ELEAM Mujeres. Digite Cero si no tiene.\",IF(AA36>$E36,\" * La variable Personas Mayores en ELEAM Mujeres no puede ser Mayor al Total Mujeres.\",\"\"))","v":""},null,null,null,null,null,null,null,0,0,{"$f":"IF(AND($D36>0,OR(X36=\"\")),1,IF(X36>$D36,1,0))","v":0},{"$f":"IF(AND($E36>0,OR(Y36=\"\")),1,IF(Y36>$E36,1,0))","v":0},{"$f":"IF(AND($D36>0,OR(Z36=\"\")),1,IF(Z36>$D36,1,0))","v":0},{"$f":"IF(AND($E36>0,OR(AA36=\"\")),1,IF(AA36>$E36,1,0))","v":0}]
["Obeso",null,{"$f":"SUM(D37:E37)","v":0},0,0,null,null,null,null,null,null,null,null,null,null,null,null,null,null,null,null,null,null,null,null,null,null,{"$f":"CB37&CC37&CD37&CE37&CF37&CG37","v":""},null,null,null,null,null,null,null,null,null,null,null,null,null,null,null,null,null,null,null,null,null,null,null,null,null,null,null,null,null,null,null,null,null,null,null,null,null,null,null,null,null,null,null,null,null,null,null,null,null,null,null,{"$f":"IF(AND($D37>0,OR(V37=\"\")),\" * No olvide digitar la variable Pueblos Originarios Hombres. Digite Cero si no tiene.\",IF(V37>$D37,\" * La variable Pueblos Originarios Hombres no puede ser Mayor al Total Hombres.\",\"\"))","v":""},{"$f":"IF(AND($E37>0,OR(W37=\"\")),\" * No olvide digitar la variable Pueblos Originarios Mujeres. Digite Cero si no tiene.\",IF(W37>$E37,\" * La variable Pueblos Originarios Mujeres no puede ser Mayor al Total Mujeres.\",\"\"))","v":""},{"$f":"IF(AND($D37>0,OR(X37=\"\")),\" * No olvide digitar la variable Migrantes Hombres. Digite Cero si no tiene.\",IF(X37>$D37,\" * La variable Migrantes Hombres no puede ser Mayor al Total Hombres.\",\"\"))","v":""},{"$f":"IF(AND($E37>0,OR(Y37=\"\")),\" * No olvide digitar la variable Migrantes Mujeres. Digite Cero si no tiene.\",IF(Y37>$E37,\" * La variable Migrantes Mujeres no puede ser Mayor al Total Mujeres.\",\"\"))","v":""},{"$f":"IF(AND($D37>0,OR(Z37=\"\")),\" * No olvide digitar la variable Personas Mayores en ELEAM Hombres. Digite Cero si no tiene.\",IF(Z37>$D37,\" * La variable Personas Mayores en ELEAM Hombres no puede ser Mayor al Total Hombres.\",\"\"))","v":""},{"$f":"IF(AND($E37>0,OR(AA37=\"\")),\" * No olvide digitar la variable Personas Mayores en ELEAM Mujeres. Digite Cero si no tiene.\",IF(AA37>$E37,\" * La variable Personas Mayores en ELEAM Mujeres no puede ser Mayor al Total Mujeres.\",\"\"))","v":""},null,null,null,null,null,null,null,0,0,{"$f":"IF(AND($D37>0,OR(X37=\"\")),1,IF(X37>$D37,1,0))","v":0},{"$f":"IF(AND($E37>0,OR(Y37=\"\")),1,IF(Y37>$E37,1,0))","v":0},{"$f":"IF(AND($D37>0,OR(Z37=\"\")),1,IF(Z37>$D37,1,0))","v":0},{"$f":"IF(AND($E37>0,OR(AA37=\"\")),1,IF(AA37>$E37,1,0))","v":0}]
["TOTAL ",null,{"$f":"SUM(D38:E38)","v":0},{"$f":"+F38+H38+J38+L38+N38+P38+R38+T38","v":0},{"$f":"+G38+I38+K38+M38+O38+Q38+S38+U38","v":0},{"$f":"SUM(F34:F37)","v":0},{"$f":"SUM(G34:G37)","v":0},0,0,{"$f":"SUM(J34:J37)","v":0},0,0,0,0,0,{"$f":"SUM(P34:P37)","v":0},0,0,0,0,0,{"$f":"SUM(V34:V37)","v":0},{"$f":"SUM(W34:W37)","v":0},0,0,{"$f":"SUM(Z34:Z37)","v":0},0]
["SECCION C: PERSONAS MAYORES CON SOSPECHA DE MALTRATO"]
["CONCEPTO",null,"TOTAL",null,null,"RANGO ETARIO Y SEXO",null,null,null,null,null,null,null,null,null,null,null,null,null,null,null,"Pueblos Originarios",null,"Migrantes",null,"Personas Mayores en ELEAM"]
[null,null,null,null,null,"65 a 69 años",null,"70 a 74 años",null,"75 a 79 años",null,"80 a 84 años",null,"85 a 89 años",null,"90 a 94 años",null,"95 a 99 años",null,"100 y más años"]
[null,null,"Ambos\nsexos","Hombres","Mujeres","Hombres ","Mujeres","Hombres ","Mujeres","Hombres ","Mujeres","Hombres","Mujeres","Hombres","Mujeres","Hombres","Mujeres","Hombres","Mujeres","Hombres","Mujeres","Hombres","Mujeres","Hombres","Mujeres","Hombres","Mujeres"]
["Personas con sospecha de maltrato",null,{"$f":"SUM(D43:E43)","v":0},{"$f":"+F43+H43+J43+L43+N43+P43+R43+T43","v":0},{"$f":"+G43+I43+K43+M43+O43+Q43+S43+U43","v":0},null,null,null,null,null,null,null,null,null,null,null,null,null,null,null,null,null,null,null,null,null,null,{"$f":"CA43&CB43&CC43&CD43&CE43&CF43&CG43","v":""},null,null,null,null,null,null,null,null,null,null,null,null,null,null,null,null,null,null,null,null,null,null,null,null,null,null,null,null,null,null,null,null,null,null,null,null,null,null,null,null,null,null,null,null,null,null,null,null,null,null,{"$f":"IF(C43>C21,\"* Total de personas mayores con sospecha de maltrato no puede ser mayor al Total de Personas Mayores en Control de la sección A. \",\"\")","v":""},{"$f":"IF(AND($D43>0,OR(V43=\"\")),\" * No olvide digitar la variable Pueblos Originarios Hombres. Digite Cero si no tiene.\",IF(V43>$D43,\" * La variable Pueblos Originarios Hombres no puede ser Mayor al Total Hombres.\",\"\"))","v":""},{"$f":"IF(AND($E43>0,OR(W43=\"\")),\" * No olvide digitar la variable Pueblos Originarios Mujeres. Digite Cero si no tiene.\",IF(W43>$E43,\" * La variable Pueblos Originarios Mujeres no puede ser Mayor al Total Mujeres.\",\"\"))","v":""},{"$f":"IF(AND($D43>0,OR(X43=\"\")),\" * No olvide digitar la variable Migrantes Hombres. Digite Cero si no tiene.\",IF(X43>$D43,\" * La variable Migrantes Hombres no puede ser Mayor al Total Hombres.\",\"\"))","v":""},{"$f":"IF(AND($E43>0,OR(Y43=\"\")),\" * No olvide digitar la variable Migrantes Mujeres. Digite Cero si no tiene.\",IF(Y43>$E43,\" * La variable Migrantes Mujeres no puede ser Mayor al Total Mujeres.\",\"\"))","v":""},{"$f":"IF(AND($D43>0,OR(Z43=\"\")),\" * No olvide digitar la variable Personas Mayores en ELEAM Hombres. Digite Cero si no tiene.\",IF(Z43>$D43,\" * La variable Personas Mayores en ELEAM Hombres no puede ser Mayor al Total Hombres.\",\"\"))","v":""},{"$f":"IF(AND($E43>0,OR(AA43=\"\")),\" * No olvide digitar la variable Personas Mayores en ELEAM Mujeres. Digite Cero si no tiene.\",IF(AA43>$E43,\" * La variable Personas Mayores en ELEAM Mujeres no puede ser Mayor al Total Mujeres.\",\"\"))","v":""},null,null,null,null,null,null,{"$f":"IF(C43>C21,1,0)","v":0},{"$f":"IF(AND(D43>0,OR(V43=\"\")),1,IF(V43>D43,1,0))","v":0},{"$f":"IF(AND(E43>0,OR(W43=\"\")),1,IF(W43>E43,1,0))","v":0},{"$f":"IF(AND($D43>0,OR(X43=\"\")),1,IF(X43>$D43,1,0))","v":0},{"$f":"IF(AND($E43>0,OR(Y43=\"\")),1,IF(Y43>$E43,1,0))","v":0},{"$f":"IF(AND($D43>0,OR(Z43=\"\")),1,IF(Z43>$D43,1,0))","v":0},{"$f":"IF(AND($E43>0,OR(AA43=\"\")),1,IF(AA43>$E43,1,0))","v":0}]
["SECCION D: PERSONAS MAYORES EN ACTIVIDAD FÍSICA "]
["CONCEPTO",null,"TOTAL",null,null,"RANGO ETARIO Y SEXO",null,null,null,null,null,null,null,null,null,null,null,null,null,null,null,"Pueblos Originarios",null,"Migrantes",null,"Personas Mayores en ELEAM"]
[null,null,null,null,null,"65 a 69 años",null,"70 a 74 años",null,"75 a 79 años",null,"80 a 84 años",null,"85 a 89 años",null,"90 a 94 años",null,"95 a 99 años",null,"100 y más años"]
[null,null,"Ambos\nsexos","Hombres","Mujeres","Hombres ","Mujeres","Hombres ","Mujeres","Hombres ","Mujeres","Hombres","Mujeres","Hombres","Mujeres","Hombres","Mujeres","Hombres","Mujeres","Hombres","Mujeres","Hombres","Mujeres","Hombres","Mujeres","Hombres","Mujeres"]
["Persons en actividad física  ",null,{"$f":"SUM(D48:E48)","v":0},{"$f":"+F48+H48+J48+L48+N48+P48+R48+T48","v":0},{"$f":"+G48+I48+K48+M48+O48+Q48+S48+U48","v":0},null,null,null,null,null,null,null,null,null,null,null,null,null,null,null,null,null,null,null,null,null,null,{"$f":"CA48&CB48&CC48&CD48&CE48&CF48&CG48","v":""},null,null,null,null,null,null,null,null,null,null,null,null,null,null,null,null,null,null,null,null,null,null,null,null,null,null,null,null,null,null,null,null,null,null,null,null,null,null,null,null,null,null,null,null,null,null,null,null,null,null,{"$f":"IF($C$48<=$C$15,\"\",\"* Los Adultos Mayores en actividad física no pueden ser mayor que el SUBTOTAL (EFAM) de Autovalentes sin/con Riesgo y Riesgo de Dependencia de la Sección A. \")","v":""},{"$f":"IF(AND($D48>0,OR(V48=\"\")),\" * No olvide digitar la variable Pueblos Originarios Hombres. Digite Cero si no tiene.\",IF(V48>$D48,\" * La variable Pueblos Originarios Hombres no puede ser Mayor al Total Hombres.\",\"\"))","v":""},{"$f":"IF(AND($E48>0,OR(W48=\"\")),\" * No olvide digitar la variable Pueblos Originarios Mujeres. Digite Cero si no tiene.\",IF(W48>$E48,\" * La variable Pueblos Originarios Mujeres no puede ser Mayor al Total Mujeres.\",\"\"))","v":""},{"$f":"IF(AND($D48>0,OR(X48=\"\")),\" * No olvide digitar la variable Migrantes Hombres. Digite Cero si no tiene.\",IF(X48>$D48,\" * La variable Migrantes Hombres no puede ser Mayor al Total Hombres.\",\"\"))","v":""},{"$f":"IF(AND($E48>0,OR(Y48=\"\")),\" * No olvide digitar la variable Migrantes Mujeres. Digite Cero si no tiene.\",IF(Y48>$E48,\" * La variable Migrantes Mujeres no puede ser Mayor al Total Mujeres.\",\"\"))","v":""},{"$f":"IF(AND($D48>0,OR(Z48=\"\")),\" * No olvide digitar la variable Personas Mayores en ELEAM Hombres. Digite Cero si no tiene.\",IF(Z48>$D48,\" * La variable Personas Mayores en ELEAM Hombres no puede ser Mayor al Total Hombres.\",\"\"))","v":""},{"$f":"IF(AND($E48>0,OR(AA48=\"\")),\" * No olvide digitar la variable Personas Mayores en ELEAM Mujeres. Digite Cero si no tiene.\",IF(AA48>$E48,\" * La variable Personas Mayores en ELEAM Mujeres no puede ser Mayor al Total Mujeres.\",\"\"))","v":""},null,null,null,null,null,null,{"$f":"IF($C$48<=$C$15,0,1)","v":0},{"$f":"IF(AND(D48>0,OR(V48=\"\")),1,IF(V48>D48,1,0))","v":0},{"$f":"IF(AND(E48>0,OR(W48=\"\")),1,IF(W48>E48,1,0))","v":0},{"$f":"IF(AND($D48>0,OR(X48=\"\")),1,IF(X48>$D48,1,0))","v":0},{"$f":"IF(AND($E48>0,OR(Y48=\"\")),1,IF(Y48>$E48,1,0))","v":0},{"$f":"IF(AND($D48>0,OR(Z48=\"\")),1,IF(Z48>$D48,1,0))","v":0},{"$f":"IF(AND($E48>0,OR(AA48=\"\")),1,IF(AA48>$E48,1,0))","v":0}]
["SECCION E: PERSONAS MAYORES CON RIESGO DE CAÍDAS"]
["INSTRUMENTO DE EVALUACIÓN","TIPO DE RIESGO","TOTAL",null,null,"RANGO ETARIO Y SEXO",null,null,null,null,null,null,null,null,null,null,null,null,null,null,null,"Pueblos Originarios",null,"Migrantes",null,"Personas Mayores en ELEAM"]
[null,null,null,null,null,"65 a 69 años",null,"70 a 74 años",null,"75 a 79 años",null,"80 a 84 años",null,"85 a 89 años",null,"90 a 94 años",null,"95 a 99 años",null,"100 y más años"]
[null,null,"Ambos\nsexos","Hombres","Mujeres","Hombres ","Mujeres","Hombres ","Mujeres","Hombres ","Mujeres","Hombres","Mujeres","Hombres","Mujeres","Hombres","Mujeres","Hombres","Mujeres","Hombres","Mujeres","Hombres","Mujeres","Hombres","Mujeres","Hombres","Mujeres"]
["Timed up and go","Normal",{"$f":"SUM(D53:E53)","v":0},{"$f":"+F53+H53+J53+L53+N53+P53+R53+T53","v":0},{"$f":"+G53+I53+K53+M53+O53+Q53+S53+U53","v":0},null,null,null,null,null,null,null,null,null,null,null,null,null,null,null,null,null,null,null,null,null,null,{"$f":"CA53&CB53&CC53&CD53&CE53&CF53&CG53","v":""},null,null,null,null,null,null,null,null,null,null,null,null,null,null,null,null,null,null,null,null,null,null,null,null,null,null,null,null,null,null,null,null,null,null,null,null,null,null,null,null,null,null,null,null,null,null,null,null,null,null,null,{"$f":"IF(AND($D53>0,OR(V53=\"\")),\" * No olvide digitar la variable Pueblos Originarios Hombres. Digite Cero si no tiene.\",IF(V53>$D53,\" * La variable Pueblos Originarios Hombres no puede ser Mayor al Total Hombres.\",\"\"))","v":""},{"$f":"IF(AND($E53>0,OR(W53=\"\")),\" * No olvide digitar la variable Pueblos Originarios Mujeres. Digite Cero si no tiene.\",IF(W53>$E53,\" * La variable Pueblos Originarios Mujeres no puede ser Mayor al Total Mujeres.\",\"\"))","v":""},{"$f":"IF(AND($D53>0,OR(X53=\"\")),\" * No olvide digitar la variable Migrantes Hombres. Digite Cero si no tiene.\",IF(X53>$D53,\" * La variable Migrantes Hombres no puede ser Mayor al Total Hombres.\",\"\"))","v":""},{"$f":"IF(AND($E53>0,OR(Y53=\"\")),\" * No olvide digitar la variable Migrantes Mujeres. Digite Cero si no tiene.\",IF(Y53>$E53,\" * La variable Migrantes Mujeres no puede ser Mayor al Total Mujeres.\",\"\"))","v":""},{"$f":"IF(AND($D53>0,OR(Z53=\"\")),\" * No olvide digitar la variable Personas Mayores en ELEAM Hombres. Digite Cero si no tiene.\",IF(Z53>$D53,\" * La variable Personas Mayores en ELEAM Hombres no puede ser Mayor al Total Hombres.\",\"\"))","v":""},{"$f":"IF(AND($E53>0,OR(AA53=\"\")),\" * No olvide digitar la variable Personas Mayores en ELEAM Mujeres. Digite Cero si no tiene.\",IF(AA53>$E53,\" * La variable Personas Mayores en ELEAM Mujeres no puede ser Mayor al Total Mujeres.\",\"\"))","v":""},null,null,null,null,null,null,{"$f":"IF($C$48<=$C$15,0,1)","v":0},{"$f":"IF(AND(D53>0,OR(V53=\"\")),1,IF(V53>D53,1,0))","v":0},{"$f":"IF(AND(E53>0,OR(W53=\"\")),1,IF(W53>E53,1,0))","v":0},{"$f":"IF(AND($D53>0,OR(X53=\"\")),1,IF(X53>$D53,1,0))","v":0},{"$f":"IF(AND($E53>0,OR(Y53=\"\")),1,IF(Y53>$E53,1,0))","v":0},{"$f":"IF(AND($D53>0,OR(Z53=\"\")),1,IF(Z53>$D53,1,0))","v":0},{"$f":"IF(AND($E53>0,OR(AA53=\"\")),1,IF(AA53>$E53,1,0))","v":0}]
[null,"Leve",{"$f":"SUM(D54:E54)","v":0},{"$f":"+F54+H54+J54+L54+N54+P54+R54+T54","v":0},{"$f":"+G54+I54+K54+M54+O54+Q54+S54+U54","v":0},null,null,null,null,null,null,null,null,null,null,null,null,null,null,null,null,null,null,null,null,null,null,{"$f":"CA54&CB54&CC54&CD54&CE54&CF54&CG54","v":""},null,null,null,null,null,null,null,null,null,null,null,null,null,null,null,null,null,null,null,null,null,null,null,null,null,null,null,null,null,null,null,null,null,null,null,null,null,null,null,null,null,null,null,null,null,null,null,null,null,null,null,{"$f":"IF(AND($D54>0,OR(V54=\"\")),\" * No olvide digitar la variable Pueblos Originarios Hombres. Digite Cero si no tiene.\",IF(V54>$D54,\" * La variable Pueblos Originarios Hombres no puede ser Mayor al Total Hombres.\",\"\"))","v":""},{"$f":"IF(AND($E54>0,OR(W54=\"\")),\" * No olvide digitar la variable Pueblos Originarios Mujeres. Digite Cero si no tiene.\",IF(W54>$E54,\" * La variable Pueblos Originarios Mujeres no puede ser Mayor al Total Mujeres.\",\"\"))","v":""},{"$f":"IF(AND($D54>0,OR(X54=\"\")),\" * No olvide digitar la variable Migrantes Hombres. Digite Cero si no tiene.\",IF(X54>$D54,\" * La variable Migrantes Hombres no puede ser Mayor al Total Hombres.\",\"\"))","v":""},{"$f":"IF(AND($E54>0,OR(Y54=\"\")),\" * No olvide digitar la variable Migrantes Mujeres. Digite Cero si no tiene.\",IF(Y54>$E54,\" * La variable Migrantes Mujeres no puede ser Mayor al Total Mujeres.\",\"\"))","v":""},{"$f":"IF(AND($D54>0,OR(Z54=\"\")),\" * No olvide digitar la variable Personas Mayores en ELEAM Hombres. Digite Cero si no tiene.\",IF(Z54>$D54,\" * La variable Personas Mayores en ELEAM Hombres no puede ser Mayor al Total Hombres.\",\"\"))","v":""},{"$f":"IF(AND($E54>0,OR(AA54=\"\")),\" * No olvide digitar la variable Personas Mayores en ELEAM Mujeres. Digite Cero si no tiene.\",IF(AA54>$E54,\" * La variable Personas Mayores en ELEAM Mujeres no puede ser Mayor al Total Mujeres.\",\"\"))","v":""},null,null,null,null,null,null,0,0,0,0,{"$f":"IF(AND($E54>0,OR(Y54=\"\")),1,IF(Y54>$E54,1,0))","v":0},0,0]
[null,"Alto",{"$f":"SUM(D55:E55)","v":0},{"$f":"+F55+H55+J55+L55+N55+P55+R55+T55","v":0},0,null,null,null,null,null,null,null,null,null,null,null,null,null,null,null,null,null,null,null,null,null,null,"",null,null,null,null,null,null,null,null,null,null,null,null,null,null,null,null,null,null,null,null,null,null,null,null,null,null,null,null,null,null,null,null,null,null,null,null,null,null,null,null,null,null,null,null,null,null,null,null,null,null,{"$f":"IF(SUM($C53:$C55)>$C15,\"* La suma de adultos mayores con Riesgo de caída TIMED UP AND GO deben ser menor o igual al SUBTOTAL (EFAM) de la sección A. \",\"\")","v":""},{"$f":"IF(AND($D55>0,OR(V55=\"\")),\" * No olvide digitar la variable Pueblos Originarios Hombres. Digite Cero si no tiene.\",IF(V55>$D55,\" * La variable Pueblos Originarios Hombres no puede ser Mayor al Total Hombres.\",\"\"))","v":""},"","","","","",null,null,null,null,null,{"$f":"IF(SUM($C53:$C55)>$C15,1,0)","v":0},0,0,0,0,0,0,0]
["Estación unipodal","Normal ",{"$f":"SUM(D56:E56)","v":0},{"$f":"+F56+H56+J56+L56+N56+P56+R56+T56","v":0},0,null,null,null,null,null,null,null,null,null,null,null,null,null,null,null,null,null,null,null,null,null,null,"",null,null,null,null,null,null,null,null,null,null,null,null,null,null,null,null,null,null,null,null,null,null,null,null,null,null,null,null,null,null,null,null,null,null,null,null,null,null,null,null,null,null,null,null,null,null,null,null,null,null,null,"","","","","","",null,null,null,null,null,null,0,0,0,0,0,0,0]
[null,"Alterado",{"$f":"SUM(D57:E57)","v":0},{"$f":"+F57+H57+J57+L57+N57+P57+R57+T57","v":0},0,null,null,null,null,null,null,null,null,null,null,null,null,null,null,null,null,null,null,null,null,null,null,{"$f":"CA57&CB57&CC57&CD57&CE57&CF57&CG57","v":""},null,null,null,null,null,null,null,null,null,null,null,null,null,null,null,null,null,null,null,null,null,null,null,null,null,null,null,null,null,null,null,null,null,null,null,null,null,null,null,null,null,null,null,null,null,null,null,null,null,null,null,"","","","","","",null,null,null,null,null,null,0,0,0,0,0,0,0]
[]
[]
[]
[]
[]
[]
[]
[]
[]
[]
[]
[]
[]
[]
[]
[]
[]
[]
[]
[]
[]
[]
[]
[{"$f":"SUM(C12:C14,C16:C19, C26:C28,C34:C37,C43:C43,C48:C48,C53:C57)","v":0},"datos"]
[{"$f":"SUM(CM12:CT57)","v":0},"errores"]

{"sheet":"P6","index":6,"n_rows":147,"n_cols":102,"rows_kept":147,"cut":false,"hidden":false,"merged":[[10,91,11,91],[10,97,11,97],[10,98,11,98],[10,92,11,92],[10,99,11,99],[10,100,10,101],[10,78,11,78],[10,79,11,79],[10,80,10,81],[10,82,10,83],[10,84,11,84],[10,87,10,88],[10,93,10,94],[10,95,10,96],[118,0,118,1],[109,0,109,1],[14,0,15,0],[78,0,79,0],[76,0,77,0],[60,29,60,30],[60,17,60,18],[60,19,60,20],[10,21,10,22],[20,0,20,1],[65,5,65,14],[66,5,66,6],[66,7,66,8],[66,9,66,10],[72,11,72,12],[72,13,72,14],[60,11,60,12],[60,13,60,14],[80,0,81,0],[75,0,75,1],[65,0,67,1],[59,2,60,4],[46,0,46,1],[12,0,12,1],[13,0,13,1],[18,0,19,0],[21,0,22,0],[49,0,49,1],[50,0,50,1],[48,0,48,1],[51,0,55,0],[59,0,61,0],[59,1,61,1],[57,0,57,1],[23,0,23,1],[29,0,33,0],[34,0,37,0],[43,0,45,0],[38,0,42,0],[24,0,28,0],[65,2,66,4],[16,0,17,0],[68,0,68,1],[74,0,74,1],[72,9,72,10],[70,0,70,14],[71,0,73,1],[71,2,72,4],[121,1,123,1],[96,0,99,0],[85,0,85,1],[91,0,95,0],[105,0,107,0],[110,0,110,1],[112,0,112,1],[86,0,90,0],[100,0,104,0],[119,0,119,1],[121,0,123,0],[113,0,117,0],[111,0,111,1],[108,0,108,1],[83,0,84,0],[121,2,122,4],[6,0,6,20],[8,7,8,8],[8,9,8,10],[8,11,8,12],[9,0,11,1],[9,2,10,4],[8,0,8,6],[8,13,8,14],[8,15,8,16],[8,17,8,18],[9,5,9,38],[10,19,10,20],[8,19,8,20],[10,11,10,12],[8,21,8,22],[8,23,8,24],[10,35,10,36],[10,29,10,30],[10,31,10,32],[10,33,10,34],[8,31,8,32],[8,37,8,38],[10,37,10,38],[10,15,10,16],[60,33,60,34],[122,13,122,14],[65,15,66,16],[71,5,71,38],[122,11,122,12],[122,15,122,16],[122,17,122,18],[122,37,122,38],[122,25,122,26],[122,27,122,28],[122,29,122,30],[122,31,122,32],[122,33,122,34],[122,35,122,36],[72,27,72,28],[121,5,121,38],[122,23,122,24],[122,7,122,8],[122,5,122,6],[122,9,122,10],[72,5,72,6],[72,7,72,8],[72,35,72,36],[72,29,72,30],[10,9,10,10],[72,17,72,18],[72,15,72,16],[72,23,72,24],[72,19,72,20],[10,5,10,6],[10,7,10,8],[60,15,60,16],[60,31,60,32],[66,11,66,12],[122,19,122,20],[122,21,122,22],[71,48,72,49],[71,45,73,45],[10,86,11,86],[10,85,11,85],[9,40,11,40],[8,35,8,36],[60,35,60,36],[72,31,72,32],[72,25,72,26],[72,33,72,34],[72,37,72,38],[72,21,72,22],[71,46,73,46],[8,27,8,28],[8,25,8,26],[8,29,8,30],[8,33,8,34],[59,5,59,38],[60,5,60,6],[60,7,60,8],[60,9,60,10],[60,37,60,38],[10,123,11,123],[72,123,73,123],[66,13,66,14],[9,48,10,49],[9,39,11,39],[9,45,11,45],[9,43,10,44],[9,47,11,47],[10,27,10,28],[10,23,10,24],[10,17,10,18],[60,21,60,22],[9,46,11,46],[9,41,10,42],[60,23,60,24],[60,25,60,26],[60,27,60,28],[10,25,10,26],[71,43,72,44],[71,39,73,39],[71,40,73,40],[71,41,72,42],[71,47,73,47],[10,13,10,14]]}
["DATOS DEL ESTABLECIMIENTO"]
[{"$f":"CONCATENATE(\"COMUNA: \",NOMBRE!$B$2,\"   \",\"( \",NOMBRE!$C$2,NOMBRE!$D$2,NOMBRE!$E$2,NOMBRE!$F$2,NOMBRE!$G$2,\" )\")","v":"COMUNA:    (  )"}]
[{"$f":"CONCATENATE(\"ESTABLECIMIENTO/ESTRATEGIA: \",NOMBRE!$B$3,\"   \",\"( \",NOMBRE!$C$3,NOMBRE!$D$3,NOMBRE!$E$3,NOMBRE!$F$3,NOMBRE!$G$3,NOMBRE!$H$3,\" )\")","v":"ESTABLECIMIENTO/ESTRATEGIA:    (  )"}]
[{"$f":"CONCATENATE(\"MES: \",NOMBRE!$B$6,\"   \",\"( \",NOMBRE!$C$6,NOMBRE!$D$6,\" )\")","v":"MES:    (  )"}]
[{"$f":"CONCATENATE(\"AÑO: \",NOMBRE!$B$7)","v":"AÑO: 2026"}]
[]
["REM-P6. POBLACIÓN EN CONTROL PROGRAMA DE SALUD MENTAL EN ATENCIÓN PRIMARIA Y ESPECIALIDAD"]
["A. ATENCIÓN PRIMARIA"]
["SECCION A.1: POBLACIÓN EN CONTROL EN APS AL CORTE"]
["CONCEPTO",null,"T O T A L",null,null,"RANGO ETARIO Y SEXO",null,null,null,null,null,null,null,null,null,null,null,null,null,null,null,null,null,null,null,null,null,null,null,null,null,null,null,null,null,null,null,null,null,"Gestantes","Madre de Hijo menor de 5 años ","Pueblos Originarios",null," Migrantes",null,"SENAME/ Servicio Nacional de Reinserción social Juvenil ","Servicio Nacional Protección Especializada a la Niñez y Adolescencia","Plan Cuidado Integral Elaborado","TRANS "]
[null,null,null,null,null,"0 a 4 años",null,"5 a 9 años",null,"10 a 14 años",null,"15 a 19 años",null,"20 a 24 años",null,"25 a 29 años",null,"30 a 34 años",null,"35 a 39 años",null,"40 a 44 años",null,"45 a 49 años",null,"50 a 54 años",null,"55 a 59 años",null,"60 a 64 años",null,"65 a 69 años",null,"70 a 74 años",null,"75 a 79 años",null,"80 y más años",null,null,null,null,null,null,null,null,null,null,null,null,null,null,null,null,null,null,null,null,null,null,null,null,null,null,null,null,null,null,null,null,null,null,null,null,null,null,null,null,"Gestantes","Madre de hijos","Pueblos originarios",null,"Poblacion Migrantes",null,"Niños y niñas SENAME","Niños y niñas Mejor Niñez","Plan Cuidado Integral Elaborado","Trans",null,null,null,"Gestantes","Madre de hijos","Pueblos originarios",null,"Poblacion Migrantes",null,"Niños y niñas SENAME","Niños y niñas Mejor Niñez","Plan Cuidado Integral Elaborado","TRANS"]
[null,null,"Ambos sexos","Hombres","Mujeres","Hombres","Mujeres","Hombres","Mujeres","Hombres","Mujeres","Hombres","Mujeres","Hombres","Mujeres","Hombres","Mujeres","Hombres","Mujeres","Hombres","Mujeres","Hombres","Mujeres","Hombres","Mujeres","Hombres","Mujeres","Hombres","Mujeres","Hombres","Mujeres","Hombres ","Mujeres","Hombres ","Mujeres","Hombres ","Mujeres","Hombres","Mujeres",null,null,"Hombres","Mujeres","Hombres","Mujeres",null,null,null,"Masculino","Femenino ",null,null,null,null,null,null,null,null,null,null,null,null,null,null,null,null,null,null,null,null,null,null,null,null,null,null,null,null,null,null,"Hombres","Mujeres","Hombres","Mujeres",null,null,null,"Masculino","Femenino",null,null,null,null,"Hombres","Mujeres","Hombres","Mujeres",null,null,null,"Masculino","Femenino"]
["Número de personas en control en el programa",null,{"$f":"SUM(D13:E13)","v":0},{"$f":"+F13+H13+J13+L13+N13+P13+R13+T13+V13+X13+Z13+AB13+AD13+AF13+AH13+AJ13+AL13","v":0},{"$f":"+G13+I13+K13+M13+O13+Q13+S13+U13+W13+Y13+AA13+AC13+AE13+AG13+AI13+AK13+AM13","v":0},null,null,null,null,null,null,null,null,null,null,null,null,null,null,null,null,null,null,null,null,null,null,null,null,null,null,null,null,null,null,null,null,null,null,null,null,null,null,null,null,null,null,null,null,null,{"$f":"CA13&CB13&CC13&CD13&CE13&CF13&CG13&CH13&CI13&CJ13&CK13","v":""},null,null,null,null,null,null,null,null,null,null,null,null,null,null,null,null,null,null,null,null,null,null,null,null,null,null,null,{"$f":"IF(AND(E13>0,OR(AN13=\"\")),\" * No olvide digitar la variable Gestantes. Digite Cero si no tiene.\",IF(AN13>E13,\" * La variable Gestante no puede ser Mayor al Total Mujeres.\",\"\"))","v":""},{"$f":"IF(AND(E13>0,OR(AO13=\"\")),\" * No olvide digitar la variable Madre de hijo menor de 5 años. Digite Cero si no tiene.\",IF(AO13>E13,\" * La variable Madre de hijo menor de 5 años no puede ser Mayor al Total Mujeres.\",\"\"))","v":""},{"$f":"IF(AND(D13>0,OR(AP13=\"\")),\" * No olvide digitar la variable Pueblos Originarios Hombres. Digite Cero si no tiene.\",IF(AP13>D13,\" * La variable Pueblos Originarios Hombres no puede ser Mayor al Total Hombres.\",\"\"))","v":""},{"$f":"IF(AND(E13>0,OR(AQ13=\"\")),\" * No olvide digitar la variable Pueblos Originarios Mujeres. Digite Cero si no tiene.\",IF(AQ13>E13,\" * La variable Pueblos Originarios Mujeres no puede ser Mayor al Total Mujeres.\",\"\"))","v":""},{"$f":"IF(AND($D13>0,OR(AR13=\"\")),\" * No olvide digitar la variable Migrantes Hombres. Digite Cero si no tiene.\",IF(AR13>$D13,\" * La variable Migrantes Hombres no puede ser Mayor al Total Hombres.\",\"\"))","v":""},{"$f":"IF(AND($E13>0,OR(AS13=\"\")),\" * No olvide digitar la variable Migrantes Mujeres. Digite Cero si no tiene.\",IF(AS13>$E13,\" * La variable Migrantes Mujeres no puede ser Mayor al Total Mujeres.\",\"\"))","v":""},{"$f":"IF(AND($C13>0,OR(AT13=\"\")),\" * No olvide digitar la variable \"&AT$10&\". Digite Cero si no tiene.\",IF(AT13>$C13,\" * La variable Niños, Niñas, Adolescentes y Jóvenes SENAME no puede ser Mayor al Total ambos sexos.\",\"\"))","v":""},{"$f":"IF(AND($C13>0,OR(AU13=\"\")),\" * No olvide digitar la variable \"&AU$10&\" Niñez. Digite Cero si no tiene.\",IF(AU13>$C13,\" * La variable\"&AU$10&\"no puede ser Mayor al Total ambos sexos.\",\"\"))","v":""},{"$f":"IF(AND(C13>0,OR(AV13=\"\")),\" * No olvide digitar la variable Plan Cuidado Integral Elaborado. Digite Cero si no tiene.\",IF($AV13>$C13,\"* La variable Plan Cuidado Integral Elaborado debe ser menor o igual al Total de Personas en control. \",\"\"))","v":""},{"$f":"IF(AND(E13>0,OR(AW13=\"\")),\" * No olvide digitar la variable Trans Masculino. (Digite Cero si no tiene).\",IF(AW13>E13,\" * La variable Trans Masculino no debe ser mayor al Total Mujeres.\",\"\"))","v":""},{"$f":"IF(AND(D13>0,OR(AX13=\"\")),\" * No olvide digitar la variable Trans Femenino. (Digite Cero si no tiene).\",IF(AX13>D13,\" * La variable Trans Femenino no debe ser mayor al Total Hombre.\",\"\"))","v":""},null,null,{"$f":"IF(AND($E13>0,OR(AN13=\"\")),1,IF(AN13>$E13,1,0))","v":0},{"$f":"IF(AND($E13>0,OR(AO13=\"\")),1,IF(AO13>$E13,1,0))","v":0},{"$f":"IF(AND($D13>0,OR(AP13=\"\")),1,IF(AP13>$D13,1,0))","v":0},{"$f":"IF(AND($E13>0,OR(AQ13=\"\")),1,IF(AQ13>$E13,1,0))","v":0},{"$f":"IF(AND($D13>0,OR(AR13=\"\")),1,IF(AR13>$D13,1,0))","v":0},{"$f":"IF(AND($E13>0,OR(AS13=\"\")),1,IF(AS13>$E13,1,0))","v":0},{"$f":"IF(AND($C13>0,OR(AT13=\"\")),1,IF(AT13>$C13,1,0))","v":0},{"$f":"IF(AND($C13>0,OR(AU13=\"\")),1,IF(AU13>$C13,1,0))","v":0},{"$f":"IF(AND($C13>0,OR(AV13=\"\")),1,IF(AV13>$C13,1,0))","v":0},{"$f":"IF(AND(E13>0,OR(AW13=\"\")),1,IF(AW13>$E13,1,0))","v":0},{"$f":"IF(AND(D13>0,OR(AX13=\"\")),1,IF(AX13>$D13,1,0))","v":0}]
["FACTORES DE RIESGO Y CONDICIONANTES DE LA SALUD MENTAL"]
["Violencia física","Victima",{"$f":"SUM(D15:E15)","v":0},{"$f":"+F15+H15+J15+L15+N15+P15+R15+T15+V15+X15+Z15+AB15+AD15+AF15+AH15+AJ15+AL15","v":0},{"$f":"+G15+I15+K15+M15+O15+Q15+S15+U15+W15+Y15+AA15+AC15+AE15+AG15+AI15+AK15+AM15","v":0},null,null,null,null,null,null,null,null,null,null,null,null,null,null,null,null,null,null,null,null,null,null,null,null,null,null,null,null,null,null,null,null,null,null,null,null,null,null,null,null,null,null,null,null,null,{"$f":"CA15&CB15&CC15&CD15&CE15&CF15&CG15&CH15&CI15&CJ15&CK15","v":""},null,null,null,null,null,null,null,null,null,null,null,null,null,null,null,null,null,null,null,null,null,null,null,null,null,null,null,{"$f":"IF(AND(E15>0,OR(AN15=\"\")),\" * No olvide digitar la variable Gestantes. Digite Cero si no tiene.\",IF(AN15>E15,\" * La variable Gestante no puede ser Mayor al Total Mujeres.\",\"\"))","v":""},{"$f":"IF(AND(E15>0,OR(AO15=\"\")),\" * No olvide digitar la variable Madre de hijo menor de 5 años. Digite Cero si no tiene.\",IF(AO15>E15,\" * La variable Madre de hijo menor de 5 años no puede ser Mayor al Total Mujeres.\",\"\"))","v":""},{"$f":"IF(AND(D15>0,OR(AP15=\"\")),\" * No olvide digitar la variable Pueblos Originarios Hombres. Digite Cero si no tiene.\",IF(AP15>D15,\" * La variable Pueblos Originarios Hombres no puede ser Mayor al Total Hombres.\",\"\"))","v":""},{"$f":"IF(AND(E15>0,OR(AQ15=\"\")),\" * No olvide digitar la variable Pueblos Originarios Mujeres. Digite Cero si no tiene.\",IF(AQ15>E15,\" * La variable Pueblos Originarios Mujeres no puede ser Mayor al Total Mujeres.\",\"\"))","v":""},{"$f":"IF(AND($D15>0,OR(AR15=\"\")),\" * No olvide digitar la variable Migrantes Hombres. Digite Cero si no tiene.\",IF(AR15>$D15,\" * La variable Migrantes Hombres no puede ser Mayor al Total Hombres.\",\"\"))","v":""},{"$f":"IF(AND($E15>0,OR(AS15=\"\")),\" * No olvide digitar la variable Migrantes Mujeres. Digite Cero si no tiene.\",IF(AS15>$E15,\" * La variable Migrantes Mujeres no puede ser Mayor al Total Mujeres.\",\"\"))","v":""},{"$f":"IF(AND($C15>0,OR(AT15=\"\")),\" * No olvide digitar la variable \"&AT$10&\". Digite Cero si no tiene.\",IF(AT15>$C15,\" * La variable Niños, Niñas, Adolescentes y Jóvenes SENAME no puede ser Mayor al Total ambos sexos.\",\"\"))","v":""},{"$f":"IF(AND($C15>0,OR(AU15=\"\")),\" * No olvide digitar la variable \"&AU$10&\" Niñez. Digite Cero si no tiene.\",IF(AU15>$C15,\" * La variable\"&AU$10&\"no puede ser Mayor al Total ambos sexos.\",\"\"))","v":""},{"$f":"IF(AND(C15>0,OR(AV15=\"\")),\" * No olvide digitar la variable Plan Cuidado Integral Elaborado. Digite Cero si no tiene.\",IF($AV15>$C15,\"* La variable Plan Cuidado Integral Elaborado debe ser menor o igual al Total de Personas en control. \",\"\"))","v":""},{"$f":"IF(AND(E15>0,OR(AW15=\"\")),\" * No olvide digitar la variable Trans Masculino. (Digite Cero si no tiene).\",IF(AW15>E15,\" * La variable Trans Masculino no debe ser mayor al Total Mujeres.\",\"\"))","v":""},{"$f":"IF(AND(D15>0,OR(AX15=\"\")),\" * No olvide digitar la variable Trans Femenino. (Digite Cero si no tiene).\",IF(AX15>D15,\" * La variable Trans Femenino no debe ser mayor al Total Hombre.\",\"\"))","v":""},null,null,{"$f":"IF(AND($E15>0,OR(AN15=\"\")),1,IF(AN15>$E15,1,0))","v":0},{"$f":"IF(AND($E15>0,OR(AO15=\"\")),1,IF(AO15>$E15,1,0))","v":0},{"$f":"IF(AND($D15>0,OR(AP15=\"\")),1,IF(AP15>$D15,1,0))","v":0},{"$f":"IF(AND($E15>0,OR(AQ15=\"\")),1,IF(AQ15>$E15,1,0))","v":0},{"$f":"IF(AND($D15>0,OR(AR15=\"\")),1,IF(AR15>$D15,1,0))","v":0},{"$f":"IF(AND($E15>0,OR(AS15=\"\")),1,IF(AS15>$E15,1,0))","v":0},{"$f":"IF(AND($C15>0,OR(AT15=\"\")),1,IF(AT15>$C15,1,0))","v":0},{"$f":"IF(AND($C15>0,OR(AU15=\"\")),1,IF(AU15>$C15,1,0))","v":0},{"$f":"IF(AND($C15>0,OR(AV15=\"\")),1,IF(AV15>$C15,1,0))","v":0},{"$f":"IF(AND(E15>0,OR(AW15=\"\")),1,IF(AW15>$E15,1,0))","v":0},{"$f":"IF(AND(D15>0,OR(AX15=\"\")),1,IF(AX15>$D15,1,0))","v":0}]
[null,"Agresor/a",0,0,0,null,null,null,null,null,null,null,null,null,null,null,null,null,null,null,null,null,null,null,null,null,null,null,null,null,null,null,null,null,null,null,null,null,null,null,null,null,null,null,null,null,null,null,null,null,"",null,null,null,null,null,null,null,null,null,null,null,null,null,null,null,null,null,null,null,null,null,null,null,null,null,null,null,"",{"$f":"IF(AND(E16>0,OR(AO16=\"\")),\" * No olvide digitar la variable Madre de hijo menor de 5 años. Digite Cero si no tiene.\",IF(AO16>E16,\" * La variable Madre de hijo menor de 5 años no puede ser Mayor al Total Mujeres.\",\"\"))","v":""},"","","","","","","","","",null,null,0,0,0,0,0,0,0,0,0,0,0]
["Violencia sexual","Victima ",0,0,0,null,null,null,null,null,null,null,null,null,null,null,null,null,null,null,null,null,null,null,null,null,null,null,null,null,null,null,null,null,null,null,null,null,null,null,null,null,null,null,null,null,null,null,null,null,"",null,null,null,null,null,null,null,null,null,null,null,null,null,null,null,null,null,null,null,null,null,null,null,null,null,null,null,"","","","","","","","","","","",null,null,0,0,0,0,0,0,0,0,0,0,0]
[null,"Agresor/a",0,0,0,null,null,null,null,null,null,null,null,null,null,null,null,null,null,null,null,null,null,null,null,null,null,null,null,null,null,null,null,null,null,null,null,null,null,null,null,null,null,null,null,null,null,null,null,null,"",null,null,null,null,null,null,null,null,null,null,null,null,null,null,null,null,null,null,null,null,null,null,null,null,null,null,null,"","","","","","","","","","","",null,null,0,0,0,0,0,0,0,0,0,0,0]
["Violencia psicologica","Victima",{"$f":"SUM(D19:E19)","v":0},{"$f":"+F19+H19+J19+L19+N19+P19+R19+T19+V19+X19+Z19+AB19+AD19+AF19+AH19+AJ19+AL19","v":0},{"$f":"+G19+I19+K19+M19+O19+Q19+S19+U19+W19+Y19+AA19+AC19+AE19+AG19+AI19+AK19+AM19","v":0},null,null,null,null,null,null,null,null,null,null,null,null,null,null,null,null,null,null,null,null,null,null,null,null,null,null,null,null,null,null,null,null,null,null,null,null,null,null,null,null,null,null,null,null,null,"",null,null,null,null,null,null,null,null,null,null,null,null,null,null,null,null,null,null,null,null,null,null,null,null,null,null,null,"","","","","","","","","","","",null,null,0,0,0,0,0,0,0,0,0,0,0]
[null,"Agresor/a",0,{"$f":"+F20+H20+J20+L20+N20+P20+R20+T20+V20+X20+Z20+AB20+AD20+AF20+AH20+AJ20+AL20","v":0},0,null,null,null,null,null,null,null,null,null,null,null,null,null,null,null,null,null,null,null,null,null,null,null,null,null,null,null,null,null,null,null,null,null,null,null,null,null,null,null,null,null,null,null,null,null,"",null,null,null,null,null,null,null,null,null,null,null,null,null,null,null,null,null,null,null,null,null,null,null,null,null,null,null,"","","","","","","","","","","",null,null,0,0,0,0,0,0,0,0,0,0,0]
["Abuso sexual",null,null,null,null,null,null,null,null,null,null,null,null,null,null,null,null,null,null,null,null,null,null,null,null,null,null,null,null,null,null,null,null,null,null,null,null,null,null,null,null,null,null,null,null,null,null,null,null,null,"",null,null,null,null,null,null,null,null,null,null,null,null,null,null,null,null,null,null,null,null,null,null,null,null,null,null,null,"","","","","","","","","","","",null,null,0,0,0,0,0,0,0,0,0,0,0]
["Suicidio","Ideación",0,{"$f":"+H22+J22+L22+N22+P22+R22+T22+V22+X22+Z22+AB22+AD22+AF22+AH22+AJ22+AL22","v":0},{"$f":"+I22+K22+M22+O22+Q22+S22+U22+W22+Y22+AA22+AC22+AE22+AG22+AI22+AK22+AM22","v":0},null,null,null,null,null,null,null,null,null,null,null,null,null,null,null,null,null,null,null,null,null,null,null,null,null,null,null,null,null,null,null,null,null,null,null,null,null,null,null,null,null,null,null,null,null,"",null,null,null,null,null,null,null,null,null,null,null,null,null,null,null,null,null,null,null,null,null,null,null,null,null,null,null,"","","","","","","","","","","",null,null,0,0,0,0,0,0,0,0,0,0,0]
[null,"Intento",0,{"$f":"+H23+J23+L23+N23+P23+R23+T23+V23+X23+Z23+AB23+AD23+AF23+AH23+AJ23+AL23","v":0},{"$f":"+I23+K23+M23+O23+Q23+S23+U23+W23+Y23+AA23+AC23+AE23+AG23+AI23+AK23+AM23","v":0},null,null,null,null,null,null,null,null,null,null,null,null,null,null,null,null,null,null,null,null,null,null,null,null,null,null,null,null,null,null,null,null,null,null,null,null,null,null,null,null,null,null,null,null,null,"",null,null,null,null,null,null,null,null,null,null,null,null,null,null,null,null,null,null,null,null,null,null,null,null,null,null,null,"","","","","","","","","","","",null,null,0,0,0,0,0,0,0,0,0,0,0]
["PERSONAS CON DIAGNOSTICOS DE TRASTORNOS MENTALES ",null,0,{"$f":"+F24+H24+J24+L24+N24+P24+R24+T24+V24+X24+Z24+AB24+AD24+AF24+AH24+AJ24+AL24","v":0},0,null,null,null,null,null,null,null,null,null,null,null,null,null,null,null,null,null,null,null,null,null,null,null,null,null,null,null,null,null,null,null,null,null,null,null,null,null,null,null,null,null,null,null,null,null,"",null,null,null,null,null,null,null,null,null,null,null,null,null,null,null,null,null,null,null,null,null,null,null,null,null,null,null,"","","","","","","","","","","",null,null,0,0,0,0,0,0,0,0,0,0,0]
["Trastornos del humor\n(afectivos)","Depresión leve",{"$f":"SUM(D25:E25)","v":0},0,0,null,null,null,null,null,null,null,null,null,null,null,null,null,null,null,null,null,null,null,null,null,null,null,null,null,null,null,null,null,null,null,null,null,null,null,null,null,null,null,null,null,null,null,null,null,"",null,null,null,null,null,null,null,null,null,null,null,null,null,null,null,null,null,null,null,null,null,null,null,null,null,null,null,"","","","","","","","","","","",null,null,0,0,0,0,0,0,0,0,0,0,0]
[null,"Depresión moderada",0,0,0,null,null,null,null,null,null,null,null,null,null,null,null,null,null,null,null,null,null,null,null,null,null,null,null,null,null,null,null,null,null,null,null,null,null,null,null,null,null,null,null,null,null,null,null,null,"",null,null,null,null,null,null,null,null,null,null,null,null,null,null,null,null,null,null,null,null,null,null,null,null,null,null,null,"","","","","","","","","","","",null,null,0,0,0,0,0,0,0,0,0,0,0]
[null,"Depresión grave",0,0,0,null,null,null,null,null,null,null,null,null,null,null,null,null,null,null,null,null,null,null,null,null,null,null,null,null,null,null,null,null,null,null,null,null,null,null,null,null,null,null,null,null,null,null,null,null,"",null,null,null,null,null,null,null,null,null,null,null,null,null,null,null,null,null,null,null,null,null,null,null,null,null,null,null,"","","",{"$f":"IF(AND(E27>0,OR(AQ27=\"\")),\" * No olvide digitar la variable Pueblos Originarios Mujeres. Digite Cero si no tiene.\",IF(AQ27>E27,\" * La variable Pueblos Originarios Mujeres no puede ser Mayor al Total Mujeres.\",\"\"))","v":""},"","","","","","","",null,null,0,0,0,0,0,0,0,0,0,0,0]
[null,"Depresión post parto",0,null,{"$f":"K28+M28+O28+Q28+S28+U28+W28+Y28+AA28+AC28","v":0},null,null,null,null,null,null,null,null,null,null,null,null,null,null,null,null,null,null,null,null,null,null,null,null,null,null,null,null,null,null,null,null,null,null,null,null,null,null,null,null,null,null,null,null,null,"",null,null,null,null,null,null,null,null,null,null,null,null,null,null,null,null,null,null,null,null,null,null,null,null,null,null,null,null,"",null,{"$f":"IF(AND(E28>0,OR(AQ28=\"\")),\" * No olvide digitar la variable Pueblos Originarios Mujeres. Digite Cero si no tiene.\",IF(AQ28>E28,\" * La variable Pueblos Originarios Mujeres no puede ser Mayor al Total Mujeres.\",\"\"))","v":""},null,{"$f":"IF(AND($E28>0,OR(AS28=\"\")),\" * No olvide digitar la variable Migrantes Mujeres. Digite Cero si no tiene.\",IF(AS28>$E28,\" * La variable Migrantes Mujeres no puede ser Mayor al Total Mujeres.\",\"\"))","v":""},"","",{"$f":"IF(AND(C28>0,OR(AV28=\"\")),\" * No olvide digitar la variable Plan Cuidado Integral Elaborado. Digite Cero si no tiene.\",IF($AV28>$C28,\"* La variable Plan Cuidado Integral Elaborado debe ser menor o igual al Total de Personas en control. \",\"\"))","v":""},{"$f":"IF(AND(E28>0,OR(AW28=\"\")),\" * No olvide digitar la variable Trans Masculino. (Digite Cero si no tiene).\",IF(AW28>E28,\" * La variable Trans Masculino no debe ser mayor al Total Mujeres.\",\"\"))","v":""},null,null,null,null,0,null,0,null,0,0,0,0,{"$f":"IF(AND(E28>0,OR(AW28=\"\")),1,IF(AW28>$E28,1,0))","v":0}]
[null,"Trastorno bipolar",0,{"$f":"+F29+H29+J29+L29+N29+P29+R29+T29+V29+X29+Z29+AB29+AD29+AF29+AH29+AJ29+AL29","v":0},0,null,null,null,null,null,null,null,null,null,null,null,null,null,null,null,null,null,null,null,null,null,null,null,null,null,null,null,null,null,null,null,null,null,null,null,null,null,null,null,null,null,null,null,null,null,"",null,null,null,null,null,null,null,null,null,null,null,null,null,null,null,null,null,null,null,null,null,null,null,null,null,null,null,{"$f":"IF(AND(E29>0,OR(AN29=\"\")),\" * No olvide digitar la variable Gestantes. Digite Cero si no tiene.\",IF(AN29>E29,\" * La variable Gestante no puede ser Mayor al Total Mujeres.\",\"\"))","v":""},"",{"$f":"IF(AND(D29>0,OR(AP29=\"\")),\" * No olvide digitar la variable Pueblos Originarios Hombres. Digite Cero si no tiene.\",IF(AP29>D29,\" * La variable Pueblos Originarios Hombres no puede ser Mayor al Total Hombres.\",\"\"))","v":""},{"$f":"IF(AND(E29>0,OR(AQ29=\"\")),\" * No olvide digitar la variable Pueblos Originarios Mujeres. Digite Cero si no tiene.\",IF(AQ29>E29,\" * La variable Pueblos Originarios Mujeres no puede ser Mayor al Total Mujeres.\",\"\"))","v":""},{"$f":"IF(AND($D29>0,OR(AR29=\"\")),\" * No olvide digitar la variable Migrantes Hombres. Digite Cero si no tiene.\",IF(AR29>$D29,\" * La variable Migrantes Hombres no puede ser Mayor al Total Hombres.\",\"\"))","v":""},{"$f":"IF(AND($E29>0,OR(AS29=\"\")),\" * No olvide digitar la variable Migrantes Mujeres. Digite Cero si no tiene.\",IF(AS29>$E29,\" * La variable Migrantes Mujeres no puede ser Mayor al Total Mujeres.\",\"\"))","v":""},"","",{"$f":"IF(AND(C29>0,OR(AV29=\"\")),\" * No olvide digitar la variable Plan Cuidado Integral Elaborado. Digite Cero si no tiene.\",IF($AV29>$C29,\"* La variable Plan Cuidado Integral Elaborado debe ser menor o igual al Total de Personas en control. \",\"\"))","v":""},"",{"$f":"IF(AND(D29>0,OR(AX29=\"\")),\" * No olvide digitar la variable Trans Femenino. (Digite Cero si no tiene).\",IF(AX29>D29,\" * La variable Trans Femenino no debe ser mayor al Total Hombre.\",\"\"))","v":""},null,null,{"$f":"IF(AND($E29>0,OR(AN29=\"\")),1,IF(AN29>$E29,1,0))","v":0},0,{"$f":"IF(AND($D29>0,OR(AP29=\"\")),1,IF(AP29>$D29,1,0))","v":0},0,{"$f":"IF(AND($D29>0,OR(AR29=\"\")),1,IF(AR29>$D29,1,0))","v":0},0,0,0,0,{"$f":"IF(AND(E29>0,OR(AW29=\"\")),1,IF(AW29>$E29,1,0))","v":0},{"$f":"IF(AND(D29>0,OR(AX29=\"\")),1,IF(AX29>$D29,1,0))","v":0}]
["Trastornos mentales y del comportamiento debido a consumo sustancias psicotrópicas","Consumo perjudicial de alcohol ",0,0,0,null,null,null,null,null,null,null,null,null,null,null,null,null,null,null,null,null,null,null,null,null,null,null,null,null,null,null,null,null,null,null,null,null,null,null,null,null,null,null,null,null,null,null,null,null,"",null,null,null,null,null,null,null,null,null,null,null,null,null,null,null,null,null,null,null,null,null,null,null,null,null,null,null,"","","","","","","","","","","",null,null,0,0,0,0,0,0,0,0,0,0,0]
[null,"Consumo dependiente del alcohol ",0,0,0,null,null,null,null,null,null,null,null,null,null,null,null,null,null,null,null,null,null,null,null,null,null,null,null,null,null,null,null,null,null,null,null,null,null,null,null,null,null,null,null,null,null,null,null,null,"",null,null,null,null,null,null,null,null,null,null,null,null,null,null,null,null,null,null,null,null,null,null,null,null,null,null,null,"","","","","","","","","","","",null,null,0,0,0,0,0,0,0,0,0,0,0]
[null,"Consumo perjudicial de drogas",0,0,0,null,null,null,null,null,null,null,null,null,null,null,null,null,null,null,null,null,null,null,null,null,null,null,null,null,null,null,null,null,null,null,null,null,null,null,null,null,null,null,null,null,null,null,null,null,"",null,null,null,null,null,null,null,null,null,null,null,null,null,null,null,null,null,null,null,null,null,null,null,null,null,null,null,"","","","","","","","","","","",null,null,0,0,0,0,0,0,0,0,0,0,0]
[null,"Consumo dependiente de drogas ",0,0,0,null,null,null,null,null,null,null,null,null,null,null,null,null,null,null,null,null,null,null,null,null,null,null,null,null,null,null,null,null,null,null,null,null,null,null,null,null,null,null,null,null,null,null,null,null,"",null,null,null,null,null,null,null,null,null,null,null,null,null,null,null,null,null,null,null,null,null,null,null,null,null,null,null,"","","","","","","","","","","",null,null,0,0,0,0,0,0,0,0,0,0,0]
[null,"Consumo de drogas y alcohol ",0,0,0,null,null,null,null,null,null,null,null,null,null,null,null,null,null,null,null,null,null,null,null,null,null,null,null,null,null,null,null,null,null,null,null,null,null,null,null,null,null,null,null,null,null,null,null,null,"",null,null,null,null,null,null,null,null,null,null,null,null,null,null,null,null,null,null,null,null,null,null,null,null,null,null,null,"","","","","","","","","","","",null,null,0,0,0,0,0,0,0,0,0,0,0]
["Trastornos del comportamiento y de las emociones de comienzo habitual en la infancia y adolescencia","Trastorno hipercinético",0,0,0,null,null,null,null,null,null,null,null,null,null,null,null,null,null,null,null,null,null,null,null,null,null,null,null,null,null,null,null,null,null,null,null,null,null,null,null,null,null,null,null,null,null,null,null,null,"",null,null,null,null,null,null,null,null,null,null,null,null,null,null,null,null,null,null,null,null,null,null,null,null,null,null,null,"",null,{"$f":"IF(AND(D35>0,OR(AP35=\"\")),\" * No olvide digitar la variable Pueblos Originarios Hombres. Digite Cero si no tiene.\",IF(AP35>D35,\" * La variable Pueblos Originarios Hombres no puede ser Mayor al Total Hombres.\",\"\"))","v":""},{"$f":"IF(AND(E35>0,OR(AQ35=\"\")),\" * No olvide digitar la variable Pueblos Originarios Mujeres. Digite Cero si no tiene.\",IF(AQ35>E35,\" * La variable Pueblos Originarios Mujeres no puede ser Mayor al Total Mujeres.\",\"\"))","v":""},{"$f":"IF(AND($D35>0,OR(AR35=\"\")),\" * No olvide digitar la variable Migrantes Hombres. Digite Cero si no tiene.\",IF(AR35>$D35,\" * La variable Migrantes Hombres no puede ser Mayor al Total Hombres.\",\"\"))","v":""},{"$f":"IF(AND($E35>0,OR(AS35=\"\")),\" * No olvide digitar la variable Migrantes Mujeres. Digite Cero si no tiene.\",IF(AS35>$E35,\" * La variable Migrantes Mujeres no puede ser Mayor al Total Mujeres.\",\"\"))","v":""},"","",{"$f":"IF(AND(C35>0,OR(AV35=\"\")),\" * No olvide digitar la variable Plan Cuidado Integral Elaborado. Digite Cero si no tiene.\",IF($AV35>$C35,\"* La variable Plan Cuidado Integral Elaborado debe ser menor o igual al Total de Personas en control. \",\"\"))","v":""},{"$f":"IF(AND(E35>0,OR(AW35=\"\")),\" * No olvide digitar la variable Trans Masculino. (Digite Cero si no tiene).\",IF(AW35>E35,\" * La variable Trans Masculino no debe ser mayor al Total Mujeres.\",\"\"))","v":""},{"$f":"IF(AND(D35>0,OR(AX35=\"\")),\" * No olvide digitar la variable Trans Femenino. (Digite Cero si no tiene).\",IF(AX35>D35,\" * La variable Trans Femenino no debe ser mayor al Total Hombre.\",\"\"))","v":""},null,null,0,null,0,{"$f":"IF(AND($E35>0,OR(AQ35=\"\")),1,IF(AQ35>$E35,1,0))","v":0},{"$f":"IF(AND($D35>0,OR(AR35=\"\")),1,IF(AR35>$D35,1,0))","v":0},{"$f":"IF(AND($E35>0,OR(AS35=\"\")),1,IF(AS35>$E35,1,0))","v":0},{"$f":"IF(AND($C35>0,OR(AT35=\"\")),1,IF(AT35>$C35,1,0))","v":0},{"$f":"IF(AND($C35>0,OR(AU35=\"\")),1,IF(AU35>$C35,1,0))","v":0},{"$f":"IF(AND($C35>0,OR(AV35=\"\")),1,IF(AV35>$C35,1,0))","v":0},0,0]
[null,"Trastorno disocial desafiante y oposicionista",0,0,0,null,null,null,null,null,null,null,null,null,null,null,null,null,null,null,null,null,null,null,null,null,null,null,null,null,null,null,null,null,null,null,null,null,null,null,null,null,null,null,null,null,null,null,null,null,"",null,null,null,null,null,null,null,null,null,null,null,null,null,null,null,null,null,null,null,null,null,null,null,null,null,null,null,"",null,"","","","","","","","","",null,null,0,null,{"$f":"IF(AND($D36>0,OR(AP36=\"\")),1,IF(AP36>$D36,1,0))","v":0},0,0,0,0,0,0,0,0]
[null,"Trastorno de ansiedad de separación en la infancia",0,{"$f":"+F37+H37+J37","v":0},{"$f":"+G37+I37+K37","v":0},null,null,null,null,null,null,null,null,null,null,null,null,null,null,null,null,null,null,null,null,null,null,null,null,null,null,null,null,null,null,null,null,null,null,null,null,null,null,null,null,null,null,null,null,null,"",null,null,null,null,null,null,null,null,null,null,null,null,null,null,null,null,null,null,null,null,null,null,null,null,null,null,null,"",null,"","","","","","","","","",null,null,0,null,0,0,0,0,0,0,0,0,0]
[null,"Otros trastornos del comportamiento y de las emociones de comienzo habitual en la infancia y adolescencia",0,{"$f":"+F38+H38+J38+L38+N38","v":0},{"$f":"+G38+I38+K38+M38+O38","v":0},null,null,null,null,null,null,null,null,null,null,null,null,null,null,null,null,null,null,null,null,null,null,null,null,null,null,null,null,null,null,null,null,null,null,null,null,null,null,null,null,null,null,null,null,null,"",null,null,null,null,null,null,null,null,null,null,null,null,null,null,null,null,null,null,null,null,null,null,null,null,null,null,null,"",null,"","","","","","","","","",null,null,0,null,0,0,0,0,0,0,0,0,0]
["Trastornos de ansiedad","Trastorno de estrés post traumático",0,{"$f":"SUM(F39+H39+J39+L39+N39+P39+R39+T39+V39+X39+Z39+AB39+AD39+AF39+AH39+AJ39+AL39)","v":0},{"$f":"SUM(G39+I39+K39+M39+O39+Q39+S39+U39+W39+Y39+AA39+AC39+AE39+AG39+AI39+AK39+AM39)","v":0},null,null,null,null,null,null,null,null,null,null,null,null,null,null,null,null,null,null,null,null,null,null,null,null,null,null,null,null,null,null,null,null,null,null,null,null,null,null,null,null,null,null,null,null,null,"",null,null,null,null,null,null,null,null,null,null,null,null,null,null,null,null,null,null,null,null,null,null,null,null,null,null,null,"",{"$f":"IF(AND(E39>0,OR(AO39=\"\")),\" * No olvide digitar la variable Madre de hijo menor de 5 años. Digite Cero si no tiene.\",IF(AO39>E39,\" * La variable Madre de hijo menor de 5 años no puede ser Mayor al Total Mujeres.\",\"\"))","v":""},"","","","","","","","","",null,null,0,{"$f":"IF(AND($E39>0,OR(AO39=\"\")),1,IF(AO39>$E39,1,0))","v":0},{"$f":"IF(AND($D39>0,OR(AP39=\"\")),1,IF(AP39>$D39,1,0))","v":0},{"$f":"IF(AND($E39>0,OR(AQ39=\"\")),1,IF(AQ39>$E39,1,0))","v":0},{"$f":"IF(AND($D39>0,OR(AR39=\"\")),1,IF(AR39>$D39,1,0))","v":0},{"$f":"IF(AND($E39>0,OR(AS39=\"\")),1,IF(AS39>$E39,1,0))","v":0},{"$f":"IF(AND($C39>0,OR(AT39=\"\")),1,IF(AT39>$C39,1,0))","v":0},0,0,0,0]
[null,"Trastorno de pánico",0,0,{"$f":"SUM(G40+I40+K40+M40+O40+Q40+S40+U40+W40+Y40+AA40+AC40+AE40+AG40+AI40+AK40+AM40)","v":0},null,null,null,null,null,null,null,null,null,null,null,null,null,null,null,null,null,null,null,null,null,null,null,null,null,null,null,null,null,null,null,null,null,null,null,null,null,null,null,null,null,null,null,null,null,"",null,null,null,null,null,null,null,null,null,null,null,null,null,null,null,null,null,null,null,null,null,null,null,null,null,null,null,"","",{"$f":"IF(AND(D40>0,OR(AP40=\"\")),\" * No olvide digitar la variable Pueblos Originarios Hombres. Digite Cero si no tiene.\",IF(AP40>D40,\" * La variable Pueblos Originarios Hombres no puede ser Mayor al Total Hombres.\",\"\"))","v":""},{"$f":"IF(AND(E40>0,OR(AQ40=\"\")),\" * No olvide digitar la variable Pueblos Originarios Mujeres. Digite Cero si no tiene.\",IF(AQ40>E40,\" * La variable Pueblos Originarios Mujeres no puede ser Mayor al Total Mujeres.\",\"\"))","v":""},{"$f":"IF(AND($D40>0,OR(AR40=\"\")),\" * No olvide digitar la variable Migrantes Hombres. Digite Cero si no tiene.\",IF(AR40>$D40,\" * La variable Migrantes Hombres no puede ser Mayor al Total Hombres.\",\"\"))","v":""},{"$f":"IF(AND($E40>0,OR(AS40=\"\")),\" * No olvide digitar la variable Migrantes Mujeres. Digite Cero si no tiene.\",IF(AS40>$E40,\" * La variable Migrantes Mujeres no puede ser Mayor al Total Mujeres.\",\"\"))","v":""},"","",{"$f":"IF(AND(C40>0,OR(AV40=\"\")),\" * No olvide digitar la variable Plan Cuidado Integral Elaborado. Digite Cero si no tiene.\",IF($AV40>$C40,\"* La variable Plan Cuidado Integral Elaborado debe ser menor o igual al Total de Personas en control. \",\"\"))","v":""},{"$f":"IF(AND(E40>0,OR(AW40=\"\")),\" * No olvide digitar la variable Trans Masculino. (Digite Cero si no tiene).\",IF(AW40>E40,\" * La variable Trans Masculino no debe ser mayor al Total Mujeres.\",\"\"))","v":""},{"$f":"IF(AND(D40>0,OR(AX40=\"\")),\" * No olvide digitar la variable Trans Femenino. (Digite Cero si no tiene).\",IF(AX40>D40,\" * La variable Trans Femenino no debe ser mayor al Total Hombre.\",\"\"))","v":""},null,null,0,0,{"$f":"IF(AND($D40>0,OR(AP40=\"\")),1,IF(AP40>$D40,1,0))","v":0},{"$f":"IF(AND($E40>0,OR(AQ40=\"\")),1,IF(AQ40>$E40,1,0))","v":0},{"$f":"IF(AND($D40>0,OR(AR40=\"\")),1,IF(AR40>$D40,1,0))","v":0},{"$f":"IF(AND($E40>0,OR(AS40=\"\")),1,IF(AS40>$E40,1,0))","v":0},0,0,0,0,0]
[null,"Fobias sociales",0,{"$f":"SUM(F41+H41+J41+L41+N41+P41+R41+T41+V41+X41+Z41+AB41+AD41+AF41+AH41+AJ41+AL41)","v":0},0,null,null,null,null,null,null,null,null,null,null,null,null,null,null,null,null,null,null,null,null,null,null,null,null,null,null,null,null,null,null,null,null,null,null,null,null,null,null,null,null,null,null,null,null,null,"",null,null,null,null,null,null,null,null,null,null,null,null,null,null,null,null,null,null,null,null,null,null,null,null,null,null,null,"","",{"$f":"IF(AND(D41>0,OR(AP41=\"\")),\" * No olvide digitar la variable Pueblos Originarios Hombres. Digite Cero si no tiene.\",IF(AP41>D41,\" * La variable Pueblos Originarios Hombres no puede ser Mayor al Total Hombres.\",\"\"))","v":""},{"$f":"IF(AND(E41>0,OR(AQ41=\"\")),\" * No olvide digitar la variable Pueblos Originarios Mujeres. Digite Cero si no tiene.\",IF(AQ41>E41,\" * La variable Pueblos Originarios Mujeres no puede ser Mayor al Total Mujeres.\",\"\"))","v":""},{"$f":"IF(AND($D41>0,OR(AR41=\"\")),\" * No olvide digitar la variable Migrantes Hombres. Digite Cero si no tiene.\",IF(AR41>$D41,\" * La variable Migrantes Hombres no puede ser Mayor al Total Hombres.\",\"\"))","v":""},{"$f":"IF(AND($E41>0,OR(AS41=\"\")),\" * No olvide digitar la variable Migrantes Mujeres. Digite Cero si no tiene.\",IF(AS41>$E41,\" * La variable Migrantes Mujeres no puede ser Mayor al Total Mujeres.\",\"\"))","v":""},"","","","","",null,null,0,0,{"$f":"IF(AND($D41>0,OR(AP41=\"\")),1,IF(AP41>$D41,1,0))","v":0},{"$f":"IF(AND($E41>0,OR(AQ41=\"\")),1,IF(AQ41>$E41,1,0))","v":0},{"$f":"IF(AND($D41>0,OR(AR41=\"\")),1,IF(AR41>$D41,1,0))","v":0},{"$f":"IF(AND($E41>0,OR(AS41=\"\")),1,IF(AS41>$E41,1,0))","v":0},{"$f":"IF(AND($C41>0,OR(AT41=\"\")),1,IF(AT41>$C41,1,0))","v":0},{"$f":"IF(AND($C41>0,OR(AU41=\"\")),1,IF(AU41>$C41,1,0))","v":0},{"$f":"IF(AND($C41>0,OR(AV41=\"\")),1,IF(AV41>$C41,1,0))","v":0},0,0]
[null,"Trastornos de ansiedad generalizada",0,0,0,null,null,null,null,null,null,null,null,null,null,null,null,null,null,null,null,null,null,null,null,null,null,null,null,null,null,null,null,null,null,null,null,null,null,null,null,null,null,null,null,null,null,null,null,null,"",null,null,null,null,null,null,null,null,null,null,null,null,null,null,null,null,null,null,null,null,null,null,null,null,null,null,null,"","","","","","","","","","","",null,null,0,0,0,0,0,0,0,0,0,0,0]
[null,"Otros trastornos de ansiedad",0,0,0,null,null,null,null,null,null,null,null,null,null,null,null,null,null,null,null,null,null,null,null,null,null,null,null,null,null,null,null,null,null,null,null,null,null,null,null,null,null,null,null,null,null,null,null,null,"",null,null,null,null,null,null,null,null,null,null,null,null,null,null,null,null,null,null,null,null,null,null,null,null,null,null,null,"","","","","","","","","","","",null,null,0,0,0,0,0,0,0,0,0,0,0]
["Demencias (incluye Alzheimer)","Leve",0,{"$f":"+F44+H44+J44+L44+N44+P44+R44+T44+V44+X44+Z44+AB44+AD44+AF44+AH44+AJ44+AL44","v":0},{"$f":"+G44+I44+K44+M44+O44+Q44+S44+U44+W44+Y44+AA44+AC44+AE44+AG44+AI44+AK44+AM44","v":0},null,null,null,null,null,null,null,null,null,null,null,null,null,null,null,null,null,null,null,null,null,null,null,null,null,null,null,null,null,null,null,null,null,null,null,null,null,null,null,null,null,null,null,null,null,"",null,null,null,null,null,null,null,null,null,null,null,null,null,null,null,null,null,null,null,null,null,null,null,null,null,null,null,null,null,{"$f":"IF(AND(D44>0,OR(AP44=\"\")),\" * No olvide digitar la variable Pueblos Originarios Hombres. Digite Cero si no tiene.\",IF(AP44>D44,\" * La variable Pueblos Originarios Hombres no puede ser Mayor al Total Hombres.\",\"\"))","v":""},"","","",null,null,"","","",null,null,null,null,0,0,0,0,null,null,0,0,0]
[null,"Moderado",0,0,0,null,null,null,null,null,null,null,null,null,null,null,null,null,null,null,null,null,null,null,null,null,null,null,null,null,null,null,null,null,null,null,null,null,null,null,null,null,null,null,null,null,null,null,null,null,"",null,null,null,null,null,null,null,null,null,null,null,null,null,null,null,null,null,null,null,null,null,null,null,null,null,null,null,null,null,"","","","",null,null,"","","",null,null,null,null,0,0,0,0,null,null,0,0,0]
[null,"Avanzado",0,0,0,null,null,null,null,null,null,null,null,null,null,null,null,null,null,null,null,null,null,null,null,null,null,null,null,null,null,null,null,null,null,null,null,null,null,null,null,null,null,null,null,null,null,null,null,null,"",null,null,null,null,null,null,null,null,null,null,null,null,null,null,null,null,null,null,null,null,null,null,null,null,null,null,null,null,null,"","","","",null,null,"","","",null,null,null,null,0,0,0,0,null,null,0,0,0]
["Esquizofrenia",null,0,0,0,null,null,null,null,null,null,null,null,null,null,null,null,null,null,null,null,null,null,null,null,null,null,null,null,null,null,null,null,null,null,null,null,null,null,null,null,null,null,null,null,null,null,null,null,null,"",null,null,null,null,null,null,null,null,null,null,null,null,null,null,null,null,null,null,null,null,null,null,null,null,null,null,null,{"$f":"IF(AND(E47>0,OR(AN47=\"\")),\" * No olvide digitar la variable Gestantes. Digite Cero si no tiene.\",IF(AN47>E47,\" * La variable Gestante no puede ser Mayor al Total Mujeres.\",\"\"))","v":""},{"$f":"IF(AND(E47>0,OR(AO47=\"\")),\" * No olvide digitar la variable Madre de hijo menor de 5 años. Digite Cero si no tiene.\",IF(AO47>E47,\" * La variable Madre de hijo menor de 5 años no puede ser Mayor al Total Mujeres.\",\"\"))","v":""},"","","","","","",{"$f":"IF(AND(C47>0,OR(AV47=\"\")),\" * No olvide digitar la variable Plan Cuidado Integral Elaborado. Digite Cero si no tiene.\",IF($AV47>$C47,\"* La variable Plan Cuidado Integral Elaborado debe ser menor o igual al Total de Personas en control. \",\"\"))","v":""},{"$f":"IF(AND(E47>0,OR(AW47=\"\")),\" * No olvide digitar la variable Trans Masculino. (Digite Cero si no tiene).\",IF(AW47>E47,\" * La variable Trans Masculino no debe ser mayor al Total Mujeres.\",\"\"))","v":""},{"$f":"IF(AND(D47>0,OR(AX47=\"\")),\" * No olvide digitar la variable Trans Femenino. (Digite Cero si no tiene).\",IF(AX47>D47,\" * La variable Trans Femenino no debe ser mayor al Total Hombre.\",\"\"))","v":""},null,null,{"$f":"IF(AND($E47>0,OR(AN47=\"\")),1,IF(AN47>$E47,1,0))","v":0},{"$f":"IF(AND($E47>0,OR(AO47=\"\")),1,IF(AO47>$E47,1,0))","v":0},0,0,0,0,0,0,0,0,0]
["Trastorno adaptativo",null,0,0,0,null,null,null,null,null,null,null,null,null,null,null,null,null,null,null,null,null,null,null,null,null,null,null,null,null,null,null,null,null,null,null,null,null,null,null,null,null,null,null,null,null,null,null,null,null,"",null,null,null,null,null,null,null,null,null,null,null,null,null,null,null,null,null,null,null,null,null,null,null,null,null,null,null,"","","","","","","","","","","",null,null,0,0,0,0,0,0,0,0,0,0,0]
["Trastornos de la conducta alimentaria",null,0,0,0,null,null,null,null,null,null,null,null,null,null,null,null,null,null,null,null,null,null,null,null,null,null,null,null,null,null,null,null,null,null,null,null,null,null,null,null,null,null,null,null,null,null,null,null,null,"",null,null,null,null,null,null,null,null,null,null,null,null,null,null,null,null,null,null,null,null,null,null,null,null,null,null,null,"","",{"$f":"IF(AND(D49>0,OR(AP49=\"\")),\" * No olvide digitar la variable Pueblos Originarios Hombres. Digite Cero si no tiene.\",IF(AP49>D49,\" * La variable Pueblos Originarios Hombres no puede ser Mayor al Total Hombres.\",\"\"))","v":""},{"$f":"IF(AND(E49>0,OR(AQ49=\"\")),\" * No olvide digitar la variable Pueblos Originarios Mujeres. Digite Cero si no tiene.\",IF(AQ49>E49,\" * La variable Pueblos Originarios Mujeres no puede ser Mayor al Total Mujeres.\",\"\"))","v":""},{"$f":"IF(AND($D49>0,OR(AR49=\"\")),\" * No olvide digitar la variable Migrantes Hombres. Digite Cero si no tiene.\",IF(AR49>$D49,\" * La variable Migrantes Hombres no puede ser Mayor al Total Hombres.\",\"\"))","v":""},{"$f":"IF(AND($E49>0,OR(AS49=\"\")),\" * No olvide digitar la variable Migrantes Mujeres. Digite Cero si no tiene.\",IF(AS49>$E49,\" * La variable Migrantes Mujeres no puede ser Mayor al Total Mujeres.\",\"\"))","v":""},"","","","","",null,null,0,0,0,0,0,0,0,0,0,0,0]
["Retraso mental",null,0,0,0,null,null,null,null,null,null,null,null,null,null,null,null,null,null,null,null,null,null,null,null,null,null,null,null,null,null,null,null,null,null,null,null,null,null,null,null,null,null,null,null,null,null,null,null,null,"",null,null,null,null,null,null,null,null,null,null,null,null,null,null,null,null,null,null,null,null,null,null,null,null,null,null,null,"","","","","","","","","","","",null,null,0,0,0,0,0,0,0,0,0,0,0]
["Trastorno de personalidad",null,0,0,0,null,null,null,null,null,null,null,null,null,null,null,null,null,null,null,null,null,null,null,null,null,null,null,null,null,null,null,null,null,null,null,null,null,null,null,null,null,null,null,null,null,null,null,null,null,"",null,null,null,null,null,null,null,null,null,null,null,null,null,null,null,null,null,null,null,null,null,null,null,null,null,null,null,"","","","","","","","","","","",null,null,0,0,0,0,0,0,0,0,0,0,0]
["Trastorno generalizados del desarrollo","Autismo",{"$f":"SUM(D52:E52)","v":0},{"$f":"+F52+H52+J52+L52+N52+P52+R52+T52+V52+X52+Z52+AB52+AD52+AF52+AH52+AJ52+AL52","v":0},{"$f":"+G52+I52+K52+M52+O52+Q52+S52+U52+W52+Y52+AA52+AC52+AE52+AG52+AI52+AK52+AM52","v":0},null,null,null,null,null,null,null,null,null,null,null,null,null,null,null,null,null,null,null,null,null,null,null,null,null,null,null,null,null,null,null,null,null,null,null,null,null,null,null,null,null,null,null,null,null,"",null,null,null,null,null,null,null,null,null,null,null,null,null,null,null,null,null,null,null,null,null,null,null,null,null,null,null,"","",{"$f":"IF(AND(D52>0,OR(AP52=\"\")),\" * No olvide digitar la variable Pueblos Originarios Hombres. Digite Cero si no tiene.\",IF(AP52>D52,\" * La variable Pueblos Originarios Hombres no puede ser Mayor al Total Hombres.\",\"\"))","v":""},{"$f":"IF(AND(E52>0,OR(AQ52=\"\")),\" * No olvide digitar la variable Pueblos Originarios Mujeres. Digite Cero si no tiene.\",IF(AQ52>E52,\" * La variable Pueblos Originarios Mujeres no puede ser Mayor al Total Mujeres.\",\"\"))","v":""},{"$f":"IF(AND($D52>0,OR(AR52=\"\")),\" * No olvide digitar la variable Migrantes Hombres. Digite Cero si no tiene.\",IF(AR52>$D52,\" * La variable Migrantes Hombres no puede ser Mayor al Total Hombres.\",\"\"))","v":""},{"$f":"IF(AND($E52>0,OR(AS52=\"\")),\" * No olvide digitar la variable Migrantes Mujeres. Digite Cero si no tiene.\",IF(AS52>$E52,\" * La variable Migrantes Mujeres no puede ser Mayor al Total Mujeres.\",\"\"))","v":""},"","",{"$f":"IF(AND(C52>0,OR(AV52=\"\")),\" * No olvide digitar la variable Plan Cuidado Integral Elaborado. Digite Cero si no tiene.\",IF($AV52>$C52,\"* La variable Plan Cuidado Integral Elaborado debe ser menor o igual al Total de Personas en control. \",\"\"))","v":""},{"$f":"IF(AND(E52>0,OR(AW52=\"\")),\" * No olvide digitar la variable Trans Masculino. (Digite Cero si no tiene).\",IF(AW52>E52,\" * La variable Trans Masculino no debe ser mayor al Total Mujeres.\",\"\"))","v":""},{"$f":"IF(AND(D52>0,OR(AX52=\"\")),\" * No olvide digitar la variable Trans Femenino. (Digite Cero si no tiene).\",IF(AX52>D52,\" * La variable Trans Femenino no debe ser mayor al Total Hombre.\",\"\"))","v":""},null,null,0,0,0,0,0,0,0,0,0,0,0]
[null,"Asperger",0,{"$f":"+F53+H53+J53+L53+N53+P53+R53+T53+V53+X53+Z53+AB53+AD53+AF53+AH53+AJ53+AL53","v":0},{"$f":"+G53+I53+K53+M53+O53+Q53+S53+U53+W53+Y53+AA53+AC53+AE53+AG53+AI53+AK53+AM53","v":0},null,null,null,null,null,null,null,null,null,null,null,null,null,null,null,null,null,null,null,null,null,null,null,null,null,null,null,null,null,null,null,null,null,null,null,null,null,null,null,null,null,null,null,null,null,"",null,null,null,null,null,null,null,null,null,null,null,null,null,null,null,null,null,null,null,null,null,null,null,null,null,null,null,"","","","","","","","","","","",null,null,0,0,0,0,0,0,0,0,0,0,0]
[null,"Síndrome de Rett",0,0,0,null,null,null,null,null,null,null,null,null,null,null,null,null,null,null,null,null,null,null,null,null,null,null,null,null,null,null,null,null,null,null,null,null,null,null,null,null,null,null,null,null,null,null,null,null,"",null,null,null,null,null,null,null,null,null,null,null,null,null,null,null,null,null,null,null,null,null,null,null,null,null,null,null,"","","","","","","","","","","",null,null,0,0,0,0,0,0,0,0,0,0,0]
[null,"Trastorno desintegrativo de la infancia",0,0,0,null,null,null,null,null,null,null,null,null,null,null,null,null,null,null,null,null,null,null,null,null,null,null,null,null,null,null,null,null,null,null,null,null,null,null,null,null,null,null,null,null,null,null,null,null,"",null,null,null,null,null,null,null,null,null,null,null,null,null,null,null,null,null,null,null,null,null,null,null,null,null,null,null,"","","","","","","","","","","",null,null,0,0,0,0,0,0,0,0,0,0,0]
[null,"Trastorno generalizado del desarrollo no específico",{"$f":"SUM(D56:E56)","v":0},0,0,null,null,null,null,null,null,null,null,null,null,null,null,null,null,null,null,null,null,null,null,null,null,null,null,null,null,null,null,null,null,null,null,null,null,null,null,null,null,null,null,null,null,null,null,null,"",null,null,null,null,null,null,null,null,null,null,null,null,null,null,null,null,null,null,null,null,null,null,null,null,null,null,null,"","",{"$f":"IF(AND(D56>0,OR(AP56=\"\")),\" * No olvide digitar la variable Pueblos Originarios Hombres. Digite Cero si no tiene.\",IF(AP56>D56,\" * La variable Pueblos Originarios Hombres no puede ser Mayor al Total Hombres.\",\"\"))","v":""},{"$f":"IF(AND(E56>0,OR(AQ56=\"\")),\" * No olvide digitar la variable Pueblos Originarios Mujeres. Digite Cero si no tiene.\",IF(AQ56>E56,\" * La variable Pueblos Originarios Mujeres no puede ser Mayor al Total Mujeres.\",\"\"))","v":""},{"$f":"IF(AND($D56>0,OR(AR56=\"\")),\" * No olvide digitar la variable Migrantes Hombres. Digite Cero si no tiene.\",IF(AR56>$D56,\" * La variable Migrantes Hombres no puede ser Mayor al Total Hombres.\",\"\"))","v":""},{"$f":"IF(AND($E56>0,OR(AS56=\"\")),\" * No olvide digitar la variable Migrantes Mujeres. Digite Cero si no tiene.\",IF(AS56>$E56,\" * La variable Migrantes Mujeres no puede ser Mayor al Total Mujeres.\",\"\"))","v":""},"","","","","",null,null,0,0,0,0,0,0,0,0,0,0,0]
["Epilepsia",null,{"$f":"SUM(D57:E57)","v":0},0,0,null,null,null,null,null,null,null,null,null,null,null,null,null,null,null,null,null,null,null,null,null,null,null,null,null,null,null,null,null,null,null,null,null,null,null,null,null,null,null,null,null,null,null,null,null,{"$f":"CA57&CB57&CC57&CD57&CE57&CF57&CG57&CH57&CI57&CJ57&CK57","v":""},null,null,null,null,null,null,null,null,null,null,null,null,null,null,null,null,null,null,null,null,null,null,null,null,null,null,null,"","","","","","","","","","","",null,null,0,0,0,0,0,0,0,0,0,0,0]
["Otras ",null,{"$f":"SUM(D58:E58)","v":0},0,0,null,null,null,null,null,null,null,null,null,null,null,null,null,null,null,null,null,null,null,null,null,null,null,null,null,null,null,null,null,null,null,null,null,null,null,null,null,null,null,null,null,null,null,null,null,{"$f":"CA58&CB58&CC58&CD58&CE58&CF58&CG58&CH58&CI58&CJ58&CK58","v":""},null,null,null,null,null,null,null,null,null,null,null,null,null,null,null,null,null,null,null,null,null,null,null,null,null,null,null,"","","","","","","","","","","",null,null,0,0,0,0,0,0,0,0,0,0,0]
["SECCION A.2: PROGRAMA DE REHABILITACIÓN EN ATENCION PRIMARIA (PERSONAS CON TRANSTORNOS PSIQUIÁTRICO)."]
["TIPO","RUBRO","T O T A L",null,null,"RANGO ETARIO Y SEXO"]
[null,null,null,null,null,"0 a 4 años",null,"5 a 9 años",null,"10 a 14 años",null,"15 a 19 años",null,"20 a 24 años",null,"25 a 29 años",null,"30 a 34 años",null,"35 a 39 años",null,"40 a 44 años",null,"45 a 49 años",null,"50 a 54 años",null,"55 a 59 años",null,"60 a 64 años",null,"65 a 69 años",null,"70 a 74 años",null,"75 a 79 años",null,"80 y más años"]
[null,null,"Ambos sexos","Hombres","Mujeres","Hombres","Mujeres","Hombres","Mujeres","Hombres","Mujeres","Hombres","Mujeres","Hombres","Mujeres","Hombres","Mujeres","Hombres","Mujeres","Hombres","Mujeres","Hombres","Mujeres","Hombres","Mujeres","Hombres","Mujeres","Hombres","Mujeres","Hombres","Mujeres","Hombres","Mujeres","Hombres","Mujeres","Hombres","Mujeres","Hombres","Mujeres"]
["Programa de rehabilitación tipo I","Número de personas en control en el programa",{"$f":"SUM(D63:E63)","v":0},{"$f":"+F63+H63+J63+L63+N63+P63+R63+T63+V63+X63+Z63+AB63+AD63+AF63+AH63+AJ63+AL63","v":0},{"$f":"+G63+I63+K63+M63+O63+Q63+S63+U63+W63+Y63+AA63+AC63+AE63+AG63+AI63+AK63+AM63","v":0}]
["Programa de rehabilitación tipo II","Número de personas en control en el programa",{"$f":"SUM(D64:E64)","v":0},{"$f":"+F64+H64+J64+L64+N64+P64+R64+T64+V64+X64+Z64+AB64+AD64+AF64+AH64+AJ64+AL64","v":0},{"$f":"+G64+I64+K64+M64+O64+Q64+S64+U64+W64+Y64+AA64+AC64+AE64+AG64+AI64+AK64+AM64","v":0}]
["SECCION A.3: PROGRAMA DE ACOMPAÑAMIENTO PSICOSOCIAL EN LA ATENCION PRIMARIA"]
["CONCEPTO",null,"TOTAL",null,null,"RANGO ETARIO Y SEXO",null,null,null,null,null,null,null,null,null,"Población Migrantes"]
[null,null,null,null,null,"0 a 4 años",null,"5 a 9 años",null,"10 a 14 años",null,"15 a 19 años",null,"20 a 24 años"]
[null,null,"Ambos Sexos","Hombres","Mujeres","Hombres","Mujeres","Hombres","Mujeres","Hombres","Mujeres","Hombres","Mujeres","Hombres","Mujeres","Hombres","Mujeres"]
["N° de Personas en Control en Progrma de Acompañamiento Psicosocial ",null,{"$f":"SUM(D69:E69)","v":0},{"$f":"+F69+H69+J69+L69+N69","v":0},{"$f":"+G69+I69+K69+M69+O69","v":0},null,null,null,null,null,null,null,null,null,null,null,null,{"$f":"CA69&CB69","v":""},null,null,null,null,null,null,null,null,null,null,null,null,null,null,null,null,null,null,null,null,null,null,null,null,null,null,null,null,null,null,null,null,null,null,null,null,null,null,null,null,null,null,null,null,null,null,null,null,null,null,null,null,null,null,null,null,null,null,null,null,{"$f":"IF(AND(D69>0,OR(P69=\"\")),\" * No olvide digitar la variable Población Migrantes Hombres (Digite Cero si no tiene).\",IF(P69>D69,\" * La variable Población Migrantes Hombres no debe ser mayor al Total Hombres.\",\"\"))","v":""},{"$f":"IF(AND(E69>0,OR(Q69=\"\")),\" * No olvide digitar la variable Población Migrantes Mujeres (Digite Cero si no tiene).\",IF(Q69>E69,\" * La variable Población Migrantes Mujeres no debe ser mayor al Total Mujeres.\",\"\"))","v":""},null,null,null,null,null,null,null,null,null,null,null,{"$f":"IF(AND($D69>0,OR(P69=\"\")),1,IF(P69>$D69,1,0))","v":0},{"$f":"IF(AND($E69>0,OR(Q69=\"\")),1,IF(Q69>$E69,1,0))","v":0}]
["B. ATENCION DE ESPECIALIDADES"]
["SECCION B.1: POBLACIÓN EN CONTROL EN ESPECIALIDAD AL CORTE"]
["CONCEPTO",null,"T O T A L",null,null,"RANGO ETARIO Y SEXO",null,null,null,null,null,null,null,null,null,null,null,null,null,null,null,null,null,null,null,null,null,null,null,null,null,null,null,null,null,null,null,null,null,"Gestantes","Madre de Hijo menor de 5 años ","Pueblos Originarios",null," Migrantes",null,"SENAME/ Servicio Nacional de Reinserción social Juvenil ","Servicio Nacional Protección Especializada a la Niñez y Adolescencia","Plan Cuidado Integral Elaborado","TRANS "]
[null,null,null,null,null,"0 a 4 años",null,"5 a 9 años",null,"10 a 14 años",null,"15 a 19 años",null,"20 a 24 años",null,"25 a 29 años",null,"30 a 34 años",null,"35 a 39 años",null,"40 a 44 años",null,"45 a 49 años",null,"50 a 54 años",null,"55 a 59 años",null,"60 a 64 años",null,"65 a 69 años",null,"70 a 74 años",null,"75 a 79 años",null,"80 y más años"]
[null,null,"Ambos sexos","Hombres","Mujeres","Hombres","Mujeres","Hombres","Mujeres","Hombres","Mujeres","Hombres","Mujeres","Hombres","Mujeres","Hombres","Mujeres","Hombres","Mujeres","Hombres","Mujeres","Hombres","Mujeres","Hombres","Mujeres","Hombres","Mujeres","Hombres","Mujeres","Hombres","Mujeres","Hombres ","Mujeres","Hombres ","Mujeres","Hombres ","Mujeres","Hombres","Mujeres",null,null,"Hombres","Mujeres","Hombres","Mujeres",null,null,null,"Masculino","Femenino "]
["NUMERO DE PERSONAS EN CONTROL EN EL PROGRAMA",null,{"$f":"SUM(D75:E75)","v":0},{"$f":"+F75+H75+J75+L75+N75+P75+R75+T75+V75+X75+Z75+AB75+AD75+AF75+AH75+AJ75+AL75","v":0},{"$f":"+G75+I75+K75+M75+O75+Q75+S75+U75+W75+Y75+AA75+AC75+AE75+AG75+AI75+AK75+AM75","v":0},null,null,null,null,null,null,null,null,null,null,null,null,null,null,null,null,null,null,null,null,null,null,null,null,null,null,null,null,null,null,null,null,null,null,null,null,null,null,null,null,null,null,null,null,null,{"$f":"$CA75&CB75&CC75&CD75&CE75&CF75&CG75&CH75&CI75&CJ75&CK75","v":""},null,null,null,null,null,null,null,null,null,null,null,null,null,null,null,null,null,null,null,null,null,null,null,null,null,null,null,{"$f":"IF(AND(E75>0,OR(AN75=\"\")),\" * No olvide digitar la variable Gestantes. Digite Cero si no tiene.\",IF(AN75>E75,\" * La variable Gestantes no puede ser Mayor al Total Mujeres.\",\"\"))","v":""},{"$f":"IF(AND(E75>0,OR(AO75=\"\")),\" * No olvide digitar la variable Madre de hijo menor de 5 años. Digite Cero si no tiene.\",IF(AO75>E75,\" * La variable Madre de hijo menor de 5 años no puede ser Mayor al Total Mujeres.\",\"\"))","v":""},{"$f":"IF(AND(D75>0,OR(AP75=\"\")),\" * No olvide digitar la variable Pueblos Originarios Hombres. Digite Cero si no tiene.\",IF(AP75>D75,\" * La variable Pueblos Originarios Hombres no puede ser Mayor al Total Hombres.\",\"\"))","v":""},{"$f":"IF(AND(E75>0,OR(AQ75=\"\")),\" * No olvide digitar la variable Pueblos Originarios Mujeres. Digite Cero si no tiene.\",IF(AQ75>E75,\" * La variable Pueblos Originarios Mujeres no puede ser Mayor al Total Mujeres.\",\"\"))","v":""},{"$f":"IF(AND($D75>0,OR(AR75=\"\")),\" * No olvide digitar la variable Migrantes Hombres. Digite Cero si no tiene.\",IF(AR75>$D75,\" * La variable Migrantes Hombres no puede ser Mayor al Total Hombres.\",\"\"))","v":""},{"$f":"IF(AND($E75>0,OR(AS75=\"\")),\" * No olvide digitar la variable Migrantes Mujeres. Digite Cero si no tiene.\",IF(AS75>$E75,\" * La variable Migrantes Mujeres no puede ser Mayor al Total Mujeres.\",\"\"))","v":""},{"$f":"IF(AND($C75>0,OR(AT75=\"\")),\" * No olvide digitar la variable\"&AT$72&\" . Digite Cero si no tiene.\",IF(AT75>$C75,\" * La variable \"&AT$72&\" no puede ser Mayor al Total ambos sexos.\",\"\"))","v":""},{"$f":"IF(AND($C75>0,OR(AU75=\"\")),\" * No olvide digitar la variable \"&AU$72&\". Digite Cero si no tiene.\",IF(AU75>$C75,\" * La variable \"&AU$72&\" no puede ser Mayor al Total ambos sexos.\",\"\"))","v":""},{"$f":"IF(AND(C75>0,OR(AV75=\"\")),\" * No olvide digitar la variable Plan Cuidado Integral Elaborado. Digite Cero si no tiene.\",IF($AV75>$C75,\"* La variable Plan Cuidado Integral Elaborado debe ser menor o igual al Total de Personas en control. \",\"\"))","v":""},{"$f":"IF(AND(E75>0,OR(AW75=\"\")),\" * No olvide digitar la variable Trans Masculino. (Digite Cero si no tiene).\",IF(AW75>E75,\" * La variable Trans Masculino no debe ser mayor al Total Mujeres.\",\"\"))","v":""},{"$f":"IF(AND(D75>0,OR(AX75=\"\")),\" * No olvide digitar la variable Trans Femenino. (Digite Cero si no tiene).\",IF(AX75>D75,\" * La variable Trans Femenino no debe ser mayor al Total Hombre.\",\"\"))","v":""},null,null,{"$f":"IF(AND($E75>0,OR(AN75=\"\")),1,IF(AN75>$E75,1,0))","v":0},{"$f":"IF(AND($E75>0,OR(AO75=\"\")),1,IF(AO75>$E75,1,0))","v":0},{"$f":"IF(AND($D75>0,OR(AP75=\"\")),1,IF(AP75>$D75,1,0))","v":0},{"$f":"IF(AND($E75>0,OR(AQ75=\"\")),1,IF(AQ75>$E75,1,0))","v":0},{"$f":"IF(AND($D75>0,OR(AR75=\"\")),1,IF(AR75>$D75,1,0))","v":0},{"$f":"IF(AND($E75>0,OR(AS75=\"\")),1,IF(AS75>$E75,1,0))","v":0},{"$f":"IF(AND($C75>0,OR(AT75=\"\")),1,IF(AT75>$C75,1,0))","v":0},{"$f":"IF(AND($C75>0,OR(AU75=\"\")),1,IF(AU75>$C75,1,0))","v":0},{"$f":"IF(AND($C75>0,OR(AV75=\"\")),1,IF(AV75>$C75,1,0))","v":0},{"$f":"IF(AND(E75>0,OR(AW75=\"\")),1,IF(AW75>$E75,1,0))","v":0},{"$f":"IF(AND(D75>0,OR(AX75=\"\")),1,IF(AX75>$D75,1,0))","v":0}]
["FACTORES DE RIESGO Y CONDICIONANTES DE LA SALUD MENTAL"]
["Violencia fisica","Victima",{"$f":"SUM(D77:E77)","v":0},{"$f":"+F77+H77+J77+L77+N77+P77+R77+T77+V77+X77+Z77+AB77+AD77+AF77+AH77+AJ77+AL77","v":0},{"$f":"+G77+I77+K77+M77+O77+Q77+S77+U77+W77+Y77+AA77+AC77+AE77+AG77+AI77+AK77+AM77","v":0},null,null,null,null,null,null,null,null,null,null,null,null,null,null,null,null,null,null,null,null,null,null,null,null,null,null,null,null,null,null,null,null,null,null,null,null,null,null,null,null,null,null,null,null,null,{"$f":"$CA77&CB77&CC77&CD77&CE77&CF77&CG77&CH77&CI77&CJ77&CK77","v":""},null,null,null,null,null,null,null,null,null,null,null,null,null,null,null,null,null,null,null,null,null,null,null,null,null,null,null,{"$f":"IF(AND(E77>0,OR(AN77=\"\")),\" * No olvide digitar la variable Gestantes. Digite Cero si no tiene.\",IF(AN77>E77,\" * La variable Gestantes no puede ser Mayor al Total Mujeres.\",\"\"))","v":""},{"$f":"IF(AND(E77>0,OR(AO77=\"\")),\" * No olvide digitar la variable Madre de hijo menor de 5 años. Digite Cero si no tiene.\",IF(AO77>E77,\" * La variable Madre de hijo menor de 5 años no puede ser Mayor al Total Mujeres.\",\"\"))","v":""},{"$f":"IF(AND(D77>0,OR(AP77=\"\")),\" * No olvide digitar la variable Pueblos Originarios Hombres. Digite Cero si no tiene.\",IF(AP77>D77,\" * La variable Pueblos Originarios Hombres no puede ser Mayor al Total Hombres.\",\"\"))","v":""},{"$f":"IF(AND(E77>0,OR(AQ77=\"\")),\" * No olvide digitar la variable Pueblos Originarios Mujeres. Digite Cero si no tiene.\",IF(AQ77>E77,\" * La variable Pueblos Originarios Mujeres no puede ser Mayor al Total Mujeres.\",\"\"))","v":""},{"$f":"IF(AND($D77>0,OR(AR77=\"\")),\" * No olvide digitar la variable Migrantes Hombres. Digite Cero si no tiene.\",IF(AR77>$D77,\" * La variable Migrantes Hombres no puede ser Mayor al Total Hombres.\",\"\"))","v":""},{"$f":"IF(AND($E77>0,OR(AS77=\"\")),\" * No olvide digitar la variable Migrantes Mujeres. Digite Cero si no tiene.\",IF(AS77>$E77,\" * La variable Migrantes Mujeres no puede ser Mayor al Total Mujeres.\",\"\"))","v":""},{"$f":"IF(AND($C77>0,OR(AT77=\"\")),\" * No olvide digitar la variable\"&AT$72&\" . Digite Cero si no tiene.\",IF(AT77>$C77,\" * La variable \"&AT$72&\" no puede ser Mayor al Total ambos sexos.\",\"\"))","v":""},{"$f":"IF(AND($C77>0,OR(AU77=\"\")),\" * No olvide digitar la variable \"&AU$72&\". Digite Cero si no tiene.\",IF(AU77>$C77,\" * La variable \"&AU$72&\" no puede ser Mayor al Total ambos sexos.\",\"\"))","v":""},{"$f":"IF(AND(C77>0,OR(AV77=\"\")),\" * No olvide digitar la variable Plan Cuidado Integral Elaborado. Digite Cero si no tiene.\",IF($AV77>$C77,\"* La variable Plan Cuidado Integral Elaborado debe ser menor o igual al Total de Personas en control. \",\"\"))","v":""},{"$f":"IF(AND(E77>0,OR(AW77=\"\")),\" * No olvide digitar la variable Trans Masculino. (Digite Cero si no tiene).\",IF(AW77>E77,\" * La variable Trans Masculino no debe ser mayor al Total Mujeres.\",\"\"))","v":""},{"$f":"IF(AND(D77>0,OR(AX77=\"\")),\" * No olvide digitar la variable Trans Femenino. (Digite Cero si no tiene).\",IF(AX77>D77,\" * La variable Trans Femenino no debe ser mayor al Total Hombre.\",\"\"))","v":""},null,null,{"$f":"IF(AND($E77>0,OR(AN77=\"\")),1,IF(AN77>$E77,1,0))","v":0},{"$f":"IF(AND($E77>0,OR(AO77=\"\")),1,IF(AO77>$E77,1,0))","v":0},{"$f":"IF(AND($D77>0,OR(AP77=\"\")),1,IF(AP77>$D77,1,0))","v":0},{"$f":"IF(AND($E77>0,OR(AQ77=\"\")),1,IF(AQ77>$E77,1,0))","v":0},{"$f":"IF(AND($D77>0,OR(AR77=\"\")),1,IF(AR77>$D77,1,0))","v":0},{"$f":"IF(AND($E77>0,OR(AS77=\"\")),1,IF(AS77>$E77,1,0))","v":0},{"$f":"IF(AND($C77>0,OR(AT77=\"\")),1,IF(AT77>$C77,1,0))","v":0},{"$f":"IF(AND($C77>0,OR(AU77=\"\")),1,IF(AU77>$C77,1,0))","v":0},{"$f":"IF(AND($C77>0,OR(AV77=\"\")),1,IF(AV77>$C77,1,0))","v":0},{"$f":"IF(AND(E77>0,OR(AW77=\"\")),1,IF(AW77>$E77,1,0))","v":0},{"$f":"IF(AND(D77>0,OR(AX77=\"\")),1,IF(AX77>$D77,1,0))","v":0}]
[null,"Agresor/a",0,0,{"$f":"+G78+I78+K78+M78+O78+Q78+S78+U78+W78+Y78+AA78+AC78+AE78+AG78+AI78+AK78+AM78","v":0},null,null,null,null,null,null,null,null,null,null,null,null,null,null,null,null,null,null,null,null,null,null,null,null,null,null,null,null,null,null,null,null,null,null,null,null,null,null,null,null,null,null,null,null,null,"",null,null,null,null,null,null,null,null,null,null,null,null,null,null,null,null,null,null,null,null,null,null,null,null,null,null,null,"","","","","","","","","",{"$f":"IF(AND(E78>0,OR(AW78=\"\")),\" * No olvide digitar la variable Trans Masculino. (Digite Cero si no tiene).\",IF(AW78>E78,\" * La variable Trans Masculino no debe ser mayor al Total Mujeres.\",\"\"))","v":""},"",null,null,0,0,0,0,0,0,0,0,0,0,0]
["Violencia sexual","Victima",0,0,0,null,null,null,null,null,null,null,null,null,null,null,null,null,null,null,null,null,null,null,null,null,null,null,null,null,null,null,null,null,null,null,null,null,null,null,null,null,null,null,null,null,null,null,null,null,"",null,null,null,null,null,null,null,null,null,null,null,null,null,null,null,null,null,null,null,null,null,null,null,null,null,null,null,"","","","","","","","","","","",null,null,0,0,0,0,0,0,0,0,0,0,0]
[null,"Agresor/a",0,0,0,null,null,null,null,null,null,null,null,null,null,null,null,null,null,null,null,null,null,null,null,null,null,null,null,null,null,null,null,null,null,null,null,null,null,null,null,null,null,null,null,null,null,null,null,null,"",null,null,null,null,null,null,null,null,null,null,null,null,null,null,null,null,null,null,null,null,null,null,null,null,null,null,null,"","","","","","","","","","","",null,null,0,0,0,0,0,0,0,0,0,0,0]
["Violencia psicológica","Victima",{"$f":"SUM(D81:E81)","v":0},{"$f":"+F81+H81+J81+L81+N81+P81+R81+T81+V81+X81+Z81+AB81+AD81+AF81+AH81+AJ81+AL81","v":0},{"$f":"+G81+I81+K81+M81+O81+Q81+S81+U81+W81+Y81+AA81+AC81+AE81+AG81+AI81+AK81+AM81","v":0},null,null,null,null,null,null,null,null,null,null,null,null,null,null,null,null,null,null,null,null,null,null,null,null,null,null,null,null,null,null,null,null,null,null,null,null,null,null,null,null,null,null,null,null,null,"",null,null,null,null,null,null,null,null,null,null,null,null,null,null,null,null,null,null,null,null,null,null,null,null,null,null,null,"","","","","","","","","","","",null,null,0,0,0,0,0,0,0,0,0,0,0]
[null,"Agresor/a",0,0,0,null,null,null,null,null,null,null,null,null,null,null,null,null,null,null,null,null,null,null,null,null,null,null,null,null,null,null,null,null,null,null,null,null,null,null,null,null,null,null,null,null,null,null,null,null,"",null,null,null,null,null,null,null,null,null,null,null,null,null,null,null,null,null,null,null,null,null,null,null,null,null,null,null,"","","","","","","","","","","",null,null,0,0,0,0,0,0,0,0,0,0,0]
["Abuso sexual",null,null,null,null,null,null,null,null,null,null,null,null,null,null,null,null,null,null,null,null,null,null,null,null,null,null,null,null,null,null,null,null,null,null,null,null,null,null,null,null,null,null,null,null,null,null,null,null,null,"",null,null,null,null,null,null,null,null,null,null,null,null,null,null,null,null,null,null,null,null,null,null,null,null,null,null,null,"","","","","","","","","","","",null,null,0,0,0,0,0,0,0,0,0,0,0]
["Suicidio","Ideación",{"$f":"SUM(D84:E84)","v":0},{"$f":"+H84+J84+L84+N84+P84+R84+T84+V84+X84+Z84+AB84+AD84+AF84+AH84+AJ84+AL84","v":0},{"$f":"+I84+K84+M84+O84+Q84+S84+U84+W84+Y84+AA84+AC84+AE84+AG84+AI84+AK84+AM84","v":0},null,null,null,null,null,null,null,null,null,null,null,null,null,null,null,null,null,null,null,null,null,null,null,null,null,null,null,null,null,null,null,null,null,null,null,null,null,null,null,null,null,null,null,null,null,"",null,null,null,null,null,null,null,null,null,null,null,null,null,null,null,null,null,null,null,null,null,null,null,null,null,null,null,"","","","","","","","","","","",null,null,0,0,0,0,0,0,0,0,0,0,0]
[null,"Intento",{"$f":"SUM(D85:E85)","v":0},{"$f":"+H85+J85+L85+N85+P85+R85+T85+V85+X85+Z85+AB85+AD85+AF85+AH85+AJ85+AL85","v":0},{"$f":"+I85+K85+M85+O85+Q85+S85+U85+W85+Y85+AA85+AC85+AE85+AG85+AI85+AK85+AM85","v":0},null,null,null,null,null,null,null,null,null,null,null,null,null,null,null,null,null,null,null,null,null,null,null,null,null,null,null,null,null,null,null,null,null,null,null,null,null,null,null,null,null,null,null,null,null,"",null,null,null,null,null,null,null,null,null,null,null,null,null,null,null,null,null,null,null,null,null,null,null,null,null,null,null,"","","","","","","","","","","",null,null,0,0,0,0,0,0,0,0,0,0,0]
["PERSONAS CON DIAGNOSTICOS DE TRASTORNOS MENTALES ",null,0,0,0,null,null,null,null,null,null,null,null,null,null,null,null,null,null,null,null,null,null,null,null,null,null,null,null,null,null,null,null,null,null,null,null,null,null,null,null,null,null,null,null,null,null,null,null,null,"",null,null,null,null,null,null,null,null,null,null,null,null,null,null,null,null,null,null,null,null,null,null,null,null,null,null,null,"","","","","","","","","","","",null,null,0,0,0,0,0,0,0,0,0,0,0]
["Trastornos del humor","Depresión refractaria",{"$f":"SUM(D87:E87)","v":0},0,0,null,null,null,null,null,null,null,null,null,null,null,null,null,null,null,null,null,null,null,null,null,null,null,null,null,null,null,null,null,null,null,null,null,null,null,null,null,null,null,null,null,null,null,null,null,"",null,null,null,null,null,null,null,null,null,null,null,null,null,null,null,null,null,null,null,null,null,null,null,null,null,null,null,"","","","","","","","","","","",null,null,0,0,0,0,0,0,0,0,0,0,0]
[null,"Depresión grave con psicosis",0,0,0,null,null,null,null,null,null,null,null,null,null,null,null,null,null,null,null,null,null,null,null,null,null,null,null,null,null,null,null,null,null,null,null,null,null,null,null,null,null,null,null,null,null,null,null,null,"",null,null,null,null,null,null,null,null,null,null,null,null,null,null,null,null,null,null,null,null,null,null,null,null,null,null,null,"","","","","","","","","","","",null,null,0,0,0,0,0,0,0,0,0,0,0]
[null,"Depresión con alto riesgo suicida",0,0,0,null,null,null,null,null,null,null,null,null,null,null,null,null,null,null,null,null,null,null,null,null,null,null,null,null,null,null,null,null,null,null,null,null,null,null,null,null,null,null,null,null,null,null,null,null,"",null,null,null,null,null,null,null,null,null,null,null,null,null,null,null,null,null,null,null,null,null,null,null,null,null,null,null,"","","",{"$f":"IF(AND(E89>0,OR(AQ89=\"\")),\" * No olvide digitar la variable Pueblos Originarios Mujeres. Digite Cero si no tiene.\",IF(AQ89>E89,\" * La variable Pueblos Originarios Mujeres no puede ser Mayor al Total Mujeres.\",\"\"))","v":""},"","","","","","","",null,null,0,0,0,0,0,0,0,0,0,0,0]
[null,"Depresión post parto",{"$f":"SUM(D90:E90)","v":0},null,{"$f":"K90+M90+O90+Q90+S90+U90+W90+Y90+AA90+AC90","v":0},null,null,null,null,null,null,null,null,null,null,null,null,null,null,null,null,null,null,null,null,null,null,null,null,null,null,null,null,null,null,null,null,null,null,null,null,null,null,null,null,null,null,null,null,null,"",null,null,null,null,null,null,null,null,null,null,null,null,null,null,null,null,null,null,null,null,null,null,null,null,null,null,null,null,"",null,{"$f":"IF(AND(E90>0,OR(AQ90=\"\")),\" * No olvide digitar la variable Pueblos Originarios Mujeres. Digite Cero si no tiene.\",IF(AQ90>E90,\" * La variable Pueblos Originarios Mujeres no puede ser Mayor al Total Mujeres.\",\"\"))","v":""},null,{"$f":"IF(AND($E90>0,OR(AS90=\"\")),\" * No olvide digitar la variable Migrantes Mujeres. Digite Cero si no tiene.\",IF(AS90>$E90,\" * La variable Migrantes Mujeres no puede ser Mayor al Total Mujeres.\",\"\"))","v":""},"","",{"$f":"IF(AND(C90>0,OR(AV90=\"\")),\" * No olvide digitar la variable Plan Cuidado Integral Elaborado. Digite Cero si no tiene.\",IF($AV90>$C90,\"* La variable Plan Cuidado Integral Elaborado debe ser menor o igual al Total de Personas en control. \",\"\"))","v":""},"",null,null,null,null,0,null,0,null,0,0,0,0,0]
[null,"Trastorno bipolar",{"$f":"SUM(D91:E91)","v":0},{"$f":"+F91+H91+J91+L91+N91+P91+R91+T91+V91+X91+Z91+AB91+AD91+AF91+AH91+AJ91+AL91","v":0},0,null,null,null,null,null,null,null,null,null,null,null,null,null,null,null,null,null,null,null,null,null,null,null,null,null,null,null,null,null,null,null,null,null,null,null,null,null,null,null,null,null,null,null,null,null,"",null,null,null,null,null,null,null,null,null,null,null,null,null,null,null,null,null,null,null,null,null,null,null,null,null,null,null,{"$f":"IF(AND(E91>0,OR(AN91=\"\")),\" * No olvide digitar la variable Gestantes. Digite Cero si no tiene.\",IF(AN91>E91,\" * La variable Gestantes no puede ser Mayor al Total Mujeres.\",\"\"))","v":""},"",{"$f":"IF(AND(D91>0,OR(AP91=\"\")),\" * No olvide digitar la variable Pueblos Originarios Hombres. Digite Cero si no tiene.\",IF(AP91>D91,\" * La variable Pueblos Originarios Hombres no puede ser Mayor al Total Hombres.\",\"\"))","v":""},{"$f":"IF(AND(E91>0,OR(AQ91=\"\")),\" * No olvide digitar la variable Pueblos Originarios Mujeres. Digite Cero si no tiene.\",IF(AQ91>E91,\" * La variable Pueblos Originarios Mujeres no puede ser Mayor al Total Mujeres.\",\"\"))","v":""},{"$f":"IF(AND($D91>0,OR(AR91=\"\")),\" * No olvide digitar la variable Migrantes Hombres. Digite Cero si no tiene.\",IF(AR91>$D91,\" * La variable Migrantes Hombres no puede ser Mayor al Total Hombres.\",\"\"))","v":""},{"$f":"IF(AND($E91>0,OR(AS91=\"\")),\" * No olvide digitar la variable Migrantes Mujeres. Digite Cero si no tiene.\",IF(AS91>$E91,\" * La variable Migrantes Mujeres no puede ser Mayor al Total Mujeres.\",\"\"))","v":""},"","",{"$f":"IF(AND(C91>0,OR(AV91=\"\")),\" * No olvide digitar la variable Plan Cuidado Integral Elaborado. Digite Cero si no tiene.\",IF($AV91>$C91,\"* La variable Plan Cuidado Integral Elaborado debe ser menor o igual al Total de Personas en control. \",\"\"))","v":""},"",{"$f":"IF(AND(D91>0,OR(AX91=\"\")),\" * No olvide digitar la variable Trans Femenino. (Digite Cero si no tiene).\",IF(AX91>D91,\" * La variable Trans Femenino no debe ser mayor al Total Hombre.\",\"\"))","v":""},null,null,{"$f":"IF(AND($E91>0,OR(AN91=\"\")),1,IF(AN91>$E91,1,0))","v":0},0,{"$f":"IF(AND($D91>0,OR(AP91=\"\")),1,IF(AP91>$D91,1,0))","v":0},0,{"$f":"IF(AND($D91>0,OR(AR91=\"\")),1,IF(AR91>$D91,1,0))","v":0},0,0,0,0,0,{"$f":"IF(AND(D91>0,OR(AX91=\"\")),1,IF(AX91>$D91,1,0))","v":0}]
["Trastornos mentales y del comportamiento debido a consumo sustancias psicotropicas","Consumo perjudicial de alcohol ",0,0,0,null,null,null,null,null,null,null,null,null,null,null,null,null,null,null,null,null,null,null,null,null,null,null,null,null,null,null,null,null,null,null,null,null,null,null,null,null,null,null,null,null,null,null,null,null,"",null,null,null,null,null,null,null,null,null,null,null,null,null,null,null,null,null,null,null,null,null,null,null,null,null,null,null,"","","","","","","","","","","",null,null,0,0,0,0,0,0,0,0,0,0,0]
[null,"Consumo dependiente del alcohol ",0,0,0,null,null,null,null,null,null,null,null,null,null,null,null,null,null,null,null,null,null,null,null,null,null,null,null,null,null,null,null,null,null,null,null,null,null,null,null,null,null,null,null,null,null,null,null,null,"",null,null,null,null,null,null,null,null,null,null,null,null,null,null,null,null,null,null,null,null,null,null,null,null,null,null,null,"","","","","","","","","","","",null,null,0,0,0,0,0,0,0,0,0,0,0]
[null,"Consumo perjudicial de drogas",0,{"$f":"+F94+H94+J94+L94+N94+P94+R94+T94+V94+X94+Z94+AB94+AD94+AF94+AH94+AJ94+AL94","v":0},0,null,null,null,null,null,null,null,null,null,null,null,null,null,null,null,null,null,null,null,null,null,null,null,null,null,null,null,null,null,null,null,null,null,null,null,null,null,null,null,null,null,null,null,null,null,"",null,null,null,null,null,null,null,null,null,null,null,null,null,null,null,null,null,null,null,null,null,null,null,null,null,null,null,"","","","","","","","","","","",null,null,0,0,0,0,0,0,0,0,0,0,0]
[null,"Consumo dependiente de drogas ",0,0,0,null,null,null,null,null,null,null,null,null,null,null,null,null,null,null,null,null,null,null,null,null,null,null,null,null,null,null,null,null,null,null,null,null,null,null,null,null,null,null,null,null,null,null,null,null,"",null,null,null,null,null,null,null,null,null,null,null,null,null,null,null,null,null,null,null,null,null,null,null,null,null,null,null,"","","","","","","","","","","",null,null,0,0,0,0,0,0,0,0,0,0,0]
[null,"Consumo de drogas y alcohol ",0,0,0,null,null,null,null,null,null,null,null,null,null,null,null,null,null,null,null,null,null,null,null,null,null,null,null,null,null,null,null,null,null,null,null,null,null,null,null,null,null,null,null,null,null,null,null,null,"",null,null,null,null,null,null,null,null,null,null,null,null,null,null,null,null,null,null,null,null,null,null,null,null,null,null,null,"","","","","","","","","","","",null,null,0,0,0,0,0,0,0,0,0,0,0]
["Trastornos del comportamiento y de las emociones de comienzo habitual en la infancia y adolescencia","Trastorno hipercinético",0,0,0,null,null,null,null,null,null,null,null,null,null,null,null,null,null,null,null,null,null,null,null,null,null,null,null,null,null,null,null,null,null,null,null,null,null,null,null,null,null,null,null,null,null,null,null,null,"",null,null,null,null,null,null,null,null,null,null,null,null,null,null,null,null,null,null,null,null,null,null,null,null,null,null,null,"",null,"","","","","","","","","",null,null,0,null,0,{"$f":"IF(AND($E97>0,OR(AQ97=\"\")),1,IF(AQ97>$E97,1,0))","v":0},{"$f":"IF(AND($D97>0,OR(AR97=\"\")),1,IF(AR97>$D97,1,0))","v":0},{"$f":"IF(AND($E97>0,OR(AS97=\"\")),1,IF(AS97>$E97,1,0))","v":0},{"$f":"IF(AND($C97>0,OR(AT97=\"\")),1,IF(AT97>$C97,1,0))","v":0},{"$f":"IF(AND($C97>0,OR(AU97=\"\")),1,IF(AU97>$C97,1,0))","v":0},{"$f":"IF(AND($C97>0,OR(AV97=\"\")),1,IF(AV97>$C97,1,0))","v":0},0,0]
[null,"Trastorno disocial desafiante y oposicionista",0,0,0,null,null,null,null,null,null,null,null,null,null,null,null,null,null,null,null,null,null,null,null,null,null,null,null,null,null,null,null,null,null,null,null,null,null,null,null,null,null,null,null,null,null,null,null,null,"",null,null,null,null,null,null,null,null,null,null,null,null,null,null,null,null,null,null,null,null,null,null,null,null,null,null,null,"",null,"","","","","","","","","",null,null,0,null,{"$f":"IF(AND($D98>0,OR(AP98=\"\")),1,IF(AP98>$D98,1,0))","v":0},0,0,0,0,0,0,0,0]
[null,"Trastorno de ansiedad de separación en la infancia",0,{"$f":"+F99+H99+J99","v":0},{"$f":"+G99+I99+K99","v":0},null,null,null,null,null,null,null,null,null,null,null,null,null,null,null,null,null,null,null,null,null,null,null,null,null,null,null,null,null,null,null,null,null,null,null,null,null,null,null,null,null,null,null,null,null,"",null,null,null,null,null,null,null,null,null,null,null,null,null,null,null,null,null,null,null,null,null,null,null,null,null,null,null,"",null,"","","","","","","","","",null,null,0,null,0,0,0,0,0,0,0,0,0]
[null,"Otros trastornos del comportamiento y de las emociones de comienzo habitual en la infancia y adolescencia",{"$f":"SUM(D100:E100)","v":0},{"$f":"+F100+H100+J100+L100+N100","v":0},{"$f":"+G100+I100+K100+M100+O100","v":0},null,null,null,null,null,null,null,null,null,null,null,null,null,null,null,null,null,null,null,null,null,null,null,null,null,null,null,null,null,null,null,null,null,null,null,null,null,null,null,null,null,null,null,null,null,"",null,null,null,null,null,null,null,null,null,null,null,null,null,null,null,null,null,null,null,null,null,null,null,null,null,null,null,"",null,"","","","","","","","","",null,null,0,null,0,0,0,0,0,0,0,0,0]
["Trastornos de ansiedad","Trastorno de estrés post traumatico",0,{"$f":"SUM(F101+H101+J101+L101+N101+P101+R101+T101+V101+X101+Z101+AB101+AD101+AF101+AH101+AJ101+AL101)","v":0},0,null,null,null,null,null,null,null,null,null,null,null,null,null,null,null,null,null,null,null,null,null,null,null,null,null,null,null,null,null,null,null,null,null,null,null,null,null,null,null,null,null,null,null,null,null,"",null,null,null,null,null,null,null,null,null,null,null,null,null,null,null,null,null,null,null,null,null,null,null,null,null,null,null,"",{"$f":"IF(AND(E101>0,OR(AO101=\"\")),\" * No olvide digitar la variable Madre de hijo menor de 5 años. Digite Cero si no tiene.\",IF(AO101>E101,\" * La variable Madre de hijo menor de 5 años no puede ser Mayor al Total Mujeres.\",\"\"))","v":""},"","","","","","","","","",null,null,0,{"$f":"IF(AND($E101>0,OR(AO101=\"\")),1,IF(AO101>$E101,1,0))","v":0},{"$f":"IF(AND($D101>0,OR(AP101=\"\")),1,IF(AP101>$D101,1,0))","v":0},{"$f":"IF(AND($E101>0,OR(AQ101=\"\")),1,IF(AQ101>$E101,1,0))","v":0},{"$f":"IF(AND($D101>0,OR(AR101=\"\")),1,IF(AR101>$D101,1,0))","v":0},{"$f":"IF(AND($E101>0,OR(AS101=\"\")),1,IF(AS101>$E101,1,0))","v":0},{"$f":"IF(AND($C101>0,OR(AT101=\"\")),1,IF(AT101>$C101,1,0))","v":0},0,0,0,0]
[null,"Trastorno de pánico  ",0,0,0,null,null,null,null,null,null,null,null,null,null,null,null,null,null,null,null,null,null,null,null,null,null,null,null,null,null,null,null,null,null,null,null,null,null,null,null,null,null,null,null,null,null,null,null,null,"",null,null,null,null,null,null,null,null,null,null,null,null,null,null,null,null,null,null,null,null,null,null,null,null,null,null,null,"","","","","","","","","","","",null,null,0,0,{"$f":"IF(AND($D102>0,OR(AP102=\"\")),1,IF(AP102>$D102,1,0))","v":0},{"$f":"IF(AND($E102>0,OR(AQ102=\"\")),1,IF(AQ102>$E102,1,0))","v":0},{"$f":"IF(AND($D102>0,OR(AR102=\"\")),1,IF(AR102>$D102,1,0))","v":0},{"$f":"IF(AND($E102>0,OR(AS102=\"\")),1,IF(AS102>$E102,1,0))","v":0},0,0,0,0,0]
[null,"Fobias sociales",0,0,0,null,null,null,null,null,null,null,null,null,null,null,null,null,null,null,null,null,null,null,null,null,null,null,null,null,null,null,null,null,null,null,null,null,null,null,null,null,null,null,null,null,null,null,null,null,"",null,null,null,null,null,null,null,null,null,null,null,null,null,null,null,null,null,null,null,null,null,null,null,null,null,null,null,"","","","","","","","","","","",null,null,0,0,{"$f":"IF(AND($D103>0,OR(AP103=\"\")),1,IF(AP103>$D103,1,0))","v":0},{"$f":"IF(AND($E103>0,OR(AQ103=\"\")),1,IF(AQ103>$E103,1,0))","v":0},{"$f":"IF(AND($D103>0,OR(AR103=\"\")),1,IF(AR103>$D103,1,0))","v":0},{"$f":"IF(AND($E103>0,OR(AS103=\"\")),1,IF(AS103>$E103,1,0))","v":0},{"$f":"IF(AND($C103>0,OR(AT103=\"\")),1,IF(AT103>$C103,1,0))","v":0},{"$f":"IF(AND($C103>0,OR(AU103=\"\")),1,IF(AU103>$C103,1,0))","v":0},{"$f":"IF(AND($C103>0,OR(AV103=\"\")),1,IF(AV103>$C103,1,0))","v":0},0,0]
[null,"Trastornos de ansiedad generalizada",0,0,0,null,null,null,null,null,null,null,null,null,null,null,null,null,null,null,null,null,null,null,null,null,null,null,null,null,null,null,null,null,null,null,null,null,null,null,null,null,null,null,null,null,null,null,null,null,"",null,null,null,null,null,null,null,null,null,null,null,null,null,null,null,null,null,null,null,null,null,null,null,null,null,null,null,"","","","","","","","","","","",null,null,0,0,0,0,0,0,0,0,0,0,0]
[null,"Otros trastornos de ansiedad",0,0,0,null,null,null,null,null,null,null,null,null,null,null,null,null,null,null,null,null,null,null,null,null,null,null,null,null,null,null,null,null,null,null,null,null,null,null,null,null,null,null,null,null,null,null,null,null,"",null,null,null,null,null,null,null,null,null,null,null,null,null,null,null,null,null,null,null,null,null,null,null,null,null,null,null,"","","","","","","","","","","",null,null,0,0,0,0,0,0,0,0,0,0,0]
["Demencias (incluye Alzheimer)","Leve",{"$f":"SUM(D106:E106)","v":0},{"$f":"+F106+H106+J106+L106+N106+P106+R106+T106+V106+X106+Z106+AB106+AD106+AF106+AH106+AJ106+AL106","v":0},{"$f":"+G106+I106+K106+M106+O106+Q106+S106+U106+W106+Y106+AA106+AC106+AE106+AG106+AI106+AK106+AM106","v":0},null,null,null,null,null,null,null,null,null,null,null,null,null,null,null,null,null,null,null,null,null,null,null,null,null,null,null,null,null,null,null,null,null,null,null,null,null,null,null,null,null,null,null,null,null,"",null,null,null,null,null,null,null,null,null,null,null,null,null,null,null,null,null,null,null,null,null,null,null,null,null,null,null,null,null,{"$f":"IF(AND(D106>0,OR(AP106=\"\")),\" * No olvide digitar la variable Pueblos Originarios Hombres. Digite Cero si no tiene.\",IF(AP106>D106,\" * La variable Pueblos Originarios Hombres no puede ser Mayor al Total Hombres.\",\"\"))","v":""},"","","",null,null,"","","",null,null,null,null,0,0,0,0,null,null,0,0,0]
[null,"Moderado",0,0,{"$f":"+G107+I107+K107+M107+O107+Q107+S107+U107+W107+Y107+AA107+AC107+AE107+AG107+AI107+AK107+AM107","v":0},null,null,null,null,null,null,null,null,null,null,null,null,null,null,null,null,null,null,null,null,null,null,null,null,null,null,null,null,null,null,null,null,null,null,null,null,null,null,null,null,null,null,null,null,null,"",null,null,null,null,null,null,null,null,null,null,null,null,null,null,null,null,null,null,null,null,null,null,null,null,null,null,null,null,null,{"$f":"IF(AND(D107>0,OR(AP107=\"\")),\" * No olvide digitar la variable Pueblos Originarios Hombres. Digite Cero si no tiene.\",IF(AP107>D107,\" * La variable Pueblos Originarios Hombres no puede ser Mayor al Total Hombres.\",\"\"))","v":""},"","","",null,null,"","","",null,null,null,null,0,0,0,0,null,null,0,0,0]
[null,"Avanzado",0,0,0,null,null,null,null,null,null,null,null,null,null,null,null,null,null,null,null,null,null,null,null,null,null,null,null,null,null,null,null,null,null,null,null,null,null,null,null,null,null,null,null,null,null,null,null,null,"",null,null,null,null,null,null,null,null,null,null,null,null,null,null,null,null,null,null,null,null,null,null,null,null,null,null,null,null,null,"","","","",null,null,"","","",null,null,null,null,0,0,0,0,null,null,0,0,0]
["Esquizofrenia",null,{"$f":"SUM(D109:E109)","v":0},{"$f":"+F109+H109+J109+L109+N109+P109+R109+T109+V109+X109+Z109+AB109+AD109+AF109+AH109+AJ109+AL109","v":0},{"$f":"+G109+I109+K109+M109+O109+Q109+S109+U109+W109+Y109+AA109+AC109+AE109+AG109+AI109+AK109+AM109","v":0},null,null,null,null,null,null,null,null,null,null,null,null,null,null,null,null,null,null,null,null,null,null,null,null,null,null,null,null,null,null,null,null,null,null,null,null,null,null,null,null,null,null,null,null,null,"",null,null,null,null,null,null,null,null,null,null,null,null,null,null,null,null,null,null,null,null,null,null,null,null,null,null,null,{"$f":"IF(AND(E109>0,OR(AN109=\"\")),\" * No olvide digitar la variable Gestantes. Digite Cero si no tiene.\",IF(AN109>E109,\" * La variable Gestantes no puede ser Mayor al Total Mujeres.\",\"\"))","v":""},{"$f":"IF(AND(E109>0,OR(AO109=\"\")),\" * No olvide digitar la variable Madre de hijo menor de 5 años. Digite Cero si no tiene.\",IF(AO109>E109,\" * La variable Madre de hijo menor de 5 años no puede ser Mayor al Total Mujeres.\",\"\"))","v":""},"","","","","","","","","",null,null,{"$f":"IF(AND($E109>0,OR(AN109=\"\")),1,IF(AN109>$E109,1,0))","v":0},{"$f":"IF(AND($E109>0,OR(AO109=\"\")),1,IF(AO109>$E109,1,0))","v":0},0,0,0,0,{"$f":"IF(AND($C109>0,OR(AT109=\"\")),1,IF(AT109>$C109,1,0))","v":0},{"$f":"IF(AND($C109>0,OR(AU109=\"\")),1,IF(AU109>$C109,1,0))","v":0},0,0,0]
["Trastorno adaptativo",null,0,0,0,null,null,null,null,null,null,null,null,null,null,null,null,null,null,null,null,null,null,null,null,null,null,null,null,null,null,null,null,null,null,null,null,null,null,null,null,null,null,null,null,null,null,null,null,null,"",null,null,null,null,null,null,null,null,null,null,null,null,null,null,null,null,null,null,null,null,null,null,null,null,null,null,null,"","","","","","","","","","","",null,null,0,0,0,0,0,0,0,0,0,0,0]
["Trastornos de la conducta alimentaria",null,0,0,0,null,null,null,null,null,null,null,null,null,null,null,null,null,null,null,null,null,null,null,null,null,null,null,null,null,null,null,null,null,null,null,null,null,null,null,null,null,null,null,null,null,null,null,null,null,"",null,null,null,null,null,null,null,null,null,null,null,null,null,null,null,null,null,null,null,null,null,null,null,null,null,null,null,"","","","","","","","","","","",null,null,0,0,0,0,0,0,0,0,0,0,0]
["Retraso mental",null,0,0,0,null,null,null,null,null,null,null,null,null,null,null,null,null,null,null,null,null,null,null,null,null,null,null,null,null,null,null,null,null,null,null,null,null,null,null,null,null,null,null,null,null,null,null,null,null,"",null,null,null,null,null,null,null,null,null,null,null,null,null,null,null,null,null,null,null,null,null,null,null,null,null,null,null,"","","","","","","","","","","",null,null,0,0,0,0,0,0,0,0,0,0,0]
["Trastorno de personalidad",null,0,0,0,null,null,null,null,null,null,null,null,null,null,null,null,null,null,null,null,null,null,null,null,null,null,null,null,null,null,null,null,null,null,null,null,null,null,null,null,null,null,null,null,null,null,null,null,null,"",null,null,null,null,null,null,null,null,null,null,null,null,null,null,null,null,null,null,null,null,null,null,null,null,null,null,null,"","","","","","","","","","","",null,null,0,0,0,0,0,0,0,0,0,0,0]
["Trastorno generalizados del desarrollo","Autismo",{"$f":"SUM(D114:E114)","v":0},{"$f":"+F114+H114+J114+L114+N114+P114+R114+T114+V114+X114+Z114+AB114+AD114+AF114+AH114+AJ114+AL114","v":0},{"$f":"+G114+I114+K114+M114+O114+Q114+S114+U114+W114+Y114+AA114+AC114+AE114+AG114+AI114+AK114+AM114","v":0},null,null,null,null,null,null,null,null,null,null,null,null,null,null,null,null,null,null,null,null,null,null,null,null,null,null,null,null,null,null,null,null,null,null,null,null,null,null,null,null,null,null,null,null,null,"",null,null,null,null,null,null,null,null,null,null,null,null,null,null,null,null,null,null,null,null,null,null,null,null,null,null,null,"","","","","","","","","","","",null,null,0,0,0,0,0,0,0,0,0,0,0]
[null,"Asperger",0,0,0,null,null,null,null,null,null,null,null,null,null,null,null,null,null,null,null,null,null,null,null,null,null,null,null,null,null,null,null,null,null,null,null,null,null,null,null,null,null,null,null,null,null,null,null,null,"",null,null,null,null,null,null,null,null,null,null,null,null,null,null,null,null,null,null,null,null,null,null,null,null,null,null,null,"","","","","","","","","","","",null,null,0,0,0,0,0,0,0,0,0,0,0]
[null,"Síndrome de rett",0,0,0,null,null,null,null,null,null,null,null,null,null,null,null,null,null,null,null,null,null,null,null,null,null,null,null,null,null,null,null,null,null,null,null,null,null,null,null,null,null,null,null,null,null,null,null,null,"",null,null,null,null,null,null,null,null,null,null,null,null,null,null,null,null,null,null,null,null,null,null,null,null,null,null,null,"","","","","","","","","","","",null,null,0,0,0,0,0,0,0,0,0,0,0]
[null,"Trastorno desintegrativo de la infancia",0,0,0,null,null,null,null,null,null,null,null,null,null,null,null,null,null,null,null,null,null,null,null,null,null,null,null,null,null,null,null,null,null,null,null,null,null,null,null,null,null,null,null,null,null,null,null,null,"",null,null,null,null,null,null,null,null,null,null,null,null,null,null,null,null,null,null,null,null,null,null,null,null,null,null,null,"","","","","","","","","","","",null,null,0,0,0,0,0,0,0,0,0,0,0]
[null,"Trastono generalizado del desarrollo no específico",0,0,0,null,null,null,null,null,null,null,null,null,null,null,null,null,null,null,null,null,null,null,null,null,null,null,null,null,null,null,null,null,null,null,null,null,null,null,null,null,null,null,null,null,null,null,null,null,"",null,null,null,null,null,null,null,null,null,null,null,null,null,null,null,null,null,null,null,null,null,null,null,null,null,null,null,"","","","","","","","","","","",null,null,0,0,0,0,0,0,0,0,0,0,0]
["Epilepsia",null,{"$f":"SUM(D119+E119)","v":0},{"$f":"SUM(F119+H119+J119+L119+N119+P119+R119+T119+V119+X119+Z119+AB119+AD119+AF119+AH119+AJ119+AL119)","v":0},{"$f":"SUM(G119+I119+K119+M119+O119+Q119+S119+U119+W119+Y119+AA119+AC119+AE119+AG119+AI119+AK119+AM119)","v":0},null,null,null,null,null,null,null,null,null,null,null,null,null,null,null,null,null,null,null,null,null,null,null,null,null,null,null,null,null,null,null,null,null,null,null,null,null,null,null,null,null,null,null,null,null,{"$f":"$CA119&CB119&CC119&CD119&CE119&CF119&CG119&CH119&CI119&CJ119&CK119","v":""},null,null,null,null,null,null,null,null,null,null,null,null,null,null,null,null,null,null,null,null,null,null,null,null,null,null,null,"","","","","","","","","","","",null,null,0,0,0,0,0,0,0,0,0,0,0]
["Otras",null,0,{"$f":"+F120+H120+J120+L120+N120+P120+R120+T120+V120+X120+Z120+AB120+AD120+AF120+AH120+AJ120+AL120","v":0},{"$f":"+G120+I120+K120+M120+O120+Q120+S120+U120+W120+Y120+AA120+AC120+AE120+AG120+AI120+AK120+AM120","v":0},null,null,null,null,null,null,null,null,null,null,null,null,null,null,null,null,null,null,null,null,null,null,null,null,null,null,null,null,null,null,null,null,null,null,null,null,null,null,null,null,null,null,null,null,null,"",null,null,null,null,null,null,null,null,null,null,null,null,null,null,null,null,null,null,null,null,null,null,null,null,null,null,null,"","","","","","","","","","","",null,null,0,0,0,0,0,0,0,0,0,0,0]
["SECCION B.2: PROGRAMA DE REHABILITACIÓN EN ESPECIALIDAD (PERSONAS CON TRANSTORNOS PSIQUIÁTRICO)"]
["TIPO","RUBRO","T O T A L",null,null,"RANGO ETARIO Y SEXO"]
[null,null,null,null,null,"0 a 4 años",null,"5 a 9 años",null,"10 a 14 años",null,"15 a 19 años",null,"20 a 24 años",null,"25 a 29 años",null,"30 a 34 años",null,"35 a 39 años",null,"40 a 44 años",null,"45 a 49 años",null,"50 a 54 años",null,"55 a 59 años",null,"60 a 64 años",null,"65 a 69 años",null,"70 a 74 años",null,"75 a 79 años",null,"80 y más años"]
[null,null,"Ambos sexos","Hombres","Mujeres","Hombres","Mujeres","Hombres","Mujeres","Hombres","Mujeres","Hombres","Mujeres","Hombres","Mujeres","Hombres","Mujeres","Hombres","Mujeres","Hombres","Mujeres","Hombres","Mujeres","Hombres","Mujeres","Hombres","Mujeres","Hombres","Mujeres","Hombres","Mujeres","Hombres","Mujeres","Hombres","Mujeres","Hombres","Mujeres","Hombres","Mujeres"]
["Programa de rehabilitación tipo I","Número de personas en control en el programa",{"$f":"SUM(D125:E125)","v":0},{"$f":"+F125+H125+J125+L125+N125+P125+R125+T125+V125+X125+Z125+AB125+AD125+AF125+AH125+AJ125+AL125","v":0},{"$f":"+G125+I125+K125+M125+O125+Q125+S125+U125+W125+Y125+AA125+AC125+AE125+AG125+AI125+AK125+AM125","v":0}]
["Programa de rehabilitación tipo II","Número de personas en control en el programa",{"$f":"SUM(D126:E126)","v":0},{"$f":"+F126+H126+J126+L126+N126+P126+R126+T126+V126+X126+Z126+AB126+AD126+AF126+AH126+AJ126+AL126","v":0},{"$f":"+G126+I126+K126+M126+O126+Q126+S126+U126+W126+Y126+AA126+AC126+AE126+AG126+AI126+AK126+AM126","v":0}]
[]
[]
[]
[]
[]
[]
[]
[]
[]
[]
[]
[]
[]
[]
[]
[]
[]
[]
[]
[{"$f":"SUM(C13:C58,C63:C64,C69,C75:C120,C125:C126)","v":0},"datos"]
[{"$f":"SUM(CN13:CX120)","v":0},"errores"]

{"sheet":"P7","index":7,"n_rows":50,"n_cols":72,"rows_kept":50,"cut":false,"hidden":false,"merged":[[6,0,6,9],[22,0,22,2],[28,1,28,2],[27,1,27,2],[26,1,26,2],[25,1,25,2],[23,0,23,2],[27,0,31,0],[29,1,29,2],[30,1,30,2],[31,1,31,2],[24,1,24,2],[24,0,26,0],[21,0,21,11],[14,0,14,9],[7,0,7,9]]}
["DATOS DEL ESTABLECIMIENTO"]
[{"$f":"CONCATENATE(\"COMUNA: \",NOMBRE!$B$2,\"   \",\"( \",NOMBRE!$C$2,NOMBRE!$D$2,NOMBRE!$E$2,NOMBRE!$F$2,NOMBRE!$G$2,\" )\")","v":"COMUNA:    (  )"}]
[{"$f":"CONCATENATE(\"ESTABLECIMIENTO/ESTRATEGIA: \",NOMBRE!$B$3,\"   \",\"( \",NOMBRE!$C$3,NOMBRE!$D$3,NOMBRE!$E$3,NOMBRE!$F$3,NOMBRE!$G$3,NOMBRE!$H$3,\" )\")","v":"ESTABLECIMIENTO/ESTRATEGIA:    (  )"}]
[{"$f":"CONCATENATE(\"MES: \",NOMBRE!$B$6,\"   \",\"( \",NOMBRE!$C$6,NOMBRE!$D$6,\" )\")","v":"MES:    (  )"}]
[{"$f":"CONCATENATE(\"AÑO: \",NOMBRE!$B$7)","v":"AÑO: 2026"}]
[]
["REM-P7. FAMILIAS EN CONTROL DE SALUD FAMILIAR"]
["SECCIÓN A. CLASIFICACIÓN DE LAS FAMILIAS SECTOR URBANO"]
["Clasificación de las familias por sector","TOTAL","Sector 1","Sector 2","Sector 3","Sector 4","Sector 5","Sector 6","Sector 7","Sector 8"]
["N° Familias inscritas",{"$f":"SUM(C10:J10)","v":0},null,null,null,null,null,null,null,null,{"$f":"BA10&BB10&BC10&BD10&BE10&BF10&BG10&BH10","v":""}]
["N° Familias evaluadas con cartola/encuesta familiar",{"$f":"SUM(C11:J11)","v":0},null,null,null,null,null,null,null,null,{"$f":"BA11&BB11&BC11&BD11&BE11&BF11&BG11&BH11","v":""},null,null,null,null,null,null,null,null,null,null,null,null,null,null,null,null,null,null,null,null,null,null,null,null,null,null,null,null,null,null,null,null,null,null,null,null,null,null,null,null,null,{"$f":"IF(C10<SUM(C11), \"* El Número de Familias evaluadas en el sector 1 no puede ser mayor al N° de Familias inscritas del mismo sector.\",\"\")","v":""},{"$f":"IF(D10<SUM(D11),\"* El Número de Familias evalauadas en el sector 2 no puede ser mayor al N° de Familias inscritas del mismo sector.\",\"\")","v":""},{"$f":"IF(E10<SUM(E11), \"* El Número de Familias evalauadas en el sector 3 no puede ser mayor al N° de Familias inscritas del mismo sector.\",\"\")","v":""},{"$f":"IF(F10<SUM(F11), \"* El Número de Familias evalauadas en el sector 4 no puede ser mayor al N° de Familias inscritas del mismo sector.\",\"\")","v":""},{"$f":"IF(G10<SUM(G11), \"* El Número de Familias evalauadas en el sector 5 no puede ser mayor al N° de Familias inscritas del mismo sector.\",\"\")","v":""},{"$f":"IF(H10<SUM(H11), \"* El Número de Familias evalauadas en el sector 6 no puede ser mayor al N° de Familias inscritas del mismo sector.\",\"\")","v":""},{"$f":"IF(I10<SUM(I11), \"* El Número de Familias evalauadas en el sector 7 no puede ser mayor al N° de Familias inscritas del mismo sector.\",\"\")","v":""},{"$f":"IF(J10<SUM(J11), \"* El Número de Familias evalauadas en el sector 8 no puede ser mayor al N° de Familias inscritas del mismo sector.\",\"\")","v":""},null,null,null,null,{"$f":"IF(C$10 <(C$11), 1,0)","v":0},{"$f":"IF(D$10 <(D$11), 1,0)","v":0},0,0,0,0,0,0]
["N° De familias en riesgo bajo",{"$f":"SUM(C12:J12)","v":0}]
["N° De familias en riesgo medio",{"$f":"SUM(C13:J13)","v":0}]
["N° De familias en riesgo alto",{"$f":"SUM(C14:J14)","v":0}]
["SECCIÓN A.1 CLASIFICACIÓN DE LAS FAMILIAS SECTOR RURAL"]
["Clasificación de las familias por sector","TOTAL","Sector 1","Sector 2","Sector 3","Sector 4","Sector 5","Sector 6","Sector 7","Sector 8"]
["N° Familias inscritas",{"$f":"SUM(C17:J17)","v":0},null,null,null,null,null,null,null,null,{"$f":"BA17&BB17&BC17&BD17&BE17&BF17&BG17&BH17","v":""}]
["N° Familias evaluadas con cartola/encuesta familiar",{"$f":"SUM(C18:J18)","v":0},null,null,null,null,null,null,null,null,{"$f":"BA18&BB18&BC18&BD18&BE18&BF18&BG18&BH18","v":""},null,null,null,null,null,null,null,null,null,null,null,null,null,null,null,null,null,null,null,null,null,null,null,null,null,null,null,null,null,null,null,null,null,null,null,null,null,null,null,null,null,{"$f":"IF(C17<SUM(C18), \" *El Número de Familias evalauadas en el sector 1 no puede ser mayor al N° de Familias inscritas del mismo sector.\",\"\")","v":""},{"$f":"IF(D17<SUM(D18), \" *El Número de Familias evalauadas en el sector 2 no puede ser mayor al N° de Familias inscritas del mismo sector.\",\"\")","v":""},{"$f":"IF(E17<SUM(E18), \" *El Número de Familias evalauadas en el sector 3 no puede ser mayor al N° de Familias inscritas del mismo sector.\",\"\")","v":""},{"$f":"IF(F17<SUM(F18), \" *El Número de Familias evalauadas en el sector 4 no puede ser mayor al N° de Familias inscritas del mismo sector.\",\"\")","v":""},{"$f":"IF(G17<SUM(G18), \" *El Número de Familias evalauadas en el sector 5 no puede ser mayor al N° de Familias inscritas del mismo sector.\",\"\")","v":""},{"$f":"IF(H17<SUM(H18), \" *El Número de Familias evalauadas en el sector 6 no puede ser mayor al N° de Familias inscritas del mismo sector.\",\"\")","v":""},{"$f":"IF(I17<SUM(I18), \" *El Número de Familias evalauadas en el sector 7 no puede ser mayor al N° de Familias inscritas del mismo sector.\",\"\")","v":""},{"$f":"IF(J17<SUM(J18), \" *El Número de Familias evalauadas en el sector 8 no puede ser mayor al N° de Familias inscritas del mismo sector.\",\"\")","v":""},null,null,null,null,{"$f":"IF(C$17 <(C$18), 1,0)","v":0},{"$f":"IF(D17 <(D18), 1,0)","v":0},0,0,0,0,0,{"$f":"IF(J17 <(J18), 1,0)","v":0}]
["N° De familias en riesgo bajo",{"$f":"SUM(C19:J19)","v":0}]
["N° De familias en riesgo medio",{"$f":"SUM(C20:J20)","v":0}]
["N° De familias en riesgo alto",{"$f":"SUM(C21:J21)","v":0}]
["SECCIÓN B. INTERVENCIÓN EN FAMILIAS SECTOR URBANO Y RURAL"]
["Intervención en familias",null,null,"TOTAL","Sector 1","Sector 2","Sector 3","Sector 4","Sector 5","Sector 6","Sector 7","Sector 8"]
["N° Familias con plan de intervención",null,null,{"$f":"SUM(E24:L24)","v":0}]
["N° Familias sin plan de intervención","Riesgo bajo",null,0]
[null,"Riesgo medio",null,0]
[null,"Riesgo alto",null,0]
["N° Familias egresadas de planes de intervención","Total de egresos",null,0]
[null,"Alta por cumplir plan de intervención",null,0]
[null,"Traslado de establecimiento",null,0]
[null,"Derivación por complejidad del caso",null,0]
[null,"Por abandono",null,0]
[]
[]
[]
[]
[]
[]
[]
[]
[]
[]
[]
[]
[]
[]
[]
[]
[{"$f":"SUM(B10:B14,B17:B21,D24:D32)","v":0},"datos"]
[{"$f":"SUM(BM11:BT18)","v":0},"errores"]

{"sheet":"P9","index":8,"n_rows":110,"n_cols":48,"rows_kept":110,"cut":false,"hidden":false,"merged":[[68,14,68,16],[68,0,69,1],[6,0,6,16],[8,0,8,16],[12,0,12,16],[43,0,43,16],[54,0,54,16],[67,0,67,16],[49,0,49,1],[50,0,50,1],[9,14,9,16],[11,0,11,1],[9,0,10,1],[9,2,9,4],[9,5,9,7],[9,8,9,10],[87,8,87,10],[87,11,87,13],[68,2,68,4],[68,5,68,7],[68,8,68,10],[68,11,68,13],[78,0,78,16],[86,0,86,13],[87,0,88,0],[79,0,80,1],[87,1,88,1],[87,2,87,4],[87,5,87,7],[79,2,79,4],[79,5,79,7],[79,8,79,10],[79,11,79,13],[79,14,79,16],[55,5,55,7],[55,8,55,10],[63,0,63,1],[66,0,66,1],[57,0,57,1],[59,0,59,1],[60,0,60,1],[61,0,61,1],[62,0,62,1],[58,0,58,1],[64,0,64,1],[65,0,65,1],[76,0,76,1],[77,0,77,1],[9,11,9,13],[8,35,8,36],[55,11,55,13],[8,37,8,38],[44,2,46,4],[55,2,55,4],[55,14,55,16],[44,14,46,16],[44,11,46,13],[13,14,13,16],[13,11,13,13],[13,8,13,10],[13,5,13,7],[44,8,46,10],[101,0,102,0],[95,0,96,0],[97,0,98,0],[93,0,94,0],[89,0,90,0],[91,0,92,0],[99,0,100,0],[81,0,81,1],[82,0,82,1],[83,0,83,1],[84,0,84,1],[85,0,85,1],[44,0,47,1],[44,5,46,7],[55,0,56,1],[51,0,51,1],[74,0,74,1],[52,0,52,1],[53,0,53,1],[48,0,48,1],[75,0,75,1],[70,0,70,1],[71,0,71,1],[72,0,72,1],[73,0,73,1],[13,0,14,1],[13,2,13,4],[23,0,29,0],[34,0,42,0],[15,0,22,0],[30,0,33,0]]}
["DATOS DEL ESTABLECIMIENTO"]
[{"$f":"CONCATENATE(\"COMUNA: \",NOMBRE!$B$2,\"   \",\"( \",NOMBRE!$C$2,NOMBRE!$D$2,NOMBRE!$E$2,NOMBRE!$F$2,NOMBRE!$G$2,\" )\")","v":"COMUNA:    (  )"}]
[{"$f":"CONCATENATE(\"ESTABLECIMIENTO/ESTRATEGIA: \",NOMBRE!$B$3,\"   \",\"( \",NOMBRE!$C$3,NOMBRE!$D$3,NOMBRE!$E$3,NOMBRE!$F$3,NOMBRE!$G$3,NOMBRE!$H$3,\" )\")","v":"ESTABLECIMIENTO/ESTRATEGIA:    (  )"}]
[{"$f":"CONCATENATE(\"MES: \",NOMBRE!$B$6,\"   \",\"( \",NOMBRE!$C$6,NOMBRE!$D$6,\" )\")","v":"MES:    (  )"}]
[{"$f":"CONCATENATE(\"AÑO: \",NOMBRE!$B$7)","v":"AÑO: 2026"}]
[]
["REM-P9. POBLACIÓN EN CONTROL DEL ADOLESCENTE"]
[]
["SECCION A: POBLACIÓN EN CONTROL DE SALUD INTEGRAL DE ADOLESCENTES ",null,null,null,null,null,null,null,null,null,null,null,null,null,null,null,null,null,null,null,null,null,null,null,null,null,null,null,null,null,null,null,null,null,null,"Pueblos originarios",null,"Poblacion Migrantes"]
["Población en control",null,"TOTAL",null,null,"10 a 14 años",null,null," 15 a 19 años",null,null," Pueblos Originarios",null,null," Migrantes",null,null,null,null,null,null,null,null,null,null,null,null,null,null,null,null,null,null,null,null,"No Olvide Hombres","No Olvide Mujeres","No Olvide Hombres","No Olvide Mujeres"]
[null,null,"Ambos sexos","Hombres","Mujeres","Ambos\nsexos","Hombres","Mujeres","Ambos\nsexos","Hombres","Mujeres","Ambos\nsexos","Hombres","Mujeres","Ambos\nsexos","Hombres","Mujeres"]
["Total adolescentes en control",null,{"$f":"SUM(D12:E12)","v":0},{"$f":"+G12+J12","v":0},{"$f":"+H12+K12","v":0},{"$f":"SUM(G12:H12)","v":0},null,null,{"$f":"SUM(J12:K12)","v":0},null,null,{"$f":"SUM(M12:N12)","v":0},null,null,{"$f":"SUM(P12:Q12)","v":0},null,null,{"$f":"AJ12&AK12&AL12&AM12","v":""},null,null,null,null,null,null,null,null,null,null,null,null,null,null,null,null,null,{"$f":"IF(AND(D12>0,OR(M12=\"\")),\" * No olvide digitar la variable Pueblos Originarios Hombres. Digite Cero si no tiene.\",IF(M12>D12,\" * La variable Pueblos Originarios Hombres no puede ser Mayor al Total Hombres.\",\"\"))","v":""},{"$f":"IF(AND(E12>0,OR(N12=\"\")),\" * No olvide digitar la variable Pueblos Originarios Mujeres. Digite Cero si no tiene.\",IF(N12>E12,\" * La variable Pueblos Originarios Mujeres no puede ser Mayor al Total Mujeres.\",\"\"))","v":""},{"$f":"IF(AND($D12>0,OR(P12=\"\")),\" * No olvide digitar la variable Migrantes Hombres. Digite Cero si no tiene.\",IF(P12>$D12,\" * La variable Migrantes Hombres no puede ser Mayor al Total Hombres.\",\"\"))","v":""},{"$f":"IF(AND($E12>0,OR(Q12=\"\")),\" * No olvide digitar la variable Migrantes Mujeres. Digite Cero si no tiene.\",IF(Q12>$E12,\" * La variable Migrantes Mujeres no puede ser Mayor al Total Mujeres.\",\"\"))","v":""},null,null,null,{"$f":"IF(AND($D12>0,OR(M12=\"\")),1,IF(M12>$D12,1,0))","v":0},{"$f":"IF(AND($E12>0,OR(N12=\"\")),1,IF(N12>$E12,1,0))","v":0},{"$f":"IF(AND($D12>0,OR(P12=\"\")),1,IF(P12>$D12,1,0))","v":0},{"$f":"IF(AND($E12>0,OR(Q12=\"\")),1,IF(Q12>$E12,1,0))","v":0}]
["SECCION B: POBLACIÓN EN CONTROL DE SALUD INTEGRAL DE ADOLESCENTES, SEGÚN ESTADO NUTRICIONAL"]
["Indicador Nutricional y Parámetros de medición",null,"TOTAL",null,null," 10 a 14 años",null,null," 15 a 19 años",null,null," Pueblos Originarios",null,null," Migrantes"]
[null,null,"Ambos sexos","Hombres","Mujeres","Ambos\nsexos","Hombres","Mujeres","Ambos\nsexos","Hombres","Mujeres","Ambos\nsexos","Hombres","Mujeres","Ambos\nsexos","Hombres","Mujeres"]
["Indicador IMC / Edad",">+ 3 D.E. (Obesidad Severa)",{"$f":"SUM(D16:E16)","v":0},{"$f":"+G16+J16","v":0},{"$f":"+H16+K16","v":0},{"$f":"SUM(G16:H16)","v":0},null,null,{"$f":"SUM(J16:K16)","v":0},null,null,{"$f":"SUM(M16:N16)","v":0},null,null,{"$f":"SUM(P16:Q16)","v":0},null,null,{"$f":"AJ16&AK16&AL16&AM16","v":""},null,null,null,null,null,null,null,null,null,null,null,null,null,null,null,null,null,{"$f":"IF(AND(D16>0,OR(M16=\"\")),\" * No olvide digitar la variable Pueblos Originarios Hombres. Digite Cero si no tiene.\",IF(M16>D16,\" * La variable Pueblos Originarios Hombres no puede ser Mayor al Total Hombres.\",\"\"))","v":""},{"$f":"IF(AND(E16>0,OR(N16=\"\")),\" * No olvide digitar la variable Pueblos Originarios Mujeres. Digite Cero si no tiene.\",IF(N16>E16,\" * La variable Pueblos Originarios Mujeres no puede ser Mayor al Total Mujeres.\",\"\"))","v":""},{"$f":"IF(AND($D16>0,OR(P16=\"\")),\" * No olvide digitar la variable Migrantes Hombres. Digite Cero si no tiene.\",IF(P16>$D16,\" * La variable Migrantes Hombres no puede ser Mayor al Total Hombres.\",\"\"))","v":""},{"$f":"IF(AND($E16>0,OR(Q16=\"\")),\" * No olvide digitar la variable Migrantes Mujeres. Digite Cero si no tiene.\",IF(Q16>$E16,\" * La variable Migrantes Mujeres no puede ser Mayor al Total Mujeres.\",\"\"))","v":""},null,null,null,{"$f":"IF(AND($D16>0,OR(M16=\"\")),1,IF(M16>$D16,1,0))","v":0},{"$f":"IF(AND($E16>0,OR(N16=\"\")),1,IF(N16>$E16,1,0))","v":0},{"$f":"IF(AND($D16>0,OR(P16=\"\")),1,IF(P16>$D16,1,0))","v":0},{"$f":"IF(AND($E16>0,OR(Q16=\"\")),1,IF(Q16>$E16,1,0))","v":0}]
[null,"≥ +2.0 a+2,9 D.E. (Obesidad)",0,{"$f":"+G17+J17","v":0},{"$f":"+H17+K17","v":0},{"$f":"SUM(G17:H17)","v":0},null,null,{"$f":"SUM(J17:K17)","v":0},null,null,{"$f":"SUM(M17:N17)","v":0},null,null,{"$f":"SUM(P17:Q17)","v":0},null,null,"",null,null,null,null,null,null,null,null,null,null,null,null,null,null,null,null,null,{"$f":"IF(AND(D17>0,OR(M17=\"\")),\" * No olvide digitar la variable Pueblos Originarios Hombres. Digite Cero si no tiene.\",IF(M17>D17,\" * La variable Pueblos Originarios Hombres no puede ser Mayor al Total Hombres.\",\"\"))","v":""},"","",{"$f":"IF(AND($E17>0,OR(Q17=\"\")),\" * No olvide digitar la variable Migrantes Mujeres. Digite Cero si no tiene.\",IF(Q17>$E17,\" * La variable Migrantes Mujeres no puede ser Mayor al Total Mujeres.\",\"\"))","v":""},null,null,null,0,0,0,0]
[null,"≥ +1.0 a+1,9 D.E.(Sobrepeso) ",0,0,0,{"$f":"SUM(G18:H18)","v":0},null,null,{"$f":"SUM(J18:K18)","v":0},null,null,{"$f":"SUM(M18:N18)","v":0},null,null,{"$f":"SUM(P18:Q18)","v":0},null,null,"",null,null,null,null,null,null,null,null,null,null,null,null,null,null,null,null,null,"","","",{"$f":"IF(AND($E18>0,OR(Q18=\"\")),\" * No olvide digitar la variable Migrantes Mujeres. Digite Cero si no tiene.\",IF(Q18>$E18,\" * La variable Migrantes Mujeres no puede ser Mayor al Total Hombres.\",\"\"))","v":""},null,null,null,0,0,0,0]
[null,"SUBTOTAL",0,{"$f":"+G19+J19","v":0},{"$f":"+H19+K19","v":0},{"$f":"SUM(F16:F18)","v":0},0,0,0,0,0,0,0,0,0,0,0]
[null,"≤ -1.0 a-1,9 D.E.(Bajo peso)",0,0,0,{"$f":"SUM(G20:H20)","v":0},null,null,{"$f":"SUM(J20:K20)","v":0},null,null,{"$f":"SUM(M20:N20)","v":0},null,null,{"$f":"SUM(P20:Q20)","v":0},null,null,"",null,null,null,null,null,null,null,null,null,null,null,null,null,null,null,null,null,{"$f":"IF(AND(D20>0,OR(M20=\"\")),\" * No olvide digitar la variable Pueblos Originarios Hombres. Digite Cero si no tiene.\",IF(M20>D20,\" * La variable Pueblos Originarios Hombres no puede ser Mayor al Total Hombres.\",\"\"))","v":""},{"$f":"IF(AND(E20>0,OR(N20=\"\")),\" * No olvide digitar la variable Pueblos Originarios Mujeres. Digite Cero si no tiene.\",IF(N20>E20,\" * La variable Pueblos Originarios Mujeres no puede ser Mayor al Total Mujeres.\",\"\"))","v":""},{"$f":"IF(AND($D20>0,OR(P20=\"\")),\" * No olvide digitar la variable Migrantes Hombres. Digite Cero si no tiene.\",IF(P20>$D20,\" * La variable Migrantes Hombres no puede ser Mayor al Total Hombres.\",\"\"))","v":""},{"$f":"IF(AND($E20>0,OR(Q20=\"\")),\" * No olvide digitar la variable Migrantes Mujeres. Digite Cero si no tiene.\",IF(Q20>$E20,\" * La variable Migrantes Mujeres no puede ser Mayor al Total Mujeres.\",\"\"))","v":""},null,null,null,{"$f":"IF(AND($D20>0,OR(M20=\"\")),1,IF(M20>$D20,1,0))","v":0},{"$f":"IF(AND($E20>0,OR(N20=\"\")),1,IF(N20>$E20,1,0))","v":0},{"$f":"IF(AND($D20>0,OR(P20=\"\")),1,IF(P20>$D20,1,0))","v":0},{"$f":"IF(AND($E20>0,OR(Q20=\"\")),1,IF(Q20>$E20,1,0))","v":0}]
[null,"≤ -2.0 D.E. (Desnutrición)",0,0,0,{"$f":"SUM(G21:H21)","v":0},null,null,{"$f":"SUM(J21:K21)","v":0},null,null,{"$f":"SUM(M21:N21)","v":0},null,null,{"$f":"SUM(P21:Q21)","v":0},null,null,"",null,null,null,null,null,null,null,null,null,null,null,null,null,null,null,null,null,{"$f":"IF(AND(D21>0,OR(M21=\"\")),\" * No olvide digitar la variable Pueblos Originarios Hombres. Digite Cero si no tiene.\",IF(M21>D21,\" * La variable Pueblos Originarios Hombres no puede ser Mayor al Total Hombres.\",\"\"))","v":""},{"$f":"IF(AND(E21>0,OR(N21=\"\")),\" * No olvide digitar la variable Pueblos Originarios Mujeres. Digite Cero si no tiene.\",IF(N21>E21,\" * La variable Pueblos Originarios Mujeres no puede ser Mayor al Total Mujeres.\",\"\"))","v":""},{"$f":"IF(AND($D21>0,OR(P21=\"\")),\" * No olvide digitar la variable Migrantes Hombres. Digite Cero si no tiene.\",IF(P21>$D21,\" * La variable Migrantes Hombres no puede ser Mayor al Total Hombres.\",\"\"))","v":""},{"$f":"IF(AND($E21>0,OR(Q21=\"\")),\" * No olvide digitar la variable Migrantes Mujeres. Digite Cero si no tiene.\",IF(Q21>$E21,\" * La variable Migrantes Mujeres no puede ser Mayor al Total Mujeres.\",\"\"))","v":""},null,null,null,{"$f":"IF(AND($D21>0,OR(M21=\"\")),1,IF(M21>$D21,1,0))","v":0},{"$f":"IF(AND($E21>0,OR(N21=\"\")),1,IF(N21>$E21,1,0))","v":0},{"$f":"IF(AND($D21>0,OR(P21=\"\")),1,IF(P21>$D21,1,0))","v":0},{"$f":"IF(AND($E21>0,OR(Q21=\"\")),1,IF(Q21>$E21,1,0))","v":0}]
[null,"SUBTOTAL",0,0,0,{"$f":"SUM(F20:F21)","v":0},{"$f":"SUM(G20:G21)","v":0},{"$f":"SUM(H20:H21)","v":0},0,0,0,{"$f":"SUM(L20:L21)","v":0},0,0,0,0,0]
[null," -0.9 a+ 0.9 D.E. (Peso Normal)",0,{"$f":"+G23+J23","v":0},0,{"$f":"SUM(G23:H23)","v":0},null,null,{"$f":"SUM(J23:K23)","v":0},null,null,{"$f":"SUM(M23:N23)","v":0},null,null,{"$f":"SUM(P23:Q23)","v":0},null,null,"",null,null,null,null,null,null,null,null,null,null,null,null,null,null,null,null,null,{"$f":"IF(AND(D23>0,OR(M23=\"\")),\" * No olvide digitar la variable Pueblos Originarios Hombres. Digite Cero si no tiene.\",IF(M23>D23,\" * La variable Pueblos Originarios Hombres no puede ser Mayor al Total Hombres.\",\"\"))","v":""},{"$f":"IF(AND(E23>0,OR(N23=\"\")),\" * No olvide digitar la variable Pueblos Originarios Mujeres. Digite Cero si no tiene.\",IF(N23>E23,\" * La variable Pueblos Originarios Mujeres no puede ser Mayor al Total Mujeres.\",\"\"))","v":""},{"$f":"IF(AND($D23>0,OR(P23=\"\")),\" * No olvide digitar la variable Migrantes Hombres. Digite Cero si no tiene.\",IF(P23>$D23,\" * La variable Migrantes Hombres no puede ser Mayor al Total Hombres.\",\"\"))","v":""},{"$f":"IF(AND($E23>0,OR(Q23=\"\")),\" * No olvide digitar la variable Migrantes Mujeres. Digite Cero si no tiene.\",IF(Q23>$E23,\" * La variable Migrantes Mujeres no puede ser Mayor al Total Mujeres.\",\"\"))","v":""},null,null,null,{"$f":"IF(AND($D23>0,OR(M23=\"\")),1,IF(M23>$D23,1,0))","v":0},{"$f":"IF(AND($E23>0,OR(N23=\"\")),1,IF(N23>$E23,1,0))","v":0},{"$f":"IF(AND($D23>0,OR(P23=\"\")),1,IF(P23>$D23,1,0))","v":0},{"$f":"IF(AND($E23>0,OR(Q23=\"\")),1,IF(Q23>$E23,1,0))","v":0}]
["Indicador Talla/Edad","≥+ 2.0 D.E.(Talla Alta)",0,{"$f":"+G24+J24","v":0},0,{"$f":"SUM(G24:H24)","v":0},null,null,{"$f":"SUM(J24:K24)","v":0},null,null,{"$f":"SUM(M24:N24)","v":0},null,null,{"$f":"SUM(P24:Q24)","v":0},null,null,"",null,null,null,null,null,null,null,null,null,null,null,null,null,null,null,null,null,"","","",{"$f":"IF(AND($E24>0,OR(Q24=\"\")),\" * No olvide digitar la variable Migrantes Mujeres. Digite Cero si no tiene.\",IF(Q24>$E24,\" * La variable Migrantes Mujeres no puede ser Mayor al Total Mujeres.\",\"\"))","v":""},null,null,null,0,0,0,0]
[null,"+ 1.0 a+ 1.9 D.E. (Talla Normal Alta)",0,0,0,{"$f":"SUM(G25:H25)","v":0},null,null,{"$f":"SUM(J25:K25)","v":0},null,null,{"$f":"SUM(M25:N25)","v":0},null,null,{"$f":"SUM(P25:Q25)","v":0},null,null,"",null,null,null,null,null,null,null,null,null,null,null,null,null,null,null,null,null,"","","",{"$f":"IF(AND($E25>0,OR(Q25=\"\")),\" * No olvide digitar la variable Migrantes Mujeres. Digite Cero si no tiene.\",IF(Q25>$E25,\" * La variable Migrantes Mujeres no puede ser Mayor al Total Mujeres.\",\"\"))","v":""},null,null,null,0,0,0,0]
[null,"SUBTOTAL",0,0,0,{"$f":"SUM(F24:F25)","v":0},{"$f":"SUM(G24:G25)","v":0},{"$f":"SUM(H24:H25)","v":0},{"$f":"SUM(I24:I25)","v":0},0,0,{"$f":"SUM(L24:L25)","v":0},0,0,{"$f":"SUM(O24:O25)","v":0},0,0]
[null,"- 1.0 a -1.9 D.E. (Talla Normal Baja)",0,0,0,{"$f":"SUM(G27:H27)","v":0},null,null,{"$f":"SUM(J27:K27)","v":0},null,null,{"$f":"SUM(M27:N27)","v":0},null,null,{"$f":"SUM(P27:Q27)","v":0},null,null,"",null,null,null,null,null,null,null,null,null,null,null,null,null,null,null,null,null,{"$f":"IF(AND(D27>0,OR(M27=\"\")),\" * No olvide digitar la variable Pueblos Originarios Hombres. Digite Cero si no tiene.\",IF(M27>D27,\" * La variable Pueblos Originarios Hombres no puede ser Mayor al Total Hombres.\",\"\"))","v":""},{"$f":"IF(AND(E27>0,OR(N27=\"\")),\" * No olvide digitar la variable Pueblos Originarios Mujeres. Digite Cero si no tiene.\",IF(N27>E27,\" * La variable Pueblos Originarios Mujeres no puede ser Mayor al Total Mujeres.\",\"\"))","v":""},{"$f":"IF(AND($D27>0,OR(P27=\"\")),\" * No olvide digitar la variable Migrantes Hombres. Digite Cero si no tiene.\",IF(P27>$D27,\" * La variable Migrantes Hombres no puede ser Mayor al Total Hombres.\",\"\"))","v":""},{"$f":"IF(AND($E27>0,OR(Q27=\"\")),\" * No olvide digitar la variable Migrantes Mujeres. Digite Cero si no tiene.\",IF(Q27>$E27,\" * La variable Migrantes Mujeres no puede ser Mayor al Total Mujeres.\",\"\"))","v":""},null,null,null,{"$f":"IF(AND($D27>0,OR(M27=\"\")),1,IF(M27>$D27,1,0))","v":0},{"$f":"IF(AND($E27>0,OR(N27=\"\")),1,IF(N27>$E27,1,0))","v":0},{"$f":"IF(AND($D27>0,OR(P27=\"\")),1,IF(P27>$D27,1,0))","v":0},{"$f":"IF(AND($E27>0,OR(Q27=\"\")),1,IF(Q27>$E27,1,0))","v":0}]
[null,"< 2 D.E. (Talla Baja)",0,0,0,{"$f":"SUM(G28:H28)","v":0},null,null,{"$f":"SUM(J28:K28)","v":0},null,null,{"$f":"SUM(M28:N28)","v":0},null,null,{"$f":"SUM(P28:Q28)","v":0},null,null,"",null,null,null,null,null,null,null,null,null,null,null,null,null,null,null,null,null,"","","",{"$f":"IF(AND($E28>0,OR(Q28=\"\")),\" * No olvide digitar la variable Migrantes Mujeres. Digite Cero si no tiene.\",IF(Q28>$E28,\" * La variable Migrantes Mujeres no puede ser Mayor al Total Mujeres.\",\"\"))","v":""},null,null,null,0,0,0,0]
[null,"SUBTOTAL",0,0,0,{"$f":"SUM(F27:F28)","v":0},{"$f":"SUM(G27:G28)","v":0},0,{"$f":"SUM(I27:I28)","v":0},0,0,0,0,0,{"$f":"SUM(O27:O28)","v":0},0,0]
[null,"-0.9 a+ 0.9 D.E. (Talla Normal)",0,0,{"$f":"+H30+K30","v":0},{"$f":"SUM(G30:H30)","v":0},null,null,{"$f":"SUM(J30:K30)","v":0},null,null,{"$f":"SUM(M30:N30)","v":0},null,null,{"$f":"SUM(P30:Q30)","v":0},null,null,"",null,null,null,null,null,null,null,null,null,null,null,null,null,null,null,null,null,{"$f":"IF(AND(D30>0,OR(M30=\"\")),\" * No olvide digitar la variable Pueblos Originarios Hombres. Digite Cero si no tiene.\",IF(M30>D30,\" * La variable Pueblos Originarios Hombres no puede ser Mayor al Total Hombres.\",\"\"))","v":""},{"$f":"IF(AND(E30>0,OR(N30=\"\")),\" * No olvide digitar la variable Pueblos Originarios Mujeres. Digite Cero si no tiene.\",IF(N30>E30,\" * La variable Pueblos Originarios Mujeres no puede ser Mayor al Total Mujeres.\",\"\"))","v":""},{"$f":"IF(AND($D30>0,OR(P30=\"\")),\" * No olvide digitar la variable Migrantes Hombres. Digite Cero si no tiene.\",IF(P30>$D30,\" * La variable Migrantes Hombres no puede ser Mayor al Total Hombres.\",\"\"))","v":""},{"$f":"IF(AND($E30>0,OR(Q30=\"\")),\" * No olvide digitar la variable Migrantes Mujeres. Digite Cero si no tiene.\",IF(Q30>$E30,\" * La variable Migrantes Mujeres no puede ser Mayor al Total Mujeres.\",\"\"))","v":""},null,null,null,{"$f":"IF(AND($D30>0,OR(M30=\"\")),1,IF(M30>$D30,1,0))","v":0},{"$f":"IF(AND($E30>0,OR(N30=\"\")),1,IF(N30>$E30,1,0))","v":0},{"$f":"IF(AND($D30>0,OR(P30=\"\")),1,IF(P30>$D30,1,0))","v":0},{"$f":"IF(AND($E30>0,OR(Q30=\"\")),1,IF(Q30>$E30,1,0))","v":0}]
["Rangos percentilares para circunferencia de cintura","Normal (p<75)",0,0,0,{"$f":"SUM(G31:H31)","v":0},null,null,{"$f":"SUM(J31:K31)","v":0},null,null,{"$f":"SUM(M31:N31)","v":0},null,null,{"$f":"SUM(P31:Q31)","v":0},null,null,"",null,null,null,null,null,null,null,null,null,null,null,null,null,null,null,null,null,"","","",{"$f":"IF(AND($E31>0,OR(Q31=\"\")),\" * No olvide digitar la variable Migrantes Mujeres. Digite Cero si no tiene.\",IF(Q31>$E31,\" * La variable Migrantes Mujeres no puede ser Mayor al Total Mujeres.\",\"\"))","v":""},null,null,null,0,0,0,0]
[null,"Riesgo de obesidad  (p75<p<90)",0,0,0,{"$f":"SUM(G32:H32)","v":0},null,null,{"$f":"SUM(J32:K32)","v":0},null,null,{"$f":"SUM(M32:N32)","v":0},null,null,{"$f":"SUM(P32:Q32)","v":0},null,null,"",null,null,null,null,null,null,null,null,null,null,null,null,null,null,null,null,null,"","","",{"$f":"IF(AND($E32>0,OR(Q32=\"\")),\" * No olvide digitar la variable Migrantes Mujeres. Digite Cero si no tiene.\",IF(Q32>$E32,\" * La variable Migrantes Mujeres no puede ser Mayor al Total Mujeres.\",\"\"))","v":""},null,null,null,0,0,0,0]
[null,"Obesidad abdominal  p>90)",0,0,0,{"$f":"SUM(G33:H33)","v":0},null,null,{"$f":"SUM(J33:K33)","v":0},null,null,{"$f":"SUM(M33:N33)","v":0},null,null,{"$f":"SUM(P33:Q33)","v":0},null,null,"",null,null,null,null,null,null,null,null,null,null,null,null,null,null,null,null,null,"","","",{"$f":"IF(AND($E33>0,OR(Q33=\"\")),\" * No olvide digitar la variable Migrantes Mujeres. Digite Cero si no tiene.\",IF(Q33>$E33,\" * La variable Migrantes Mujeres no puede ser Mayor al Total Mujeres.\",\"\"))","v":""},null,null,null,0,0,0,0]
[null,"TOTAL",0,0,0,{"$f":"SUM(F31:F33)","v":0},{"$f":"SUM(G31:G33)","v":0},{"$f":"SUM(H31:H33)","v":0},{"$f":"SUM(I31:I33)","v":0},0,0,{"$f":"SUM(L31:L33)","v":0},0,0,{"$f":"SUM(O31:O33)","v":0},0,0]
["Estado nutricional","Déficit ponderado bajo peso",0,{"$f":"+G35+J35","v":0},{"$f":"+H35+K35","v":0},{"$f":"SUM(G35:H35)","v":0},null,null,{"$f":"SUM(J35:K35)","v":0},null,null,{"$f":"SUM(M35:N35)","v":0},null,null,{"$f":"SUM(P35:Q35)","v":0},null,null,"",null,null,null,null,null,null,null,null,null,null,null,null,null,null,null,null,null,{"$f":"IF(AND(D35>0,OR(M35=\"\")),\" * No olvide digitar la variable Pueblos Originarios Hombres. Digite Cero si no tiene.\",IF(M35>D35,\" * La variable Pueblos Originarios Hombres no puede ser Mayor al Total Hombres.\",\"\"))","v":""},{"$f":"IF(AND(E35>0,OR(N35=\"\")),\" * No olvide digitar la variable Pueblos Originarios Mujeres. Digite Cero si no tiene.\",IF(N35>E35,\" * La variable Pueblos Originarios Mujeres no puede ser Mayor al Total Mujeres.\",\"\"))","v":""},{"$f":"IF(AND($D35>0,OR(P35=\"\")),\" * No olvide digitar la variable Migrantes Hombres. Digite Cero si no tiene.\",IF(P35>$D35,\" * La variable Migrantes Hombres no puede ser Mayor al Total Hombres.\",\"\"))","v":""},{"$f":"IF(AND($E35>0,OR(Q35=\"\")),\" * No olvide digitar la variable Migrantes Mujeres. Digite Cero si no tiene.\",IF(Q35>$E35,\" * La variable Migrantes Mujeres no puede ser Mayor al Total Mujeres.\",\"\"))","v":""},null,null,null,{"$f":"IF(AND($D35>0,OR(M35=\"\")),1,IF(M35>$D35,1,0))","v":0},{"$f":"IF(AND($E35>0,OR(N35=\"\")),1,IF(N35>$E35,1,0))","v":0},{"$f":"IF(AND($D35>0,OR(P35=\"\")),1,IF(P35>$D35,1,0))","v":0},{"$f":"IF(AND($E35>0,OR(Q35=\"\")),1,IF(Q35>$E35,1,0))","v":0}]
[null,"Desnutrido",0,0,0,0,null,null,0,null,null,0,null,null,0,null,null,"",null,null,null,null,null,null,null,null,null,null,null,null,null,null,null,null,null,"","","","",null,null,null,0,0,0,0]
[null,"Sobrepeso / riesgo obesidad",0,0,0,0,null,null,0,null,null,0,null,null,0,null,null,"",null,null,null,null,null,null,null,null,null,null,null,null,null,null,null,null,null,"","","","",null,null,null,0,0,0,0]
[null,"Obeso",0,0,0,0,null,null,0,null,null,0,null,null,0,null,null,"",null,null,null,null,null,null,null,null,null,null,null,null,null,null,null,null,null,"","","","",null,null,null,0,0,0,0]
[null,"Obeso severo",0,0,0,0,null,null,0,null,null,0,null,null,0,null,null,"",null,null,null,null,null,null,null,null,null,null,null,null,null,null,null,null,null,"","","","",null,null,null,0,0,0,0]
[null,"Normal o eutrofia",0,{"$f":"+G40+J40","v":0},0,0,null,null,0,null,null,0,null,null,0,null,null,"",null,null,null,null,null,null,null,null,null,null,null,null,null,null,null,null,null,"","","","",null,null,null,0,0,0,0]
[null,"Subtotal",0,{"$f":"+G41+J41","v":0},0,{"$f":"SUM(F35:F40)","v":0},{"$f":"SUM(G35:G40)","v":0},0,{"$f":"SUM(I35:I40)","v":0},{"$f":"SUM(J35:J40)","v":0},0,0,{"$f":"SUM(M35:M40)","v":0},{"$f":"SUM(N35:N40)","v":0},{"$f":"SUM(O35:O40)","v":0},0,0]
[null,"\"Desnutrición Secundaria\"",0,{"$f":"+G42+J42","v":0},0,{"$f":"SUM(G42:H42)","v":0},null,null,{"$f":"SUM(J42:K42)","v":0},null,null,{"$f":"SUM(M42:N42)","v":0},null,null,{"$f":"SUM(P42:Q42)","v":0},null,null,{"$f":"AJ42&AK42&AL42&AM42","v":""},null,null,null,null,null,null,null,null,null,null,null,null,null,null,null,null,null,{"$f":"IF(AND(D42>0,OR(M42=\"\")),\" * No olvide digitar la variable Pueblos Originarios Hombres. Digite Cero si no tiene.\",IF(M42>D42,\" * La variable Pueblos Originarios Hombres no puede ser Mayor al Total Hombres.\",\"\"))","v":""},{"$f":"IF(AND(E42>0,OR(N42=\"\")),\" * No olvide digitar la variable Pueblos Originarios Mujeres. Digite Cero si no tiene.\",IF(N42>E42,\" * La variable Pueblos Originarios Mujeres no puede ser Mayor al Total Mujeres.\",\"\"))","v":""},{"$f":"IF(AND($D42>0,OR(P42=\"\")),\" * No olvide digitar la variable Migrantes Hombres. Digite Cero si no tiene.\",IF(P42>$D42,\" * La variable Migrantes Hombres no puede ser Mayor al Total Hombres.\",\"\"))","v":""},{"$f":"IF(AND($E42>0,OR(Q42=\"\")),\" * No olvide digitar la variable Migrantes Mujeres. Digite Cero si no tiene.\",IF(Q42>$E42,\" * La variable Migrantes Mujeres no puede ser Mayor al Total Mujeres.\",\"\"))","v":""},null,null,null,{"$f":"IF(AND($D42>0,OR(M42=\"\")),1,IF(M42>$D42,1,0))","v":0},{"$f":"IF(AND($E42>0,OR(N42=\"\")),1,IF(N42>$E42,1,0))","v":0},{"$f":"IF(AND($D42>0,OR(P42=\"\")),1,IF(P42>$D42,1,0))","v":0},{"$f":"IF(AND($E42>0,OR(Q42=\"\")),1,IF(Q42>$E42,1,0))","v":0}]
[null,"T O T A L",{"$f":"SUM(C35:C40)+C42","v":0},{"$f":"SUM(D35:D40)+D42","v":0},0,0,{"$f":"SUM(G35:G40)+G42","v":0},0,0,{"$f":"SUM(J35:J40)+J42","v":0},0,0,0,0,0,0,0]
["SECCION C: POBLACIÓN EN CONTROL SALUD INTEGRAL DE ADOLESCENTES, SEGÚN EDUCACIÓN Y TRABAJO"]
["Estudio/trabajo",null,"TOTAL",null,null,"10-14 años",null,null,"15 - 19 años",null,null," Pueblos Originarios",null,null," Migrantes"]
[]
[]
[null,null,"Ambos sexos","Hombre","Mujer","Ambos sexos","Hombre","Mujer","Ambos sexos","Hombre","Mujer","Ambos sexos","Hombre","Mujer","Ambos sexos","Hombre","Mujer"]
["Estudia",null,{"$f":"SUM(D49:E49)","v":0},{"$f":"+G49+J49","v":0},{"$f":"+H49+K49","v":0},{"$f":"SUM(G49:H49)","v":0},null,null,{"$f":"SUM(J49:K49)","v":0},null,null,{"$f":"SUM(M49:N49)","v":0},null,null,{"$f":"SUM(P49:Q49)","v":0},null,null,{"$f":"AJ49&AK49&AL49&AM49","v":""},null,null,null,null,null,null,null,null,null,null,null,null,null,null,null,null,null,{"$f":"IF(AND(D49>0,OR(M49=\"\")),\" * No olvide digitar la variable Pueblos Originarios Hombres. Digite Cero si no tiene.\",IF(M49>D49,\" * La variable Pueblos Originarios Hombres no puede ser Mayor al Total Hombres.\",\"\"))","v":""},{"$f":"IF(AND(E49>0,OR(N49=\"\")),\" * No olvide digitar la variable Pueblos Originarios Mujeres. Digite Cero si no tiene.\",IF(N49>E49,\" * La variable Pueblos Originarios Mujeres no puede ser Mayor al Total Mujeres.\",\"\"))","v":""},{"$f":"IF(AND($D49>0,OR(P49=\"\")),\" * No olvide digitar la variable Migrantes Hombres. Digite Cero si no tiene.\",IF(P49>$D49,\" * La variable Migrantes Hombres no puede ser Mayor al Total Hombres.\",\"\"))","v":""},{"$f":"IF(AND($E49>0,OR(Q49=\"\")),\" * No olvide digitar la variable Migrantes Mujeres. Digite Cero si no tiene.\",IF(Q49>$E49,\" * La variable Migrantes Mujeres no puede ser Mayor al Total Mujeres.\",\"\"))","v":""},null,null,null,{"$f":"IF(AND($D49>0,OR(M49=\"\")),1,IF(M49>$D49,1,0))","v":0},{"$f":"IF(AND($E49>0,OR(N49=\"\")),1,IF(N49>$E49,1,0))","v":0},{"$f":"IF(AND($D49>0,OR(P49=\"\")),1,IF(P49>$D49,1,0))","v":0},{"$f":"IF(AND($E49>0,OR(Q49=\"\")),1,IF(Q49>$E49,1,0))","v":0}]
["Deserción escolar",null,0,{"$f":"+G50+J50","v":0},{"$f":"+H50+K50","v":0},0,null,null,0,null,null,0,null,null,0,null,null,"",null,null,null,null,null,null,null,null,null,null,null,null,null,null,null,null,null,"","","","",null,null,null,0,0,0,0]
["Trabajo infantil",null,0,{"$f":"+G51","v":0},{"$f":"+H51","v":0},0,null,null,{"$f":"SUM(J51:K51)","v":0},null,null,0,null,null,0,null,null,"",null,null,null,null,null,null,null,null,null,null,null,null,null,null,null,null,null,"","","","",null,null,null,0,0,0,0]
["Trabajo juvenil",null,{"$f":"SUM(D52:E52)","v":0},{"$f":"+J52","v":0},{"$f":"+K52","v":0},{"$f":"SUM(G52:H52)","v":0},null,null,0,null,null,0,null,null,0,null,null,"",null,null,null,null,null,null,null,null,null,null,null,null,null,null,null,null,null,"","","","",null,null,null,0,0,0,0]
["Peores formas de trabajo infantil",null,0,0,0,0,null,null,0,null,null,0,null,null,0,null,null,"",null,null,null,null,null,null,null,null,null,null,null,null,null,null,null,null,null,"","","","",null,null,null,0,0,0,0]
["Servicio doméstico no remunerado peligroso",null,0,0,0,0,null,null,0,null,null,0,null,null,0,null,null,"",null,null,null,null,null,null,null,null,null,null,null,null,null,null,null,null,null,"","","","",null,null,null,0,0,0,0]
["SECCION D: POBLACIÓN EN CONTROL SALUD INTEGRAL DE ADOLESCENTES, SEGÚN ÁREAS DE RIESGO"]
["Aréas de Riesgo",null,"TOTAL",null,null,"10-14 años",null,null,"15 - 19 años",null,null," Pueblos Originarios",null,null," Migrantes"]
[null,null,"Ambos sexos","Hombre","Mujer","Ambos sexos","Hombre","Mujer","Ambos sexos","Hombre","Mujer","Ambos sexos","Hombre","Mujer","Ambos sexos","Hombre","Mujer"]
["Riesgo SSR",null,{"$f":"SUM(D58:E58)","v":0},{"$f":"+G58+J58","v":0},{"$f":"+H58+K58","v":0},{"$f":"SUM(G58:H58)","v":0},null,null,{"$f":"SUM(J58:K58)","v":0},null,null,{"$f":"SUM(M58:N58)","v":0},null,null,{"$f":"SUM(P58:Q58)","v":0},null,null,{"$f":"AJ58&AK58&AL58&AM58","v":""},null,null,null,null,null,null,null,null,null,null,null,null,null,null,null,null,null,{"$f":"IF(AND(D58>0,OR(M58=\"\")),\" * No olvide digitar la variable Pueblos Originarios Hombres. Digite Cero si no tiene.\",IF(M58>D58,\" * La variable Pueblos Originarios Hombres no puede ser Mayor al Total Hombres.\",\"\"))","v":""},{"$f":"IF(AND(E58>0,OR(N58=\"\")),\" * No olvide digitar la variable Pueblos Originarios Mujeres. Digite Cero si no tiene.\",IF(N58>E58,\" * La variable Pueblos Originarios Mujeres no puede ser Mayor al Total Mujeres.\",\"\"))","v":""},{"$f":"IF(AND($D58>0,OR(P58=\"\")),\" * No olvide digitar la variable Migrantes Hombres. Digite Cero si no tiene.\",IF(P58>$D58,\" * La variable Migrantes Hombres no puede ser Mayor al Total Hombres.\",\"\"))","v":""},{"$f":"IF(AND($E58>0,OR(Q58=\"\")),\" * No olvide digitar la variable Migrantes Mujeres. Digite Cero si no tiene.\",IF(Q58>$E58,\" * La variable Migrantes Mujeres no puede ser Mayor al Total Mujeres.\",\"\"))","v":""},null,null,null,{"$f":"IF(AND($D58>0,OR(M58=\"\")),1,IF(M58>$D58,1,0))","v":0},{"$f":"IF(AND($E58>0,OR(N58=\"\")),1,IF(N58>$E58,1,0))","v":0},{"$f":"IF(AND($D58>0,OR(P58=\"\")),1,IF(P58>$D58,1,0))","v":0},{"$f":"IF(AND($E58>0,OR(Q58=\"\")),1,IF(Q58>$E58,1,0))","v":0}]
["Riesgo suicida",null,0,{"$f":"+G59+J59","v":0},{"$f":"+H59+K59","v":0},0,null,null,0,null,null,0,null,null,0,null,null,"",null,null,null,null,null,null,null,null,null,null,null,null,null,null,null,null,null,"","","","",null,null,null,0,0,0,0]
["Riesgo social",null,0,0,0,0,null,null,0,null,null,0,null,null,0,null,null,"",null,null,null,null,null,null,null,null,null,null,null,null,null,null,null,null,null,"","","","",null,null,null,0,0,0,0]
["Riesgo psicoemocional",null,0,0,0,0,null,null,{"$f":"SUM(J61:K61)","v":0},null,null,0,null,null,0,null,null,"",null,null,null,null,null,null,null,null,null,null,null,null,null,null,null,null,null,"","","","",null,null,null,0,0,0,0]
["Violencia",null,{"$f":"SUM(D62:E62)","v":0},{"$f":"+G62+J62","v":0},{"$f":"+H62+K62","v":0},{"$f":"SUM(G62:H62)","v":0},null,null,{"$f":"SUM(J62:K62)","v":0},null,null,{"$f":"SUM(M62:N62)","v":0},null,null,{"$f":"SUM(P62:Q62)","v":0},null,null,"",null,null,null,null,null,null,null,null,null,null,null,null,null,null,null,null,null,"","","","",null,null,null,0,0,0,0]
["Riesgo Alcohol y otras drogas",null,0,0,0,0,null,null,0,null,null,0,null,null,0,null,null,"",null,null,null,null,null,null,null,null,null,null,null,null,null,null,null,null,null,"","","","",null,null,null,0,0,0,0]
["Malnutrición por déficit",null,0,0,0,0,null,null,0,null,null,0,null,null,0,null,null,"",null,null,null,null,null,null,null,null,null,null,null,null,null,null,null,null,null,"","","","",null,null,null,0,0,0,0]
["Malnutrición por exceso",null,0,0,0,0,null,null,0,null,null,0,null,null,0,null,null,"",null,null,null,null,null,null,null,null,null,null,null,null,null,null,null,null,null,"","","","",null,null,null,0,0,0,0]
["Riesgo deserción escolar",null,0,{"$f":"+G66+J66","v":0},0,0,null,null,0,null,null,0,null,null,0,null,null,"",null,null,null,null,null,null,null,null,null,null,null,null,null,null,null,null,null,"","","","",null,null,null,0,0,0,0]
["Otro",null,0,0,0,0,null,null,0,null,null,0,null,null,0,null,null,"",null,null,null,null,null,null,null,null,null,null,null,null,null,null,null,null,null,"","","","",null,null,null,0,0,0,0]
["SECCION E: POBLACIÓN EN CONTROL SALUD INTEGRAL DE ADOLESCENTES, SEGÚN ÁMBITOS GINECO-UROLÓGICO/SEXUALIDAD"]
["Ámbitos Gineco-Urológico/Sexualidad",null,"TOTAL",null,null," 10-14 años",null,null," 15 - 19 años",null,null," Pueblos Originarios",null,null," Migrantes"]
[null,null,"Ambos sexos","Hombre","Mujer","Ambos sexos","Hombre","Mujer","Ambos sexos","Hombre","Mujer","Ambos sexos","Hombre","Mujer","Ambos sexos","Hombre","Mujer"]
["Adolescentes con conducta postergadora",null,{"$f":"SUM(D71:E71)","v":0},{"$f":"+G71+J71","v":0},{"$f":"+H71+K71","v":0},{"$f":"SUM(G71:H71)","v":0},null,null,{"$f":"SUM(J71:K71)","v":0},null,null,{"$f":"SUM(M71:N71)","v":0},null,null,{"$f":"SUM(P71:Q71)","v":0},null,null,{"$f":"AJ71&AK71&AL71&AM71","v":""},null,null,null,null,null,null,null,null,null,null,null,null,null,null,null,null,null,{"$f":"IF(AND(D71>0,OR(M71=\"\")),\" * No olvide digitar la variable Pueblos Originarios Hombres. Digite Cero si no tiene.\",IF(M71>D71,\" * La variable Pueblos Originarios Hombres no puede ser Mayor al Total Hombres.\",\"\"))","v":""},{"$f":"IF(AND(E71>0,OR(N71=\"\")),\" * No olvide digitar la variable Pueblos Originarios Mujeres. Digite Cero si no tiene.\",IF(N71>E71,\" * La variable Pueblos Originarios Mujeres no puede ser Mayor al Total Mujeres.\",\"\"))","v":""},{"$f":"IF(AND($D71>0,OR(P71=\"\")),\" * No olvide digitar la variable Migrantes Hombres. Digite Cero si no tiene.\",IF(P71>$D71,\" * La variable Migrantes Hombres no puede ser Mayor al Total Hombres.\",\"\"))","v":""},{"$f":"IF(AND($E71>0,OR(Q71=\"\")),\" * No olvide digitar la variable Migrantes Mujeres. Digite Cero si no tiene.\",IF(Q71>$E71,\" * La variable Migrantes Mujeres no puede ser Mayor al Total Mujeres.\",\"\"))","v":""},null,null,null,{"$f":"IF(AND($D71>0,OR(M71=\"\")),1,IF(M71>$D71,1,0))","v":0},{"$f":"IF(AND($E71>0,OR(N71=\"\")),1,IF(N71>$E71,1,0))","v":0},{"$f":"IF(AND($D71>0,OR(P71=\"\")),1,IF(P71>$D71,1,0))","v":0},{"$f":"IF(AND($E71>0,OR(Q71=\"\")),1,IF(Q71>$E71,1,0))","v":0}]
["Adolescentes con conducta anticipadora",null,{"$f":"SUM(D72:E72)","v":0},{"$f":"+G72+J72","v":0},{"$f":"+H72+K72","v":0},{"$f":"SUM(G72:H72)","v":0},null,null,{"$f":"SUM(J72:K72)","v":0},null,null,{"$f":"SUM(M72:N72)","v":0},null,null,{"$f":"SUM(P72:Q72)","v":0},null,null,"",null,null,null,null,null,null,null,null,null,null,null,null,null,null,null,null,null,"","","","",null,null,null,0,0,0,0]
["Adolescentes con conducta activa",null,0,0,0,0,null,null,0,null,null,0,null,null,0,null,null,"",null,null,null,null,null,null,null,null,null,null,null,null,null,null,null,null,null,"","","","",null,null,null,0,0,0,0]
["Uso actual de método anticonceptivo",null,0,0,0,0,null,null,0,null,null,0,null,null,0,null,null,"",null,null,null,null,null,null,null,null,null,null,null,null,null,null,null,null,null,"","","","",null,null,null,0,0,0,0]
["Uso actual de doble protección",null,0,0,0,0,null,null,0,null,null,0,null,null,0,null,null,"",null,null,null,null,null,null,null,null,null,null,null,null,null,null,null,null,null,"","","","",null,null,null,0,0,0,0]
["Adolescente con antecedente de un primer embarazo",null,{"$f":"SUM(D76:E76)","v":0},{"$f":"+G76+J76","v":0},0,0,null,null,0,null,null,0,null,null,0,null,null,"",null,null,null,null,null,null,null,null,null,null,null,null,null,null,null,null,null,"","","","",null,null,null,0,0,0,0]
["Adolescente con antecedente de más de un embarazo",null,{"$f":"SUM(D77:E77)","v":0},{"$f":"+G77+J77","v":0},{"$f":"+H77+K77","v":0},{"$f":"SUM(G77:H77)","v":0},null,null,{"$f":"SUM(J77:K77)","v":0},null,null,{"$f":"SUM(M77:N77)","v":0},null,null,{"$f":"SUM(P77:Q77)","v":0},null,null,"",null,null,null,null,null,null,null,null,null,null,null,null,null,null,null,null,null,"","","","",null,null,null,0,0,0,0]
["Adolescente con antecedente de aborto",null,0,0,0,0,null,null,0,null,null,0,null,null,0,null,null,"",null,null,null,null,null,null,null,null,null,null,null,null,null,null,null,null,null,"","","","",null,null,null,0,0,0,0]
["SECCION F: POBLACIÓN EN CONTROL SALUD INTEGRAL DE ADOLESCENTES, SEGÚN TIPO DE  VIOLENCIA"]
["Tipo violencia",null,"TOTAL",null,null,"10-14 años",null,null,"15 - 19 años",null,null," Pueblos Originarios",null,null," Migrantes"]
[null,null,"Ambos sexos","Hombre","Mujer","Ambos sexos","Hombre","Mujer","Ambos sexos","Hombre","Mujer","Ambos sexos","Hombre","Mujer","Ambos sexos","Hombre","Mujer"]
["Violencia intrafamiliar",null,{"$f":"SUM(D82:E82)","v":0},{"$f":"+G82+J82","v":0},{"$f":"+H82+K82","v":0},{"$f":"SUM(G82:H82)","v":0},null,null,{"$f":"SUM(J82:K82)","v":0},null,null,{"$f":"SUM(M82:N82)","v":0},null,null,{"$f":"SUM(P82:Q82)","v":0},null,null,{"$f":"AJ82&AK82&AL82&AM82","v":""},null,null,null,null,null,null,null,null,null,null,null,null,null,null,null,null,null,{"$f":"IF(AND(D82>0,OR(M82=\"\")),\" * No olvide digitar la variable Pueblos Originarios Hombres. Digite Cero si no tiene.\",IF(M82>D82,\" * La variable Pueblos Originarios Hombres no puede ser Mayor al Total Hombres.\",\"\"))","v":""},{"$f":"IF(AND(E82>0,OR(N82=\"\")),\" * No olvide digitar la variable Pueblos Originarios Mujeres. Digite Cero si no tiene.\",IF(N82>E82,\" * La variable Pueblos Originarios Mujeres no puede ser Mayor al Total Mujeres.\",\"\"))","v":""},{"$f":"IF(AND($D82>0,OR(P82=\"\")),\" * No olvide digitar la variable Migrantes Hombres. Digite Cero si no tiene.\",IF(P82>$D82,\" * La variable Migrantes Hombres no puede ser Mayor al Total Hombres.\",\"\"))","v":""},{"$f":"IF(AND($E82>0,OR(Q82=\"\")),\" * No olvide digitar la variable Migrantes Mujeres. Digite Cero si no tiene.\",IF(Q82>$E82,\" * La variable Migrantes Mujeres no puede ser Mayor al Total Mujeres.\",\"\"))","v":""},null,null,null,{"$f":"IF(AND($D82>0,OR(M82=\"\")),1,IF(M82>$D82,1,0))","v":0},{"$f":"IF(AND($E82>0,OR(N82=\"\")),1,IF(N82>$E82,1,0))","v":0},{"$f":"IF(AND($D82>0,OR(P82=\"\")),1,IF(P82>$D82,1,0))","v":0},{"$f":"IF(AND($E82>0,OR(Q82=\"\")),1,IF(Q82>$E82,1,0))","v":0}]
["Violencia de pareja / pololeo",null,{"$f":"SUM(D83:E83)","v":0},{"$f":"+G83+J83","v":0},0,{"$f":"SUM(G83:H83)","v":0},null,null,0,null,null,0,null,null,0,null,null,{"$f":"AJ83&AK83&AL83&AM83","v":""},null,null,null,null,null,null,null,null,null,null,null,null,null,null,null,null,null,{"$f":"IF(AND(D83>0,OR(M83=\"\")),\" * No olvide digitar la variable Pueblos Originarios Hombres. Digite Cero si no tiene.\",IF(M83>D83,\" * La variable Pueblos Originarios Hombres no puede ser Mayor al Total Hombres.\",\"\"))","v":""},{"$f":"IF(AND(E83>0,OR(N83=\"\")),\" * No olvide digitar la variable Pueblos Originarios Mujeres. Digite Cero si no tiene.\",IF(N83>E83,\" * La variable Pueblos Originarios Mujeres no puede ser Mayor al Total Mujeres.\",\"\"))","v":""},"",{"$f":"IF(AND($E83>0,OR(Q83=\"\")),\" * No olvide digitar la variable Migrantes Mujeres. Digite Cero si no tiene.\",IF(Q83>$E83,\" * La variable Migrantes Mujeres no puede ser Mayor al Total Mujeres.\",\"\"))","v":""},null,null,null,0,0,0,0]
["Violencia sexual",null,0,0,0,0,null,null,0,null,null,0,null,null,0,null,null,"",null,null,null,null,null,null,null,null,null,null,null,null,null,null,null,null,null,{"$f":"IF(AND(D84>0,OR(M84=\"\")),\" * No olvide digitar la variable Pueblos Originarios Hombres. Digite Cero si no tiene.\",IF(M84>D84,\" * La variable Pueblos Originarios Hombres no puede ser Mayor al Total Hombres.\",\"\"))","v":""},{"$f":"IF(AND(E84>0,OR(N84=\"\")),\" * No olvide digitar la variable Pueblos Originarios Mujeres. Digite Cero si no tiene.\",IF(N84>E84,\" * La variable Pueblos Originarios Mujeres no puede ser Mayor al Total Mujeres.\",\"\"))","v":""},"",{"$f":"IF(AND($E84>0,OR(Q84=\"\")),\" * No olvide digitar la variable Migrantes Mujeres. Digite Cero si no tiene.\",IF(Q84>$E84,\" * La variable Migrantes Mujeres no puede ser Mayor al Total Mujeres.\",\"\"))","v":""},null,null,null,0,0,0,0]
["Violencia escolar o Bullyng ",null,0,0,0,0,null,null,0,null,null,0,null,null,0,null,null,"",null,null,null,null,null,null,null,null,null,null,null,null,null,null,null,null,null,{"$f":"IF(AND(D85>0,OR(M85=\"\")),\" * No olvide digitar la variable Pueblos Originarios Hombres. Digite Cero si no tiene.\",IF(M85>D85,\" * La variable Pueblos Originarios Hombres no puede ser Mayor al Total Hombres.\",\"\"))","v":""},{"$f":"IF(AND(E85>0,OR(N85=\"\")),\" * No olvide digitar la variable Pueblos Originarios Mujeres. Digite Cero si no tiene.\",IF(N85>E85,\" * La variable Pueblos Originarios Mujeres no puede ser Mayor al Total Mujeres.\",\"\"))","v":""},"",{"$f":"IF(AND($E85>0,OR(Q85=\"\")),\" * No olvide digitar la variable Migrantes Mujeres. Digite Cero si no tiene.\",IF(Q85>$E85,\" * La variable Migrantes Mujeres no puede ser Mayor al Total Mujeres.\",\"\"))","v":""},null,null,null,0,0,0,0]
["Violencia virtual",null,0,0,0,0,null,null,0,null,null,0,null,null,0,null,null,"",null,null,null,null,null,null,null,null,null,null,null,null,null,null,null,null,null,{"$f":"IF(AND(D86>0,OR(M86=\"\")),\" * No olvide digitar la variable Pueblos Originarios Hombres. Digite Cero si no tiene.\",IF(M86>D86,\" * La variable Pueblos Originarios Hombres no puede ser Mayor al Total Hombres.\",\"\"))","v":""},{"$f":"IF(AND(E86>0,OR(N86=\"\")),\" * No olvide digitar la variable Pueblos Originarios Mujeres. Digite Cero si no tiene.\",IF(N86>E86,\" * La variable Pueblos Originarios Mujeres no puede ser Mayor al Total Mujeres.\",\"\"))","v":""},"",{"$f":"IF(AND($E86>0,OR(Q86=\"\")),\" * No olvide digitar la variable Migrantes Mujeres. Digite Cero si no tiene.\",IF(Q86>$E86,\" * La variable Migrantes Mujeres no puede ser Mayor al Total Mujeres.\",\"\"))","v":""},null,null,null,0,0,0,0]
["SECCION G: POBLACIÓN EN CONTROL DE SALUD INTEGRAL ADOLESCENTES QUE RECIBE CONSEJERÍA"]
["Actividad y Área Temática","Grupos de Edad","Total de Adolescentes que reciben Consejería",null,null," Pueblos Originarios",null,null," Migrantes",null,null,"Espacios Amigables"]
[null,null,"Ambos sexos","Hombre","Mujer","Ambos sexos","Hombre","Mujer","Ambos sexos","Hombre","Mujer","Ambos sexos","Hombre","Mujer"]
["Actividad física","10-14 años",{"$f":"SUM(D90:E90)","v":0},null,null,{"$f":"SUM(G90:H90)","v":0},null,null,{"$f":"SUM(J90:K90)","v":0},null,null,{"$f":"SUM(M90:N90)","v":0},null,null,{"$f":"AJ90&AK90&AL90&AM90&AN90&AO90","v":""},null,null,null,null,null,null,null,null,null,null,null,null,null,null,null,null,null,null,null,null,{"$f":"IF(AND($D90>0,OR($G90=\"\")),\" * No olvide digitar la variable Pueblos Originarios Hombres. Digite Cero si no tiene.\",IF($G90>$D90,\" * La variable Pueblos Originarios Hombres no puede ser Mayor al Total Hombres.\",\"\"))","v":""},{"$f":"IF(AND($E90>0,OR($H90=\"\")),\" * No olvide digitar la variable Pueblos Originarios Mujeres. Digite Cero si no tiene.\",IF($H90>$E90,\" * La variable Pueblos Originarios Mujeres no puede ser Mayor al Total Mujeres.\",\"\"))","v":""},{"$f":"IF(AND($D90>0,OR($J90=\"\")),\" * No olvide digitar la variable Migrantes Hombres. Digite Cero si no tiene.\",IF($J90>$D90,\" * La variable Migrantes Hombres no puede ser Mayor al Total Hombres.\",\"\"))","v":""},{"$f":"IF(AND($E90>0,OR($K90=\"\")),\" * No olvide digitar la variable Migrantes Mujeres. Digite Cero si no tiene.\",IF($K90>$E90,\" * La variable Migrantes Mujeres no puede ser Mayor al Total Mujeres.\",\"\"))","v":""},{"$f":"IF(AND($D90>0,OR($M90=\"\")),\" * No olvide digitar la variable Espacios Amigables Hombres. Digite Cero si no tiene.\",IF($M90>$D90,\" * La variable Espacios Amigables Hombres no puede ser Mayor al Total Hombres.\",\"\"))","v":""},{"$f":"IF(AND($E90>0,OR(N90=\"\")),\" * No olvide digitar la variable Espacios Amigables Mujeres. Digite Cero si no tiene.\",IF(N90>$E90,\" * La variable Espacios Amigables Mujeres no puede ser Mayor al Total Mujeres.\",\"\"))","v":""},null,{"$f":"IF(AND($D90>0,OR(G90=\"\")),1,IF(G90>$D90,1,0))","v":0},{"$f":"IF(AND($E90>0,OR(H90=\"\")),1,IF(H90>$E90,1,0))","v":0},{"$f":"IF(AND($D90>0,OR(J90=\"\")),1,IF(J90>$D90,1,0))","v":0},{"$f":"IF(AND($E90>0,OR(K90=\"\")),1,IF(K90>$E90,1,0))","v":0},{"$f":"IF(AND($D90>0,OR(M90=\"\")),1,IF(M90>$D90,1,0))","v":0},{"$f":"IF(AND($E90>0,OR(N90=\"\")),1,IF(N90>$E90,1,0))","v":0}]
[null,"15-19 años",{"$f":"SUM(D91:E91)","v":0},null,null,{"$f":"SUM(G91:H91)","v":0},null,null,{"$f":"SUM(J91:K91)","v":0},null,null,{"$f":"SUM(M91:N91)","v":0},null,null,{"$f":"AJ91&AK91&AL91&AM91&AN91&AO91","v":""},null,null,null,null,null,null,null,null,null,null,null,null,null,null,null,null,null,null,null,null,{"$f":"IF(AND($D91>0,OR($G91=\"\")),\" * No olvide digitar la variable Pueblos Originarios Hombres. Digite Cero si no tiene.\",IF($G91>$D91,\" * La variable Pueblos Originarios Hombres no puede ser Mayor al Total Hombres.\",\"\"))","v":""},{"$f":"IF(AND($E91>0,OR($H91=\"\")),\" * No olvide digitar la variable Pueblos Originarios Mujeres. Digite Cero si no tiene.\",IF($H91>$E91,\" * La variable Pueblos Originarios Mujeres no puede ser Mayor al Total Mujeres.\",\"\"))","v":""},{"$f":"IF(AND($D91>0,OR($J91=\"\")),\" * No olvide digitar la variable Migrantes Hombres. Digite Cero si no tiene.\",IF($J91>$D91,\" * La variable Migrantes Hombres no puede ser Mayor al Total Hombres.\",\"\"))","v":""},{"$f":"IF(AND($E91>0,OR($K91=\"\")),\" * No olvide digitar la variable Migrantes Mujeres. Digite Cero si no tiene.\",IF($K91>$E91,\" * La variable Migrantes Mujeres no puede ser Mayor al Total Mujeres.\",\"\"))","v":""},{"$f":"IF(AND($D91>0,OR($M91=\"\")),\" * No olvide digitar la variable Espacios Amigables Hombres. Digite Cero si no tiene.\",IF($M91>$D91,\" * La variable Espacios Amigables Hombres no puede ser Mayor al Total Hombres.\",\"\"))","v":""},{"$f":"IF(AND($E91>0,OR(N91=\"\")),\" * No olvide digitar la variable Espacios Amigables Mujeres. Digite Cero si no tiene.\",IF(N91>$E91,\" * La variable Espacios Amigables Mujeres no puede ser Mayor al Total Mujeres.\",\"\"))","v":""},null,{"$f":"IF(AND($D91>0,OR(G91=\"\")),1,IF(G91>$D91,1,0))","v":0},{"$f":"IF(AND($E91>0,OR(H91=\"\")),1,IF(H91>$E91,1,0))","v":0},{"$f":"IF(AND($D91>0,OR(J91=\"\")),1,IF(J91>$D91,1,0))","v":0},{"$f":"IF(AND($E91>0,OR(K91=\"\")),1,IF(K91>$E91,1,0))","v":0},{"$f":"IF(AND($D91>0,OR(M91=\"\")),1,IF(M91>$D91,1,0))","v":0},{"$f":"IF(AND($E91>0,OR(N91=\"\")),1,IF(N91>$E91,1,0))","v":0}]
["Alimentación saludable","10-14 años",{"$f":"SUM(D92:E92)","v":0},null,null,0,null,null,0,null,null,0,null,null,"",null,null,null,null,null,null,null,null,null,null,null,null,null,null,null,null,null,null,null,null,"","","","","","",null,0,0,0,0,0,0]
[null,"15-19 años",0,null,null,0,null,null,0,null,null,{"$f":"SUM(M93:N93)","v":0},null,null,"",null,null,null,null,null,null,null,null,null,null,null,null,null,null,null,null,null,null,null,null,"","","","",{"$f":"IF(AND($D93>0,OR($M93=\"\")),\" * No olvide digitar la variable Espacios Amigables Hombres. Digite Cero si no tiene.\",IF($M93>$D93,\" * La variable Espacios Amigables Hombres no puede ser Mayor al Total Hombres.\",\"\"))","v":""},"",null,0,0,0,0,0,{"$f":"IF(AND($E93>0,OR(N93=\"\")),1,IF(N93>$E93,1,0))","v":0}]
["Tabaquismo","10-14 años",0,null,null,0,null,null,0,null,null,0,null,null,"",null,null,null,null,null,null,null,null,null,null,null,null,null,null,null,null,null,null,null,null,"","","","","","",null,0,0,0,0,0,0]
[null,"15-19 años",0,null,null,0,null,null,0,null,null,0,null,null,"",null,null,null,null,null,null,null,null,null,null,null,null,null,null,null,null,null,null,null,null,"","","","","","",null,0,0,0,0,0,0]
["Consumo de drogas","10-14 años",0,null,null,0,null,null,0,null,null,0,null,null,"",null,null,null,null,null,null,null,null,null,null,null,null,null,null,null,null,null,null,null,null,"","","","","","",null,0,0,0,0,0,0]
[null,"15-19 años",0,null,null,0,null,null,0,null,null,0,null,null,"",null,null,null,null,null,null,null,null,null,null,null,null,null,null,null,null,null,null,null,null,"","","","","","",null,0,0,0,0,0,0]
["Salud sexual reproductiva","10-14 años",0,null,null,0,null,null,0,null,null,0,null,null,"",null,null,null,null,null,null,null,null,null,null,null,null,null,null,null,null,null,null,null,null,"","","","","","",null,0,0,0,0,0,0]
[null,"15-19 años",0,null,null,0,null,null,0,null,null,0,null,null,"",null,null,null,null,null,null,null,null,null,null,null,null,null,null,null,null,null,null,null,null,"","","","","","",null,0,0,0,0,0,0]
["Regulación de fecundidad","10-14 años",0,null,null,0,null,null,0,null,null,0,null,null,"",null,null,null,null,null,null,null,null,null,null,null,null,null,null,null,null,null,null,null,null,"","","","","","",null,0,0,0,0,0,0]
[null,"15-19 años",0,null,null,0,null,null,0,null,null,0,null,null,"",null,null,null,null,null,null,null,null,null,null,null,null,null,null,null,null,null,null,null,null,"","","","","","",null,0,0,0,0,0,0]
["Prevención VIH-ITS","10-14 años",0,null,null,0,null,null,0,null,null,{"$f":"SUM(M102:N102)","v":0},null,null,"",null,null,null,null,null,null,null,null,null,null,null,null,null,null,null,null,null,null,null,null,"","","","","","",null,0,0,0,0,0,0]
[null,"15-19 años",0,null,null,0,null,null,0,null,null,{"$f":"SUM(M103:N103)","v":0},null,null,{"$f":"AJ103&AK103&AL103&AM103&AN103&AO103","v":""},null,null,null,null,null,null,null,null,null,null,null,null,null,null,null,null,null,null,null,null,"","","","","","",null,0,0,0,0,0,0]
[]
[]
[]
[]
[]
[{"$f":"SUM(C16:C42,C12,,C49:C54,C58:C67,C71:C78,C82:C86,C90:C103)","v":0},"datos"]
[{"$f":"SUM(AQ12:AV103)","v":0},"errores"]

{"sheet":"P11","index":9,"n_rows":34,"n_cols":105,"rows_kept":34,"cut":false,"hidden":false,"merged":[[6,0,6,27],[17,0,17,5],[7,0,7,9],[18,96,19,96],[18,97,19,97],[18,79,19,80],[18,81,20,81],[18,82,20,82],[18,83,19,83],[8,49,10,49],[19,20,19,21],[19,16,19,17],[19,24,19,25],[19,26,19,27],[8,48,10,48],[9,32,9,33],[18,98,19,98],[8,91,10,91],[8,92,10,92],[18,84,19,84],[18,85,19,85],[18,90,19,93],[18,94,20,94],[18,95,20,95],[9,28,9,29],[9,30,9,31],[8,47,10,47],[18,35,20,35],[18,34,20,34],[8,46,10,46],[9,42,9,43],[9,40,9,41],[8,44,9,45],[18,32,19,33],[8,6,8,43],[9,36,9,37],[9,38,9,39],[9,34,9,35],[9,26,9,27],[9,8,9,9],[8,3,9,5],[18,0,20,0],[18,1,19,3],[18,4,18,31],[19,4,19,5],[19,6,19,7],[19,10,19,11],[19,12,19,13],[19,14,19,15],[19,8,19,9],[19,18,19,19],[19,22,19,23],[19,30,19,31],[13,1,14,1],[19,28,19,29],[9,6,9,7],[9,10,9,11],[9,12,9,13],[9,24,9,25],[9,18,9,19],[9,22,9,23],[9,20,9,21],[9,14,9,15],[9,16,9,17],[15,0,16,0],[8,97,9,97],[8,82,10,82],[8,93,10,93],[8,96,9,96],[8,78,9,79],[8,80,10,80],[8,81,10,81],[8,84,9,84],[8,95,9,95],[8,86,9,86],[8,85,9,85],[8,89,9,90],[11,0,14,0],[11,1,12,1],[8,0,10,2],[8,99,9,99],[8,87,9,87],[8,83,10,83],[8,88,9,88],[8,94,10,94],[8,98,9,98]]}
["DATOS DEL ESTABLECIMIENTO"]
[{"$f":"CONCATENATE(\"COMUNA: \",NOMBRE!$B$2,\"   \",\"( \",NOMBRE!$C$2,NOMBRE!$D$2,NOMBRE!$E$2,NOMBRE!$F$2,NOMBRE!$G$2,\" )\")","v":"COMUNA:    (  )"}]
[{"$f":"CONCATENATE(\"ESTABLECIMIENTO/ESTRATEGIA: \",NOMBRE!$B$3,\"   \",\"( \",NOMBRE!$C$3,NOMBRE!$D$3,NOMBRE!$E$3,NOMBRE!$F$3,NOMBRE!$G$3,NOMBRE!$H$3,\" )\")","v":"ESTABLECIMIENTO/ESTRATEGIA:    (  )"}]
[{"$f":"CONCATENATE(\"MES: \",NOMBRE!$B$6,\"   \",\"( \",NOMBRE!$C$6,NOMBRE!$D$6,\" )\")","v":"MES:    (  )"}]
[{"$f":"CONCATENATE(\"AÑO: \",NOMBRE!$B$7)","v":"AÑO: 2026"}]
[]
["REM-P11. POBLACIÓN EN CONTROL PROGRAMA DE INFECCIONES DE TRASMISIÓN SEXUAL - VIH / SIDA"]
["SECCION A: POBLACIÓN EN CONTROL DEL PROGRAMA DE VIH/SIDA (Uso exclusivo Centros de Atención VIH-SIDA)"]
["Concepto",null,null,"TOTAL",null,null,"RANGO ETARIO Y SEXO",null,null,null,null,null,null,null,null,null,null,null,null,null,null,null,null,null,null,null,null,null,null,null,null,null,null,null,null,null,null,null,null,null,null,null,null,null,"TRANS",null,"Pueblos Originarios","Migrantes","SENAME/ Servicio Nacional de Reinserción social Juvenil ","Servicio Nacional Protección Especializada a la Niñez y Adolescencia",null,null,null,null,null,null,null,null,null,null,null,null,null,null,null,null,null,null,null,null,null,null,null,null,null,null,null,null,"TRANS",null,"Pueblos Originarios","Población Migrantes","Población SENAME","Población Mejor Niñez",null,null,null,null,null,"TRANS",null,"Pueblos Originarios","Población Migrantes","Población SENAME","Población Mejor Niñez"]
[null,null,null,null,null,null,"Menor 1 Año",null,"1 año",null,"2 a 4 años",null,"5 a 9 años",null,"10 a 14 años",null,"15 a 19 años",null,"20 a 24 años",null,"25 a 29 años",null,"30 a 34 años",null,"35 a 39 años",null,"40 a 44 años",null,"45 a 49 años",null,"50 a 54 años",null,"55 a 59 años",null,"60 a 64 años",null,"65 a 69 años",null,"70 a 74 años",null,"75 a 79 años",null,"80 y más años"]
[null,null,null,"Ambos sexos","Hombres","Mujeres","Hombres ","Mujeres","Hombres ","Mujeres","Hombres ","Mujeres","Hombres ","Mujeres","Hombres ","Mujeres","Hombres ","Mujeres","Hombres ","Mujeres","Hombres ","Mujeres","Hombres ","Mujeres","Hombres ","Mujeres","Hombres ","Mujeres","Hombres ","Mujeres","Hombres ","Mujeres","Hombres ","Mujeres","Hombres ","Mujeres","Hombres ","Mujeres","Hombres ","Mujeres","Hombres ","Mujeres","Hombres ","Mujeres","Masculino","Femenino",null,null,null,null,null,null,null,null,null,null,null,null,null,null,null,null,null,null,null,null,null,null,null,null,null,null,null,null,null,null,null,null,"Masculino","Femenino (NO)",null,null,null,null,null,null,null,null,null,"Masculino","Femenino (NO)"]
["Nº Total de personas con VIH/SIDA","Gestantes","Inicia TARV en este embarazo",{"$f":"SUM(F12)","v":0},null,{"$f":"+P12+R12+T12+V12+X12+Z12+AB12+AD12+AF12+AH12","v":0},null,null,null,null,null,null,null,null,null,null,null,null,null,null,null,null,null,null,null,null,null,null,null,null,null,null,null,null,null,null,null,null,null,null,null,null,null,null,null,null,null,null,null,null,{"$f":"CA12&CB12&CC12&CD12&CE12&CF12","v":""},null,null,null,null,null,null,null,null,null,null,null,null,null,null,null,null,null,null,null,null,null,null,null,null,null,null,null,{"$f":"IF(AND($F12>0,OR($AS12=\"\")),\" * No olvide digitar la variable Trans Masculino. Digite Cero si no tiene.\",IF($AS12>$F12,\" * La variable Trans Masculino no debe ser mayor al Total Mujeres.\",\"\"))","v":""},null,{"$f":"IF(AND($D12>0,OR($AU12=\"\")),\" * No olvide digitar la variable Pueblos Originarios. Digite Cero si no tiene.\",IF($AU12>D12,\" * La variable Pueblos Originarios no puede ser Mayor al Total Ambos Sexos.\",\"\"))","v":""},{"$f":"IF(AND($D12>0,OR($AV12=\"\")),\" * No olvide digitar la variable Migrantes. Digite Cero si no tiene.\",IF($AV12>$D12,\" * La variable Migrantes no puede ser Mayor al Total Ambos Sexos.\",\"\"))","v":""},{"$f":"IF(AND($D12>0,OR($AW12=\"\")),\" * No olvide digitar la variable \"&AW$9&\". Digite Cero si no tiene.\",IF($AW12>$D12,\" * La variable \"&AW$9&\" no puede ser Mayor al Total Ambos Sexos.\",\"\"))","v":""},{"$f":"IF(AND($D12>0,OR($AX12=\"\")),\" * No olvide digitar la variable \"&AX$9&\". Digite Cero si no tiene.\",IF($AX12>$D12,\" * La variable \"&AX$9&\" no puede ser Mayor al Total Ambos Sexos.\",\"\"))","v":""},null,null,null,null,null,{"$f":"IF(AND($F12>0,OR($AS12=\"\")),1,IF($AS12>$F12,1,0))","v":0},null,{"$f":"IF(AND($D12>0,OR($AU12=\"\")),1,IF($AU12>$D12,1,0))","v":0},{"$f":"IF(AND($D12>0,OR($AV12=\"\")),1,IF($AV12>$D12,1,0))","v":0},{"$f":"IF(AND($D12>0,OR($AW12=\"\")),1,IF($AW12>$D12,1,0))","v":0},{"$f":"IF(AND($D12>0,OR($AX12=\"\")),1,IF($AX12>$D12,1,0))","v":0}]
[null,null,"En TARV previa",{"$f":"SUM(F13)","v":0},null,{"$f":"+P13+R13+T13+V13+X13+Z13+AB13+AD13+AF13+AH13","v":0},null,null,null,null,null,null,null,null,null,null,null,null,null,null,null,null,null,null,null,null,null,null,null,null,null,null,null,null,null,null,null,null,null,null,null,null,null,null,null,null,null,null,null,null,{"$f":"CA13&CB13&CC13&CD13&CE13&CF13","v":""},null,null,null,null,null,null,null,null,null,null,null,null,null,null,null,null,null,null,null,null,null,null,null,null,null,null,null,{"$f":"IF(AND($F13>0,OR($AS13=\"\")),\" * No olvide digitar la variable Trans Masculino. Digite Cero si no tiene.\",IF($AS13>$F13,\" * La variable Trans Masculino no debe ser mayor al Total Mujeres.\",\"\"))","v":""},null,{"$f":"IF(AND($D13>0,OR($AU13=\"\")),\" * No olvide digitar la variable Pueblos Originarios. Digite Cero si no tiene.\",IF($AU13>D13,\" * La variable Pueblos Originarios no puede ser Mayor al Total Ambos Sexos.\",\"\"))","v":""},{"$f":"IF(AND($D13>0,OR($AV13=\"\")),\" * No olvide digitar la variable Migrantes. Digite Cero si no tiene.\",IF($AV13>$D13,\" * La variable Migrantes no puede ser Mayor al Total Ambos Sexos.\",\"\"))","v":""},{"$f":"IF(AND($D13>0,OR($AW13=\"\")),\" * No olvide digitar la variable \"&AW$9&\". Digite Cero si no tiene.\",IF($AW13>$D13,\" * La variable \"&AW$9&\" no puede ser Mayor al Total Ambos Sexos.\",\"\"))","v":""},{"$f":"IF(AND($D13>0,OR($AX13=\"\")),\" * No olvide digitar la variable \"&AX$9&\". Digite Cero si no tiene.\",IF($AX13>$D13,\" * La variable \"&AX$9&\" no puede ser Mayor al Total Ambos Sexos.\",\"\"))","v":""},null,null,null,null,null,{"$f":"IF(AND($F13>0,OR($AS13=\"\")),1,IF($AS13>$F13,1,0))","v":0},null,0,{"$f":"IF(AND($D13>0,OR($AV13=\"\")),1,IF($AV13>$D13,1,0))","v":0},{"$f":"IF(AND($D13>0,OR($AW13=\"\")),1,IF($AW13>$D13,1,0))","v":0},{"$f":"IF(AND($D13>0,OR($AX13=\"\")),1,IF($AX13>$D13,1,0))","v":0}]
[null,"No Gestantes","Con TARV",{"$f":"SUM(E14:F14)","v":0},{"$f":"+G14+I14+K14+M14+O14+Q14+S14+U14+W14+Y14+AA14+AC14+AE14+AG14+AI14+AK14+AM14+AO14+AQ14","v":0},{"$f":"+H14+J14+L14+N14+P14+R14+T14+V14+X14+Z14+AB14+AD14+AF14+AH14+AJ14+AL14+AN14+AP14+AR14","v":0},null,null,null,null,null,null,null,null,null,null,null,null,null,null,null,null,null,null,null,null,null,null,null,null,null,null,null,null,null,null,null,null,null,null,null,null,null,null,null,null,null,null,null,null,"",null,null,null,null,null,null,null,null,null,null,null,null,null,null,null,null,null,null,null,null,null,null,null,null,null,null,null,"",{"$f":"IF(AND($E14>0,OR($AT14=\"\")),\" * No olvide digitar la variable Trans Femenino. Digite Cero si no tiene.\",IF($AT14>$E14,\" * La variable Trans Femenino no debe ser mayor al Total Hombres.\",\"\"))","v":""},"","","","",null,null,null,null,null,0,{"$f":"IF(AND($E14>0,OR($AT14=\"\")),1,IF($AT14>$E14,1,0))","v":0},0,0,0,0]
[null,null,"Sin TARV",{"$f":"SUM(E15:F15)","v":0},{"$f":"+G15+I15+K15+M15+O15+Q15+S15+U15+W15+Y15+AA15+AC15+AE15+AG15+AI15+AK15+AM15+AO15+AQ15","v":0},{"$f":"+H15+J15+L15+N15+P15+R15+T15+V15+X15+Z15+AB15+AD15+AF15+AH15+AJ15+AL15+AN15+AP15+AR15","v":0},null,null,null,null,null,null,null,null,null,null,null,null,null,null,null,null,null,null,null,null,null,null,null,null,null,null,null,null,null,null,null,null,null,null,null,null,null,null,null,null,null,null,null,null,"",null,null,null,null,null,null,null,null,null,null,null,null,null,null,null,null,null,null,null,null,null,null,null,null,null,null,null,"",{"$f":"IF(AND($E15>0,OR($AT15=\"\")),\" * No olvide digitar la variable Trans Femenino. Digite Cero si no tiene.\",IF($AT15>$E15,\" * La variable Trans Femenino no debe ser mayor al Total Hombres.\",\"\"))","v":""},"","","","",null,null,null,null,null,0,{"$f":"IF(AND($E15>0,OR($AT15=\"\")),1,IF($AT15>$E15,1,0))","v":0},0,0,0,0]
["N° Total de personas en TARV","Gestantes","Con carga viral <a 1000 copias",{"$f":"SUM(F16)","v":0},null,{"$f":"+P16+R16+T16+V16+X16+Z16+AB16+AD16+AF16+AH16","v":0},null,null,null,null,null,null,null,null,null,null,null,null,null,null,null,null,null,null,null,null,null,null,null,null,null,null,null,null,null,null,null,null,null,null,null,null,null,null,null,null,null,null,null,null,"",null,null,null,null,null,null,null,null,null,null,null,null,null,null,null,null,null,null,null,null,null,null,null,null,null,null,null,"",null,"","","","",null,null,null,null,null,0,null,0,0,0,0]
[null,"No Gestantes","Con carga viral <a 1000 copias",{"$f":"SUM(E17:F17)","v":0},{"$f":"+G17+I17+K17+M17+O17+Q17+S17+U17+W17+Y17+AA17+AC17+AE17+AG17+AI17+AK17+AM17+AO17+AQ17","v":0},{"$f":"+H17+J17+L17+N17+P17+R17+T17+V17+X17+Z17+AB17+AD17+AF17+AH17+AJ17+AL17+AN17+AP17+AR17","v":0},null,null,null,null,null,null,null,null,null,null,null,null,null,null,null,null,null,null,null,null,null,null,null,null,null,null,null,null,null,null,null,null,null,null,null,null,null,null,null,null,null,null,null,null,"",null,null,null,null,null,null,null,null,null,null,null,null,null,null,null,null,null,null,null,null,null,null,null,null,null,null,null,"",{"$f":"IF(AND($E17>0,OR($AT17=\"\")),\" * No olvide digitar la variable Trans Femenino. Digite Cero si no tiene.\",IF($AT17>$E17,\" * La variable Trans Femenino no debe ser mayor al Total Hombres.\",\"\"))","v":""},"","","","",null,null,null,null,null,0,{"$f":"IF(AND($E17>0,OR($AT17=\"\")),1,IF($AT17>$E17,1,0))","v":0},0,0,0,0]
["SECCION B: POBLACIÓN EN CONTROL POR COMERCIO SEXUAL (Uso exclusivo de Unidades Control Comercio Sexual)"]
["Concepto","TOTAL",null,null,"RANGO ETARIO Y SEXO",null,null,null,null,null,null,null,null,null,null,null,null,null,null,null,null,null,null,null,null,null,null,null,null,null,null,null,"TRANS",null,"Pueblos Originarios","Migrantes"]
[null,null,null,null,"15 a 19 años",null,"20 a 24 años",null,"25 a 29 años",null,"30 a 34 años",null,"35 a 39 años",null,"40 a 44 años",null,"45 a 49 años",null,"50 a 54 años",null,"55 a 59 años",null,"60 a 64 años",null,"65 a 69 años",null,"70 a 74 años",null,"75 a 79 años",null,"80 y más años",null,null,null,null,null,null,null,null,null,null,null,null,null,null,null,null,null,null,null,null,null,null,null,null,null,null,null,null,null,null,null,null,null,null,null,null,null,null,null,null,null,null,null,null,null,null,null,null,null,null,null,null,null,null,null,null,null,null,null,null,null,null,null,null,null,null,null,null,null,null,null,null,null," "]
[null,"Ambos sexos","Hombres","Mujeres","Hombres ","Mujeres","Hombres ","Mujeres","Hombres ","Mujeres","Hombres ","Mujeres","Hombres ","Mujeres","Hombres ","Mujeres","Hombres ","Mujeres","Hombres ","Mujeres","Hombres ","Mujeres","Hombres ","Mujeres","Hombres ","Mujeres","Hombres ","Mujeres","Hombres ","Mujeres","Hombres ","Mujeres","Masculino","Femenino"]
["Nº de personas / Comercio Sexual",{"$f":"SUM(C22:D22)","v":0},{"$f":"+E22+G22+I22+K22+M22+O22+Q22+S22+U22+W22+Y22+AA22+AC22+AE22","v":0},{"$f":"+F22+H22+J22+L22+N22+P22+R22+T22+V22+X22+Z22+AB22+AD22+AF22","v":0},null,null,null,null,null,null,null,null,null,null,null,null,null,null,null,null,null,null,null,null,null,null,null,null,null,null,null,null,null,null,null,null,{"$f":"CB22&CC22&CD22&CE22&CF22&CA22","v":""},null,null,null,null,null,null,null,null,null,null,null,null,null,null,null,null,null,null,null,null,null,null,null,null,null,null,null,null,null,null,null,null,null,null,null,null,null,null,null,null,null,{"$f":"IF(AND($D22>0,OR($AG22=\"\")),\" * No olvide digitar la variable Trans Masculino. Digite Cero si no tiene.\",IF($AG22>$D22,\" * La variable Trans Masculino no debe ser mayor al Total Mujeres.\",\"\"))","v":""},{"$f":"IF(AND($C22>0,OR($AH22=\"\")),\" * No olvide digitar la variable Trans Femenino. Digite Cero si no tiene.\",IF($AH22>$C22,\" * La variable Trans Femenino no debe ser mayor al Total Hombres.\",\"\"))","v":""},{"$f":"IF(AND($B22>0,OR($AI22=\"\")),\" * No olvide digitar la variable Pueblos Originarios. Digite Cero si no tiene.\",IF($AI22>$B22,\" * La variable Pueblos Originarios no puede ser Mayor al Total Ambos Sexos.\",\"\"))","v":""},{"$f":"IF(AND($B22>0,OR($AJ22=\"\")),\" * No olvide digitar la variable Migrantes. Digite Cero si no tiene.\",IF($AJ22>$B22,\" * La variable Migrantes no puede ser Mayor al Total Ambos Sexos.\",\"\"))","v":""},null,null,null,null,null,null,null,{"$f":"IF(AND($D22>0,OR($AG22=\"\")),1,IF($AG22>$D22,1,0))","v":0},{"$f":"IF(AND($C22>0,OR($AH22=\"\")),1,IF($AH22>$C22,1,0))","v":0},{"$f":"IF(AND($B22>0,OR($AI22=\"\")),1,IF($AI22>B22,1,0))","v":0},{"$f":"IF(AND($B22>0,OR($AJ22=\"\")),1,IF($AJ22>$B22,1,0))","v":0}]
[]
[]
[]
[]
[]
[]
[]
[]
[]
[]
[{"$f":"SUM(D12:D17,B22)","v":0},"datos"]
[{"$f":"SUM(CL12:CQ22)","v":0},"errores"]

{"sheet":"P12","index":10,"n_rows":81,"n_cols":56,"rows_kept":81,"cut":false,"hidden":false,"merged":[[35,0,35,1],[36,0,36,3],[49,0,49,3],[4,13,4,14],[24,0,24,2],[7,0,7,2],[8,0,8,2],[25,0,25,2],[6,0,6,6]]}
["DATOS DEL ESTABLECIMIENTO"]
[{"$f":"CONCATENATE(\"COMUNA: \",NOMBRE!$B$2,\"   \",\"( \",NOMBRE!$C$2,NOMBRE!$D$2,NOMBRE!$E$2,NOMBRE!$F$2,NOMBRE!$G$2,\" )\")","v":"COMUNA:    (  )"}]
[{"$f":"CONCATENATE(\"ESTABLECIMIENTO/ESTRATEGIA: \",NOMBRE!$B$3,\"   \",\"( \",NOMBRE!$C$3,NOMBRE!$D$3,NOMBRE!$E$3,NOMBRE!$F$3,NOMBRE!$G$3,NOMBRE!$H$3,\" )\")","v":"ESTABLECIMIENTO/ESTRATEGIA:    (  )"}]
[{"$f":"CONCATENATE(\"MES: \",NOMBRE!$B$6,\"   \",\"( \",NOMBRE!$C$6,NOMBRE!$D$6,\" )\")","v":"MES:    (  )"}]
[{"$f":"CONCATENATE(\"AÑO: \",NOMBRE!$B$7)","v":"AÑO: 2026"}]
[]
["REM-P12. PERSONAS CON TAMIZAJE PARA LA DETECCIÓN PRECOZ DE CÁNCER DE CUELLO UTERINO –  CÁNCER DE MAMAS  (SEMESTRAL)"]
["SECCIÓN A: PROGRAMA DE CANCER DE CUELLO UTERINO: "]
["SECCIÓN A1: POBLACIÓN CON TAMIZAJE VIGENTE "]
["PARA LA DETECCIÓN PRECOZ DEL CÁNCER DE CUELLO UTERINO","Mujeres con Tamizaje vigente para la detección precoz de Cáncer de Cuello Uterino ","Trans Masculino con Tamizaje vigente para la deteccion precoz de Cáncer de Cuello Uterino ","Pueblos Originarios","Migrantes"]
["Menor de 25 años",null,null,null,null,{"$f":"AU11&AV11","v":""},null,null,null,null,null,null,null,null,null,null,null,null,null,null,null,null,null,null,null,null,null,null,null,null,null,null,null,null,null,null,null,null,null,null,null,null,null,null,null,null,{"$f":"IF(AND(B11+C11>0,OR(D11=\"\")),\" * No olvide digitar la variable Pueblos Originarios. Digite Cero si no tiene.\",IF(D11>B11+C11,\" * La variable Pueblos Originarios no puede ser Mayor a la suma de Mujeres +Trans con Tamizaje Vigente.\",\"\"))","v":""},{"$f":"IF(AND(B11+C11>0,OR(E11=\"\")),\" * No olvide digitar la variable Migrantes. Digite Cero si no tiene.\",IF(E11>B11+C11,\" * La variable Migrantes no puede ser Mayor a la suma de Mujeres +Trans con Tamizaje Vigente.\",\"\"))","v":""},null,null,null,null,null,null,{"$f":"IF(AND($B11+$C11>0,OR(D11=\"\")),1,IF(D11>$B11+$C11,1,0))","v":0},{"$f":"IF(AND($B11+$C11>0,OR(E11=\"\")),1,IF(E11>$B11+$C11,1,0))","v":0}]
["25 a 29 años ",null,null,null,null,{"$f":"AU12&AV12","v":""},null,null,null,null,null,null,null,null,null,null,null,null,null,null,null,null,null,null,null,null,null,null,null,null,null,null,null,null,null,null,null,null,null,null,null,null,null,null,null,null,{"$f":"IF(AND(B12+C12>0,OR(D12=\"\")),\" * No olvide digitar la variable Pueblos Originarios. Digite Cero si no tiene.\",IF(D12>B12+C12,\" * La variable Pueblos Originarios no puede ser Mayor a la suma de Mujeres +Trans con Tamizaje Vigente.\",\"\"))","v":""},{"$f":"IF(AND(B12+C12>0,OR(E12=\"\")),\" * No olvide digitar la variable Migrantes. Digite Cero si no tiene.\",IF(E12>B12+C12,\" * La variable Migrantes no puede ser Mayor a la suma de Mujeres +Trans con Tamizaje Vigente.\",\"\"))","v":""},null,null,null,null,null,null,{"$f":"IF(AND($B12+$C12>0,OR(D12=\"\")),1,IF(D12>$B12+$C12,1,0))","v":0},{"$f":"IF(AND($B12+$C12>0,OR(E12=\"\")),1,IF(E12>$B12+$C12,1,0))","v":0}]
["30 a 34 años",null,null,null,null,"",null,null,null,null,null,null,null,null,null,null,null,null,null,null,null,null,null,null,null,null,null,null,null,null,null,null,null,null,null,null,null,null,null,null,null,null,null,null,null,null,"","",null,null,null,null,null,null,0,0]
["35 a 39 años",null,null,null,null,"",null,null,null,null,null,null,null,null,null,null,null,null,null,null,null,null,null,null,null,null,null,null,null,null,null,null,null,null,null,null,null,null,null,null,null,null,null,null,null,null,"","",null,null,null,null,null,null,0,0]
["40 a 44 años",null,null,null,null,"",null,null,null,null,null,null,null,null,null,null,null,null,null,null,null,null,null,null,null,null,null,null,null,null,null,null,null,null,null,null,null,null,null,null,null,null,null,null,null,null,"","",null,null,null,null,null,null,0,0]
["45 a 49 años",null,null,null,null,"",null,null,null,null,null,null,null,null,null,null,null,null,null,null,null,null,null,null,null,null,null,null,null,null,null,null,null,null,null,null,null,null,null,null,null,null,null,null,null,null,"","",null,null,null,null,null,null,0,0]
["50 a 54 años",null,null,null,null,"",null,null,null,null,null,null,null,null,null,null,null,null,null,null,null,null,null,null,null,null,null,null,null,null,null,null,null,null,null,null,null,null,null,null,null,null,null,null,null,null,"","",null,null,null,null,null,null,0,0]
["55 a 59 años",null,null,null,null,"",null,null,null,null,null,null,null,null,null,null,null,null,null,null,null,null,null,null,null,null,null,null,null,null,null,null,null,null,null,null,null,null,null,null,null,null,null,null,null,null,"","",null,null,null,null,null,null,0,0]
["60 a 64 años",null,null,null,null,"",null,null,null,null,null,null,null,null,null,null,null,null,null,null,null,null,null,null,null,null,null,null,null,null,null,null,null,null,null,null,null,null,null,null,null,null,null,null,null,null,"","",null,null,null,null,null,null,0,0]
["65 a 69 años",null,null,null,null,"",null,null,null,null,null,null,null,null,null,null,null,null,null,null,null,null,null,null,null,null,null,null,null,null,null,null,null,null,null,null,null,null,null,null,null,null,null,null,null,null,"","",null,null,null,null,null,null,0,0]
["70 a 74 años",null,null,null,null,"",null,null,null,null,null,null,null,null,null,null,null,null,null,null,null,null,null,null,null,null,null,null,null,null,null,null,null,null,null,null,null,null,null,null,null,null,null,null,null,null,"","",null,null,null,null,null,null,0,0]
["75 a 79 años",null,null,null,null,"",null,null,null,null,null,null,null,null,null,null,null,null,null,null,null,null,null,null,null,null,null,null,null,null,null,null,null,null,null,null,null,null,null,null,null,null,null,null,null,null,"","",null,null,null,null,null,null,0,0]
["80 y más años",null,null,null,null,"",null,null,null,null,null,null,null,null,null,null,null,null,null,null,null,null,null,null,null,null,null,null,null,null,null,null,null,null,null,null,null,null,null,null,null,null,null,null,null,null,"","",null,null,null,null,null,null,0,0]
["TOTAL",{"$f":"SUM(B11:B23)","v":0},{"$f":"SUM(C11:C23)","v":0},{"$f":"SUM(D11:D23)","v":0},{"$f":"SUM(E11:E23)","v":0}]
["(*) Fuente de información: CITOEXPERT o REVICAN"]
["SECCIÓN A2: POBLACIÓN CON VPH VIGENTE"]
["GRUPOS DE EDAD \n(en años)","Mujeres con examen VPH vigente en los últimos 5 años","Trans Masculino con examen  VPH vigente en los últimos 5 años","Pueblos Originarios","Migrantes"]
["30 a 34 años",null,null,null,null,{"$f":"AU28&AV28","v":""},null,null,null,null,null,null,null,null,null,null,null,null,null,null,null,null,null,null,null,null,null,null,null,null,null,null,null,null,null,null,null,null,null,null,null,null,null,null,null,null,{"$f":"IF(AND(B28+C28>0,OR(D28=\"\")),\" * No olvide digitar la variable Pueblos Originarios. Digite Cero si no tiene.\",IF(D28>B28+C28,\" * La variable Pueblos Originarios no puede ser Mayor a la suma de Mujeres +Trans con examen VPH Vigente.\",\"\"))","v":""},{"$f":"IF(AND(B28+C28>0,OR(E28=\"\")),\" * No olvide digitar la variable Migrantes. Digite Cero si no tiene.\",IF(E28>B28+C28,\" * La variable Migrantes no puede ser Mayor a la suma de Mujeres +Trans con examen VPH Vigente.\",\"\"))","v":""},null,null,null,null,null,null,{"$f":"IF(AND($B28+$C28>0,OR(D28=\"\")),1,IF(D28>$B28+$C28,1,0))","v":0},{"$f":"IF(AND($B28+$C28>0,OR(E28=\"\")),1,IF(E28>$B28+$C28,1,0))","v":0}]
["35 a 39 años",null,null,null,null,"",null,null,null,null,null,null,null,null,null,null,null,null,null,null,null,null,null,null,null,null,null,null,null,null,null,null,null,null,null,null,null,null,null,null,null,null,null,null,null,null,{"$f":"IF(AND(B29+C29>0,OR(D29=\"\")),\" * No olvide digitar la variable Pueblos Originarios. Digite Cero si no tiene.\",IF(D29>B29+C29,\" * La variable Pueblos Originarios no puede ser Mayor a la suma de Mujeres +Trans con examen VPH Vigente.\",\"\"))","v":""},{"$f":"IF(AND(B29+C29>0,OR(E29=\"\")),\" * No olvide digitar la variable Migrantes. Digite Cero si no tiene.\",IF(E29>B29+C29,\" * La variable Migrantes no puede ser Mayor a la suma de Mujeres +Trans con examen VPH Vigente.\",\"\"))","v":""},null,null,null,null,null,null,0,0]
["40 a 44 años",null,null,null,null,"",null,null,null,null,null,null,null,null,null,null,null,null,null,null,null,null,null,null,null,null,null,null,null,null,null,null,null,null,null,null,null,null,null,null,null,null,null,null,null,null,"","",null,null,null,null,null,null,0,0]
["45 a 49 años",null,null,null,null,"",null,null,null,null,null,null,null,null,null,null,null,null,null,null,null,null,null,null,null,null,null,null,null,null,null,null,null,null,null,null,null,null,null,null,null,null,null,null,null,null,"","",null,null,null,null,null,null,0,0]
["50 a 54 años",null,null,null,null,"",null,null,null,null,null,null,null,null,null,null,null,null,null,null,null,null,null,null,null,null,null,null,null,null,null,null,null,null,null,null,null,null,null,null,null,null,null,null,null,null,"","",null,null,null,null,null,null,0,0]
["55 a 59 años",null,null,null,null,"",null,null,null,null,null,null,null,null,null,null,null,null,null,null,null,null,null,null,null,null,null,null,null,null,null,null,null,null,null,null,null,null,null,null,null,null,null,null,null,null,"","",null,null,null,null,null,null,0,0]
["60 a 64 años",null,null,null,null,"",null,null,null,null,null,null,null,null,null,null,null,null,null,null,null,null,null,null,null,null,null,null,null,null,null,null,null,null,null,null,null,null,null,null,null,null,null,null,null,null,"","",null,null,null,null,null,null,0,0]
["TOTAL",{"$f":"SUM(B28:B34)","v":0},{"$f":"SUM(C28:C34)","v":0},{"$f":"SUM(D28:D34)","v":0},{"$f":"SUM(E28:E34)","v":0}]
["SECCION B: PROGRAMA DE CANCER DE MAMA"]
["SECCIÓN B1: MUJERES CON MAMOGRAFÍA VIGENTE EN LOS ÚLTIMOS 2 AÑOS. "]
["GRUPO DE EDAD \n(en años)","Mujeres con Mamografía vigente (Menor o igual a 2 años)","Trans masculino\ncon Mamografía vigente (Menor o igual a 2 años)","Pueblos Originarios","Migrantes"]
["Menor de 35 años",null,null,null,null,{"$f":"AU39&AV39","v":""},null,null,null,null,null,null,null,null,null,null,null,null,null,null,null,null,null,null,null,null,null,null,null,null,null,null,null,null,null,null,null,null,null,null,null,null,null,null,null,null,{"$f":"IF(AND(B39+C39>0,OR(D39=\"\")),\" * No olvide digitar la variable Pueblos Originarios. Digite Cero si no tiene.\",IF(D39>B39+C39,\" * La variable Pueblos Originarios no puede ser Mayor a la suma de Mujeres +Trans con Mamografía Vigente.\",\"\"))","v":""},{"$f":"IF(AND(B39+C39>0,OR(E39=\"\")),\" * No olvide digitar la variable Migrantes. Digite Cero si no tiene.\",IF(E39>B39+C39,\" * La variable Migrantes no puede ser Mayor a la suma de Mujeres +Trans con Mamografía Vigente.\",\"\"))","v":""},null,null,null,null,null,null,{"$f":"IF(AND($B39+$C39>0,OR(D39=\"\")),1,IF(D39>$B39+$C39,1,0))","v":0},{"$f":"IF(AND($B39+$C39>0,OR(E39=\"\")),1,IF(E39>$B39+$C39,1,0))","v":0}]
["35 a 49 años",null,null,null,null,"",null,null,null,null,null,null,null,null,null,null,null,null,null,null,null,null,null,null,null,null,null,null,null,null,null,null,null,null,null,null,null,null,null,null,null,null,null,null,null,null,{"$f":"IF(AND(B40+C40>0,OR(D40=\"\")),\" * No olvide digitar la variable Pueblos Originarios. Digite Cero si no tiene.\",IF(D40>B40+C40,\" * La variable Pueblos Originarios no puede ser Mayor a la suma de Mujeres +Trans con Mamografía Vigente.\",\"\"))","v":""},{"$f":"IF(AND(B40+C40>0,OR(E40=\"\")),\" * No olvide digitar la variable Migrantes. Digite Cero si no tiene.\",IF(E40>B40+C40,\" * La variable Migrantes no puede ser Mayor a la suma de Mujeres +Trans con Mamografía Vigente.\",\"\"))","v":""},null,null,null,null,null,null,{"$f":"IF(AND($B40+$C40>0,OR(D40=\"\")),1,IF(D40>$B40+$C40,1,0))","v":0},{"$f":"IF(AND($B40+$C40>0,OR(E40=\"\")),1,IF(E40>$B40+$C40,1,0))","v":0}]
["50 a 54 años",null,null,null,null,"",null,null,null,null,null,null,null,null,null,null,null,null,null,null,null,null,null,null,null,null,null,null,null,null,null,null,null,null,null,null,null,null,null,null,null,null,null,null,null,null,"","",null,null,null,null,null,null,0,0]
["55 a 59 años",null,null,null,null,"",null,null,null,null,null,null,null,null,null,null,null,null,null,null,null,null,null,null,null,null,null,null,null,null,null,null,null,null,null,null,null,null,null,null,null,null,null,null,null,null,"","",null,null,null,null,null,null,0,0]
["60 a 64 años",null,null,null,null,"",null,null,null,null,null,null,null,null,null,null,null,null,null,null,null,null,null,null,null,null,null,null,null,null,null,null,null,null,null,null,null,null,null,null,null,null,null,null,null,null,"","",null,null,null,null,null,null,0,0]
["65 a 69 años",null,null,null,null,"",null,null,null,null,null,null,null,null,null,null,null,null,null,null,null,null,null,null,null,null,null,null,null,null,null,null,null,null,null,null,null,null,null,null,null,null,null,null,null,null,"","",null,null,null,null,null,null,0,0]
["70 a 74 años",null,null,null,null,"",null,null,null,null,null,null,null,null,null,null,null,null,null,null,null,null,null,null,null,null,null,null,null,null,null,null,null,null,null,null,null,null,null,null,null,null,null,null,null,null,"","",null,null,null,null,null,null,0,0]
["75 a 79 años",null,null,null,null,"",null,null,null,null,null,null,null,null,null,null,null,null,null,null,null,null,null,null,null,null,null,null,null,null,null,null,null,null,null,null,null,null,null,null,null,null,null,null,null,null,"","",null,null,null,null,null,null,0,0]
["80 y más años",null,null,null,null,"",null,null,null,null,null,null,null,null,null,null,null,null,null,null,null,null,null,null,null,null,null,null,null,null,null,null,null,null,null,null,null,null,null,null,null,null,null,null,null,null,"","",null,null,null,null,null,null,{"$f":"IF(AND($B47+$C47>0,OR(D47=\"\")),1,IF(D47>$B47+$C47,1,0))","v":0},0]
["TOTAL",{"$f":"SUM(B39:B47)","v":0},{"$f":"SUM(C39:C47)","v":0},{"$f":"SUM(D39:D47)","v":0},0]
["(*) Fuente de información: Tarjetero poblacional de la APS\t"]
["SECCIÓN B2: NÚMERO DE MUJERES CON EXAMEN FÍSICO DE MAMA - EFM (VIGENTE)"]
["GRUPO DE EDAD \n(en años)","Mujeres con EFM vigente ","Trans Masculino\ncon EFM vigente (Menor o igual a 2 años)","Pueblos Originarios","Migrantes"]
["Menor de 35 años",null,null,null,null,{"$f":"AU52&AV52","v":""},null,null,null,null,null,null,null,null,null,null,null,null,null,null,null,null,null,null,null,null,null,null,null,null,null,null,null,null,null,null,null,null,null,null,null,null,null,null,null,null,{"$f":"IF(AND(B52+C52>0,OR(D52=\"\")),\" * No olvide digitar la variable Pueblos Originarios. Digite Cero si no tiene.\",IF(D52>B52+C52,\" * La variable Pueblos Originarios no puede ser Mayor a la suma de Mujeres +Trans con EFM Vigente.\",\"\"))","v":""},{"$f":"IF(AND(B52+C52>0,OR(E52=\"\")),\" * No olvide digitar la variable Migrantes. Digite Cero si no tiene.\",IF(E52>B52+C52,\" * La variable Migrantes no puede ser Mayor a la suma de Mujeres +Trans con EFM Vigente.\",\"\"))","v":""},null,null,null,null,null,null,{"$f":"IF(AND($B52+$C52>0,OR(D52=\"\")),1,IF(D52>$B52+$C52,1,0))","v":0},{"$f":"IF(AND($B52+$C52>0,OR(E52=\"\")),1,IF(E52>$B52+$C52,1,0))","v":0}]
["35 a 49 años",null,null,null,null,"",null,null,null,null,null,null,null,null,null,null,null,null,null,null,null,null,null,null,null,null,null,null,null,null,null,null,null,null,null,null,null,null,null,null,null,null,null,null,null,null,{"$f":"IF(AND(B53+C53>0,OR(D53=\"\")),\" * No olvide digitar la variable Pueblos Originarios. Digite Cero si no tiene.\",IF(D53>B53+C53,\" * La variable Pueblos Originarios no puede ser Mayor a la suma de Mujeres +Trans con EFM Vigente.\",\"\"))","v":""},{"$f":"IF(AND(B53+C53>0,OR(E53=\"\")),\" * No olvide digitar la variable Migrantes. Digite Cero si no tiene.\",IF(E53>B53+C53,\" * La variable Migrantes no puede ser Mayor a la suma de Mujeres +Trans con EFM Vigente.\",\"\"))","v":""},null,null,null,null,null,null,0,0]
["50 a 54 años",null,null,null,null,"",null,null,null,null,null,null,null,null,null,null,null,null,null,null,null,null,null,null,null,null,null,null,null,null,null,null,null,null,null,null,null,null,null,null,null,null,null,null,null,null,"","",null,null,null,null,null,null,0,0]
["55 a 59 años",null,null,null,null,"",null,null,null,null,null,null,null,null,null,null,null,null,null,null,null,null,null,null,null,null,null,null,null,null,null,null,null,null,null,null,null,null,null,null,null,null,null,null,null,null,"","",null,null,null,null,null,null,0,0]
["60 a 64 años",null,null,null,null,"",null,null,null,null,null,null,null,null,null,null,null,null,null,null,null,null,null,null,null,null,null,null,null,null,null,null,null,null,null,null,null,null,null,null,null,null,null,null,null,null,"","",null,null,null,null,null,null,0,0]
["65 a 69 años",null,null,null,null,"",null,null,null,null,null,null,null,null,null,null,null,null,null,null,null,null,null,null,null,null,null,null,null,null,null,null,null,null,null,null,null,null,null,null,null,null,null,null,null,null,"","",null,null,null,null,null,null,0,0]
["70 a 74 años",null,null,null,null,"",null,null,null,null,null,null,null,null,null,null,null,null,null,null,null,null,null,null,null,null,null,null,null,null,null,null,null,null,null,null,null,null,null,null,null,null,null,null,null,null,"","",null,null,null,null,null,null,0,0]
["75 a 79 años",null,null,null,null,"",null,null,null,null,null,null,null,null,null,null,null,null,null,null,null,null,null,null,null,null,null,null,null,null,null,null,null,null,null,null,null,null,null,null,null,null,null,null,null,null,"","",null,null,null,null,null,null,0,0]
["80 y más años",null,null,null,null,"",null,null,null,null,null,null,null,null,null,null,null,null,null,null,null,null,null,null,null,null,null,null,null,null,null,null,null,null,null,null,null,null,null,null,null,null,null,null,null,null,"","",null,null,null,null,null,null,0,0]
["TOTAL",{"$f":"SUM(B52:B60)","v":0},{"$f":"SUM(C52:C60)","v":0},{"$f":"SUM(D52:D60)","v":0},0]
["(*) Fuente de información: Tarjetero poblacional de la APS\t"]
[]
[]
[]
[]
[]
[]
[]
[]
[]
[]
[]
[]
[]
[]
[]
[]
[]
[{"$f":"SUM(B11:C23,B28:C34,B39:C47,B52:C60)","v":0},"datos"]
[{"$f":"SUM(BC11:BD60)","v":0},"errores"]

{"sheet":"P13","index":11,"n_rows":42,"n_cols":64,"rows_kept":42,"cut":false,"hidden":false,"merged":[[6,0,6,17],[9,12,9,13],[9,14,9,15],[9,8,9,9],[17,18,19,18],[8,0,10,0],[8,1,9,3],[8,4,8,15],[17,0,19,0],[17,1,18,3],[17,4,17,15],[18,4,18,5],[18,6,18,7],[18,8,18,9],[9,4,9,5],[9,6,9,7],[18,10,18,11],[18,12,18,13],[18,14,18,15],[9,10,9,11],[17,19,19,19],[17,17,19,17],[8,17,10,17],[8,16,10,16],[17,16,19,16],[17,52,19,52],[17,53,19,53],[17,54,19,54],[17,55,19,55],[9,52,11,52],[9,53,11,53],[9,54,11,54],[9,55,11,55],[17,60,19,60],[17,61,19,61],[17,62,19,62],[17,63,19,63],[9,60,11,60],[9,61,11,61],[9,62,11,62],[9,63,11,63]]}
["DATOS DEL ESTABLECIMIENTO"]
[{"$f":"CONCATENATE(\"COMUNA: \",NOMBRE!$B$2,\"   \",\"( \",NOMBRE!$C$2,NOMBRE!$D$2,NOMBRE!$E$2,NOMBRE!$F$2,NOMBRE!$G$2,\" )\")","v":"COMUNA:    (  )"}]
[{"$f":"CONCATENATE(\"ESTABLECIMIENTO/ESTRATEGIA: \",NOMBRE!$B$3,\"   \",\"( \",NOMBRE!$C$3,NOMBRE!$D$3,NOMBRE!$E$3,NOMBRE!$F$3,NOMBRE!$G$3,NOMBRE!$H$3,\" )\")","v":"ESTABLECIMIENTO/ESTRATEGIA:    (  )"}]
[{"$f":"CONCATENATE(\"MES: \",NOMBRE!$B$6,\"   \",\"( \",NOMBRE!$C$6,NOMBRE!$D$6,\" )\")","v":"MES:    (  )"}]
[{"$f":"CONCATENATE(\"AÑO: \",NOMBRE!$B$7)","v":"AÑO: 2026"}]
[]
["REM-P13. NIÑOS, NIÑAS, ADOLESCENTES Y JÓVENES CON VULNERACIÓN DE DERECHOS Y/O INFRACCIÓN A LA LEY BAJO LA PROTECCIÓN DEL ESTADO EN ATENCIÓN"]
["SECCIÓN A: NIÑOS, NIÑAS, ADOLESCENTES Y JÓVENES CON VULNERACIÓN DE DERECHOS Y/O INFRACCIÓN A LA LEY EN CONTROL DE SALUD EN APS AL CORTE"]
["Tipo de Programa","TOTAL",null,null,"RANGO ETARIO Y SEXO",null,null,null,null,null,null,null,null,null,null,null,"Migrantes","Pueblos Originarios"]
[null,null,null,null," 0 - 4 años",null," 5 - 9 años",null," 10 - 14 años",null,"15 a 19 años",null,"20 - 24 años",null,"25 y más años",null,null,null,null,null,null,null,null,null,null,null,null,null,null,null,null,null,null,null,null,null,null,null,null,null,null,null,null,null,null,null,null,null,null,null,null,null,"Migrantes","Pueblos Originarios",null,null,null,null,null,null,"Migrantes","Pueblos Originarios"]
[null,"Ambos sexos","Hombre","Mujer","Hombre","Mujer","Hombre","Mujer","Hombre","Mujer","Hombre","Mujer","Hombre","Mujer","Hombre","Mujer"]
["TOTAL",{"$f":"SUM(C12:D12)","v":0},{"$f":"SUM(C13:C16)","v":0},{"$f":"SUM(D13:D16)","v":0},{"$f":"SUM(E13:E16)","v":0},{"$f":"SUM(F13:F15)","v":0},{"$f":"SUM(G13:G15)","v":0},{"$f":"SUM(H13:H15)","v":0},{"$f":"SUM(I13:I16)","v":0},0,0,0,0,0,0,0,{"$f":"SUM(Q13:Q16)","v":0},{"$f":"SUM(R13:R16)","v":0}]
["Ambulatorio (SPE Mejor Niñez)",{"$f":"SUM(C13:D13)","v":0},{"$f":"+E13+G13+I13+K13+M13+O13","v":0},0,null,null,null,null,null,null,null,null,null,null,null,null,null,null,{"$f":"BA13&BB13","v":""},null,null,null,null,null,null,null,null,null,null,null,null,null,null,null,null,null,null,null,null,null,null,null,null,null,null,null,null,null,null,null,null,null,{"$f":"IF(AND($B13>0,OR($Q13=\"\")),\" * No olvide digitar la variable Migrantes. Digite Cero si no tiene.\",IF($Q13>$B13,\" * La variable Migrantes no puede ser Mayor al Total Ambos Sexos.\",\"\"))","v":""},{"$f":"IF(AND($B13>0,OR($R13=\"\")),\" * No olvide digitar la variable Pueblos Originarios. Digite Cero si no tiene.\",IF($R13>$B13,\" * La variable Pueblos Originarios no puede ser Mayor al Total Ambos Sexos.\",\"\"))","v":""},null,null,null,null,null,null,{"$f":"IF(AND($B13>0,OR($Q13=\"\")),1,IF($Q13>$B13,1,0))","v":0},{"$f":"IF(AND($B13>0,OR($R13=\"\")),1,IF($R13>$B13,1,0))","v":0}]
["Sanción medio libre (SENAME -Servicio de Reinserción Social Juvenil)",{"$f":"SUM(C14:D14)","v":0},0,0,null,null,null,null,null,null,null,null,null,null,null,null,null,null,{"$f":"BA14&BB14","v":""},null,null,null,null,null,null,null,null,null,null,null,null,null,null,null,null,null,null,null,null,null,null,null,null,null,null,null,null,null,null,null,null,null,{"$f":"IF(AND($B14>0,OR($Q14=\"\")),\" * No olvide digitar la variable Migrantes. Digite Cero si no tiene.\",IF($Q14>$B14,\" * La variable Migrantes no puede ser Mayor al Total Ambos Sexos.\",\"\"))","v":""},{"$f":"IF(AND($B14>0,OR($R14=\"\")),\" * No olvide digitar la variable Pueblos Originarios. Digite Cero si no tiene.\",IF($R14>$B14,\" * La variable Pueblos Originarios no puede ser Mayor al Total Ambos Sexos.\",\"\"))","v":""},null,null,null,null,null,null,{"$f":"IF(AND($B14>0,OR($Q14=\"\")),1,IF($Q14>$B14,1,0))","v":0},{"$f":"IF(AND($B14>0,OR($R14=\"\")),1,IF($R14>$B14,1,0))","v":0}]
["Residenciales (SPE Mejor Niñez)",{"$f":"SUM(C15:D15)","v":0},0,0,null,null,null,null,null,null,null,null,null,null,null,null,null,null,"",null,null,null,null,null,null,null,null,null,null,null,null,null,null,null,null,null,null,null,null,null,null,null,null,null,null,null,null,null,null,null,null,null,{"$f":"IF(AND($B15>0,OR($Q15=\"\")),\" * No olvide digitar la variable Migrantes. Digite Cero si no tiene.\",IF($Q15>$B15,\" * La variable Migrantes no puede ser Mayor al Total Ambos Sexos.\",\"\"))","v":""},{"$f":"IF(AND($B15>0,OR($R15=\"\")),\" * No olvide digitar la variable Pueblos Originarios. Digite Cero si no tiene.\",IF($R15>$B15,\" * La variable Pueblos Originarios no puede ser Mayor al Total Ambos Sexos.\",\"\"))","v":""},null,null,null,null,null,null,{"$f":"IF(AND($B15>0,OR($Q15=\"\")),1,IF($Q15>$B15,1,0))","v":0},{"$f":"IF(AND($B15>0,OR($R15=\"\")),1,IF($R15>$B15,1,0))","v":0}]
["CIP-CRC (Medio Privativo)",{"$f":"SUM(C16:D16)","v":0},{"$f":"I16+K16+M16+O16","v":0},{"$f":"+J16+L16+N16+P16","v":0},null,null,null,null,null,null,null,null,null,null,null,null,null,null,"",null,null,null,null,null,null,null,null,null,null,null,null,null,null,null,null,null,null,null,null,null,null,null,null,null,null,null,null,null,null,null,null,null,{"$f":"IF(AND($B16>0,OR($Q16=\"\")),\" * No olvide digitar la variable Migrantes. Digite Cero si no tiene.\",IF($Q16>$B16,\" * La variable Migrantes no puede ser Mayor al Total Ambos Sexos.\",\"\"))","v":""},{"$f":"IF(AND($B16>0,OR($R16=\"\")),\" * No olvide digitar la variable Pueblos Originarios. Digite Cero si no tiene.\",IF($R16>$B16,\" * La variable Pueblos Originarios no puede ser Mayor al Total Ambos Sexos.\",\"\"))","v":""},null,null,null,null,null,null,{"$f":"IF(AND($B16>0,OR($Q16=\"\")),1,IF($Q16>$B16,1,0))","v":0},{"$f":"IF(AND($B16>0,OR($R16=\"\")),1,IF($R16>$B16,1,0))","v":0}]
["SECCIÓN B: VARIABLES DE SEGUIMIENTO A POBLACIÓN DEL SERVICIO DE PROTECCIÓN ESPECIALIZADA  (EX MEJOR NIÑEZ) Y  SERVICIO NACIONAL DE REINSERCIÓN SOCIAL JUVENIL- SENAME EN CONTROL DE SALUD EN APS AL CORTE"]
["Variables","TOTAL",null,null,"RANGO ETARIO Y SEXO",null,null,null,null,null,null,null,null,null,null,null,"Migrantes","Pueblos Originarios","SENAME/ Servicio Nacional de Reinserción social Juvenil ","Servicio Nacional Protección Especializada a la Niñez y Adolescencia",null,null,null,null,null,null,null,null,null,null,null,null,null,null,null,null,null,null,null,null,null,null,null,null,null,null,null,null,null,null,null,null,"Migrantes","Pueblos Originarios","Población SENAME","Población Mejor Niñez",null,null,null,null,"Migrantes","Pueblos Originarios","Población SENAME","Población Mejor Niñez"]
[null,null,null,null," 0 - 4 años",null," 5 - 9 años",null," 10 - 14 años",null,"15 a 19 años",null,"20 - 24 años",null,"25 y más años"]
[null,"Ambos sexos","Hombre","Mujer","Hombre","Mujer","Hombre","Mujer","Hombre","Mujer","Hombre","Mujer","Hombre","Mujer","Hombre","Mujer"]
["Población en control con método de regulación de fertilidad",{"$f":"SUM(C21:D21)","v":0},{"$f":"+I21+K21+M21+O21","v":0},{"$f":"+J21+L21+N21+P21","v":0},null,null,null,null,null,null,null,null,null,null,null,null,null,null,null,null,{"$f":"BA21&BB21&BC21&BD21","v":""},null,null,null,null,null,null,null,null,null,null,null,null,null,null,null,null,null,null,null,null,null,null,null,null,null,null,null,null,null,null,null,{"$f":"IF(AND($B21>0,OR($Q21=\"\")),\" * No olvide digitar la variable Migrantes. Digite Cero si no tiene.\",IF($Q21>$B21,\" * La variable Migrantes no puede ser Mayor al Total Ambos Sexos.\",\"\"))","v":""},{"$f":"IF(AND($B21>0,OR($R21=\"\")),\" * No olvide digitar la variable Pueblos Originarios. Digite Cero si no tiene.\",IF($R21>$B21,\" * La variable Pueblos Originarios no puede ser Mayor al Total Ambos Sexos.\",\"\"))","v":""},{"$f":"IF(AND($B21>0,OR($S21=\"\")),\" * No olvide digitar la variable \"&S$18&\". Digite Cero si no tiene.\",IF($S21>$B21,\" * La variable \"&S$18&\" no puede ser Mayor al Total Ambos Sexos.\",\"\"))","v":""},{"$f":"IF(AND($B21>0,OR($T21=\"\")),\" * No olvide digitar la variable \"&T$18&\".\",IF($T21>$B21,\" * La variable \"&T$18&\" no puede ser Mayor al Total Ambos Sexos.\",\"\"))","v":""},null,null,null,null,{"$f":"IF(AND($B21>0,OR($Q21=\"\")),1,IF($Q21>$B21,1,0))","v":0},{"$f":"IF(AND($B21>0,OR(R21=\"\")),1,IF(R21>$B21,1,0))","v":0},0,0]
["Gestantes en control con riesgo psicosocial",0,{"$f":"+I22+K22+M22+O22","v":0},{"$f":"+J22+L22+N22+P22","v":0},null,null,null,null,null,null,null,null,null,null,null,null,null,null,null,null,{"$f":"BA22&BB22&BC22&BD22","v":""},null,null,null,null,null,null,null,null,null,null,null,null,null,null,null,null,null,null,null,null,null,null,null,null,null,null,null,null,null,null,null,"","",{"$f":"IF(AND($B22>0,OR($S22=\"\")),\" * No olvide digitar la variable \"&S$18&\". Digite Cero si no tiene.\",IF($S22>$B22,\" * La variable \"&S$18&\" no puede ser Mayor al Total Ambos Sexos.\",\"\"))","v":""},{"$f":"IF(AND($B22>0,OR($T22=\"\")),\" * No olvide digitar la variable \"&T$18&\".\",IF($T22>$B22,\" * La variable \"&T$18&\" no puede ser Mayor al Total Ambos Sexos.\",\"\"))","v":""},null,null,null,null,0,0,0,0]
["Población infantil en control",0,{"$f":"+E23+G23","v":0},{"$f":"+F23+H23","v":0},null,null,null,null,null,null,null,null,null,null,null,null,null,null,null,null,"",null,null,null,null,null,null,null,null,null,null,null,null,null,null,null,null,null,null,null,null,null,null,null,null,null,null,null,null,null,null,null,"","","","",null,null,null,null,0,0,0,0]
["Población en control de salud integral de adolescentes según área de riesgo",0,{"$f":"+I24+K24+M24+O24","v":0},{"$f":"+J24+L24+N24+P24","v":0},null,null,null,null,null,null,null,null,null,null,null,null,null,null,null,null,"",null,null,null,null,null,null,null,null,null,null,null,null,null,null,null,null,null,null,null,null,null,null,null,null,null,null,null,null,null,null,null,"","","","",null,null,null,null,0,0,0,0]
["Población en Control de salud según ciclo vital mayor de 20 años",0,{"$f":"M25+O25","v":0},{"$f":"N25+P25","v":0},null,null,null,null,null,null,null,null,null,null,null,null,null,null,null,null,"",null,null,null,null,null,null,null,null,null,null,null,null,null,null,null,null,null,null,null,null,null,null,null,null,null,null,null,null,null,null,null,"","","","",null,null,null,null,0,0,0,0]
["Población en control de salud mental",0,{"$f":"+E26+G26+I26+K26+M26+O26","v":0},{"$f":"+F26+H26+J26+L26+N26+P26","v":0},null,null,null,null,null,null,null,null,null,null,null,null,null,null,null,null,"",null,null,null,null,null,null,null,null,null,null,null,null,null,null,null,null,null,null,null,null,null,null,null,null,null,null,null,null,null,null,null,"","","","",null,null,null,null,0,0,0,0]
["Población en programa de acompañamiento psicosocial",{"$f":"SUM(C27:D27)","v":0},{"$f":"+E27+G27+I27+K27+M27","v":0},{"$f":"+F27+H27+J27+L27+N27","v":0},null,null,null,null,null,null,null,null,null,null,null,null,null,null,null,null,"",null,null,null,null,null,null,null,null,null,null,null,null,null,null,null,null,null,null,null,null,null,null,null,null,null,null,null,null,null,null,null,"","","","",null,null,null,null,0,0,0,0]
["Población en control de salud bucal",{"$f":"SUM(C28:D28)","v":0},{"$f":"+E28+G28+I28+K28+M28+O28","v":0},{"$f":"+F28+H28+J28+L28+N28+P28","v":0},null,null,null,null,null,null,null,null,null,null,null,null,null,null,null,null,"",null,null,null,null,null,null,null,null,null,null,null,null,null,null,null,null,null,null,null,null,null,null,null,null,null,null,null,null,null,null,null,"","","","",null,null,null,null,0,0,0,0]
[]
[]
[]
[]
[]
[]
[]
[]
[]
[]
[]
[]
[{"$f":"SUM(B13:B16,B21:B28)","v":0},"datos"]
[{"$f":"SUM(BI13:BL28)","v":0},"errores"]

{"sheet":"Control","index":12,"n_rows":17,"n_cols":23,"rows_kept":17,"cut":false,"hidden":false,"merged":[[0,2,0,4]]}
[null,null,"NUMERO DE ERRORES Y COMPLETITUD DE REM SERIE P"]
[null,null,{"$f":"CONCATENATE(\"ESTABLECIMIENTO/ESTRATEGIA: \",NOMBRE!$B$3,\" - \",\"( \",NOMBRE!$C$3,NOMBRE!$D$3,NOMBRE!$E$3,NOMBRE!$F$3,NOMBRE!$G$3,NOMBRE!$H$3,NOMBRE!$I$3,\" )\")","v":"ESTABLECIMIENTO/ESTRATEGIA:  - ( Falta Cód. Est. )"}]
[null,null,"REM","Nº ERRORES","REM\nSIN DATOS"]
[null,null,"HOJA NOMBRE",{"$f":"NOMBRE!AG7","v":3}]
[null,null,"REM P1",{"$f":"+'P1'!$A173","v":0},{"$f":"IF('P1'!A172>0,\"\",\"SIN DATOS\")","v":"SIN DATOS"},null,null,null,null,null,null,null,null,null,null,null,null,null,null,null,null,null,"Licencia médica"]
[null,null,"REM P2",{"$f":"+'P2'!A221","v":0},{"$f":"IF('P2'!A220>0,\"\",\"SIN DATOS\")","v":"SIN DATOS"},null,null,null,null,null,null,null,null,null,null,null,null,null,null,null,null,null,"Feriado Legal"]
[null,null,"REM P3",{"$f":"+'P3'!A94","v":0},{"$f":"IF('P3'!A93>0,\"\",\"SIN DATOS\")","v":"SIN DATOS"},null,null,null,null,null,null,null,null,null,null,null,null,null,null,null,null,null,"No hubo profesional"]
[null,null,"REM P4",{"$f":"+'P4'!A111","v":0},{"$f":"IF('P4'!A110>0,\"\",\"SIN DATOS\")","v":"SIN DATOS"},null,null,null,null,null,null,null,null,null,null,null,null,null,null,null,null,null,"No corresponde REM"]
[null,null,"REM P5",{"$f":"+'P5'!A82","v":0},{"$f":"IF('P5'!A81>0,\"\",\"SIN DATOS\")","v":"SIN DATOS"},null,null,null,null,null,null,null,null,null,null,null,null,null,null,null,null,null,"Otra causa justificada"]
[null,null,"REM P6",{"$f":"+'P6'!A147","v":0},{"$f":"IF('P6'!A146>0,\"\",\"SIN DATOS\")","v":"SIN DATOS"}]
[null,null,"REM P7",{"$f":"+'P7'!A50","v":0},{"$f":"IF('P7'!A49>0,\"\",\"SIN DATOS\")","v":"SIN DATOS"}]
[null,null,"REM P9",{"$f":"+'P9'!A110","v":0},{"$f":"IF('P9'!A109>0,\"\",\"SIN DATOS\")","v":"SIN DATOS"}]
[null,null,"REM P11",{"$f":"+'P11'!A34","v":0},{"$f":"IF('P11'!A33>0,\"\",\"SIN DATOS\")","v":"SIN DATOS"}]
[null,null,"REM P12",{"$f":"+'P12'!A81","v":0},{"$f":"IF('P12'!A80>0,\"\",\"SIN DATOS\")","v":"SIN DATOS"}]
[null,null,"REM P13",{"$f":"+'P13'!A42","v":0},{"$f":"IF('P13'!A41>0,\"\",\"SIN DATOS\")","v":"SIN DATOS"}]
[]
[null,null,"TOTAL",{"$f":"SUM(D4:D15)","v":3}]

{"sheet":"MACROS","index":13,"n_rows":13,"n_cols":2,"rows_kept":13,"cut":false,"hidden":false,"merged":[[0,0,0,13],[9,1,10,7]]}
["Hoja de Macros y Utilidades"]
[]
[{"$f":"CONCATENATE(\"ESTABLECIMIENTO/ESTRATEGIA: \",NOMBRE!B3,\" - \",\"( \",NOMBRE!C3,NOMBRE!D3,NOMBRE!E3,NOMBRE!F3,NOMBRE!G3,NOMBRE!H3,\" )\")","v":"ESTABLECIMIENTO/ESTRATEGIA:  - (  )"}]
[null,"DESPROTEGER HOJAS"]
[]
[null,"PROTEGER HOJAS"]
[]
[null,"CREA UNA COPIA DEL ARCHIVO (TRANFORMA HOJAS A VALORES)"]
[]
[null,{"$f":"IF(Control!D17>0,\"REVISE LA HOJA CONTROL, EXISTEN ERRORES\",\"\")","v":"REVISE LA HOJA CONTROL, EXISTEN ERRORES"}]
[]
[]
[null,"Contraseña para copia del archivo :DEIS"]