{"text_format":"1","workbook":"xlsx","n_sheets":5,"sheets":["NOMBRE","B","B17","Control","MACROS"],"not_rendered":{"charts":0,"images":1,"macros":1,"external_links":0,"defined_names":10,"comments":0,"pivot_tables":0},"unopened":[],"bounds":{"document_bytes":16777216,"sheet_cells":100000,"rows_first":2000,"rows_last":500,"rows_between":2000,"halvings":0,"cell_chars":16384,"cell_head_chars":4096},"cells_cut":0,"cells_raw":0,"read":"whole","date_system":"1900"}

{"sheet":"NOMBRE","index":0,"n_rows":37,"n_cols":32,"rows_kept":37,"cut":false,"hidden":false,"merged":[[1,8,1,13],[2,8,2,13],[13,0,13,1],[16,1,18,1],[0,0,0,1],[0,2,0,6],[8,0,8,1]]}
["DATOS DEL ESTABLECIMIENTO",null,"CÓDIGOS"]
["NOMBRE DE COMUNA",null,null,null,null,null,null,null,{"$f":"IF(OR(NOMBRE!C2=\"\",NOMBRE!D2=\"\",NOMBRE!E2=\"\",NOMBRE!F2=\"\",NOMBRE!G2=\"\"),\"Falta Cód. Com.\",\"\")","v":"Falta Cód. Com."},null,null,null,null,null,null,null,null,null,null,null,null,null,null,null,null,null,null,null,null,null,null,{"$f":"IF(I2>\"\",1,0)","v":1}]
["NOMBRE ESTABLECIMIENTO/ESTRATEGIA",null,null,null,null,null,null,null,{"$f":"IF(OR(NOMBRE!C3=\"\",NOMBRE!D3=\"\",NOMBRE!E3=\"\",NOMBRE!F3=\"\",NOMBRE!G3=\"\",NOMBRE!H3=\"\"),\"Falta Cód. Est.\",\"\")","v":"Falta Cód. Est."},null,null,null,null,null,null,null,null,null,null,null,null,null,null,null,null,null,null,null,null,null,null,{"$f":"IF(I3>\"\",1,0)","v":1}]
[]
[]
["MES:",null,null,null,null,null,null,null,{"$f":"IF(OR(NOMBRE!C6=\"\",NOMBRE!D6=\"\"),\"Falta Cód. Mes.\",\"\")","v":"Falta Cód. Mes."},null,null,null,null,null,null,null,null,null,null,null,null,null,null,null,null,null,null,null,null,null,null,{"$f":"IF(I6>\"\",1,0)","v":1}]
["AÑO:",2024,null,null,null,null,null,null,null,null,null,null,null,null,null,null,null,null,null,null,null,null,null,null,null,null,null,null,null,null,null,{"$f":"SUM(AF2:AF6)","v":3}]
[]
["Versión 1.0: Febrero 2024"]
[]
["Director/a Servicio de Salud o Director/a Establecimiento",null,null,null,null,null,null,null,null,null,null,null,null,null,null,null,null,null,null,null,null,null,null,null,null,"ENERO","Establecimiento de Mayor Complejidad (EMAYC)","SERVICIO DE SALUD"]
["Jefe/a de Estadísticas",null,null,null,null,null,null,null,null,null,null,null,null,null,null,null,null,null,null,null,null,null,null,null,null,"FEBRERO","Establecimiento de Mediana Complejidad (EMEDC)","MUNICIPAL"]
[null,null,null,null,null,null,null,null,null,null,null,null,null,null,null,null,null,null,null,null,null,null,null,null,null,"MARZO","Establecimiento de Menor Complejidad (EMENC)","OTRA INSTITUCIÓN (Delegado)"]
["MINSAL - DEIS",null,null,null,null,null,null,null,null,null,null,null,null,null,null,null,null,null,null,null,null,null,null,null,null,"ABRIL","Centros de Diagnóstico Terapéutico (CDT)"]
[null,null,null,null,null,null,null,null,null,null,null,null,null,null,null,null,null,null,null,null,null,null,null,null,null,"MAYO","Centro de Referencia de Salud (CRS)"]
[null,null,null,null,null,null,null,null,null,null,null,null,null,null,null,null,null,null,null,null,null,null,null,null,null,"JUNIO","Consultorio General Urbano (CGU)"]
[null,"SERIE BS",null,null,null,null,null,null,null,null,null,null,null,null,null,null,null,null,null,null,null,null,null,null,null,"JULIO","Consultorio General Urbano (CGU) - CESFAM"]
[null,null,null,null,null,null,null,null,null,null,null,null,null,null,null,null,null,null,null,null,null,null,null,null,null,"AGOSTO","Consultorio General Urbano(CGU) con SAPU/SUR/SAR"]
[null,null,null,null,null,null,null,null,null,null,null,null,null,null,null,null,null,null,null,null,null,null,null,null,null,"SEPTIEMBRE","Consultorio General Urbano (CGU) - CESFAM con SAPU/SAR"]
[null,null,null,null,null,null,null,null,null,null,null,null,null,null,null,null,null,null,null,null,null,null,null,null,null,"OCTUBRE","Consultorio General Rural (CGR)"]
[null,null,null,null,null,null,null,null,null,null,null,null,null,null,null,null,null,null,null,null,null,null,null,null,null,"NOVIEMBRE","Consultorio General Rural (CGR) - CESFAM"]
[null,null,null,null,null,null,null,null,null,null,null,null,null,null,null,null,null,null,null,null,null,null,null,null,null,"DICIEMBRE","Consultorio General Rural (CGR) con SAPU/SUR/SAR"]
[null,null,null,null,null,null,null,null,null,null,null,null,null,null,null,null,null,null,null,null,null,null,null,null,null,null,"Consultorio General Rural (CGR) - CESFAM con SAPU/SUR/SAR"]
[null,null,null,null,null,null,null,null,null,null,null,null,null,null,null,null,null,null,null,null,null,null,null,null,null,null,"Posta de Salud Rural (PSR)"]
[null,null,null,null,null,null,null,null,null,null,null,null,null,null,null,null,null,null,null,null,null,null,null,null,null,null,"Centro Comunitario de Salud Familiar (CECOF)"]
[null,null,null,null,null,null,null,null,null,null,null,null,null,null,null,null,null,null,null,null,null,null,null,null,null,null,"Consultorio de Salud Mental (COSAM)"]
[null,null,null,null,null,null,null,null,null,null,null,null,null,null,null,null,null,null,null,null,null,null,null,null,null,null,"Programa de Reparación y Atención Integral de Salud (PRAIS)"]
[null,null,null,null,null,null,null,null,null,null,null,null,null,null,null,null,null,null,null,null,null,null,null,null,null,null,"Centro de Atención Funcionarios (CAF)"]
[null,null,null,null,null,null,null,null,null,null,null,null,null,null,null,null,null,null,null,null,null,null,null,null,null,null,"Clínica Dental Móvil (CDM)"]
[null,null,null,null,null,null,null,null,null,null,null,null,null,null,null,null,null,null,null,null,null,null,null,null,null,null,"Dirección Servicio de Salud (DSS)"]
[null,null,null,null,null,null,null,null,null,null,null,null,null,null,null,null,null,null,null,null,null,null,null,null,null,null,"Servicio de Atención Primaria de Urgencia (SAPU)"]
[null,null,null,null,null,null,null,null,null,null,null,null,null,null,null,null,null,null,null,null,null,null,null,null,null,null,"Servicio de Atención Primaria de Urgencia Alta Resolución (SAR)"]
[null,null,null,null,null,null,null,null,null,null,null,null,null,null,null,null,null,null,null,null,null,null,null,null,null,null,"Laboratorio Clínico o Dental"]
[null,null,null,null,null,null,null,null,null,null,null,null,null,null,null,null,null,null,null,null,null,null,null,null,null,null,"Servicio de Atención Primaria de Urgencia Dental (SAPUDENT)"]
[null,null,null,null,null,null,null,null,null,null,null,null,null,null,null,null,null,null,null,null,null,null,null,null,null,null,"Centro de Rehabilitación (CR)"]
[null,null,null,null,null,null,null,null,null,null,null,null,null,null,null,null,null,null,null,null,null,null,null,null,null,null,"Hospital de Campaña"]
[null,null,null,null,null,null,null,null,null,null,null,null,null,null,null,null,null,null,null,null,null,null,null,null,null,null,"Centro Oncologico"]

{"sheet":"B","index":1,"n_rows":3175,"n_cols":40,"rows_kept":2250,"cut":true,"hidden":false,"merged":[[901,2,901,37],[942,7,942,25],[580,2,580,37],[648,7,648,25],[57,7,57,25],[137,7,137,25],[143,7,143,25],[146,7,146,25],[147,7,147,25],[126,2,126,37],[133,7,133,25],[135,7,135,25],[136,7,136,25],[137,2,137,6],[197,2,197,37],[220,2,221,37],[3174,7,3174,25],[51,7,51,25],[65,7,65,25],[68,7,68,25],[69,7,69,25],[183,7,183,25],[196,7,196,25],[214,7,214,25],[215,2,215,35],[297,7,297,25],[298,2,298,25],[2161,3,2161,6],[2164,3,2164,6],[1063,7,1063,25],[1038,3,1038,37],[1012,7,1012,25],[845,7,845,25],[378,7,378,25],[379,2,379,25],[424,7,424,25],[425,2,425,37],[379,29,379,37],[519,7,519,25],[1173,7,1173,25],[298,29,298,37],[0,23,1,25],[3,2,3,36],[158,2,158,36],[0,26,1,28],[1,11,1,13],[118,7,118,25],[71,2,71,37],[119,2,119,35],[122,2,122,35],[125,7,125,25],[121,7,121,25],[58,2,58,37],[4,2,4,37],[184,2,184,37],[148,2,148,37],[152,7,152,25],[156,7,156,25],[157,7,157,25],[56,7,56,25],[70,2,70,25],[218,7,219,25],[1,0,2,0],[0,29,1,31],[0,35,2,35],[0,37,2,37],[0,17,1,19],[0,20,1,22],[0,3,0,6],[1,3,2,3],[0,36,2,36],[1,6,2,6],[1,8,1,10],[1,1,2,1],[0,33,1,34],[0,32,2,32],[1,4,1,5],[0,7,0,13],[1,7,2,7],[0,14,1,16],[0,2,2,2],[2436,2,2436,37],[987,0,987,1],[988,0,988,1],[989,2,989,25],[989,29,989,37],[988,2,988,37],[996,2,996,25],[996,29,996,37],[1004,2,1004,25],[1004,29,1004,37],[995,7,995,25],[1003,7,1003,25],[987,2,987,37],[1218,7,1218,25],[1234,7,1234,25],[1117,7,1117,25],[1172,7,1172,25],[1042,2,1042,37],[1050,2,1050,37],[1056,2,1056,37],[1057,2,1057,37],[1034,2,1034,25],[1034,29,1034,37],[2165,2,2165,37],[2436,0,2436,1],[1960,7,1960,25],[1976,7,1976,25],[1977,7,1977,25],[2276,7,2276,25],[2051,3,2051,6],[1030,29,1030,37],[2654,0,2654,1],[1612,7,1612,25],[1725,7,1725,25],[2061,3,2061,6],[2062,3,2062,6],[1877,7,1877,25],[1903,3,1903,6],[1246,7,1246,25],[1324,7,1324,25],[1456,7,1456,25],[1267,7,1267,25],[1786,3,1786,6],[1860,3,1860,6],[2435,3,2435,6],[2478,2,2478,37],[2464,2,2465,37],[2559,2,2559,37],[2638,3,2638,6],[649,2,649,25],[2888,3,2888,6],[2163,3,2163,6],[2881,3,2881,6],[2893,3,2893,6],[2969,7,2969,25],[2558,3,2558,6],[2597,3,2597,6],[2477,7,2477,25],[2583,7,2583,25],[2589,7,2589,25],[2590,7,2590,25],[2887,3,2887,6],[2959,7,2959,25],[2388,3,2388,6],[2394,3,2394,6],[2395,3,2395,6],[2463,7,2463,25],[2905,7,2905,25],[2396,2,2396,37],[2277,2,2277,37],[2207,2,2207,37],[2960,2,2960,37],[2906,2,2906,37],[2894,2,2894,37],[2889,2,2889,37],[2673,2,2673,37],[2654,2,2654,37],[2639,2,2639,37],[2598,2,2598,37],[2591,2,2591,37],[720,2,720,37],[762,7,762,25],[520,2,520,37],[521,2,521,37],[579,7,579,25],[599,7,599,25],[846,2,846,37],[875,7,875,25],[900,7,900,25],[763,2,763,37],[823,2,823,25],[823,29,823,37],[649,29,649,37],[659,2,659,37],[1037,7,1037,25],[1041,7,1041,25],[1049,7,1049,25],[1052,7,1052,25],[1053,2,1053,37],[1055,7,1055,25],[1022,7,1022,25],[1029,7,1029,25],[1033,7,1033,25],[1013,2,1013,25],[1013,29,1013,37],[986,7,986,25],[876,2,876,37],[943,2,943,37],[764,2,764,25],[764,29,764,37],[822,7,822,25],[658,7,658,25],[669,7,669,25],[719,7,719,25],[1023,2,1023,37],[1030,2,1030,25],[3156,2,3156,37],[3160,2,3160,37],[3168,2,3168,37],[3105,2,3105,37],[3066,2,3066,37],[3034,2,3034,37],[3016,2,3016,37],[2980,2,2980,37],[2970,2,2970,37],[3167,7,3167,25],[3154,7,3154,25],[3159,7,3159,25],[2996,7,2996,25],[2997,2,2997,25],[3103,3,3103,6],[3015,7,3015,25],[3033,7,3033,25],[3065,7,3065,25],[2978,7,2978,25],[2063,2,2063,37],[2061,36,2061,37],[1978,2,1978,37],[1904,2,1904,37],[1878,2,1878,37],[1861,2,1861,37],[1787,2,1788,37],[1103,2,1103,37],[1174,2,1174,37],[1219,2,1219,37],[1235,2,1235,37],[1247,2,1247,37],[1268,2,1269,37],[1325,2,1325,37],[1542,2,1542,37],[1726,2,1726,37]],"bounds":{"rows_first":1000,"rows_last":250,"rows_between":1000,"halvings":1}}
[null,null,"TOTAL","ACTIVIDADES",null,null,null,"INTERVENCIONES QUIRÚRGICAS",null,null,null,null,null,null,"INTERVENCIONES QUIRÚRGICAS MAYORES NO AMBULATORIAS ELECTIVAS",null,null,"INTERVENCIONES QUIRÚRGICAS MAYORES AMBULATORIAS ELECTIVA",null,null,"INTERVENCIONES QUIRÚRGICAS MAYORES AMBULATORIAS URGENCIA",null,null,"INTERVENCIONES QUIRÚRGICAS MAYORES NO AMBULATORIAS URGENCIA",null,null,"PROCEDENCIA",null,null,"PRODUCCION INTRA HOSPITAL",null,null,"OPERATIVO","COMPRAS REALIZADAS",null,"VENTAS DE SERVICIOS","TRANSFERENCIA\n2023","TOTAL FACTURADO"," "]
["CÓDIGO","GLOSA",null,"TOTAL BENEFI-CIARIOS","BENEFICIARIOS",null,"NO BENEFI-CIARIOS","TOTAL BENEFI-    CIARIOS","PRINCIPAL",null,null,"SECUNDARIA",null,null,null,null,null,"< 15 AÑOS",null,null,"< 15 AÑOS",null,null,"< 15 AÑOS"]
[null,null,null,null,"MAI","MLE",null,null,"MAI","MLE","NO BENEFI-CIARIO","MAI","MLE","NO BENEFI-CIARIO","TOTAL","< 15 AÑOS","15 AÑOS Y MÁS","TOTAL","< 15 AÑOS","15 AÑOS Y MÁS","TOTAL","< 15 AÑOS","15 AÑOS Y MÁS","TOTAL","< 15 AÑOS","15 AÑOS Y MÁS","ATENCION CERRADA","ATENCION ABIERTA","EMERGENCIA","POR \nHONO-\nRARIOS","POR CONVENIOS","POR\nCONSULTO-\nRES DE \nLLAMADA",null,"AL SISTEMA ","EXTRA-SISTEMA"]
[null,"CONSULTAS Y ATENCION MEDICA "]
[null,"CONSULTAS DE ESPECIALIDADES MEDICAS"]
["0101201","Consulta Médica de Especialidad en Dermatología",{"$f":"SUM(D6+G6)","v":0},{"$f":"SUM(E6:F6)","v":0},null,null,null,null,null,null,null,null,null,null,null,null,null,null,null,null,null,null,null,null,null,null,null,null,null,null,null,null,null,null,null,null,9620,{"$f":"AK6*E6","v":0}," "," "]
["0101202","Consulta Médica de Especialidad en Geriatría",{"$f":"SUM(D7+G7)","v":0},{"$f":"SUM(E7:F7)","v":0},null,null,null,null,null,null,null,null,null,null,null,null,null,null,null,null,null,null,null,null,null,null,null,null,null,null,null,null,null,null,null,null,9620,0," "," "]
["0101203","Consulta Médica de Especialidad en Neurocirugía",0,0,null,null,null,null,null,null,null,null,null,null,null,null,null,null,null,null,null,null,null,null,null,null,null,null,null,null,null,null,null,null,null,null,9620,0]
["0101204","Consulta Médica de Especialidad en Oftalmología",0,0,null,null,null,null,null,null,null,null,null,null,null,null,null,null,null,null,null,null,null,null,null,null,null,null,null,null,null,null,null,null,null,null,9620,0]
["0101205","Consulta Médica de Especialidad en Otorrinolaringología",0,0,null,null,null,null,null,null,null,null,null,null,null,null,null,null,null,null,null,null,null,null,null,null,null,null,null,null,null,null,null,null,null,null,9620,0]
["0101206","Consulta Médica de Especialidad en Reumatología",0,0,null,null,null,null,null,null,null,null,null,null,null,null,null,null,null,null,null,null,null,null,null,null,null,null,null,null,null,null,null,null,null,null,9620,0]
["0101207","Consulta Médica de Especialidad en Endocrinología Adulto",0,0,null,null,null,null,null,null,null,null,null,null,null,null,null,null,null,null,null,null,null,null,null,null,null,null,null,null,null,null,null,null,null,null,9620,0," "," "]
["0101208","Consulta Médica de Especialidad en Endocrinología Pediátrica",0,0,null,null,null,null,null,null,null,null,null,null,null,null,null,null,null,null,null,null,null,null,null,null,null,null,null,null,null,null,null,null,null,null,9620,0," "," "]
["0101209","Consulta Médica de Especialidad en Neurología Adultos",0,0,null,null,null,null,null,null,null,null,null,null,null,null,null,null,null,null,null,null,null,null,null,null,null,null,null,null,null,null,null,null,null,null,9620,0," "," "]
["0101210","Consulta Médica de Especialidad en Neurología Pediátrica",0,0,null,null,null,null,null,null,null,null,null,null,null,null,null,null,null,null,null,null,null,null,null,null,null,null,null,null,null,null,null,null,null,null,9620,0," "," "]
["0101211","Consulta Médica de Especialidad en Oncología Médica",0,0,null,null,null,null,null,null,null,null,null,null,null,null,null,null,null,null,null,null,null,null,null,null,null,null,null,null,null,null,null,null,null,null,9620,0]
["0101212","Consulta Médica de Especialidad en Psiquiatría adultos",0,0,null,null,null,null,null,null,null,null,null,null,null,null,null,null,null,null,null,null,null,null,null,null,null,null,null,null,null,null,null,null,null,null,9620,0]
["0101213","Consulta Médica de Especialidad en Psiquiatría pediátrica y de la adolescencia",0,0,null,null,null,null,null,null,null,null,null,null,null,null,null,null,null,null,null,null,null,null,null,null,null,null,null,null,null,null,null,null,null,null,9620,0," "," "]
["0101300","Consulta Médica otras Especialidades",0,0,null,null,null,null,null,null,null,null,null,null,null,null,null,null,null,null,null,null,null,null,null,null,null,null,null,null,null,null,null,null,null,null,9620,0]
["0101301","Consulta Médica de Especialidad en Cardiología",0,0,null,null,null,null,null,null,null,null,null,null,null,null,null,null,null,null,null,null,null,null,null,null,null,null,null,null,null,null,null,null,null,null,9620,0]
["0101302","Consulta Médica de Especialidad en Hematología",0,0,null,null,null,null,null,null,null,null,null,null,null,null,null,null,null,null,null,null,null,null,null,null,null,null,null,null,null,null,null,null,null,null,9620,0]
["0101303","Consulta Médica de Especialidad en Infectología",0,0,null,null,null,null,null,null,null,null,null,null,null,null,null,null,null,null,null,null,null,null,null,null,null,null,null,null,null,null,null,null,null,null,9620,0," "," "]
["0101304","Consulta Médica de Especialidad en Inmunología",0,0,null,null,null,null,null,null,null,null,null,null,null,null,null,null,null,null,null,null,null,null,null,null,null,null,null,null,null,null,null,null,null,null,9620,0]
["0101305","Consulta Médica de Especialidad en Medicina Familiar",0,0,null,null,null,null,null,null,null,null,null,null,null,null,null,null,null,null,null,null,null,null,null,null,null,null,null,null,null,null,null,null,null,null,9620,0]
["0101306","Consulta Médica de Especialidad en Medicina Física y Rehabilitación",0,0,null,null,null,null,null,null,null,null,null,null,null,null,null,null,null,null,null,null,null,null,null,null,null,null,null,null,null,null,null,null,null,null,9620,0," "," "]
["0101307","Consulta Médica de Especialidad en Medicina Interna",0,0,null,null,null,null,null,null,null,null,null,null,null,null,null,null,null,null,null,null,null,null,null,null,null,null,null,null,null,null,null,null,null,null,9620,0," "," "]
["0101308","Consulta Médica de Especialidad en Obstetricia y Ginecología",0,0,null,null,null,null,null,null,null,null,null,null,null,null,null,null,null,null,null,null,null,null,null,null,null,null,null,null,null,null,null,null,null,null,9620,0," "," "]
["0101309","Consulta Médica de Especialidad en Pediatría",0,0,null,null,null,null,null,null,null,null,null,null,null,null,null,null,null,null,null,null,null,null,null,null,null,null,null,null,null,null,null,null,null,null,9620,0," "," "]
["0101310","Consulta Médica de Especialidad en Traumatología y Ortopedia",0,0,null,null,null,null,null,null,null,null,null,null,null,null,null,null,null,null,null,null,null,null,null,null,null,null,null,null,null,null,null,null,null,null,9620,0]
["0101311","Consulta Médica de Especialidad en Urología",0,0,null,null,null,null,null,null,null,null,null,null,null,null,null,null,null,null,null,null,null,null,null,null,null,null,null,null,null,null,null,null,null,null,9620,0]
["0101312","Consulta Médica de Especialidad en Cirugía General",0,0,null,null,null,null,null,null,null,null,null,null,null,null,null,null,null,null,null,null,null,null,null,null,null,null,null,null,null,null,null,null,null,null,9620,0]
["0101313","Consulta Médica de Especialidad en Cirugía de Cabeza, Cuello y Maxilofacial",0,0,null,null,null,null,null,null,null,null,null,null,null,null,null,null,null,null,null,null,null,null,null,null,null,null,null,null,null,null,null,null,null,null,9620,0]
["0101314","Consulta Médica de Especialidad en Cirugía Cardiovascular",0,0,null,null,null,null,null,null,null,null,null,null,null,null,null,null,null,null,null,null,null,null,null,null,null,null,null,null,null,null,null,null,null,null,9620,0]
["0101315","Consulta Médica de Especialidad en Cirugía de Tórax",0,0,null,null,null,null,null,null,null,null,null,null,null,null,null,null,null,null,null,null,null,null,null,null,null,null,null,null,null,null,null,null,null,null,9620,0]
["0101316","Consulta Médica de Especialidad en Cirugía Plástica y Reparadora",0,0,null,null,null,null,null,null,null,null,null,null,null,null,null,null,null,null,null,null,null,null,null,null,null,null,null,null,null,null,null,null,null,null,9620,{"$f":"AK35*E35","v":0}]
["0101317","Consulta Médica de Especialidad en Cirugía Pediátrica",0,0,null,null,null,null,null,null,null,null,null,null,null,null,null,null,null,null,null,null,null,null,null,null,null,null,null,null,null,null,null,null,null,null,9620,0," "," "]
["0101318","Consulta Médica de Especialidad en Cirugía Vascular Periférica",0,0,null,null,null,null,null,null,null,null,null,null,null,null,null,null,null,null,null,null,null,null,null,null,null,null,null,null,null,null,null,null,null,null,9620,0]
["0101319","Consulta Médica de Especialidad en Coloproctología",0,0,null,null,null,null,null,null,null,null,null,null,null,null,null,null,null,null,null,null,null,null,null,null,null,null,null,null,null,null,null,null,null,null,9620,0]
["0101320","Consulta Médica de Especialidad en Diabetología",0,0,null,null,null,null,null,null,null,null,null,null,null,null,null,null,null,null,null,null,null,null,null,null,null,null,null,null,null,null,null,null,null,null,9620,0]
["0101321","Consulta Médica de Especialidad en Enfermedades Respiratorias Adulto",0,0,null,null,null,null,null,null,null,null,null,null,null,null,null,null,null,null,null,null,null,null,null,null,null,null,null,null,null,null,null,null,null,null,9620,0]
["0101322","Consulta Médica de Especialidad en Enfermedades Respiratorias Pediátricas",0,0,null,null,null,null,null,null,null,null,null,null,null,null,null,null,null,null,null,null,null,null,null,null,null,null,null,null,null,null,null,null,null,null,9620,0]
["0101323","Consulta Médica de Especialidad en Gastroenterología Adulto",0,0,null,null,null,null,null,null,null,null,null,null,null,null,null,null,null,null,null,null,null,null,null,null,null,null,null,null,null,null,null,null,null,null,9620,0]
["0101324","Consulta Médica de Especialidad en Gastroenterología Pediátrico",0,0,null,null,null,null,null,null,null,null,null,null,null,null,null,null,null,null,null,null,null,null,null,null,null,null,null,null,null,null,null,null,null,null,9620,0]
["0101325","Consulta Médica de Especialidad en Genética Clínica",0,0,null,null,null,null,null,null,null,null,null,null,null,null,null,null,null,null,null,null,null,null,null,null,null,null,null,null,null,null,null,null,null,null,9620,0]
["0101326","Consulta Médica de Especialidad en Nefrología Adulto",0,0,null,null,null,null,null,null,null,null,null,null,null,null,null,null,null,null,null,null,null,null,null,null,null,null,null,null,null,null,null,null,null,null,9620,0," "," "]
["0101327","Consulta Médica de Especialidad en Nefrología Pediátrico",0,0,null,null,null,null,null,null,null,null,null,null,null,null,null,null,null,null,null,null,null,null,null,null,null,null,null,null,null,null,null,null,null,null,9620,0," "," "]
["0101328","Consulta Médica de Especialidad en Neonatología",0,0,null,null,null,null,null,null,null,null,null,null,null,null,null,null,null,null,null,null,null,null,null,null,null,null,null,null,null,null,null,null,null,null,9620,0]
["0101329","Consulta Médica de Especialidad en Anestesiología",0,0,null,null,null,null,null,null,null,null,null,null,null,null,null,null,null,null,null,null,null,null,null,null,null,null,null,null,null,null,null,null,null,null,9620,0," "," "]
["0101331","Consulta Médica de Especialidad en Radioterapia Oncológica",0,0,null,null,null,null,null,null,null,null,null,null,null,null,null,null,null,null,null,null,null,null,null,null,null,null,null,null,null,null,null,null,null,null,9620,0]
["0101332","Consulta Médica de Especialidad en Ginecología Pediátrica y de la Adolescencia",0,0,null,null,null,null,null,null,null,null,null,null,null,null,null,null,null,null,null,null,null,null,null,null,null,null,null,null,null,null,null,null,null,null,9620,0]
["0101334","Consulta Médica de Especialidad en Medicina Nuclear",0,0,null,null,null,null,null,null,null,null,null,null,null,null,null,null,null,null,null,null,null,null,null,null,null,null,null,null,null,null,null,null,null,null,9620,0,null," "]
[null,"TOTAL ARANCEL MAI",{"$f":"SUM(C6:C51)","v":0},{"$f":"SUM(D6:D51)","v":0},{"$f":"SUM(E6:E51)","v":0},{"$f":"SUM(F6:F51)","v":0},{"$f":"SUM(G6:G51)","v":0},null,null,null,null,null,null,null,null,null,null,null,null,null,null,null,null,null,null,null,{"$f":"SUM(AA6:AA51)","v":0},0,0,0,0,0,0,0,0,0,null,{"$f":"SUM(AL6:AL51)","v":0}]
[null,"OTRAS CONSULTAS MEDICAS"]
["0101001","Consulta Medicina General",{"$f":"SUM(D54+G54)","v":0},{"$f":"SUM(E54:F54)","v":0},null,null,null,null,null,null,null,null,null,null,null,null,null,null,null,null,null,null,null,null,null,null,null,null,null,null,null,null,null,null,null,null,6760,{"$f":"AK54*E54","v":0}," "," "]
["0101007","Atención médica del recién nacido en sala de parto o pabellón quirúrgico c/s reanimación cardio-respiratoria",{"$f":"SUM(D55+G55)","v":0},{"$f":"SUM(E55:F55)","v":0},null,null,null,null,null,null,null,null,null,null,null,null,null,null,null,null,null,null,null,null,null,null,null,null,null,null,null,null,null,null,null,null,17850,0,null," "]
["0101103","Consulta en Unidades de Urgencia Hospitalaria",0,0,null,null,null,null,null,null,null,null,null,null,null,null,null,null,null,null,null,null,null,null,null,null,null,null,null,null,null,null,null,null,null,null,9620,0," "," "]
[null,"TOTAL OTRAS CONSULTAS MÉDICAS",{"$f":"SUM(C54:C56)","v":0},{"$f":"SUM(D54:D56)","v":0},0,0,0,null,null,null,null,null,null,null,null,null,null,null,null,null,null,null,null,null,null,null,{"$f":"SUM(AA54:AA56)","v":0},{"$f":"SUM(AB54:AB56)","v":0},0,0,0,0,0,0,0,0,null,0," "," "]
[null,"TOTAL PRODUCCION",{"$f":"SUM(C52+C57)","v":0},{"$f":"SUM(D52+D57)","v":0},{"$f":"SUM(E52+E57)","v":0},{"$f":"SUM(F52+F57)","v":0},{"$f":"SUM(G52+G57)","v":0},null,null,null,null,null,null,null,null,null,null,null,null,null,null,null,null,null,null,null,{"$f":"SUM(AA52+AA57)","v":0},{"$f":"SUM(AB52+AB57)","v":0},0,0,0,0,0,0,0,0,null,{"$f":"SUM(AL52+AL57)","v":0}," "," "]
[null,"CONSULTAS POR OTROS PROFESIONALES DE LA SALUD                                   "]
["0102002","Control de salud niño con EDP por enfermera",{"$f":"SUM(D60+G60)","v":0},{"$f":"SUM(E60:F60)","v":0},null,null,null,null,null,null,null,null,null,null,null,null,null,null,null,null,null,null,null,null,null,null,null,null,null,null,null,null,null,null,null,null,2560,{"$f":"AK60*E60","v":0}," "," "]
["0102003","Consulta o control por auxiliar de enfermería",0,0,null,null,null,null,null,null,null,null,null,null,null,null,null,null,null,null,null,null,null,null,null,null,null,null,null,null,null,null,null,null,null,null,830,0,null," "]
["0102005","Consulta por fonoaudiólogo",0,0,null,null,null,null,null,null,null,null,null,null,null,null,null,null,null,null,null,null,null,null,null,null,null,null,null,null,null,null,null,null,null,null,2040,0," "," "]
["0102008","Consulta o control por enfermera",0,0,null,null,null,null,null,null,null,null,null,null,null,null,null,null,null,null,null,null,null,null,null,null,null,null,null,null,null,null,null,null,null,null,1500,0,null," "]
["0102009","Consulta o control por matrona",0,0,null,null,null,null,null,null,null,null,null,null,null,null,null,null,null,null,null,null,null,null,null,null,null,null,null,null,null,null,null,null,null,null,1500,0," "," "]
["0102010","Consulta o control por nutricionista",0,0,null,null,null,null,null,null,null,null,null,null,null,null,null,null,null,null,null,null,null,null,null,null,null,null,null,null,null,null,null,null,null,null,1500,0,null," "]
[null,"TOTAL ARANCEL MAI",{"$f":"SUM(C60:C65)","v":0},{"$f":"SUM(D60:D65)","v":0},{"$f":"SUM(E60:E65)","v":0},{"$f":"SUM(F60:F65)","v":0},{"$f":"SUM(G60:G65)","v":0},null,null,null,null,null,null,null,null,null,null,null,null,null,null,null,null,null,null,null,{"$f":"SUM(AA60:AA65)","v":0},0,0,0,0,0,0,0,0,0,null,{"$f":"SUM(AL60:AL65)","v":0}]
["01010025","Consulta por otros profesionales ",0,0,null,null,null,null,null,null,null,null,null,null,null,null,null,null,null,null,null,null,null,null,null,null,null,null,null,null,null,null,null,null,null,null,null,null,null," "]
["01012817","Consulta por Trabajador(a) Social",0,0,null,null,null,null,null,null,null,null,null,null,null,null,null,null,null,null,null,null,null,null,null,null,null,null,null,null,null,null,null,null,null,null,null,null," "," "]
[null,"TOTAL ARANCEL MLE Y NO ARANCELADO",{"$f":"SUM(C67:C68)","v":0},{"$f":"SUM(D67:D68)","v":0},{"$f":"SUM(E67:E68)","v":0},{"$f":"SUM(F67:F68)","v":0},{"$f":"SUM(G67:G68)","v":0},null,null,null,null,null,null,null,null,null,null,null,null,null,null,null,null,null,null,null,{"$f":"SUM(AA67:AA68)","v":0},0,0,0,0,0,0,0,0,{"$f":"SUM(AJ67:AJ68)","v":0}]
[null,"TOTAL PRODUCCION",{"$f":"SUM(C66+C69)","v":0},{"$f":"SUM(D66+D69)","v":0},{"$f":"SUM(E66+E69)","v":0},{"$f":"SUM(F66+F69)","v":0},{"$f":"SUM(G66+G69)","v":0},null,null,null,null,null,null,null,null,null,null,null,null,null,null,null,null,null,null,null,{"$f":"SUM(AA66+AA69)","v":0},0,0,0,0,0,0,0,0,0,null,{"$f":"SUM(AL66+AL69)","v":0}]
[null,"TELEMEDICINA POR PROFESIONALES MÉDICOS"]
[null,"TELECONSULTAS"]
["0108001","Teleconsulta Medicina General",{"$f":"SUM(D73+G73)","v":0},{"$f":"SUM(E73:F73)","v":0},null,null,null,null,null,null,null,null,null,null,null,null,null,null,null,null,null,null,null,null,null,null,null,null,null,null,null,null,null,null,null,null,5620,{"$f":"AK73*E73","v":0},null," "]
["0108201","Teleconsulta Médica de Especialidad en Dermatología",0,0,null,null,null,null,null,null,null,null,null,null,null,null,null,null,null,null,null,null,null,null,null,null,null,null,null,null,null,null,null,null,null,null,8000,0]
["0108202","Teleconsulta Médica de Especialidad en Geriatría",0,0,null,null,null,null,null,null,null,null,null,null,null,null,null,null,null,null,null,null,null,null,null,null,null,null,null,null,null,null,null,null,null,null,8000,0," "," "]
["0108206","Teleconsulta Médica de Especialidad en Reumatología",0,0,null,null,null,null,null,null,null,null,null,null,null,null,null,null,null,null,null,null,null,null,null,null,null,null,null,null,null,null,null,null,null,null,8000,0]
["0108207","Teleconsulta Médica de Especialidad en Endocrinología Adulto",0,0,null,null,null,null,null,null,null,null,null,null,null,null,null,null,null,null,null,null,null,null,null,null,null,null,null,null,null,null,null,null,null,null,8000,0]
["0108208","Teleconsulta Médica de Especialidad en Endocrinología Pediátrica",0,0,null,null,null,null,null,null,null,null,null,null,null,null,null,null,null,null,null,null,null,null,null,null,null,null,null,null,null,null,null,null,null,null,8000,0]
["0108209","Teleconsulta Médica de Especialidad en Neurología Adultos",0,0,null,null,null,null,null,null,null,null,null,null,null,null,null,null,null,null,null,null,null,null,null,null,null,null,null,null,null,null,null,null,null,null,8000,0]
["0108210","Teleconsulta Médica de Especialidad en Neurología Pediátrica",0,0,null,null,null,null,null,null,null,null,null,null,null,null,null,null,null,null,null,null,null,null,null,null,null,null,null,null,null,null,null,null,null,null,8000,0]
["0108211","Teleconsulta Médica de Especialidad en Oncología Médica",0,0,null,null,null,null,null,null,null,null,null,null,null,null,null,null,null,null,null,null,null,null,null,null,null,null,null,null,null,null,null,null,null,null,8000,0]
["0108212","Teleconsulta Médica de Especialidad en Psiquiatría adultos",0,0,null,null,null,null,null,null,null,null,null,null,null,null,null,null,null,null,null,null,null,null,null,null,null,null,null,null,null,null,null,null,null,null,8000,0]
["0108213","Teleconsulta Médica de Especialidad en Psiquiatría pediátrica y de la adolescencia",0,0,null,null,null,null,null,null,null,null,null,null,null,null,null,null,null,null,null,null,null,null,null,null,null,null,null,null,null,null,null,null,null,null,8000,0]
["0108301","Teleconsulta Médica de Especialidad en Cardiología",0,0,null,null,null,null,null,null,null,null,null,null,null,null,null,null,null,null,null,null,null,null,null,null,null,null,null,null,null,null,null,null,null,null,8000,0]
["0108302","Teleconsulta Médica de Especialidad en Hematología",0,0,null,null,null,null,null,null,null,null,null,null,null,null,null,null,null,null,null,null,null,null,null,null,null,null,null,null,null,null,null,null,null,null,8000,0]
["0108303","Teleconsulta Médica de Especialidad en Infectología",0,0,null,null,null,null,null,null,null,null,null,null,null,null,null,null,null,null,null,null,null,null,null,null,null,null,null,null,null,null,null,null,null,null,8000,0]
["0108304","Teleconsulta Médica de Especialidad en Inmunología",0,0,null,null,null,null,null,null,null,null,null,null,null,null,null,null,null,null,null,null,null,null,null,null,null,null,null,null,null,null,null,null,null,null,8000,0]
["0108305","Teleconsulta Médica de Especialidad en Medicina Familiar",0,0,null,null,null,null,null,null,null,null,null,null,null,null,null,null,null,null,null,null,null,null,null,null,null,null,null,null,null,null,null,null,null,null,8000,0]
["0108306","Teleconsulta Médica de Especialidad en Medicina Física y Rehabilitación",0,0,null,null,null,null,null,null,null,null,null,null,null,null,null,null,null,null,null,null,null,null,null,null,null,null,null,null,null,null,null,null,null,null,8000,0]
["0108307","Teleconsulta Médica de Especialidad en Medicina Interna",0,0,null,null,null,null,null,null,null,null,null,null,null,null,null,null,null,null,null,null,null,null,null,null,null,null,null,null,null,null,null,null,null,null,8000,0]
["0108308","Teleconsulta Médica de Especialidad en Obstetricia y Ginecología",0,0,null,null,null,null,null,null,null,null,null,null,null,null,null,null,null,null,null,null,null,null,null,null,null,null,null,null,null,null,null,null,null,null,8000,0," "," "]
["0108309","Teleconsulta Médica de Especialidad en Pediatría",0,0,null,null,null,null,null,null,null,null,null,null,null,null,null,null,null,null,null,null,null,null,null,null,null,null,null,null,null,null,null,null,null,null,8000,0]
["0108310","Teleconsulta Médica de Especialidad en Traumatología y Ortopedia",0,0,null,null,null,null,null,null,null,null,null,null,null,null,null,null,null,null,null,null,null,null,null,null,null,null,null,null,null,null,null,null,null,null,8000,0]
["0108311","Teleconsulta Médica de Especialidad en Urología",0,0,null,null,null,null,null,null,null,null,null,null,null,null,null,null,null,null,null,null,null,null,null,null,null,null,null,null,null,null,null,null,null,null,8000,0]
["0108319","Teleconsulta Médica de Especialidad en Coloproctología",0,0,null,null,null,null,null,null,null,null,null,null,null,null,null,null,null,null,null,null,null,null,null,null,null,null,null,null,null,null,null,null,null,null,8000,0]
["0108320","Teleconsulta Médica de Especialidad en Diabetología",0,0,null,null,null,null,null,null,null,null,null,null,null,null,null,null,null,null,null,null,null,null,null,null,null,null,null,null,null,null,null,null,null,null,8000,0]
["0108321","Teleconsulta Médica de Especialidad en Enfermedades Respiratorias Adulto",0,0,null,null,null,null,null,null,null,null,null,null,null,null,null,null,null,null,null,null,null,null,null,null,null,null,null,null,null,null,null,null,null,null,8000,0]
["0108322","Teleconsulta Médica de Especialidad en Enfermedades Respiratorias Pediátricas",0,0,null,null,null,null,null,null,null,null,null,null,null,null,null,null,null,null,null,null,null,null,null,null,null,null,null,null,null,null,null,null,null,null,8000,0]
["0108323","Teleconsulta Médica de Especialidad en Gastroenterología Adulto",0,0,null,null,null,null,null,null,null,null,null,null,null,null,null,null,null,null,null,null,null,null,null,null,null,null,null,null,null,null,null,null,null,null,8000,0]
["0108324","Teleconsulta Médica de Especialidad en Gastroenterología Pediátrico",0,0,null,null,null,null,null,null,null,null,null,null,null,null,null,null,null,null,null,null,null,null,null,null,null,null,null,null,null,null,null,null,null,null,8000,0]
["0108325","Teleconsulta Médica de Especialidad en Genética Clínica",0,0,null,null,null,null,null,null,null,null,null,null,null,null,null,null,null,null,null,null,null,null,null,null,null,null,null,null,null,null,null,null,null,null,8000,0]
["0108326","Teleconsulta Médica de Especialidad en Nefrología Adulto",0,0,null,null,null,null,null,null,null,null,null,null,null,null,null,null,null,null,null,null,null,null,null,null,null,null,null,null,null,null,null,null,null,null,8000,0]
["0108327","Teleconsulta Médica de Especialidad en Nefrología Pediátrico",0,0,null,null,null,null,null,null,null,null,null,null,null,null,null,null,null,null,null,null,null,null,null,null,null,null,null,null,null,null,null,null,null,null,8000,0]
["0108331","Teleconsulta Médica de Especialidad en Radioterapia Oncológica",0,0,null,null,null,null,null,null,null,null,null,null,null,null,null,null,null,null,null,null,null,null,null,null,null,null,null,null,null,null,null,null,null,null,8000,0]
["0108203","Teleconsulta Médica de Especialidad en Neurocirugía",0,0,null,null,null,null,null,null,null,null,null,null,null,null,null,null,null,null,null,null,null,null,null,null,null,null,null,null,null,null,null,null,null,null,8000,0]
["0108204","Teleconsulta Médica de Especialidad en Oftalmología",0,0,null,null,null,null,null,null,null,null,null,null,null,null,null,null,null,null,null,null,null,null,null,null,null,null,null,null,null,null,null,null,null,null,8000,0," "," "]
["0108205","Teleconsulta Médica de Especialidad en Otorrinolaringología",0,0,null,null,null,null,null,null,null,null,null,null,null,null,null,null,null,null,null,null,null,null,null,null,null,null,null,null,null,null,null,null,null,null,8000,0]
["0108312","Teleconsulta Médica de Especialidad en Cirugía General",0,0,null,null,null,null,null,null,null,null,null,null,null,null,null,null,null,null,null,null,null,null,null,null,null,null,null,null,null,null,null,null,null,null,8000,0]
["0108313","Teleconsulta Médica de Especialidad en Cirugía de Cabeza, Cuello y Maxilofacial",0,0,null,null,null,null,null,null,null,null,null,null,null,null,null,null,null,null,null,null,null,null,null,null,null,null,null,null,null,null,null,null,null,null,8000,0]
["0108314","Teleconsulta Médica de Especialidad en Cirugía Cardiovascular",0,0,null,null,null,null,null,null,null,null,null,null,null,null,null,null,null,null,null,null,null,null,null,null,null,null,null,null,null,null,null,null,null,null,8000,0]
["0108315","Teleconsulta Médica de Especialidad en Cirugía de Tórax",0,0,null,null,null,null,null,null,null,null,null,null,null,null,null,null,null,null,null,null,null,null,null,null,null,null,null,null,null,null,null,null,null,null,8000,0]
["0108316","Teleconsulta Médica de Especialidad en Cirugía Plástica y Reparadora",0,0,null,null,null,null,null,null,null,null,null,null,null,null,null,null,null,null,null,null,null,null,null,null,null,null,null,null,null,null,null,null,null,null,8000,0]
["0108317","Teleconsulta Médica de Especialidad en Cirugía Pediátrica",0,0,null,null,null,null,null,null,null,null,null,null,null,null,null,null,null,null,null,null,null,null,null,null,null,null,null,null,null,null,null,null,null,null,8000,0]
["0108318","Teleconsulta Médica de Especialidad en Cirugía Vascular Periférica",0,0,null,null,null,null,null,null,null,null,null,null,null,null,null,null,null,null,null,null,null,null,null,null,null,null,null,null,null,null,null,null,null,null,8000,0]
["0108329","Teleconsulta Médica de Especialidad en Anestesiología",0,0,null,null,null,null,null,null,null,null,null,null,null,null,null,null,null,null,null,null,null,null,null,null,null,null,null,null,null,null,null,null,null,null,8000,0]
["0108332","Teleconsulta Médica de Especialidad en Ginecología Pediátrica y de la Adolescencia",0,0,null,null,null,null,null,null,null,null,null,null,null,null,null,null,null,null,null,null,null,null,null,null,null,null,null,null,null,null,null,null,null,null,8000,0]
["0108333","Teleconsulta Médica de Especialidad en Medicina Materno Fetal",0,0,null,null,null,null,null,null,null,null,null,null,null,null,null,null,null,null,null,null,null,null,null,null,null,null,null,null,null,null,null,null,null,null,8000,0]
["0108334","Teleconsulta Médica de Especialidad en Medicina Nuclear",0,0,null,null,null,null,null,null,null,null,null,null,null,null,null,null,null,null,null,null,null,null,null,null,null,null,null,null,null,null,null,null,null,null,8000,0," "," "]
[null,"TOTAL",{"$f":"SUM(C73:C118)","v":0},{"$f":"SUM(D73:D118)","v":0},0,0,0,null,null,null,null,null,null,null,null,null,null,null,null,null,null,null,null,null,null,null,{"$f":"SUM(AA73:AA118)","v":0},{"$f":"SUM(AB73:AB118)","v":0},{"$f":"SUM(AC73:AC118)","v":0},{"$f":"SUM(AD73:AD118)","v":0},{"$f":"SUM(AE73:AE118)","v":0},{"$f":"SUM(AF73:AF118)","v":0},{"$f":"SUM(AG73:AG118)","v":0},{"$f":"SUM(AH73:AH118)","v":0},{"$f":"SUM(AI73:AI118)","v":0},{"$f":"SUM(AJ73:AJ118)","v":0},null,{"$f":"SUM(AL73:AL118)","v":0}]
[null,"TELEMEDICINA PROFESIONALES NO MÉDICOS"]
["0108400","Teleconsulta: Atención Integral de Nutricionista (incluye 3 sesiones)",{"$f":"SUM(D121+G121)","v":0},{"$f":"SUM(E121:F121)","v":0},null,null,null,null,null,null,null,null,null,null,null,null,null,null,null,null,null,null,null,null,null,null,null,null,null,null,null,null,null,null,null,null,23120,{"$f":"AK121*E121","v":0}," "," "]
[null,"TOTAL",{"$f":"SUM(C121)","v":0},{"$f":"SUM(D121)","v":0},0,0,0,null,null,null,null,null,null,null,null,null,null,null,null,null,null,null,null,null,null,null,{"$f":"SUM(AA121)","v":0},{"$f":"SUM(AB121)","v":0},0,0,0,0,0,0,0,0,null,0]
[null,"TELEINTERCONSULTA (TELEMEDICINA)"]
["0109001","Teleinterconsulta médica",{"$f":"SUM(D124+G124)","v":0},{"$f":"SUM(E124:F124)","v":0},null,null,null,null,null,null,null,null,null,null,null,null,null,null,null,null,null,null,null,null,null,null,null,null,null,null,null,null,null,null,null,null,8000,{"$f":"AK124*E124","v":0}," "," "]
["0109002","Teleinterconsulta no médica",0,0,null,null,null,null,null,null,null,null,null,null,null,null,null,null,null,null,null,null,null,null,null,null,null,null,null,null,null,null,null,null,null,null,6800,{"$f":"AK125*E125","v":0}," "," "]
[null,"TOTAL",{"$f":"SUM(C124:C125)","v":0},{"$f":"SUM(D124:D125)","v":0},{"$f":"SUM(E124:E125)","v":0},0,0,null,null,null,null,null,null,null,null,null,null,null,null,null,null,null,null,null,null,null,{"$f":"SUM(AA124:AA125)","v":0},{"$f":"SUM(AB124:AB125)","v":0},0,0,0,0,0,0,0,0,null,0]
[null,"EDUCACION DE GRUPO                                                                                         "]
["0103001","Educación de grupo por médico",{"$f":"SUM(D128+G128)","v":0},{"$f":"SUM(E128:F128)","v":0},null,null,null,null,null,null,null,null,null,null,null,null,null,null,null,null,null,null,null,null,null,null,null,null,null,null,null,null,null,null,null,null,4930,{"$f":"AK128*E128","v":0},null," "]
["0103003","Educación de grupo por Trabajador/a Social",0,0,null,null,null,null,null,null,null,null,null,null,null,null,null,null,null,null,null,null,null,null,null,null,null,null,null,null,null,null,null,null,null,null,2710,0,null," "]
["0103004","Educación de grupo por auxiliar de enfermería",0,0,null,null,null,null,null,null,null,null,null,null,null,null,null,null,null,null,null,null,null,null,null,null,null,null,null,null,null,null,null,null,null,null,830,0," "," "]
["0103005","Educación de grupo por enfermera",0,0,null,null,null,null,null,null,null,null,null,null,null,null,null,null,null,null,null,null,null,null,null,null,null,null,null,null,null,null,null,null,null,null,2710,0," "," "]
["0103006","Educación de grupo por matrona ",0,0,null,null,null,null,null,null,null,null,null,null,null,null,null,null,null,null,null,null,null,null,null,null,null,null,null,null,null,null,null,null,null,null,2710,0,null," "]
["0103007","Educación de grupo por nutricionista",0,0,null,null,null,null,null,null,null,null,null,null,null,null,null,null,null,null,null,null,null,null,null,null,null,null,null,null,null,null,null,null,null,null,2710,0,null," "]
[null,"TOTAL ARANCEL MAI",{"$f":"SUM(C128:C133)","v":0},{"$f":"SUM(D128:D133)","v":0},{"$f":"SUM(E128:E133)","v":0},{"$f":"SUM(F128:F133)","v":0},{"$f":"SUM(G128:G133)","v":0},null,null,null,null,null,null,null,null,null,null,null,null,null,null,null,null,null,null,null,{"$f":"SUM(AA128:AA133)","v":0},{"$f":"SUM(AB128:AB133)","v":0},0,0,0,0,0,0,0,0,null,{"$f":"SUM(AL128:AL133)","v":0}]
["01010033","Educación de grupo por otro integrante del equipo de salud",{"$f":"SUM(D135+G135)","v":0},{"$f":"SUM(E135:F135)","v":0},null,null,null,null,null,null,null,null,null,null,null,null,null,null,null,null,null,null,null,null,null,null,null,null,null,null,null,null,null,null,null,null,null,null,null," "]
[null,"TOTAL ARANCEL MLE Y NO ARANCELADO",{"$f":"C135","v":0},{"$f":"D135","v":0},{"$f":"E135","v":0},{"$f":"F135","v":0},{"$f":"G135","v":0},null,null,null,null,null,null,null,null,null,null,null,null,null,null,null,null,null,null,null,{"$f":"AA135","v":0},0,0,0,0,0,0,0,0,0]
[null,"TOTAL PRODUCCION",{"$f":"SUM(C134+C136)","v":0},{"$f":"SUM(D134+D136)","v":0},{"$f":"SUM(E134+E136)","v":0},{"$f":"SUM(F134+F136)","v":0},{"$f":"SUM(G134+G136)","v":0},null,null,null,null,null,null,null,null,null,null,null,null,null,null,null,null,null,null,null,{"$f":"SUM(AA134+AA136)","v":0},0,0,0,0,0,0,0,0,0,0,{"$f":"SUM(AL134+AL136)","v":0}]
[null,"VISITAS DOMICILIARIAS                                                                                       "]
["0104002","Visita a domicilio por  Trabajador/a Social",{"$f":"SUM(D139+G139)","v":0},{"$f":"SUM(E139:F139)","v":0},null,null,null,null,null,null,null,null,null,null,null,null,null,null,null,null,null,null,null,null,null,null,null,null,null,null,null,null,null,null,null,null,2350,{"$f":"AK139*E139","v":0}," "," "]
["0104003","Visita a domicilio por auxiliar de enfermería",{"$f":"SUM(D140+G140)","v":0},{"$f":"SUM(E140:F140)","v":0},null,null,null,null,null,null,null,null,null,null,null,null,null,null,null,null,null,null,null,null,null,null,null,null,null,null,null,null,null,null,null,null,1350,{"$f":"AK140*E140","v":0},null," "]
["0104004","Visita a domicilio por enfermera",{"$f":"SUM(D141+G141)","v":0},{"$f":"SUM(E141:F141)","v":0},null,null,null,null,null,null,null,null,null,null,null,null,null,null,null,null,null,null,null,null,null,null,null,null,null,null,null,null,null,null,null,null,2350,{"$f":"AK141*E141","v":0},null," "]
["0104005","Visita a domicilio por matrona",{"$f":"SUM(D142+G142)","v":0},{"$f":"SUM(E142:F142)","v":0},null,null,null,null,null,null,null,null,null,null,null,null,null,null,null,null,null,null,null,null,null,null,null,null,null,null,null,null,null,null,null,null,2350,{"$f":"AK142*E142","v":0}," "," "]
["0104006","Visita a domicilio por nutricionista",{"$f":"SUM(D143+G143)","v":0},{"$f":"SUM(E143:F143)","v":0},null,null,null,null,null,null,null,null,null,null,null,null,null,null,null,null,null,null,null,null,null,null,null,null,null,null,null,null,null,null,null,null,2350,{"$f":"AK143*E143","v":0},null," "]
[null,"TOTAL ARANCEL MAI",{"$f":"SUM(C139:C143)","v":0},{"$f":"SUM(D139:D143)","v":0},{"$f":"SUM(E139:E143)","v":0},{"$f":"SUM(F139:F143)","v":0},{"$f":"SUM(G139:G143)","v":0},null,null,null,null,null,null,null,null,null,null,null,null,null,null,null,null,null,null,null,{"$f":"SUM(AA139:AA143)","v":0},{"$f":"SUM(AB139:AB143)","v":0},0,0,0,0,0,0,0,0,null,{"$f":"SUM(AL139:AL143)","v":0}]
["01010037","Visita a domicilio por otro integrante del equipo de salud",{"$f":"SUM(D145+G145)","v":0},{"$f":"SUM(E145:F145)","v":0},null,null,null,null,null,null,null,null,null,null,null,null,null,null,null,null,null,null,null,null,null,null,null,null,null,null,null,null,null,null,null,null,null,null," "," "]
["01010038","Visita domiciaria por otro profesional y técnicos paramédico",{"$f":"SUM(D146+G146)","v":0},{"$f":"SUM(E146:F146)","v":0},null,null,null,null,null,null,null,null,null,null,null,null,null,null,null,null,null,null,null,null,null,null,null,null,null,null,null,null,null,null,null,null,null,null,null," "]
[null,"TOTAL ARANCEL MLE Y NO ARANCELADO",{"$f":"SUM(C145:C146)","v":0},{"$f":"SUM(D145:D146)","v":0},{"$f":"SUM(E145:E146)","v":0},{"$f":"SUM(F145:F146)","v":0},{"$f":"SUM(G145:G146)","v":0},null,null,null,null,null,null,null,null,null,null,null,null,null,null,null,null,null,null,null,{"$f":"SUM(AA145:AA146)","v":0},0,0,0,0,0,0,0,0,0]
[null,"TOTAL",{"$f":"SUM(C144+C147)","v":0},{"$f":"SUM(D144+D147)","v":0},{"$f":"SUM(E144+E147)","v":0},{"$f":"SUM(F144+F147)","v":0},{"$f":"SUM(G144+G147)","v":0},null,null,null,null,null,null,null,null,null,null,null,null,null,null,null,null,null,null,null,{"$f":"SUM(AA144+AA147)","v":0},{"$f":"SUM(AB144+AB147)","v":0},0,{"$f":"SUM(AD144+AD147)","v":0},{"$f":"SUM(AE144+AE147)","v":0},0,0,0,0,0,null,{"$f":"SUM(AL144+AL147)","v":0}]
[null,"MISCELANEOS                                                                                            "]
["0106002","Curación simple ambulatoria",{"$f":"SUM(D150+G150)","v":0},{"$f":"SUM(E150:F150)","v":0},null,null,null,null,null,null,null,null,null,null,null,null,null,null,null,null,null,null,null,null,null,null,null,null,null,null,null,null,null,null,null,null,900,{"$f":"AK150*E150","v":0}," "," "]
["0106007","Oxigenoterapia Hiperbárica (1 sesión)",{"$f":"SUM(D151+G151)","v":0},{"$f":"SUM(E151:F151)","v":0},null,null,null,null,null,null,null,null,null,null,null,null,null,null,null,null,null,null,null,null,null,null,null,null,null,null,null,null,null,null,null,null,27850,{"$f":"AK151*E151","v":0},null," "]
["0106101","Atención Integral de Acupuntura ",{"$f":"SUM(D152+G152)","v":0},{"$f":"SUM(E152:F152)","v":0},null,null,null,null,null,null,null,null,null,null,null,null,null,null,null,null,null,null,null,null,null,null,null,null,null,null,null,null,null,null,null,null,6490,{"$f":"AK152*E152","v":0},null," "]
[null,"TOTAL ARANCEL MAI",{"$f":"SUM(C150:C152)","v":0},{"$f":"SUM(D150:D152)","v":0},{"$f":"SUM(E150:E152)","v":0},{"$f":"SUM(F150:F152)","v":0},0,null,null,null,null,null,null,null,null,null,null,null,null,null,null,null,null,null,null,null,{"$f":"SUM(AA150:AA152)","v":0},0,0,0,0,0,0,0,0,0,null,{"$f":"SUM(AL150:AL152)","v":0}]
["01010043","Autocontrol pacientes Diabetico insulino dependiente (D.I.D. mensual)",{"$f":"SUM(D154+G154)","v":0},{"$f":"SUM(E154:F154)","v":0},null,null,null,null,null,null,null,null,null,null,null,null,null,null,null,null,null,null,null,null,null,null,null,null,null,null,null,null,null,null,null,null,null,null,null," "]
["01010044","Oxigenoterapia domiciliaria (pacientes oxígeno dependientes)",0,0,null,null,null,null,null,null,null,null,null,null,null,null,null,null,null,null,null,null,null,null,null,null,null,null,null,null,null,null,null,null,null,null,null,null," "," "]
["01010047","Procedimientos de podología",{"$f":"SUM(D156+G156)","v":0},{"$f":"SUM(E156:F156)","v":0},null,null,null,null,null,null,null,null,null,null,null,null,null,null,null,null,null,null,null,null,null,null,null,null,null,null,null,null,null,null,null,null,null,null,null," "]
[null,"TOTAL ARANCEL MLE Y NO ARANCELADO",{"$f":"SUM(C154:C156)","v":0},{"$f":"SUM(D154:D156)","v":0},0,0,0,null,null,null,null,null,null,null,null,null,null,null,null,null,null,null,null,null,null,null,{"$f":"SUM(AA154:AA156)","v":0},0,0,0,0,0,0,0,0,0]
[null,"TOTAL PRODUCCION",{"$f":"SUM(C153+C157)","v":0},{"$f":"SUM(D153+D157)","v":0},{"$f":"SUM(E153+E157)","v":0},{"$f":"SUM(F153+F157)","v":0},{"$f":"SUM(G153+G157)","v":0},null,null,null,null,null,null,null,null,null,null,null,null,null,null,null,null,null,null,null,{"$f":"SUM(AA153+AA157)","v":0},0,0,0,0,0,0,0,0,{"$f":"SUM(AJ153+AJ157)","v":0},null,{"$f":"SUM(AL153+AL157)","v":0}]
[null,"OTRAS MISCELANEOS "]
[5099048,"Hemoglucotest instantáneo",{"$f":"SUM(D160+G160)","v":0},{"$f":"SUM(E160:F160)","v":0},null,null,null,null,null,null,null,null,null,null,null,null,null,null,null,null,null,null,null,null,null,null,null,null,null,null,null,null,null,null,null,null,null,null," "," "]
[5099008,"Actividad Básica",0,0]
[5099009,"Actividad Terapeutica",0,0]
[5099010,"Evaluacion Actividad",0,0,null,null,null,null,null,null,null,null,null,null,null,null,null,null,null,null,null,null,null,null,null,null,null,null,null,null,null,null,null,null,null,null,null,null," "," "]
[5099011,"Evaluacion  prevocacional",0,0]
[5099063,"Evaluación cognitiva",0,0]
[5099064,"Estimulación cognitiva",0,0]
[5099111,"Curacion avanzada de herida",0,0]
["0102701","Evaluación Motriz Funcional",0,0]
["0102702","Evaluación cognitiva-perceptual",0,0,null,null,null,null,null,null,null,null,null,null,null,null,null,null,null,null,null,null,null,null,null,null,null,null,null,null,null,null,null,null,null,null,null,null," "," "]
["0102703","Evaluación independencia en actividades de la vida diaria",0,0]
["0102704","Evaluación barreras arquitectónicas",0,0]
["0102705","Evaluación puesto de trabajo",0,0]
["0102706","Evaluación del desarrollo Psicomotor",0,0]
["0102707","Reentrenamiento de las funciones cognitiva-perceptual",0,0]
["0102708","Reentrenamiento de las actividades de la vida diaria",0,0]
["0102709","Reentrenamiento laboral",0,0]
["01010065","Comité junta médica",0,0]
["01010066","Consultorías médicas de especialidades",0,0]
["01010067","Consultorías odontólogos",0,0,null,null,null,null,null,null,null,null,null,null,null,null,null,null,null,null,null,null,null,null,null,null,null,null,null,null,null,null,null,null,null,null,null,null," "," "]
["01010068","Consejerias Individual por profesional de salud",0,0]
["01010069","Consejerias Familiar por  profesionales de salud",0,0]
["01010070","Instalación de clips en lesiones sangrantes",0,0]
["01010071","Instalación vendaje compresivo (Coban)",0,0]
[null,"TOTAL",{"$f":"SUM(C160:C183)","v":0},{"$f":"SUM(D160:D183)","v":0},{"$f":"SUM(E160:E183)","v":0},{"$f":"SUM(F160:F183)","v":0},{"$f":"SUM(G160:G183)","v":0},null,null,null,null,null,null,null,null,null,null,null,null,null,null,null,null,null,null,null,{"$f":"SUM(AA160:AA183)","v":0},0,0,0,0,0,0,0,0,0]
[null,"TRASPLANTES"]
["01010072","Estudio receptor donante cadáver ",0,{"$f":"SUM(E186:F186)","v":0},null,null,null,null,null,null,null,null,null,null,null,null,null,null,null,null,null,null,null,null,null,null,null,null,null,null,null,null,null,null,null,null,null,null," "," "]
["01010073","Estudio receptor donante vivo ",0,0]
["01010074","Estudio receptores corazón-pulmón ",0,0]
["01010075","Estudio pacientes trasplante medula ósea ",0,0]
["01010076","Trasplante de medula autólogo",0,0]
["01010077","Trasplante de medula alógeno",0,0,null,null,null,null,null,null,null,null,null,null,null,null,null,null,null,null,null,null,null,null,null,null,null,null,null,null,null,null,null,null,null,null,null,null," "," "]
["01010078","Trasplante medula de cordón",0,0,null,null,null,null,null,null,null,null,null,null,null,null,null,null,null,null,null,null,null,null,null,null,null,null,null,null,null,null,null,null,null,null,null,null," "," "]
["01010079","Trasplante medula aploidentico",0,0]
["01010080","Trasplante de córnea (incluye procuramiento y seguimiento por un año)",0,0]
["01010081","Soporte pretrasplante hepático extracorporeo por sesión ",0,0,null,null,null,null,null,null,null,null,null,null,null,null,null,null,null,null,null,null,null,null,null,null,null,null,null,null,null,null,null,null,null,null,null,null," "," "]
["01010082","Mantención donante cadáver (pulmón, corazón o hígado) (muerte cerebral) ",0,0,null,null,null,null,null,null,null,null,null,null,null,null,null,null,null,null,null,null,null,null,null,null,null,null,null,null,null,null,null,null,null,null,null,null," "," "]
[null,"TOTAL",{"$f":"SUM(C186:C196)","v":0},{"$f":"SUM(D186:D196)","v":0},{"$f":"SUM(E186:E196)","v":0},{"$f":"SUM(F186:F196)","v":0},{"$f":"SUM(G186:G196)","v":0},null,null,null,null,null,null,null,null,null,null,null,null,null,null,null,null,null,null,null,{"$f":"SUM(AA186:AA196)","v":0},{"$f":"SUM(AB186:AB196)","v":0},0,0,0,0,0,0,0,0]
[null,"ATENCION CERRADA "]
["0201010","Dia Cama de Hospitalización Integral Cuidados Básicos",0,{"$f":"SUM(E199:F199)","v":0},null,null,null,null,null,null,null,null,null,null,null,null,null,null,null,null,null,null,null,null,null,null,null,null,null,null,null,null,null,null,null,null,42910,{"$f":"AK199*E199","v":0},null," "]
["0201110","Dia Cama de Hospitalización Integral Cuidados Medios",{"$f":"SUM(D200+G200)","v":0},{"$f":"SUM(E200:F200)","v":0},null,null,null,null,null,null,null,null,null,null,null,null,null,null,null,null,null,null,null,null,null,null,null,null,null,null,null,null,null,null,null,null,48310,0,null," "]
["0201301","Día Cama de Hospitalización Integral Adulto en Unidad de Tratamiento Intermedio (U.T.I)",0,0,null,null,null,null,null,null,null,null,null,null,null,null,null,null,null,null,null,null,null,null,null,null,null,null,null,null,null,null,null,null,null,null,89840,0,null," "]
["0201302","Día Cama de Hospitalización Integral Pediátrica en Unidad de Tratamiento Intermedio (U.T.I)",0,0,null,null,null,null,null,null,null,null,null,null,null,null,null,null,null,null,null,null,null,null,null,null,null,null,null,null,null,null,null,null,null,null,89840,0,null," "]
["0201303","Día Cama de Hospitalización Integral Neonatal en Unidad de Tratamiento Intermedio (U.T.I)",0,0,null,null,null,null,null,null,null,null,null,null,null,null,null,null,null,null,null,null,null,null,null,null,null,null,null,null,null,null,null,null,null,null,89840,0,null," "]
["0201201","Día Cama de Hospitalización Integral Adulto en Unidad de Cuidado Intensivo (U.C.I.) ",0,0,null,null,null,null,null,null,null,null,null,null,null,null,null,null,null,null,null,null,null,null,null,null,null,null,null,null,null,null,null,null,null,null,185990,0," "," "]
["0201202","Día Cama de Hospitalización Integral Pediátrica en Unidad de Cuidado Intensivo (U.C.I). ",0,0,null,null,null,null,null,null,null,null,null,null,null,null,null,null,null,null,null,null,null,null,null,null,null,null,null,null,null,null,null,null,null,null,185990,0,null," "]
["0201203","Día Cama de Hospitalización Integral Neonatal en Unidad de Cuidado Intensivo (U.C.I.)",0,0,null,null,null,null,null,null,null,null,null,null,null,null,null,null,null,null,null,null,null,null,null,null,null,null,null,null,null,null,null,null,null,null,185990,0,null," "]
["0201410","Día Cama de Hospitalización Integral Obstetricia ",0,0,null,null,null,null,null,null,null,null,null,null,null,null,null,null,null,null,null,null,null,null,null,null,null,null,null,null,null,null,null,null,null,null,42970,0," "," "]
["0201403","Día Cama de Hospitalización Integral Sala Cuna",0,0,null,null,null,null,null,null,null,null,null,null,null,null,null,null,null,null,null,null,null,null,null,null,null,null,null,null,null,null,null,null,null,null,8670,0,null," "]
["0201404","Día Cama de Hospitalización Integral Incubadora",0,0,null,null,null,null,null,null,null,null,null,null,null,null,null,null,null,null,null,null,null,null,null,null,null,null,null,null,null,null,null,null,null,null,80610,0," "," "]
["0201406","Día Cama de Hospitalización Integral Psiquiatría ",0,0,null,null,null,null,null,null,null,null,null,null,null,null,null,null,null,null,null,null,null,null,null,null,null,null,null,null,null,null,null,null,null,null,31880,{"$f":"AK210*E210","v":0},null," "]
["0201407","Día Cama de Hospitalizacion Integral de Observación - Ambulatorio",0,0,null,null,null,null,null,null,null,null,null,null,null,null,null,null,null,null,null,null,null,null,null,null,null,null,null,null,null,null,null,null,null,null,9040,{"$f":"AK211*E211","v":0},null," "]
["0201501","Dia Cama Hospitalizacion Domiciliaria Cuidados Básicos",0,0,null,null,null,null,null,null,null,null,null,null,null,null,null,null,null,null,null,null,null,null,null,null,null,null,null,null,null,null,null,null,null,null,41880,{"$f":"AK212*E212","v":0},null," "]
["0201502","Dia Cama Hospitalizacion Domiciliaria Cuidados Medios ",0,0,null,null,null,null,null,null,null,null,null,null,null,null,null,null,null,null,null,null,null,null,null,null,null,null,null,null,null,null,null,null,null,null,64090,{"$f":"AK213*E213","v":0},null," "]
["0201503","Dia Cama Hospitalizacion Domiciliaria Cuidados Alta Complejidad ",0,0,null,null,null,null,null,null,null,null,null,null,null,null,null,null,null,null,null,null,null,null,null,null,null,null,null,null,null,null,null,null,null,null,106750,{"$f":"AK214*E214","v":0}," "," "]
[null,"TOTAL",{"$f":"SUM(C199:C214)","v":0},{"$f":"SUM(D199:D214)","v":0},{"$f":"SUM(E199:E214)","v":0},{"$f":"SUM(F199:F214)","v":0},{"$f":"SUM(G199:G214)","v":0},null,null,null,null,null,null,null,null,null,null,null,null,null,null,null,null,null,null,null,{"$f":"SUM(AA199:AA214)","v":0},0,0,0,0,0,0,0,0,0,null,{"$f":"SUM(AL199:AL214)","v":0}]
[null,"OTRAS  ATENCION CERRADA"]
["0203211","Día Cama Residencia Protegida",{"$f":"SUM(D217+G217)","v":0},{"$f":"SUM(E217:F217)","v":0},null,null,null,null,null,null,null,null,null,null,null,null,null,null,null,null,null,null,null,null,null,null,null,null,null,null,null,null,null,null,null,null,null,null," "," "]
[null,"Pensionado",{"$f":"SUM(D218+G218)","v":0},{"$f":"SUM(E218:F218)","v":0},null,null,null,null,null,null,null,null,null,null,null,null,null,null,null,null,null,null,null,null,null,null,null,null,null,null,null,null,null,null,null,null,null,null," "," "]
[null,"TOTAL ARANCEL MLE Y NO ARANCELADO",{"$f":"SUM(C217:C218)","v":0},{"$f":"SUM(D217:D218)","v":0},0,0,0,null,null,null,null,null,null,null,null,null,null,null,null,null,null,null,null,null,null,null,{"$f":"SUM(AA217:AA218)","v":0},{"$f":"SUM(AB217:AB218)","v":0},0,0,0,0,0,0,0,0]
[null,"TOTAL PRODUCCION",{"$f":"SUM(C215+C219)","v":0},{"$f":"SUM(D215+D219)","v":0},{"$f":"SUM(E215+E219)","v":0},{"$f":"SUM(F215+F219)","v":0},{"$f":"SUM(G215+G219)","v":0},null,null,null,null,null,null,null,null,null,null,null,null,null,null,null,null,null,null,null,{"$f":"SUM(AA215+AA219)","v":0},0,0,0,0,0,0,0,0,0,null,0]
["","EXAMENES DE LABORATORIO  "]
["","SANGRE, HEMATOLOGIA"]
["0301002","Acido fólico o folatos",0,{"$f":"SUM(E223:F223)","v":0},null,null,null,null,null,null,null,null,null,null,null,null,null,null,null,null,null,null,null,null,null,null,null,null,null,null,null,null,null,null,null,null,4750,{"$f":"AK223*E223","v":0},null," "]
["0301003","Adenograma, mielograma, c/u",{"$f":"SUM(D224+G224)","v":0},{"$f":"SUM(E224:F224)","v":0},null,null,null,null,null,null,null,null,null,null,null,null,null,null,null,null,null,null,null,null,null,null,null,null,null,null,null,null,null,null,null,null,5900,0]
["0301006","Agregación plaquetaria con diferentes agonistas",0,0,null,null,null,null,null,null,null,null,null,null,null,null,null,null,null,null,null,null,null,null,null,null,null,null,null,null,null,null,null,null,null,null,4230,0]
["0301007","Anticoagulantes circulantes o anticoagulante lúpico",0,0,null,null,null,null,null,null,null,null,null,null,null,null,null,null,null,null,null,null,null,null,null,null,null,null,null,null,null,null,null,null,null,null,4230,0]
["0301008","Antitrombina III",0,0,null,null,null,null,null,null,null,null,null,null,null,null,null,null,null,null,null,null,null,null,null,null,null,null,null,null,null,null,null,null,null,null,4230,0]
["0301011","Coagulación, tiempo de",0,0,null,null,null,null,null,null,null,null,null,null,null,null,null,null,null,null,null,null,null,null,null,null,null,null,null,null,null,null,null,null,null,null,1470,0]
["0301013","Tiempo de lisis del coágulo",0,0,null,null,null,null,null,null,null,null,null,null,null,null,null,null,null,null,null,null,null,null,null,null,null,null,null,null,null,null,null,null,null,null,550,0]
["0301014","Prueba de antiglobulina directa",0,0,null,null,null,null,null,null,null,null,null,null,null,null,null,null,null,null,null,null,null,null,null,null,null,null,null,null,null,null,null,null,null,null,1160,0]
["0301017","Deshidrogenasa glucosa-6-fosfato en eritrocitos",0,0,null,null,null,null,null,null,null,null,null,null,null,null,null,null,null,null,null,null,null,null,null,null,null,null,null,null,null,null,null,null,null,null,4440,0]
["0301020","Tiempo de lisis de euglobulinas",0,0,null,null,null,null,null,null,null,null,null,null,null,null,null,null,null,null,null,null,null,null,null,null,null,null,null,null,null,null,null,null,null,null,1470,0]
["0301021","Fibrinógeno",0,0,null,null,null,null,null,null,null,null,null,null,null,null,null,null,null,null,null,null,null,null,null,null,null,null,null,null,null,null,null,null,null,null,2100,0]
["0301022","Test de neutralización plaquetaria",0,0,null,null,null,null,null,null,null,null,null,null,null,null,null,null,null,null,null,null,null,null,null,null,null,null,null,null,null,null,null,null,null,null,4230,0]
["0301024","Factor V",0,0,null,null,null,null,null,null,null,null,null,null,null,null,null,null,null,null,null,null,null,null,null,null,null,null,null,null,null,null,null,null,null,null,2100,0]
["0301025","Factores VII, VIII, IX, X, XI, XII, XIII, c/u",0,0,null,null,null,null,null,null,null,null,null,null,null,null,null,null,null,null,null,null,null,null,null,null,null,null,null,null,null,null,null,null,null,null,4440,0]
["0301026","Ferritina",0,0,null,null,null,null,null,null,null,null,null,null,null,null,null,null,null,null,null,null,null,null,null,null,null,null,null,null,null,null,null,null,null,null,5400,0]
["0301027","Fibrinógeno, productos de degradación del",0,0,null,null,null,null,null,null,null,null,null,null,null,null,null,null,null,null,null,null,null,null,null,null,null,null,null,null,null,null,null,null,null,null,4440,0]
["0301028","Fierro sérico",0,0,null,null,null,null,null,null,null,null,null,null,null,null,null,null,null,null,null,null,null,null,null,null,null,null,null,null,null,null,null,null,null,null,2100,0]
["0301029","Fierro, capacidad de fijación del (incluye fierro sérico)",0,0,null,null,null,null,null,null,null,null,null,null,null,null,null,null,null,null,null,null,null,null,null,null,null,null,null,null,null,null,null,null,null,null,4440,0]
["0301030","Fierro, cinética del (cada determinación)",0,0,null,null,null,null,null,null,null,null,null,null,null,null,null,null,null,null,null,null,null,null,null,null,null,null,null,null,null,null,null,null,null,null,5400,0]
["0301034","Clasificación sanguínea AB0 y RhD",0,0,null,null,null,null,null,null,null,null,null,null,null,null,null,null,null,null,null,null,null,null,null,null,null,null,null,null,null,null,null,null,null,null,2400,0]
["0301035","Haptoglobina cuantitativa",0,0,null,null,null,null,null,null,null,null,null,null,null,null,null,null,null,null,null,null,null,null,null,null,null,null,null,null,null,null,null,null,null,null,4000,0]
["0301036","Hematocrito (proc. aut.)",0,0,null,null,null,null,null,null,null,null,null,null,null,null,null,null,null,null,null,null,null,null,null,null,null,null,null,null,null,null,null,null,null,null,660,0]
["0301038","Hemoglobina en sangre total (proc. aut.)",0,0,null,null,null,null,null,null,null,null,null,null,null,null,null,null,null,null,null,null,null,null,null,null,null,null,null,null,null,null,null,null,null,null,660,0]
["0301040","Hemoglobina fetal cuantitativa en eritrocitos",0,0,null,null,null,null,null,null,null,null,null,null,null,null,null,null,null,null,null,null,null,null,null,null,null,null,null,null,null,null,null,null,null,null,4440,0]
["0301041","Hemoglobina glicada A1c",0,0,null,null,null,null,null,null,null,null,null,null,null,null,null,null,null,null,null,null,null,null,null,null,null,null,null,null,null,null,null,null,null,null,4610,0]
["0301042","Hemoglobina plasmática",0,0,null,null,null,null,null,null,null,null,null,null,null,null,null,null,null,null,null,null,null,null,null,null,null,null,null,null,null,null,null,null,null,null,900,0]
["0301044","Electroforesis de hemoglobina",0,0,null,null,null,null,null,null,null,null,null,null,null,null,null,null,null,null,null,null,null,null,null,null,null,null,null,null,null,null,null,null,null,null,4750,0]
["0301045","Hemograma (incluye recuentos de leucocitos, eritrocitos, plaquetas, hemoglobina, hematocrito, fórmula leucocitaria, características de los elementos figurados y velocidad de eritrosedimentación)  ",0,0,null,null,null,null,null,null,null,null,null,null,null,null,null,null,null,null,null,null,null,null,null,null,null,null,null,null,null,null,null,null,null,null,3040,0]
["0301048","Hemosiderina medular",0,0,null,null,null,null,null,null,null,null,null,null,null,null,null,null,null,null,null,null,null,null,null,null,null,null,null,null,null,null,null,null,null,null,900,0]
["0301049","Cuantificación de heparina",0,0,null,null,null,null,null,null,null,null,null,null,null,null,null,null,null,null,null,null,null,null,null,null,null,null,null,null,null,null,null,null,null,null,4440,0]
["0301051","Identificación de anticuerpos irregulares eritrocitarios",0,0,null,null,null,null,null,null,null,null,null,null,null,null,null,null,null,null,null,null,null,null,null,null,null,null,null,null,null,null,null,null,null,null,4440,0]
["0301054","Metahemoglobina",0,0,null,null,null,null,null,null,null,null,null,null,null,null,null,null,null,null,null,null,null,null,null,null,null,null,null,null,null,null,null,null,null,null,1160,0]
["0301059","Tiempo de protrombina (incluye INR, Razón Internacional Normalizada)",0,0,null,null,null,null,null,null,null,null,null,null,null,null,null,null,null,null,null,null,null,null,null,null,null,null,null,null,null,null,null,null,null,null,1470,{"$f":"AK255*E255","v":0}]
["0301062","Recuento de basófilos (absoluto)",0,0,null,null,null,null,null,null,null,null,null,null,null,null,null,null,null,null,null,null,null,null,null,null,null,null,null,null,null,null,null,null,null,null,900,0," "," "]
["0301063","Recuento de eosinófilos (absoluto)",0,0,null,null,null,null,null,null,null,null,null,null,null,null,null,null,null,null,null,null,null,null,null,null,null,null,null,null,null,null,null,null,null,null,900,0]
["0301064","Recuento de eritrocitos, absoluto (proc. aut.)",0,0,null,null,null,null,null,null,null,null,null,null,null,null,null,null,null,null,null,null,null,null,null,null,null,null,null,null,null,null,null,null,null,null,660,0]
["0301065","Recuento de leucocitos, absoluto (proc. aut.)",0,0,null,null,null,null,null,null,null,null,null,null,null,null,null,null,null,null,null,null,null,null,null,null,null,null,null,null,null,null,null,null,null,null,660,0," "," "]
["0301066","Recuento de linfocitos (absoluto)",0,0,null,null,null,null,null,null,null,null,null,null,null,null,null,null,null,null,null,null,null,null,null,null,null,null,null,null,null,null,null,null,null,null,1160,0]
["0301067","Recuento de plaquetas (absoluto)",0,0,null,null,null,null,null,null,null,null,null,null,null,null,null,null,null,null,null,null,null,null,null,null,null,null,null,null,null,null,null,null,null,null,1160,0," "," "]
["0301068","Recuento de reticulocitos (absoluto o porcentual)",0,0,null,null,null,null,null,null,null,null,null,null,null,null,null,null,null,null,null,null,null,null,null,null,null,null,null,null,null,null,null,null,null,null,900,0]
["0301069","Recuento diferencial o fórmula leucocitaria (proc. aut.)",0,0,null,null,null,null,null,null,null,null,null,null,null,null,null,null,null,null,null,null,null,null,null,null,null,null,null,null,null,null,null,null,null,null,1820,0]
["0301070","Resistencia globular osmótica",0,0,null,null,null,null,null,null,null,null,null,null,null,null,null,null,null,null,null,null,null,null,null,null,null,null,null,null,null,null,null,null,null,null,2980,0]
["0301072","Tiempo de sangría (no incluye dispositivo asociado)",0,0,null,null,null,null,null,null,null,null,null,null,null,null,null,null,null,null,null,null,null,null,null,null,null,null,null,null,null,null,null,null,null,null,1470,0]
["0301082","Transferrina",0,0,null,null,null,null,null,null,null,null,null,null,null,null,null,null,null,null,null,null,null,null,null,null,null,null,null,null,null,null,null,null,null,null,5250,0]
["0301083","Trombina, tiempo de",0,0,null,null,null,null,null,null,null,null,null,null,null,null,null,null,null,null,null,null,null,null,null,null,null,null,null,null,null,null,null,null,null,null,1820,0]
["0301085","Tromboplastina, tiempo parcial de (TTPA, TTPK o similares)",0,0,null,null,null,null,null,null,null,null,null,null,null,null,null,null,null,null,null,null,null,null,null,null,null,null,null,null,null,null,null,null,null,null,2320,0]
["0301086","Velocidad de eritrosedimentación (proc. aut.)",0,0,null,null,null,null,null,null,null,null,null,null,null,null,null,null,null,null,null,null,null,null,null,null,null,null,null,null,null,null,null,null,null,null,540,0]
["0301089","Factor Von Willebrand antigénico (FVW:Ag)",0,0,null,null,null,null,null,null,null,null,null,null,null,null,null,null,null,null,null,null,null,null,null,null,null,null,null,null,null,null,null,null,null,null,8510,0]
["0301090","Factor Von Willebrand antigénico Cofactor Ristocetina (FVW:CoRis)",0,0,null,null,null,null,null,null,null,null,null,null,null,null,null,null,null,null,null,null,null,null,null,null,null,null,null,null,null,null,null,null,null,null,8510,0]
["0301091","Proteína C funcional",0,0,null,null,null,null,null,null,null,null,null,null,null,null,null,null,null,null,null,null,null,null,null,null,null,null,null,null,null,null,null,null,null,null,29210,0]
["0301092","Proteína S",0,0,null,null,null,null,null,null,null,null,null,null,null,null,null,null,null,null,null,null,null,null,null,null,null,null,null,null,null,null,null,null,null,null,31820,0]
["0301093","Resistencia a la Proteína C activada ",0,0,null,null,null,null,null,null,null,null,null,null,null,null,null,null,null,null,null,null,null,null,null,null,null,null,null,null,null,null,null,null,null,null,20870,0]
["0301094","Estudio de la hemoglobinuria paroxística nocturna (HPN) por citometría de flujo",0,0,null,null,null,null,null,null,null,null,null,null,null,null,null,null,null,null,null,null,null,null,null,null,null,null,null,null,null,null,null,null,null,null,45050,0]
["0301095","Dímero-D",0,0,null,null,null,null,null,null,null,null,null,null,null,null,null,null,null,null,null,null,null,null,null,null,null,null,null,null,null,null,null,null,null,null,9900,0]
["0301096","Procalcitonina",0,0,null,null,null,null,null,null,null,null,null,null,null,null,null,null,null,null,null,null,null,null,null,null,null,null,null,null,null,null,null,null,null,null,22700,0]
["0301097","Inhibidor de factor de la coagulación",0,0,null,null,null,null,null,null,null,null,null,null,null,null,null,null,null,null,null,null,null,null,null,null,null,null,null,null,null,null,null,null,null,null,80760,0]
["0301098","Secreción plaquetaria con diferentes agonistas",0,0,null,null,null,null,null,null,null,null,null,null,null,null,null,null,null,null,null,null,null,null,null,null,null,null,null,null,null,null,null,null,null,null,79090,0]
["0301099","Tiempo de veneno de víbora de Russell diluído",0,0,null,null,null,null,null,null,null,null,null,null,null,null,null,null,null,null,null,null,null,null,null,null,null,null,null,null,null,null,null,null,null,null,48230,0]
["0301100","Antitrombina III antigénica",0,0,null,null,null,null,null,null,null,null,null,null,null,null,null,null,null,null,null,null,null,null,null,null,null,null,null,null,null,null,null,null,null,null,32260,0," "," "]
["0301101","Actividad anti-factor X activado",{"$f":"SUM(D282+G282)","v":0},{"$f":"SUM(E282:F282)","v":0},null,null,null,null,null,null,null,null,null,null,null,null,null,null,null,null,null,null,null,null,null,null,null,null,null,null,null,null,null,null,null,null,36270,0]
["0301102","Tiempo de tromboplastina parcial activado (TTPA) con mezcla de plasma normal",0,0,null,null,null,null,null,null,null,null,null,null,null,null,null,null,null,null,null,null,null,null,null,null,null,null,null,null,null,null,null,null,null,null,10740,0]
["0301103","Mioglobina",0,0,null,null,null,null,null,null,null,null,null,null,null,null,null,null,null,null,null,null,null,null,null,null,null,null,null,null,null,null,null,null,null,null,40630,0]
["0301104","Tromboelastografia",0,0,null,null,null,null,null,null,null,null,null,null,null,null,null,null,null,null,null,null,null,null,null,null,null,null,null,null,null,null,null,null,null,null,62220,0]
["0301105","Mutación JAK-2",0,0,null,null,null,null,null,null,null,null,null,null,null,null,null,null,null,null,null,null,null,null,null,null,null,null,null,null,null,null,null,null,null,null,109290,0]
["0301106","Hematocrito automatizado (en contador hematológico)",0,0,null,null,null,null,null,null,null,null,null,null,null,null,null,null,null,null,null,null,null,null,null,null,null,null,null,null,null,null,null,null,null,null,4850,{"$f":"AK287*E287","v":0}]
["0301107","Recuento de reticulocitos (absoluto o porcentual) automatizado",0,0,null,null,null,null,null,null,null,null,null,null,null,null,null,null,null,null,null,null,null,null,null,null,null,null,null,null,null,null,null,null,null,null,5630,0]
["0301108","Ensayo de unión a colágeno",0,0,null,null,null,null,null,null,null,null,null,null,null,null,null,null,null,null,null,null,null,null,null,null,null,null,null,null,null,null,null,null,null,null,43390,0]
["0301109","Multimeros del factor Von Willebrand",0,0,null,null,null,null,null,null,null,null,null,null,null,null,null,null,null,null,null,null,null,null,null,null,null,null,null,null,null,null,null,null,null,null,125180,0]
["0301110","Factor V Leiden",0,0,null,null,null,null,null,null,null,null,null,null,null,null,null,null,null,null,null,null,null,null,null,null,null,null,null,null,null,null,null,null,null,null,80190,0," "," "]
["0301111","Mutación G20210A del gen de la protrombina",0,0,null,null,null,null,null,null,null,null,null,null,null,null,null,null,null,null,null,null,null,null,null,null,null,null,null,null,null,null,null,null,null,null,70380,0]
["0301112","Anticuerpos antiplaquetarios",0,0,null,null,null,null,null,null,null,null,null,null,null,null,null,null,null,null,null,null,null,null,null,null,null,null,null,null,null,null,null,null,null,null,107100,0]
["0301113","Folato Eritrocitario",0,0,null,null,null,null,null,null,null,null,null,null,null,null,null,null,null,null,null,null,null,null,null,null,null,null,null,null,null,null,null,null,null,null,20020,0]
["0301114","Proteína C antigénica",0,0,null,null,null,null,null,null,null,null,null,null,null,null,null,null,null,null,null,null,null,null,null,null,null,null,null,null,null,null,null,null,null,null,83000,0," "," "]
["0301115","Tipificación antigénica de las plaquetas",{"$f":"SUM(D296+G296)","v":0},{"$f":"SUM(E296:F296)","v":0},null,null,null,null,null,null,null,null,null,null,null,null,null,null,null,null,null,null,null,null,null,null,null,null,null,null,null,null,null,null,null,null,86380,0]
["0301116","Hemoglobina Glicada, A1c, test rápido en el lugar de asistencia (incluye toma de muestra sangre capilar)",0,0,null,null,null,null,null,null,null,null,null,null,null,null,null,null,null,null,null,null,null,null,null,null,null,null,null,null,null,null,null,null,null,null,4610,0,null," "]
[null,"TOTAL",{"$f":"SUM(C223:C297)","v":0},{"$f":"SUM(D223:D297)","v":0},0,0,0,null,null,null,null,null,null,null,null,null,null,null,null,null,null,null,null,null,null,null,{"$f":"SUM(AA223:AA297)","v":0},{"$f":"SUM(AB223:AB297)","v":0},{"$f":"SUM(AC223:AC297)","v":0},{"$f":"SUM(AD223:AD297)","v":0},{"$f":"SUM(AE223:AE297)","v":0},{"$f":"SUM(AF223:AF297)","v":0},{"$f":"SUM(AG223:AG297)","v":0},{"$f":"SUM(AH223:AH297)","v":0},{"$f":"SUM(AI223:AI297)","v":0},{"$f":"SUM(AJ223:AJ297)","v":0},null,{"$f":"SUM(AL223:AL297)","v":0}]
[null,"SANGRE, EXAMENES BIOQUIMICOS  "]
["0302001","Cuerpos cetónicos en sangre",0,0,null,null,null,null,null,null,null,null,null,null,null,null,null,null,null,null,null,null,null,null,null,null,null,null,null,null,null,null,null,null,null,null,820,{"$f":"AK300*E300","v":0},null," "]
["0302002","Acido cítrico",0,0,null,null,null,null,null,null,null,null,null,null,null,null,null,null,null,null,null,null,null,null,null,null,null,null,null,null,null,null,null,null,null,null,2310,0]
["0302004","Lactato en sangre",0,0,null,null,null,null,null,null,null,null,null,null,null,null,null,null,null,null,null,null,null,null,null,null,null,null,null,null,null,null,null,null,null,null,3760,0]
["0302005","Acido úrico, en sangre",0,0,null,null,null,null,null,null,null,null,null,null,null,null,null,null,null,null,null,null,null,null,null,null,null,null,null,null,null,null,null,null,null,null,1590,0]
["0302008","Amilasa, en sangre",0,0,null,null,null,null,null,null,null,null,null,null,null,null,null,null,null,null,null,null,null,null,null,null,null,null,null,null,null,null,null,null,null,null,2350,0]
["0302009","Aminoácidos, cualitativo en sangre",0,0,null,null,null,null,null,null,null,null,null,null,null,null,null,null,null,null,null,null,null,null,null,null,null,null,null,null,null,null,null,null,null,null,5570,0]
["0302010","Amonio",0,0,null,null,null,null,null,null,null,null,null,null,null,null,null,null,null,null,null,null,null,null,null,null,null,null,null,null,null,null,null,null,null,null,2100,0," "," "]
["0302070","Apolipoproteínas (A1, B u otras) c/u",0,0,null,null,null,null,null,null,null,null,null,null,null,null,null,null,null,null,null,null,null,null,null,null,null,null,null,null,null,null,null,null,null,null,6510,0]
["0302011","Bicarbonato (proc. aut.)",0,0,null,null,null,null,null,null,null,null,null,null,null,null,null,null,null,null,null,null,null,null,null,null,null,null,null,null,null,null,null,null,null,null,660,0]
["0302012","Bilirrubina total (proc. aut.)",0,0,null,null,null,null,null,null,null,null,null,null,null,null,null,null,null,null,null,null,null,null,null,null,null,null,null,null,null,null,null,null,null,null,1320,0]
["0302013","Bilirrubina total y conjugada",0,0,null,null,null,null,null,null,null,null,null,null,null,null,null,null,null,null,null,null,null,null,null,null,null,null,null,null,null,null,null,null,null,null,1470,0]
["0302015","Calcio en sangre",0,0,null,null,null,null,null,null,null,null,null,null,null,null,null,null,null,null,null,null,null,null,null,null,null,null,null,null,null,null,null,null,null,null,1160,0]
["0302017","Caroteno",0,0,null,null,null,null,null,null,null,null,null,null,null,null,null,null,null,null,null,null,null,null,null,null,null,null,null,null,null,null,null,null,null,null,2100,0," "," "]
["0302018","Caroteno, prueba de sobrecarga de ",0,0,null,null,null,null,null,null,null,null,null,null,null,null,null,null,null,null,null,null,null,null,null,null,null,null,null,null,null,null,null,null,null,null,4750,0]
["0302019","Ceruloplasmina",0,0,null,null,null,null,null,null,null,null,null,null,null,null,null,null,null,null,null,null,null,null,null,null,null,null,null,null,null,null,null,null,null,null,3240,0]
["0302020","Cobre en sangre",0,0,null,null,null,null,null,null,null,null,null,null,null,null,null,null,null,null,null,null,null,null,null,null,null,null,null,null,null,null,null,null,null,null,1540,0]
["0302067","Colesterol total (proc. aut.)",0,0,null,null,null,null,null,null,null,null,null,null,null,null,null,null,null,null,null,null,null,null,null,null,null,null,null,null,null,null,null,null,null,null,1370,0," "," "]
["0302068","Colesterol HDL (proc. aut.)",0,0,null,null,null,null,null,null,null,null,null,null,null,null,null,null,null,null,null,null,null,null,null,null,null,null,null,null,null,null,null,null,null,null,2040,0]
["0302021","Colinesterasa en suero o plasma",0,0,null,null,null,null,null,null,null,null,null,null,null,null,null,null,null,null,null,null,null,null,null,null,null,null,null,null,null,null,null,null,null,null,2970,0]
["0302023","Creatinina en sangre",0,0,null,null,null,null,null,null,null,null,null,null,null,null,null,null,null,null,null,null,null,null,null,null,null,null,null,null,null,null,null,null,null,null,1340,0]
["0302024","Clearance de creatinina (proc.aut.)",0,0,null,null,null,null,null,null,null,null,null,null,null,null,null,null,null,null,null,null,null,null,null,null,null,null,null,null,null,null,null,null,null,null,2970,0]
["0302025","Creatinquinasa CK - MB  actividad",0,0,null,null,null,null,null,null,null,null,null,null,null,null,null,null,null,null,null,null,null,null,null,null,null,null,null,null,null,null,null,null,null,null,4750,0]
["0302026","Creatinquinasa CK - total",0,0,null,null,null,null,null,null,null,null,null,null,null,null,null,null,null,null,null,null,null,null,null,null,null,null,null,null,null,null,null,null,null,null,3620,0]
["0302027","Troponina",0,0,null,null,null,null,null,null,null,null,null,null,null,null,null,null,null,null,null,null,null,null,null,null,null,null,null,null,null,null,null,null,null,null,9900,0]
["0302030","Deshidrogenasa láctica total (LDH)",0,0,null,null,null,null,null,null,null,null,null,null,null,null,null,null,null,null,null,null,null,null,null,null,null,null,null,null,null,null,null,null,null,null,2170,0," "," "]
["0302031","Deshidrogenasa láctica total (LDH), con separación de isoenzimas",0,0,null,null,null,null,null,null,null,null,null,null,null,null,null,null,null,null,null,null,null,null,null,null,null,null,null,null,null,null,null,null,null,null,5900,0]
["0302032","Electrolitos plasmáticos (sodio, potasio, cloro) c/u",0,0,null,null,null,null,null,null,null,null,null,null,null,null,null,null,null,null,null,null,null,null,null,null,null,null,null,null,null,null,null,null,null,null,1240,0]
["0302033","Enzima convertidora de angiotensina I",0,0,null,null,null,null,null,null,null,null,null,null,null,null,null,null,null,null,null,null,null,null,null,null,null,null,null,null,null,null,null,null,null,null,5900,0]
["0302034","Perfil lipídico (incluye mediciones de colesterol total, HDL-colesterol y triglicéridos con estimaciones por fórmula de LDL-colesterol, VLDL-colesterol y colesterol no-HDL)",0,0,null,null,null,null,null,null,null,null,null,null,null,null,null,null,null,null,null,null,null,null,null,null,null,null,null,null,null,null,null,null,null,null,6280,0," "," "]
["0302035","Fármacos y/o drogas; niveles plasmáticos de (alcohol, anorexígenos, antiarrítmicos, antibióticos, antidepresivos, antiepilépticos, antihistamínicos, antiinflamatorios y analgésicos, estimulantes respiratorios, tranquilizantes mayores y menores, etc.) c/u",0,0,null,null,null,null,null,null,null,null,null,null,null,null,null,null,null,null,null,null,null,null,null,null,null,null,null,null,null,null,null,null,null,null,5640,0]
["0302036","Fenilalanina",0,0,null,null,null,null,null,null,null,null,null,null,null,null,null,null,null,null,null,null,null,null,null,null,null,null,null,null,null,null,null,null,null,null,2100,0]
["0302039","Fosfatasas alcalinas con separación de isoenzimas hepáticas, intestinales, óseas c/u",0,0,null,null,null,null,null,null,null,null,null,null,null,null,null,null,null,null,null,null,null,null,null,null,null,null,null,null,null,null,null,null,null,null,5740,0]
["0302040","Fosfatasas alcalinas totales",0,0,null,null,null,null,null,null,null,null,null,null,null,null,null,null,null,null,null,null,null,null,null,null,null,null,null,null,null,null,null,null,null,null,1350,{"$f":"AK332*E332","v":0}]
["0302042","Fósforo (fosfatos) en sangre",0,0,null,null,null,null,null,null,null,null,null,null,null,null,null,null,null,null,null,null,null,null,null,null,null,null,null,null,null,null,null,null,null,null,1740,0]
["0302043","Galactosa",0,0,null,null,null,null,null,null,null,null,null,null,null,null,null,null,null,null,null,null,null,null,null,null,null,null,null,null,null,null,null,null,null,null,660,0]
["0302045","Gamma glutamiltranspeptidasa (GGT)",0,0,null,null,null,null,null,null,null,null,null,null,null,null,null,null,null,null,null,null,null,null,null,null,null,null,null,null,null,null,null,null,null,null,2240,0," "," "]
["0302046","Gases y equilibrio ácido base en sangre (incluye: pH, O2, CO2, exceso de base y bicarbonato), todos o cada uno de los parámetros",0,0,null,null,null,null,null,null,null,null,null,null,null,null,null,null,null,null,null,null,null,null,null,null,null,null,null,null,null,null,null,null,null,null,3740,0," "," "]
["0302047","Glucosa en sangre",0,0,null,null,null,null,null,null,null,null,null,null,null,null,null,null,null,null,null,null,null,null,null,null,null,null,null,null,null,null,null,null,null,null,1340,0]
["0302048","Glucosa, Prueba de Tolerancia a la Glucosa Oral (PTGO), (dos determinaciones)",0,0,null,null,null,null,null,null,null,null,null,null,null,null,null,null,null,null,null,null,null,null,null,null,null,null,null,null,null,null,null,null,null,null,6030,0]
["0302050","Adenosindeaminasa en sangre u otro fluido biológico (ADA)",0,0,null,null,null,null,null,null,null,null,null,null,null,null,null,null,null,null,null,null,null,null,null,null,null,null,null,null,null,null,null,null,null,null,4440,0]
["0302052","Leucinaminopeptidasa (LAP)",0,0,null,null,null,null,null,null,null,null,null,null,null,null,null,null,null,null,null,null,null,null,null,null,null,null,null,null,null,null,null,null,null,null,2100,0," "," "]
["0302053","Lipasa en sangre",0,0,null,null,null,null,null,null,null,null,null,null,null,null,null,null,null,null,null,null,null,null,null,null,null,null,null,null,null,null,null,null,null,null,2310,0]
["0302055","Litio en sangre",0,0,null,null,null,null,null,null,null,null,null,null,null,null,null,null,null,null,null,null,null,null,null,null,null,null,null,null,null,null,null,null,null,null,2970,0]
["0302056","Magnesio en sangre",0,0,null,null,null,null,null,null,null,null,null,null,null,null,null,null,null,null,null,null,null,null,null,null,null,null,null,null,null,null,null,null,null,null,2970,0]
["0302057","Nitrógeno ureico y/o urea, en sangre",0,0,null,null,null,null,null,null,null,null,null,null,null,null,null,null,null,null,null,null,null,null,null,null,null,null,null,null,null,null,null,null,null,null,1340,0]
["0302058","Osmolalidad en sangre",0,0,null,null,null,null,null,null,null,null,null,null,null,null,null,null,null,null,null,null,null,null,null,null,null,null,null,null,null,null,null,null,null,null,1700,0," "," "]
["0302075","Perfil bioquímico (determinación automatizada de 12 parámetros)",0,0,null,null,null,null,null,null,null,null,null,null,null,null,null,null,null,null,null,null,null,null,null,null,null,null,null,null,null,null,null,null,null,null,8510,0]
["0302100","Proteínas totales en sangre",0,0,null,null,null,null,null,null,null,null,null,null,null,null,null,null,null,null,null,null,null,null,null,null,null,null,null,null,null,null,null,null,null,null,1460,0]
["0302101","Albúminas en sangre",0,0,null,null,null,null,null,null,null,null,null,null,null,null,null,null,null,null,null,null,null,null,null,null,null,null,null,null,null,null,null,null,null,null,1460,0]
["0302061","Electroforesis de Proteínas (incluye cód. 03-02-100 y 03-02-101)",0,0,null,null,null,null,null,null,null,null,null,null,null,null,null,null,null,null,null,null,null,null,null,null,null,null,null,null,null,null,null,null,null,null,6170,0]
["0302076","Perfil Hepático (incluye tiempo de protrombina, bilirrubina total y conjugada, fosfatasas alcalinas totales, GGT, transaminasas GOT/AST y GPT/ALT)",0,0,null,null,null,null,null,null,null,null,null,null,null,null,null,null,null,null,null,null,null,null,null,null,null,null,null,null,null,null,null,null,null,null,10690,0]
["0302063","Transaminasas, oxalacética (GOT/AST), Pirúvica (GPT/ALT), c/u",0,0,null,null,null,null,null,null,null,null,null,null,null,null,null,null,null,null,null,null,null,null,null,null,null,null,null,null,null,null,null,null,null,null,1930,0]
["0302064","Triglicéridos en sangre (proc.aut.)",0,0,null,null,null,null,null,null,null,null,null,null,null,null,null,null,null,null,null,null,null,null,null,null,null,null,null,null,null,null,null,null,null,null,1750,0," "," "]
["0302066","Xilosa, prueba de absorción ",0,0,null,null,null,null,null,null,null,null,null,null,null,null,null,null,null,null,null,null,null,null,null,null,null,null,null,null,null,null,null,null,null,null,3140,0]
["0302077","Vitamina B12 por inmunoensayo",0,0,null,null,null,null,null,null,null,null,null,null,null,null,null,null,null,null,null,null,null,null,null,null,null,null,null,null,null,null,null,null,null,null,7180,0]
["0302078","25 OH Vitamina D Total por inmunoensayo (Quimioluminiscencia, Enzimoinmunoensayo, Radio inmunoensayo y otros)",0,0,null,null,null,null,null,null,null,null,null,null,null,null,null,null,null,null,null,null,null,null,null,null,null,null,null,null,null,null,null,null,null,null,14310,0]
["0302080","Vitamina B6 por HPLC",0,0,null,null,null,null,null,null,null,null,null,null,null,null,null,null,null,null,null,null,null,null,null,null,null,null,null,null,null,null,null,null,null,null,45240,0]
["0302081","Calcio iónico. Incluye medición de pH método ión selectivo. No incluye Point of Care Testing POCT",0,0,null,null,null,null,null,null,null,null,null,null,null,null,null,null,null,null,null,null,null,null,null,null,null,null,null,null,null,null,null,null,null,null,2050,0]
["0302082","Fenilalanina Cuantitativa en Gotas de Sangre Seca",0,0,null,null,null,null,null,null,null,null,null,null,null,null,null,null,null,null,null,null,null,null,null,null,null,null,null,null,null,null,null,null,null,null,8070,0]
["0302083","Carboxihemoglobina",0,0,null,null,null,null,null,null,null,null,null,null,null,null,null,null,null,null,null,null,null,null,null,null,null,null,null,null,null,null,null,null,null,null,19740,0]
["0302084","Plomo en sangre",{"$f":"SUM(D360+G360)","v":0},{"$f":"SUM(E360:F360)","v":0},null,null,null,null,null,null,null,null,null,null,null,null,null,null,null,null,null,null,null,null,null,null,null,null,null,null,null,null,null,null,null,null,64630,0," "," "]
["0302085","Prealbumina",0,0,null,null,null,null,null,null,null,null,null,null,null,null,null,null,null,null,null,null,null,null,null,null,null,null,null,null,null,null,null,null,null,null,31630,0]
["0302086","Homocisteína ",0,0,null,null,null,null,null,null,null,null,null,null,null,null,null,null,null,null,null,null,null,null,null,null,null,null,null,null,null,null,null,null,null,null,17760,0]
["0302087","Co-oximetría",0,0,null,null,null,null,null,null,null,null,null,null,null,null,null,null,null,null,null,null,null,null,null,null,null,null,null,null,null,null,null,null,null,null,7300,0]
["0302088","Nivel de Carnitina ",0,0,null,null,null,null,null,null,null,null,null,null,null,null,null,null,null,null,null,null,null,null,null,null,null,null,null,null,null,null,null,null,null,null,54200,{"$f":"AK364*E364","v":0}," "," "]
["0302089","Lipoproteina (A)",0,0,null,null,null,null,null,null,null,null,null,null,null,null,null,null,null,null,null,null,null,null,null,null,null,null,null,null,null,null,null,null,null,null,44510,0," "," "]
["0302090","Bilirrubina neonatal",0,0,null,null,null,null,null,null,null,null,null,null,null,null,null,null,null,null,null,null,null,null,null,null,null,null,null,null,null,null,null,null,null,null,2290,0]
["0302091","Colesterol LDL directo",0,0,null,null,null,null,null,null,null,null,null,null,null,null,null,null,null,null,null,null,null,null,null,null,null,null,null,null,null,null,null,null,null,null,50330,0]
["0302092","Creatinquinasa CK - MB masa",0,0,null,null,null,null,null,null,null,null,null,null,null,null,null,null,null,null,null,null,null,null,null,null,null,null,null,null,null,null,null,null,null,null,14210,0]
["0302093","Panel de glicemia (incluye glucosa basal, glucosa 2 horas post desayuno y glucosa 2 horas post almuerzo)",0,0,null,null,null,null,null,null,null,null,null,null,null,null,null,null,null,null,null,null,null,null,null,null,null,null,null,null,null,null,null,null,null,null,7080,0]
["0302094","CK isoenzimas",0,0,null,null,null,null,null,null,null,null,null,null,null,null,null,null,null,null,null,null,null,null,null,null,null,null,null,null,null,null,null,null,null,null,92970,0]
["0302095","Tiopurina metiltransferasa, actividad enzimatica",0,0,null,null,null,null,null,null,null,null,null,null,null,null,null,null,null,null,null,null,null,null,null,null,null,null,null,null,null,null,null,null,null,null,60360,0]
["0302096","Tirosina cuantitativa en GSS",0,0,null,null,null,null,null,null,null,null,null,null,null,null,null,null,null,null,null,null,null,null,null,null,null,null,null,null,null,null,null,null,null,null,25810,0]
["0302097","Hormona tiroestimulante, neonatal",0,0,null,null,null,null,null,null,null,null,null,null,null,null,null,null,null,null,null,null,null,null,null,null,null,null,null,null,null,null,null,null,null,null,11960,0]
["0302098","Perfil de aminoácidos y acilcarnitinas",0,0,null,null,null,null,null,null,null,null,null,null,null,null,null,null,null,null,null,null,null,null,null,null,null,null,null,null,null,null,null,null,null,null,86920,0]
["0302099","Pesquisa neonatal ampliada en GSS (incluye perfil de aminoácidos y acilcarnitinas; succinilacetona; hormona tiroestimulante, neonatal; biotinidasa; galactosa total; galactosa-1-fosfato uridiltransferasa; 17-hidroxiprogesterona; tripsina inmunorreactiva).",0,0,null,null,null,null,null,null,null,null,null,null,null,null,null,null,null,null,null,null,null,null,null,null,null,null,null,null,null,null,null,null,null,null,102980,0," "," "]
["0302102","Leucina cualitativa en GSS",{"$f":"SUM(D376+G376)","v":0},{"$f":"SUM(E376:F376)","v":0},null,null,null,null,null,null,null,null,null,null,null,null,null,null,null,null,null,null,null,null,null,null,null,null,null,null,null,null,null,null,null,null,32190,0]
["0302103","Zinc en sangre",0,0,null,null,null,null,null,null,null,null,null,null,null,null,null,null,null,null,null,null,null,null,null,null,null,null,null,null,null,null,null,null,null,null,10540,0]
["0302104","Triptasa sérica",0,0,null,null,null,null,null,null,null,null,null,null,null,null,null,null,null,null,null,null,null,null,null,null,null,null,null,null,null,null,null,null,null,null,30970,0,null," "]
[null,"TOTAL",{"$f":"SUM(C300:C378)","v":0},{"$f":"SUM(D300:D378)","v":0},0,0,0,null,null,null,null,null,null,null,null,null,null,null,null,null,null,null,null,null,null,null,{"$f":"SUM(AA300:AA378)","v":0},{"$f":"SUM(AB300:AB378)","v":0},{"$f":"SUM(AC300:AC378)","v":0},{"$f":"SUM(AD300:AD378)","v":0},{"$f":"SUM(AE300:AE378)","v":0},{"$f":"SUM(AF300:AF378)","v":0},{"$f":"SUM(AG300:AG378)","v":0},{"$f":"SUM(AH300:AH378)","v":0},{"$f":"SUM(AI300:AI378)","v":0},{"$f":"SUM(AJ300:AJ378)","v":0},null,{"$f":"SUM(AL300:AL378)","v":0}]
[null,"HORMONAS  "]
["0303001","Adenocorticotrofina (ACTH)",0,0,null,null,null,null,null,null,null,null,null,null,null,null,null,null,null,null,null,null,null,null,null,null,null,null,null,null,null,null,null,null,null,null,8170,{"$f":"AK381*E381","v":0}]
["0303002","Aldosterona",0,0,null,null,null,null,null,null,null,null,null,null,null,null,null,null,null,null,null,null,null,null,null,null,null,null,null,null,null,null,null,null,null,null,7050,0]
["0303003","Androstenediona",0,0,null,null,null,null,null,null,null,null,null,null,null,null,null,null,null,null,null,null,null,null,null,null,null,null,null,null,null,null,null,null,null,null,5280,0]
["0303004","Angiotensina",{"$f":"SUM(D384+G384)","v":0},0,null,null,null,null,null,null,null,null,null,null,null,null,null,null,null,null,null,null,null,null,null,null,null,null,null,null,null,null,null,null,null,null,6410,0]
["0303006","Cortisol",0,0,null,null,null,null,null,null,null,null,null,null,null,null,null,null,null,null,null,null,null,null,null,null,null,null,null,null,null,null,null,null,null,null,5280,0]
["0303007","Crecimiento, hormona de (HGH) (somatotrofina)",0,0,null,null,null,null,null,null,null,null,null,null,null,null,null,null,null,null,null,null,null,null,null,null,null,null,null,null,null,null,null,null,null,null,7050,0]
["0303008","Dehidroepiandrosterona sulfato (DHEA-S)",0,0,null,null,null,null,null,null,null,null,null,null,null,null,null,null,null,null,null,null,null,null,null,null,null,null,null,null,null,null,null,null,null,null,7050,0]
["0303009","Eritropoyetina",0,0,null,null,null,null,null,null,null,null,null,null,null,null,null,null,null,null,null,null,null,null,null,null,null,null,null,null,null,null,null,null,null,null,5010,0," "," "]
["0303012","Gastrina",0,0,null,null,null,null,null,null,null,null,null,null,null,null,null,null,null,null,null,null,null,null,null,null,null,null,null,null,null,null,null,null,null,null,7050,0," "," "]
["0303014","Gonadotrofina coriónica, sub-unidad beta (cuantificación)",0,0,null,null,null,null,null,null,null,null,null,null,null,null,null,null,null,null,null,null,null,null,null,null,null,null,null,null,null,null,null,null,null,null,5240,0]
["0303015","Hormona folículo estimulante (FSH)",0,0,null,null,null,null,null,null,null,null,null,null,null,null,null,null,null,null,null,null,null,null,null,null,null,null,null,null,null,null,null,null,null,null,5240,0]
["0303016","Hormona luteinizante (LH)",0,0,null,null,null,null,null,null,null,null,null,null,null,null,null,null,null,null,null,null,null,null,null,null,null,null,null,null,null,null,null,null,null,null,5240,0]
["0303047","IGF1 o Somatomedina - C (Insuline Like Growth Factor)",0,0,null,null,null,null,null,null,null,null,null,null,null,null,null,null,null,null,null,null,null,null,null,null,null,null,null,null,null,null,null,null,null,null,12220,0," "," "]
["0303048","IGFBP3, IGFBP1 (Insulin Like Growth Factor Binding Proteins)  c/u",0,0,null,null,null,null,null,null,null,null,null,null,null,null,null,null,null,null,null,null,null,null,null,null,null,null,null,null,null,null,null,null,null,null,12220,0]
["0303017","Insulina",0,0,null,null,null,null,null,null,null,null,null,null,null,null,null,null,null,null,null,null,null,null,null,null,null,null,null,null,null,null,null,null,null,null,5240,0," "," "]
["0303031","Insulina, curva de (mínimo dos determinaciones)",0,0,null,null,null,null,null,null,null,null,null,null,null,null,null,null,null,null,null,null,null,null,null,null,null,null,null,null,null,null,null,null,null,null,14130,0]
["0303018","Parathormona, hormona Paratiroídea o PTH.",0,0,null,null,null,null,null,null,null,null,null,null,null,null,null,null,null,null,null,null,null,null,null,null,null,null,null,null,null,null,null,null,null,null,8020,0]
["0303019","Progesterona",0,0,null,null,null,null,null,null,null,null,null,null,null,null,null,null,null,null,null,null,null,null,null,null,null,null,null,null,null,null,null,null,null,null,5240,0]
["0303020","Prolactina (PRL)",0,0,null,null,null,null,null,null,null,null,null,null,null,null,null,null,null,null,null,null,null,null,null,null,null,null,null,null,null,null,null,null,null,null,5240,0,null," "]
["0303021","Renina",0,0,null,null,null,null,null,null,null,null,null,null,null,null,null,null,null,null,null,null,null,null,null,null,null,null,null,null,null,null,null,null,null,null,7050,0]
["0303046","SHBG (Sex-Hormone Binding Globulin)",0,0,null,null,null,null,null,null,null,null,null,null,null,null,null,null,null,null,null,null,null,null,null,null,null,null,null,null,null,null,null,null,null,null,12220,0," "," "]
["0303022","Testosterona en sangre",0,0,null,null,null,null,null,null,null,null,null,null,null,null,null,null,null,null,null,null,null,null,null,null,null,null,null,null,null,null,null,null,null,null,5280,0]
["0303023","Testosterona libre en sangre",0,0,null,null,null,null,null,null,null,null,null,null,null,null,null,null,null,null,null,null,null,null,null,null,null,null,null,null,null,null,null,null,null,null,6410,0]
["0303123","Índice androgénico (incluye Testosterona Total y SHBG)",0,0,null,null,null,null,null,null,null,null,null,null,null,null,null,null,null,null,null,null,null,null,null,null,null,null,null,null,null,null,null,null,null,null,13050,0]
["0303024","Tiroestimulante (TSH), hormona (adulto, niño o R.N.)",0,0,null,null,null,null,null,null,null,null,null,null,null,null,null,null,null,null,null,null,null,null,null,null,null,null,null,null,null,null,null,null,null,null,4580,0]
["0303025","Tiroglobulina",0,0,null,null,null,null,null,null,null,null,null,null,null,null,null,null,null,null,null,null,null,null,null,null,null,null,null,null,null,null,null,null,null,null,7050,0]
["0303026","Tiroxina libre (T4L)",0,0,null,null,null,null,null,null,null,null,null,null,null,null,null,null,null,null,null,null,null,null,null,null,null,null,null,null,null,null,null,null,null,null,5240,0," "," "]
["0303027","Tiroxina o tetrayodotironina (T4)",0,0,null,null,null,null,null,null,null,null,null,null,null,null,null,null,null,null,null,null,null,null,null,null,null,null,null,null,null,null,null,null,null,null,4580,0]
["0303028","Triyodotironina (T3)",0,0,null,null,null,null,null,null,null,null,null,null,null,null,null,null,null,null,null,null,null,null,null,null,null,null,null,null,null,null,null,null,null,null,4580,0]
["0303029","17 - Hidroxiprogesterona",0,0,null,null,null,null,null,null,null,null,null,null,null,null,null,null,null,null,null,null,null,null,null,null,null,null,null,null,null,null,null,null,null,null,7050,0]
["0303030","Estradiol (17-Beta)",0,0,null,null,null,null,null,null,null,null,null,null,null,null,null,null,null,null,null,null,null,null,null,null,null,null,null,null,null,null,null,null,null,null,5240,0]
["0303049","Catecolaminas en sangre (incluye medición de Adrenalina, Noradrenalina y Dopamina por separado por métodos cromatográficos)",0,0,null,null,null,null,null,null,null,null,null,null,null,null,null,null,null,null,null,null,null,null,null,null,null,null,null,null,null,null,null,null,null,null,30930,0]
["0303052","Peptido C",0,0,null,null,null,null,null,null,null,null,null,null,null,null,null,null,null,null,null,null,null,null,null,null,null,null,null,null,null,null,null,null,null,null,44230,0]
["0303053","Calcitonina",0,0,null,null,null,null,null,null,null,null,null,null,null,null,null,null,null,null,null,null,null,null,null,null,null,null,null,null,null,null,null,null,null,null,41700,0]
["0303054","Inhibina B",0,0,null,null,null,null,null,null,null,null,null,null,null,null,null,null,null,null,null,null,null,null,null,null,null,null,null,null,null,null,null,null,null,null,48080,0]
["0303055","NT-Pro BNP O BNP",0,0,null,null,null,null,null,null,null,null,null,null,null,null,null,null,null,null,null,null,null,null,null,null,null,null,null,null,null,null,null,null,null,null,49490,0]
["0303057","Triyodotironina Libre (T3 libre)",0,0,null,null,null,null,null,null,null,null,null,null,null,null,null,null,null,null,null,null,null,null,null,null,null,null,null,null,null,null,null,null,null,null,19220,0," "," "]
["0303058","Hormona antimulleriana",0,0,null,null,null,null,null,null,null,null,null,null,null,null,null,null,null,null,null,null,null,null,null,null,null,null,null,null,null,null,null,null,null,null,35960,0," "," "]
["0303033","Angiotensina en orina",0,0,null,null,null,null,null,null,null,null,null,null,null,null,null,null,null,null,null,null,null,null,null,null,null,null,null,null,null,null,null,null,null,null,6410,{"$f":"AK419*E419","v":0}]
["0303035","Cortisol libre urinario",0,0,null,null,null,null,null,null,null,null,null,null,null,null,null,null,null,null,null,null,null,null,null,null,null,null,null,null,null,null,null,null,null,null,5760,0]
["0303039","Gonadotrofina coriónica, sub-unidad Beta; titulación por (Elisa; RIA o IRMA; Quimioluminiscencia u otra técnica)",0,0,null,null,null,null,null,null,null,null,null,null,null,null,null,null,null,null,null,null,null,null,null,null,null,null,null,null,null,null,null,null,null,null,5280,0]
["0303050","Metanefrinas urinarias (incluye determinación de Metanefrina y Normetanefrina por separado por métodos cromatográficos)",0,0,null,null,null,null,null,null,null,null,null,null,null,null,null,null,null,null,null,null,null,null,null,null,null,null,null,null,null,null,null,null,null,null,34990,0]
["0303051","Catecolaminas urinarias (incluye medición de Adrenalina, Noradrenalina y Dopamina por separado por métodos cromatográficos)",0,0,null,null,null,null,null,null,null,null,null,null,null,null,null,null,null,null,null,null,null,null,null,null,null,null,null,null,null,null,null,null,null,null,30930,0]
["0303056","Cortisol salival",0,0,null,null,null,null,null,null,null,null,null,null,null,null,null,null,null,null,null,null,null,null,null,null,null,null,null,null,null,null,null,null,null,null,61090,0,null," "]
[null,"TOTAL",{"$f":"SUM(C381:C424)","v":0},{"$f":"SUM(D381:D424)","v":0},0,0,0,null,null,null,null,null,null,null,null,null,null,null,null,null,null,null,null,null,null,null,{"$f":"SUM(AA381:AA424)","v":0},{"$f":"SUM(AB381:AB424)","v":0},0,0,0,0,{"$f":"SUM(AG381:AG424)","v":0},0,0,0,null,{"$f":"SUM(AL381:AL424)","v":0}]
[null,"GENETICA  "]
["0304001","Cariotipo en sangre por cultivo de linfocitos (incluye mínimo 25 mitosis con bandeo G y eventualmente Q, R, C, NOR) (montaje de 3 metafases bandeadas)",0,0,null,null,null,null,null,null,null,null,null,null,null,null,null,null,null,null,null,null,null,null,null,null,null,null,null,null,null,null,null,null,null,null,46270,{"$f":"AK427*E427","v":0}]
["0304002","Cariotipo con técnicas especiales (incluye muestra de sangre o de médula ósea, tratamiento con FUDR, bromuro de etidio, medio deficiente en ácido fólico)",0,0,null,null,null,null,null,null,null,null,null,null,null,null,null,null,null,null,null,null,null,null,null,null,null,null,null,null,null,null,null,null,null,null,49480,0]
["0304003","Cariotipo en fibroblastos por cultivo de trofoblasto, líquido amniótico, piel u otros bandeos G y eventualmente Q, R, C, NOR",0,0,null,null,null,null,null,null,null,null,null,null,null,null,null,null,null,null,null,null,null,null,null,null,null,null,null,null,null,null,null,null,null,null,49480,0]
["0304006","FISH Cromosomas X e Y",0,0,null,null,null,null,null,null,null,null,null,null,null,null,null,null,null,null,null,null,null,null,null,null,null,null,null,null,null,null,null,null,null,null,65730,0]
["0304007","Diagnóstico Genético Molecular: Displasia Tanatofórica tipo I y II",0,0,null,null,null,null,null,null,null,null,null,null,null,null,null,null,null,null,null,null,null,null,null,null,null,null,null,null,null,null,null,null,null,null,37520,0]
["0304008","Amplificación por PCR más análisis de fragmentos fluorescentes por electroforesis capilar (hasta 5 fragmentos) ",0,0,null,null,null,null,null,null,null,null,null,null,null,null,null,null,null,null,null,null,null,null,null,null,null,null,null,null,null,null,null,null,null,null,207710,0]
["0304009","Estudio de deleciones y duplicaciones por amplificación múltiple de sondas dependiente de ligación (MLPA)  (1 o varios genes) ",0,0,null,null,null,null,null,null,null,null,null,null,null,null,null,null,null,null,null,null,null,null,null,null,null,null,null,null,null,null,null,null,null,null,105270,0]
["0304010","Estudio de deleciones y duplicaciones por amplificación múltiple de sondas dependiente de ligación (MLPA) más estudio de metilación o segundo set de sondas  (1 o varios genes)",0,0,null,null,null,null,null,null,null,null,null,null,null,null,null,null,null,null,null,null,null,null,null,null,null,null,null,null,null,null,null,null,null,null,124360,0]
["0304012","Amplificación por PCR en tiempo real cuantitativo con sonda",0,0,null,null,null,null,null,null,null,null,null,null,null,null,null,null,null,null,null,null,null,null,null,null,null,null,null,null,null,null,null,null,null,null,192240,0]
["0304013","Amplificación de ADN por PCR convencional de 1 fragmento",0,0,null,null,null,null,null,null,null,null,null,null,null,null,null,null,null,null,null,null,null,null,null,null,null,null,null,null,null,null,null,null,null,null,143550,0,null," "]
["0304014","Amplificación por PCR más análisis por restricción enzimática",0,0,null,null,null,null,null,null,null,null,null,null,null,null,null,null,null,null,null,null,null,null,null,null,null,null,null,null,null,null,null,null,null,null,130130,0]
["0304015","FISH en frotis frescos de médula ósea, sangre, concentrado de células plasmáticas seleccionadas, búsqueda de alteraciones adquiridas",{"$f":"SUM(D438+G438)","v":0},{"$f":"SUM(E438:F438)","v":0},null,null,null,null,null,null,null,null,null,null,null,null,null,null,null,null,null,null,null,null,null,null,null,null,null,null,null,null,null,null,null,null,194720,0]
["0304016","Cariotipo molecular (Hibridación Genómica Comparativa en Micromatrices) 60K (incluye la extracción de ADN)",0,0,null,null,null,null,null,null,null,null,null,null,null,null,null,null,null,null,null,null,null,null,null,null,null,null,null,null,null,null,null,null,null,null,762420,0]
[null,"TOTAL",{"$f":"SUM(C427:C439)","v":0},{"$f":"SUM(D427:D439)","v":0},0,0,0,null,null,null,null,null,null,null,null,null,null,null,null,null,null,null,null,null,null,null,{"$f":"SUM(AA427:AA439)","v":0},{"$f":"SUM(AB427:AB439)","v":0},{"$f":"SUM(AC427:AC439)","v":0},0,0,0,0,0,0,0,null,0,null," "]
[null,"INMUNOLOGÍA"]
["0305001","Alfa -1- antitripsina cuantitativa",0,0,null,null,null,null,null,null,null,null,null,null,null,null,null,null,null,null,null,null,null,null,null,null,null,null,null,null,null,null,null,null,null,null,5280,{"$f":"AK442*E442","v":0},null," "]
["0305002","Alfa -2- macroglobulina",0,0,null,null,null,null,null,null,null,null,null,null,null,null,null,null,null,null,null,null,null,null,null,null,null,null,null,null,null,null,null,null,null,null,5120,0]
["0305003","Alfa fetoproteínas",0,0,null,null,null,null,null,null,null,null,null,null,null,null,null,null,null,null,null,null,null,null,null,null,null,null,null,null,null,null,null,null,null,null,5240,0]
["0305004","Tamizaje de Anticuerpos anti-antígenos nucleares extractables (a- ENA) (incluye Sm, RNP, Ro, La, Scl- 70 y Jo- 1).",{"$f":"SUM(D445+G445)","v":0},{"$f":"SUM(E445:F445)","v":0},null,null,null,null,null,null,null,null,null,null,null,null,null,null,null,null,null,null,null,null,null,null,null,null,null,null,null,null,null,null,null,null,10490,0]
["0305005","Anticuerpos antinucleares (ANA), antimitocondriales, anti DNA (ADNA), anti músculo liso, anticentrómero, u otros, c/u.",0,0,null,null,null,null,null,null,null,null,null,null,null,null,null,null,null,null,null,null,null,null,null,null,null,null,null,null,null,null,null,null,null,null,7200,0]
["0305007","Anticuerpos específicos y otros autoanticuerpos (anticuerpos antitiroídeos: anticuerpos antimicrosomales y antitiroglobulinas y otros anticuerpos: prostático, espermios, etc.) c/u",0,0,null,null,null,null,null,null,null,null,null,null,null,null,null,null,null,null,null,null,null,null,null,null,null,null,null,null,null,null,null,null,null,null,5810,0]
["0305008","Antiestreptolisina O, por técnica de látex ",0,0,null,null,null,null,null,null,null,null,null,null,null,null,null,null,null,null,null,null,null,null,null,null,null,null,null,null,null,null,null,null,null,null,4610,0]
["0305009","Antígeno carcinoembrionario (CEA)",0,0,null,null,null,null,null,null,null,null,null,null,null,null,null,null,null,null,null,null,null,null,null,null,null,null,null,null,null,null,null,null,null,null,7060,0]
["0305070","Antígeno prostático específico",0,0,null,null,null,null,null,null,null,null,null,null,null,null,null,null,null,null,null,null,null,null,null,null,null,null,null,null,null,null,null,null,null,null,9340,0]
["0305170","Antígeno Ca 125, Ca 15-3 y Ca 19-9, c/u",0,0,null,null,null,null,null,null,null,null,null,null,null,null,null,null,null,null,null,null,null,null,null,null,null,null,null,null,null,null,null,null,null,null,9340,0]
["0305010","Beta-2-microglobulina",0,0,null,null,null,null,null,null,null,null,null,null,null,null,null,null,null,null,null,null,null,null,null,null,null,null,null,null,null,null,null,null,null,null,7060,0]
["0305012","Complemento C1Q, C2, C3, C4, etc., c/u",0,0,null,null,null,null,null,null,null,null,null,null,null,null,null,null,null,null,null,null,null,null,null,null,null,null,null,null,null,null,null,null,null,null,4610,0]
["0305013","Complemento hemolítico (CH 50)",0,0,null,null,null,null,null,null,null,null,null,null,null,null,null,null,null,null,null,null,null,null,null,null,null,null,null,null,null,null,null,null,null,null,5810,0,null," "]
["0305014","Crioglobulinas, precipitación en frío (cualitativa) o cuantitativa c/u",0,0,null,null,null,null,null,null,null,null,null,null,null,null,null,null,null,null,null,null,null,null,null,null,null,null,null,null,null,null,null,null,null,null,1110,0]
["0305019","Factor reumatoídeo por técnica de látex u otras similares",0,0,null,null,null,null,null,null,null,null,null,null,null,null,null,null,null,null,null,null,null,null,null,null,null,null,null,null,null,null,null,null,null,null,2680,0]
["0305020","Factor reumatoídeo por técnica de Scat, Waaler Rose, nefelométricas y/o turbidimétricas",0,0,null,null,null,null,null,null,null,null,null,null,null,null,null,null,null,null,null,null,null,null,null,null,null,null,null,null,null,null,null,null,null,null,4760,0]
["0305021","Inhibidor de C1Q, C2 y C3, c/u",0,0,null,null,null,null,null,null,null,null,null,null,null,null,null,null,null,null,null,null,null,null,null,null,null,null,null,null,null,null,null,null,null,null,4610,0]
["0305025","Inmunofijación de inmunoglobulina, c/u",0,0,null,null,null,null,null,null,null,null,null,null,null,null,null,null,null,null,null,null,null,null,null,null,null,null,null,null,null,null,null,null,null,null,8020,0]
["0305026","Inmunoglobulina IgA secretora",0,0,null,null,null,null,null,null,null,null,null,null,null,null,null,null,null,null,null,null,null,null,null,null,null,null,null,null,null,null,null,null,null,null,4520,0]
["0305027","Inmunoglobulinas IgA, IgG, IgM, c/u",0,0,null,null,null,null,null,null,null,null,null,null,null,null,null,null,null,null,null,null,null,null,null,null,null,null,null,null,null,null,null,null,null,null,4610,0]
["0305028","Inmunoglobulinas IgE, IgD total, c/u",0,0,null,null,null,null,null,null,null,null,null,null,null,null,null,null,null,null,null,null,null,null,null,null,null,null,null,null,null,null,null,null,null,null,5280,0]
["0305029","Inmunoglobulinas IgE, IgG específicas, c/u",0,0,null,null,null,null,null,null,null,null,null,null,null,null,null,null,null,null,null,null,null,null,null,null,null,null,null,null,null,null,null,null,null,null,5280,0]
["0305030","Proteína C reactiva por técnica de látex u otras similares",0,0,null,null,null,null,null,null,null,null,null,null,null,null,null,null,null,null,null,null,null,null,null,null,null,null,null,null,null,null,null,null,null,null,4460,0]
["0305031","Proteína C reactiva por técnicas automatizadas",0,0,null,null,null,null,null,null,null,null,null,null,null,null,null,null,null,null,null,null,null,null,null,null,null,null,null,null,null,null,null,null,null,null,6150,0]
["0305181","Anticuerpos antitransglutaminasa (TTG)(Incluye IgG e IgA)",0,0,null,null,null,null,null,null,null,null,null,null,null,null,null,null,null,null,null,null,null,null,null,null,null,null,null,null,null,null,null,null,null,null,11440,0]
["0305081","Anticuerpo antiendomisio (EMA, antimembrana basal glomerular (GBM), antireticulina, por IFI c/u.",0,0,null,null,null,null,null,null,null,null,null,null,null,null,null,null,null,null,null,null,null,null,null,null,null,null,null,null,null,null,null,null,null,null,10670,0]
["0305082","Anticuerpos anticitoplasma de neutrófilos (ANCA), (incluye C-ANCA y P-ANCA), por IFI.",0,0,null,null,null,null,null,null,null,null,null,null,null,null,null,null,null,null,null,null,null,null,null,null,null,null,null,null,null,null,null,null,null,null,15890,0]
["0305083","Determinación de isotipos de anticuerpos anticitoplasma de neutrófilos (G-M-A-C'3), por IFI, c/u.",0,0,null,null,null,null,null,null,null,null,null,null,null,null,null,null,null,null,null,null,null,null,null,null,null,null,null,null,null,null,null,null,null,null,6740,0]
["0305084","Anticuerpos anticardiolipinas (IgG, IgM), c/u",0,0,null,null,null,null,null,null,null,null,null,null,null,null,null,null,null,null,null,null,null,null,null,null,null,null,null,null,null,null,null,null,null,null,12130,0]
["0305085","Anticuerpos anti LKM-1",0,0,null,null,null,null,null,null,null,null,null,null,null,null,null,null,null,null,null,null,null,null,null,null,null,null,null,null,null,null,null,null,null,null,20200,0]
["0305086","Anticuerpos contra péptidos deaminados de gliadina IgG e IgA",0,0,null,null,null,null,null,null,null,null,null,null,null,null,null,null,null,null,null,null,null,null,null,null,null,null,null,null,null,null,null,null,null,null,10670,0]
["0305098","Cromogranina A",{"$f":"SUM(D473+G473)","v":0},{"$f":"SUM(E473:F473)","v":0},null,null,null,null,null,null,null,null,null,null,null,null,null,null,null,null,null,null,null,null,null,null,null,null,null,null,null,null,null,null,null,null,44530,0]
["0305099","Péptido Cíclico Citrulinado, anticuerpos IgG",0,0,null,null,null,null,null,null,null,null,null,null,null,null,null,null,null,null,null,null,null,null,null,null,null,null,null,null,null,null,null,null,null,null,31190,0]
["0305100","Proteina C ultrasensible",0,0,null,null,null,null,null,null,null,null,null,null,null,null,null,null,null,null,null,null,null,null,null,null,null,null,null,null,null,null,null,null,null,null,6990,0]
["0305101","Anticuerpos anti-saccharomyces cerevisiae (ASCA) IGA e IGG, c/u",0,0,null,null,null,null,null,null,null,null,null,null,null,null,null,null,null,null,null,null,null,null,null,null,null,null,null,null,null,null,null,null,null,null,9190,0]
["0305104","Antígeno prostático total y libre ",0,0,null,null,null,null,null,null,null,null,null,null,null,null,null,null,null,null,null,null,null,null,null,null,null,null,null,null,null,null,null,null,null,null,21890,0]
["0305105","Anticuerpos anti-Beta 2 glicoproteina 1 (IgG, IgM), c/u",0,0,null,null,null,null,null,null,null,null,null,null,null,null,null,null,null,null,null,null,null,null,null,null,null,null,null,null,null,null,null,null,null,null,39210,0]
["0305106","Estudio inmunológico de diabetes (incluye determinación simultánea de anticuerpos anti-células de islotes (ICA), auto anticuerpo insulina nativa (IAA), anti-antígeno de insulinoma-2 (IA2) y anti-glutamato descarboxilasa (GADA).",0,0,null,null,null,null,null,null,null,null,null,null,null,null,null,null,null,null,null,null,null,null,null,null,null,null,null,null,null,null,null,null,null,null,81190,0]
["0305107","Anticuerpos anti-MPO (mieloperoxidasa)",0,0,null,null,null,null,null,null,null,null,null,null,null,null,null,null,null,null,null,null,null,null,null,null,null,null,null,null,null,null,null,null,null,null,23990,0]
["0305108","Anticuerpos anti antígenos nucleares extractables (A-ENA): SM, RNP, SS-A/RO, SS-B/LA, SCL-70, JO-1). c/u",0,0,null,null,null,null,null,null,null,null,null,null,null,null,null,null,null,null,null,null,null,null,null,null,null,null,null,null,null,null,null,null,null,null,16650,0]
["0305109","Anticuerpos anti-PR3 (proteasa 3)",0,0,null,null,null,null,null,null,null,null,null,null,null,null,null,null,null,null,null,null,null,null,null,null,null,null,null,null,null,null,null,null,null,null,32440,0]
["0305124","Receptor de tirotropina (TRAb), anticuerpos anti",0,0,null,null,null,null,null,null,null,null,null,null,null,null,null,null,null,null,null,null,null,null,null,null,null,null,null,null,null,null,null,null,null,null,34290,0]
["0305125","CTX sérico",0,0,null,null,null,null,null,null,null,null,null,null,null,null,null,null,null,null,null,null,null,null,null,null,null,null,null,null,null,null,null,null,null,null,39490,0]
["0305126","Subclases de IgG (1,2,3,4)",0,0,null,null,null,null,null,null,null,null,null,null,null,null,null,null,null,null,null,null,null,null,null,null,null,null,null,null,null,null,null,null,null,null,86480,0]
["0305035","Detección, identificación y titulación de crioaglutininas",0,0,null,null,null,null,null,null,null,null,null,null,null,null,null,null,null,null,null,null,null,null,null,null,null,null,null,null,null,null,null,null,null,null,2310,{"$f":"AK486*E486","v":0}]
["0305036","Criohemolisinas",0,0,null,null,null,null,null,null,null,null,null,null,null,null,null,null,null,null,null,null,null,null,null,null,null,null,null,null,null,null,null,null,null,null,2310,0]
["0305037","Digestión fagocítica nitroblue-tetrazolium cualitativo y cuantitativo",0,0,null,null,null,null,null,null,null,null,null,null,null,null,null,null,null,null,null,null,null,null,null,null,null,null,null,null,null,null,null,null,null,null,5900,0]
["0305038","Fagocitosis: ingestión y digestión (killing) de levaduras por polimorfonucleares",0,0,null,null,null,null,null,null,null,null,null,null,null,null,null,null,null,null,null,null,null,null,null,null,null,null,null,null,null,null,null,null,null,null,12120,0]
["0305039","Fagocitosis: ingestión y digestión (killing) de bacterias por polimorfonucleares",0,0,null,null,null,null,null,null,null,null,null,null,null,null,null,null,null,null,null,null,null,null,null,null,null,null,null,null,null,null,null,null,null,null,12120,0]
["0305040","Inmunoadherencia de leucocitos macrófagos",0,0,null,null,null,null,null,null,null,null,null,null,null,null,null,null,null,null,null,null,null,null,null,null,null,null,null,null,null,null,null,null,null,null,4750,0]
["0305041","Intradermorreacción (PPD, histoplasmina, aspergilina, u otros, incluye el valor del antígeno y reacción de control), c/u. ",0,0,null,null,null,null,null,null,null,null,null,null,null,null,null,null,null,null,null,null,null,null,null,null,null,null,null,null,null,null,null,null,null,null,4750,0]
["0305042","LIF o MIF",0,0,null,null,null,null,null,null,null,null,null,null,null,null,null,null,null,null,null,null,null,null,null,null,null,null,null,null,null,null,null,null,null,null,5900,0]
["0305044","Linfocitos B (rosetas EAC) y linfocitos T (rosetas E) c/u",0,0,null,null,null,null,null,null,null,null,null,null,null,null,null,null,null,null,null,null,null,null,null,null,null,null,null,null,null,null,null,null,null,null,5400,0]
["0305047","Linfotoxinas humanas, detección de",0,0,null,null,null,null,null,null,null,null,null,null,null,null,null,null,null,null,null,null,null,null,null,null,null,null,null,null,null,null,null,null,null,null,8140,0]
["0305049","Transformación linfoblástica a drogas, análisis de transformación espontánea con estímulo inespecífico y con diferentes concentraciones de la droga en 1000 células",0,0,null,null,null,null,null,null,null,null,null,null,null,null,null,null,null,null,null,null,null,null,null,null,null,null,null,null,null,null,null,null,null,null,23620,0]
["0305089","Linfocitos B totales (CD19). Técnica Citometría de Flujo",0,0,null,null,null,null,null,null,null,null,null,null,null,null,null,null,null,null,null,null,null,null,null,null,null,null,null,null,null,null,null,null,null,null,43010,0]
["0305091","Linfocitos T (incluye CD3, CD4, CD8). Técnica Citometría de Flujo",0,0,null,null,null,null,null,null,null,null,null,null,null,null,null,null,null,null,null,null,null,null,null,null,null,null,null,null,null,null,null,null,null,null,25240,0]
["0305092","Natural Killers (incluye CD16, CD 56). Técnica Citometría de Flujo",0,0,null,null,null,null,null,null,null,null,null,null,null,null,null,null,null,null,null,null,null,null,null,null,null,null,null,null,null,null,null,null,null,null,25240,0]
["0305080","Estudio para hipersensibilidad retardada",{"$f":"SUM(D500+G500)","v":0},{"$f":"SUM(E500:F500)","v":0},null,null,null,null,null,null,null,null,null,null,null,null,null,null,null,null,null,null,null,null,null,null,null,null,null,null,null,null,null,null,null,null,20200]
["0305093","Inmunofenotipo en Leucemias Agudas ",0,0,null,null,null,null,null,null,null,null,null,null,null,null,null,null,null,null,null,null,null,null,null,null,null,null,null,null,null,null,null,null,null,null,334260,{"$f":"AK501*E501","v":0}]
["0305094","Inmunofenotipo en Síndrome Linfoproliferativos",0,0,null,null,null,null,null,null,null,null,null,null,null,null,null,null,null,null,null,null,null,null,null,null,null,null,null,null,null,null,null,null,null,null,284910,{"$f":"AK502*E502","v":0}]
["0305095","Inmunofenotipo en Síndrome Mielodisplásicos",0,0,null,null,null,null,null,null,null,null,null,null,null,null,null,null,null,null,null,null,null,null,null,null,null,null,null,null,null,null,null,null,null,null,290090,{"$f":"AK503*E503","v":0},null," "]
["0305096","Detección de Enfermedad Residual Mínima ",0,0,null,null,null,null,null,null,null,null,null,null,null,null,null,null,null,null,null,null,null,null,null,null,null,null,null,null,null,null,null,null,null,null,184210,{"$f":"AK504*E504","v":0}]
["0305097","Cuantificación de células progenitoras hematopoyéticas CD 34",0,0,null,null,null,null,null,null,null,null,null,null,null,null,null,null,null,null,null,null,null,null,null,null,null,null,null,null,null,null,null,null,null,null,78980,{"$f":"AK505*E505","v":0}]
["0305110","Alocross Match Linfocitos T y Linfocitos B (Citometría De Flujo)",0,0,null,null,null,null,null,null,null,null,null,null,null,null,null,null,null,null,null,null,null,null,null,null,null,null,null,null,null,null,null,null,null,null,281430,{"$f":"AK506*E506","v":0}]
["0305111","Anticuerpo Anti HLA Clase I y II Screening (Luminex)",{"$f":"SUM(D507+G507)","v":0},{"$f":"SUM(E507:F507)","v":0},null,null,null,null,null,null,null,null,null,null,null,null,null,null,null,null,null,null,null,null,null,null,null,null,null,null,null,null,null,null,null,null,62860,0]
["0305112","Autocrossmatch Linfocitos T y B   (Citometría De Flujo )",0,0,null,null,null,null,null,null,null,null,null,null,null,null,null,null,null,null,null,null,null,null,null,null,null,null,null,null,null,null,null,null,null,null,281430,0]
["0305113","Especificidad De Anticuerpos HLA  Con Antígenos Individuales Clase I  (Luminex)",0,0,null,null,null,null,null,null,null,null,null,null,null,null,null,null,null,null,null,null,null,null,null,null,null,null,null,null,null,null,null,null,null,null,238900,0]
["0305114","Especificidad De Anticuerpos HLA  Con Antígenos Individuales Clase II (Luminex)",0,0,null,null,null,null,null,null,null,null,null,null,null,null,null,null,null,null,null,null,null,null,null,null,null,null,null,null,null,null,null,null,null,null,281430,0]
["0305115","Estudio Receptor Trasplantado Con Donante Cadáver",0,0,null,null,null,null,null,null,null,null,null,null,null,null,null,null,null,null,null,null,null,null,null,null,null,null,null,null,null,null,null,null,null,null,452720,0,null," "]
["0305116","HLA-AB Tipificación (Biología Molecular)",0,0,null,null,null,null,null,null,null,null,null,null,null,null,null,null,null,null,null,null,null,null,null,null,null,null,null,null,null,null,null,null,null,null,157280,0]
["0305117","HLA-ABDR Tipificación  (Biología Molecular)",0,0,null,null,null,null,null,null,null,null,null,null,null,null,null,null,null,null,null,null,null,null,null,null,null,null,null,null,null,null,null,null,null,null,281430,0]
["0305118","HLA-B27 Tipificación (Biología Molecular)",0,0,null,null,null,null,null,null,null,null,null,null,null,null,null,null,null,null,null,null,null,null,null,null,null,null,null,null,null,null,null,null,null,null,88860,0]
["0305119","HLA-C Tipificación  (Biología Molecular)",0,0,null,null,null,null,null,null,null,null,null,null,null,null,null,null,null,null,null,null,null,null,null,null,null,null,null,null,null,null,null,null,null,null,103310,0]
["0305120","HLA-DP Tipificación  (Biología  Molecular)",0,0,null,null,null,null,null,null,null,null,null,null,null,null,null,null,null,null,null,null,null,null,null,null,null,null,null,null,null,null,null,null,null,null,103310,0]
["0305121","HLA-DQ Tipificación (Biología Molecular)",0,0,null,null,null,null,null,null,null,null,null,null,null,null,null,null,null,null,null,null,null,null,null,null,null,null,null,null,null,null,null,null,null,null,157280,0]
["0305122","HLA-DR Tipificación  (Biología Molecular)",0,0,null,null,null,null,null,null,null,null,null,null,null,null,null,null,null,null,null,null,null,null,null,null,null,null,null,null,null,null,null,null,null,null,103310,0]
["0305123","Seroteca  Mensual y Mantención en Lista De Espera",0,0,null,null,null,null,null,null,null,null,null,null,null,null,null,null,null,null,null,null,null,null,null,null,null,null,null,null,null,null,null,null,null,null,24160,0]
[null,"TOTAL",{"$f":"SUM(C442:C519)","v":0},{"$f":"SUM(D442:D519)","v":0},{"$f":"SUM(E442:E519)","v":0},{"$f":"SUM(F442:F519)","v":0},0,null,null,null,null,null,null,null,null,null,null,null,null,null,null,null,null,null,null,null,{"$f":"SUM(AA442:AA519)","v":0},{"$f":"SUM(AB442:AB519)","v":0},0,{"$f":"SUM(AD442:AD519)","v":0},{"$f":"SUM(AE442:AE519)","v":0},0,0,0,0,0,null,0]
[null,"EXAMENES MICROBIOLOGICOS                                                             "]
[null,"BACTERIAS Y HONGOS"]
["0306001","Baciloscopía por método de concentración",{"$f":"SUM(D523+G523)","v":0},{"$f":"SUM(E523:F523)","v":0},null,null,null,null,null,null,null,null,null,null,null,null,null,null,null,null,null,null,null,null,null,null,null,null,null,null,null,null,null,null,null,null,2500,{"$f":"AK523*E523","v":0},null," "]
["0306002","Baciloscopía Ziehl-Neelsen, c/u",0,0,null,null,null,null,null,null,null,null,null,null,null,null,null,null,null,null,null,null,null,null,null,null,null,null,null,null,null,null,null,null,null,null,1690,0]
["0306004","Examen directo al fresco, c/s tinción (incluye trichomonas)",0,0,null,null,null,null,null,null,null,null,null,null,null,null,null,null,null,null,null,null,null,null,null,null,null,null,null,null,null,null,null,null,null,null,1470,0]
["0306005","Tinción de Gram",0,0,null,null,null,null,null,null,null,null,null,null,null,null,null,null,null,null,null,null,null,null,null,null,null,null,null,null,null,null,null,null,null,null,660,0]
["0306006","Ultramicroscopía",0,0,null,null,null,null,null,null,null,null,null,null,null,null,null,null,null,null,null,null,null,null,null,null,null,null,null,null,null,null,null,null,null,null,4400,0]
["0306102","Tinción de toluidina",0,0,null,null,null,null,null,null,null,null,null,null,null,null,null,null,null,null,null,null,null,null,null,null,null,null,null,null,null,null,null,null,null,null,46570,0]
["0306103","Tinción de calcofluor",0,0,null,null,null,null,null,null,null,null,null,null,null,null,null,null,null,null,null,null,null,null,null,null,null,null,null,null,null,null,null,null,null,null,5360,0]
["0306104","Tinción para campylobacter",0,0,null,null,null,null,null,null,null,null,null,null,null,null,null,null,null,null,null,null,null,null,null,null,null,null,null,null,null,null,null,null,null,null,4500,0]
["0306105","Tinción tinta china",0,0,null,null,null,null,null,null,null,null,null,null,null,null,null,null,null,null,null,null,null,null,null,null,null,null,null,null,null,null,null,null,null,null,3920,0]
["0306007","Coprocultivo, c/u",0,0,null,null,null,null,null,null,null,null,null,null,null,null,null,null,null,null,null,null,null,null,null,null,null,null,null,null,null,null,null,null,null,null,4180,{"$f":"AK532*E532","v":0},null," "]
["0306008","Cultivo corriente (excepto coprocultivo, hemocultivo y urocultivo) c/u",0,0,null,null,null,null,null,null,null,null,null,null,null,null,null,null,null,null,null,null,null,null,null,null,null,null,null,null,null,null,null,null,null,null,3510,0]
["0306011","Urocultivo, recuento de colonias y antibiograma (cualquier técnica) ",0,0,null,null,null,null,null,null,null,null,null,null,null,null,null,null,null,null,null,null,null,null,null,null,null,null,null,null,null,null,null,null,null,null,3690,0]
["0306091","Hemocultivo automatizado. Incluye Antibiograma con CIM",0,0,null,null,null,null,null,null,null,null,null,null,null,null,null,null,null,null,null,null,null,null,null,null,null,null,null,null,null,null,null,null,null,null,16610,0]
["0306093","Hemocultivo automatizado para Micobacterias",0,0,null,null,null,null,null,null,null,null,null,null,null,null,null,null,null,null,null,null,null,null,null,null,null,null,null,null,null,null,null,null,null,null,15370,0]
["0306101","Cultivo de Líquido de Cavidades Estériles en frasco de Hemocultivo automatizado. Incluye Antibiograma por difusión o dilución (1 frasco, costo no incluido en arancel). ",0,0,null,null,null,null,null,null,null,null,null,null,null,null,null,null,null,null,null,null,null,null,null,null,null,null,null,null,null,null,null,null,null,null,17230,0]
["0306106","Hemocultivo automatizado para hongos",0,0,null,null,null,null,null,null,null,null,null,null,null,null,null,null,null,null,null,null,null,null,null,null,null,null,null,null,null,null,null,null,null,null,23020,0," "," "]
["0306012","Cultivo para Anaerobios (incluye Cód. 03-06-008)",0,0,null,null,null,null,null,null,null,null,null,null,null,null,null,null,null,null,null,null,null,null,null,null,null,null,null,null,null,null,null,null,null,null,6530,{"$f":"AK539*E539","v":0},null," "]
["0306013","Cultivo para Bordetella",0,0,null,null,null,null,null,null,null,null,null,null,null,null,null,null,null,null,null,null,null,null,null,null,null,null,null,null,null,null,null,null,null,null,6170,0]
["0306014","Cultivo para Campylobacter, Yersinia, Vibrio, c/u",0,0,null,null,null,null,null,null,null,null,null,null,null,null,null,null,null,null,null,null,null,null,null,null,null,null,null,null,null,null,null,null,null,null,4400,0]
["0306016","Neisseria gonorrhoeae (gonococo)",0,0,null,null,null,null,null,null,null,null,null,null,null,null,null,null,null,null,null,null,null,null,null,null,null,null,null,null,null,null,null,null,null,null,2970,0]
["0306017","Cultivo para hongos (levaduras y filamentosos)",0,0,null,null,null,null,null,null,null,null,null,null,null,null,null,null,null,null,null,null,null,null,null,null,null,null,null,null,null,null,null,null,null,null,2700,0]
["0306117","Cultivo para dermatofitos",0,0,null,null,null,null,null,null,null,null,null,null,null,null,null,null,null,null,null,null,null,null,null,null,null,null,null,null,null,null,null,null,null,null,3050,0]
["0306018","Cultivo para micobacterias (incluye bacilo de Koch)",0,0,null,null,null,null,null,null,null,null,null,null,null,null,null,null,null,null,null,null,null,null,null,null,null,null,null,null,null,null,null,null,null,null,4360,0]
["0306019","Cultivo para Legionella",0,0,null,null,null,null,null,null,null,null,null,null,null,null,null,null,null,null,null,null,null,null,null,null,null,null,null,null,null,null,null,null,null,null,4400,0]
["0306022","Cultivo y Tipificación de micobacterias",0,0,null,null,null,null,null,null,null,null,null,null,null,null,null,null,null,null,null,null,null,null,null,null,null,null,null,null,null,null,null,null,null,null,4400,0]
["0306023","Cultivo mycoplasma y ureaplasma, c/u.",0,0,null,null,null,null,null,null,null,null,null,null,null,null,null,null,null,null,null,null,null,null,null,null,null,null,null,null,null,null,null,null,null,null,6150,0]
["0306099","Streptococcus Grupo B/ agalactiae en embarazada por cultivo con medio selectivo y/o enriquecido. ",0,0,null,null,null,null,null,null,null,null,null,null,null,null,null,null,null,null,null,null,null,null,null,null,null,null,null,null,null,null,null,null,null,null,14040,0]
["0306100","Cultivo acelerado para Micobacterias",0,0,null,null,null,null,null,null,null,null,null,null,null,null,null,null,null,null,null,null,null,null,null,null,null,null,null,null,null,null,null,null,null,null,24020,0]
["0306025","Antibiograma Bacilo de Koch (cada fármaco)",0,0,null,null,null,null,null,null,null,null,null,null,null,null,null,null,null,null,null,null,null,null,null,null,null,null,null,null,null,null,null,null,null,null,4400,{"$f":"AK551*E551","v":0},null," "]
["0306026","Antibiograma Corriente (mínimo 10 fármacos) (en caso de urocultivo no corresponde su cobro; incluido en el valor 03-06-011)",0,0,null,null,null,null,null,null,null,null,null,null,null,null,null,null,null,null,null,null,null,null,null,null,null,null,null,null,null,null,null,null,null,null,2750,{"$f":"AK552*E552","v":0}]
["0306027","Antibiograma de estudio de sensibilidad por dilución (CIM) (mínimo 6 fármacos) (en caso de urocultivo, no corresponde su cobro; incluido en el valor código 03-06-011)",0,0,null,null,null,null,null,null,null,null,null,null,null,null,null,null,null,null,null,null,null,null,null,null,null,null,null,null,null,null,null,null,null,null,7720,{"$f":"AK553*E553","v":0}]
["0306028","Antifungigrama (mínimo 4 fármacos antihongos)",0,0,null,null,null,null,null,null,null,null,null,null,null,null,null,null,null,null,null,null,null,null,null,null,null,null,null,null,null,null,null,null,null,null,2100,{"$f":"AK554*E554","v":0}]
["0306097","Chlamydia Trachomatis y Neisseria Gonorrhoeae detección por técnica de biología molecular",0,0,null,null,null,null,null,null,null,null,null,null,null,null,null,null,null,null,null,null,null,null,null,null,null,null,null,null,null,null,null,null,null,null,41510,{"$f":"AK555*E555","v":0}]
["0306090","Test rápido de detección de streptococcus grupo A (Pyogenes)",0,0,null,null,null,null,null,null,null,null,null,null,null,null,null,null,null,null,null,null,null,null,null,null,null,null,null,null,null,null,null,null,null,null,5400,0]
["0306098","Toxina Clostridium Difficile en deposiciones test rápido",0,0,null,null,null,null,null,null,null,null,null,null,null,null,null,null,null,null,null,null,null,null,null,null,null,null,null,null,null,null,null,null,null,null,15850,0,null," "]
["0306107","Pneumocystis Jirovecci por técnica de biología molecular en tiempo real",0,0,null,null,null,null,null,null,null,null,null,null,null,null,null,null,null,null,null,null,null,null,null,null,null,null,null,null,null,null,null,null,null,null,174400,0]
["0306108","Helicobacter pylori, detección en deposiciones, test rápido",0,0,null,null,null,null,null,null,null,null,null,null,null,null,null,null,null,null,null,null,null,null,null,null,null,null,null,null,null,null,null,null,null,null,5560,0]
["0306118","Amplificación de DNA de Bordetella Pertussis por técnica de biología molecular en tiempo real",0,0,null,null,null,null,null,null,null,null,null,null,null,null,null,null,null,null,null,null,null,null,null,null,null,null,null,null,null,null,null,null,null,null,59990,0]
["0306133","Streptococcus agalactiae en embarazada por biología molecular ",0,0,null,null,null,null,null,null,null,null,null,null,null,null,null,null,null,null,null,null,null,null,null,null,null,null,null,null,null,null,null,null,null,null,32360,0]
["0306134","Panel ETS por biología molecular",0,0,null,null,null,null,null,null,null,null,null,null,null,null,null,null,null,null,null,null,null,null,null,null,null,null,null,null,null,null,null,null,null,null,47110,0]
["0306135","Beta-d- glucano",0,0,null,null,null,null,null,null,null,null,null,null,null,null,null,null,null,null,null,null,null,null,null,null,null,null,null,null,null,null,null,null,null,null,101570,0]
["0306136","Detección de antígeno capsular de cryptococcus",0,0,null,null,null,null,null,null,null,null,null,null,null,null,null,null,null,null,null,null,null,null,null,null,null,null,null,null,null,null,null,null,null,null,14570,0]
["0306138","Clostridium Difficile por técnica de biología molecular en tiempo real",{"$f":"SUM(D565+G565)","v":0},{"$f":"SUM(E565:F565)","v":0},null,null,null,null,null,null,null,null,null,null,null,null,null,null,null,null,null,null,null,null,null,null,null,null,null,null,null,null,null,null,null,null,22340,0]
["0306033","Brucella abortus, melitensis y suis, anticuerpos, por Aglutinación o Elisa",0,0,null,null,null,null,null,null,null,null,null,null,null,null,null,null,null,null,null,null,null,null,null,null,null,null,null,null,null,null,null,null,null,null,1530,{"$f":"AK566*E566","v":0},null," "]
["0306034","Clamidias por inmunofluorescencia, peroxidasa, Elisa o similares",0,0,null,null,null,null,null,null,null,null,null,null,null,null,null,null,null,null,null,null,null,null,null,null,null,null,null,null,null,null,null,null,null,null,5400,0]
["0306036","Mononucleosis, reacción de Paul Bunnell, Anticuerpos Heterófilos o similares",0,0,null,null,null,null,null,null,null,null,null,null,null,null,null,null,null,null,null,null,null,null,null,null,null,null,null,null,null,null,null,null,null,null,2350,0]
["0306037","Mycoplasma IgG, IgM, c/u. ",0,0,null,null,null,null,null,null,null,null,null,null,null,null,null,null,null,null,null,null,null,null,null,null,null,null,null,null,null,null,null,null,null,null,4750,0]
["0306038","R.P.R.",0,0,null,null,null,null,null,null,null,null,null,null,null,null,null,null,null,null,null,null,null,null,null,null,null,null,null,null,null,null,null,null,null,null,2640,0]
["0306039","Tíficas, reacciones de aglutinación  (Eberth H y O, paratyphi A y B) (Widal)",0,0,null,null,null,null,null,null,null,null,null,null,null,null,null,null,null,null,null,null,null,null,null,null,null,null,null,null,null,null,null,null,null,null,3700,0]
["0306041","Treponema pallidum FTA - ABS, MHA-TP c/u",0,0,null,null,null,null,null,null,null,null,null,null,null,null,null,null,null,null,null,null,null,null,null,null,null,null,null,null,null,null,null,null,null,null,4890,0]
["0306042","V.D.R.L.",0,0,null,null,null,null,null,null,null,null,null,null,null,null,null,null,null,null,null,null,null,null,null,null,null,null,null,null,null,null,null,null,null,null,3130,0]
["0306094","Antígeno galactomanano",0,0,null,null,null,null,null,null,null,null,null,null,null,null,null,null,null,null,null,null,null,null,null,null,null,null,null,null,null,null,null,null,null,null,21540,0]
["0306114","Antigeno de neumococo",0,0,null,null,null,null,null,null,null,null,null,null,null,null,null,null,null,null,null,null,null,null,null,null,null,null,null,null,null,null,null,null,null,null,82690,0]
["0306115","Legionella antígeno urinario",0,0,null,null,null,null,null,null,null,null,null,null,null,null,null,null,null,null,null,null,null,null,null,null,null,null,null,null,null,null,null,null,null,null,66280,0]
["0306119","Interferón Gamma TBC ",0,0,null,null,null,null,null,null,null,null,null,null,null,null,null,null,null,null,null,null,null,null,null,null,null,null,null,null,null,null,null,null,null,null,92390,0]
["0306131","Bordetella pertussis IgG, IgM en sangre",0,0,null,null,null,null,null,null,null,null,null,null,null,null,null,null,null,null,null,null,null,null,null,null,null,null,null,null,null,null,null,null,null,null,14380,0]
["0306132","Bartonella henselae, anticuerpos IgG o IgM, c/u",0,0,null,null,null,null,null,null,null,null,null,null,null,null,null,null,null,null,null,null,null,null,null,null,null,null,null,null,null,null,null,null,null,null,43300,0]
[null,"TOTAL",{"$f":"SUM(C523:C579)","v":0},{"$f":"SUM(D523:D579)","v":0},{"$f":"SUM(E523:E579)","v":0},{"$f":"SUM(F523:F579)","v":0},0,null,null,null,null,null,null,null,null,null,null,null,null,null,null,null,null,null,null,null,{"$f":"SUM(AA523:AA579)","v":0},{"$f":"SUM(AB523:AB579)","v":0},0,0,0,0,0,0,0,0,null,0]
[null,"PARASITOS"]
["0306043","Artrópodos macroscópicos y microscópicos (imagos y/o pupas y/o larvas), diagnóstico de",0,0,null,null,null,null,null,null,null,null,null,null,null,null,null,null,null,null,null,null,null,null,null,null,null,null,null,null,null,null,null,null,null,null,2970,{"$f":"AK582*E582","v":0}]
["0306045","Coproparasitario seriado con técnica  para Cryptosporidium sp o para Diantamoeba fragilis (incluye los códigos 03-06-048 y/o 03-06-059 más aplicación de técnica de frotis con tinción tricrómica o tinción Ziehl-Neelsen en por lo menos 3 muestras, según corresponda)",0,0,null,null,null,null,null,null,null,null,null,null,null,null,null,null,null,null,null,null,null,null,null,null,null,null,null,null,null,null,null,null,null,null,8870,0]
["0306046","Coproparasitario seriado para fasciola hepática (incluye diagnóstico de gusanos macroscópicos y examen microscópico de 10 muestras por método de Telemann y simultáneamente por técnica de Sedimentación rápida (Copa Cónica)",0,0,null,null,null,null,null,null,null,null,null,null,null,null,null,null,null,null,null,null,null,null,null,null,null,null,null,null,null,null,null,null,null,null,17700,0]
["0306047","Coproparasitario seriado para Isospora y Sarcocystis (incluye diagnóstico de gusanos macroscópicos y examen  microscópico de 3 muestras separadas)",0,0,null,null,null,null,null,null,null,null,null,null,null,null,null,null,null,null,null,null,null,null,null,null,null,null,null,null,null,null,null,null,null,null,4750,0]
["0306048","Coproparasitológico seriado simple (incluye diagnóstico de gusanos macroscópicos y examen microscópico por concentración de tres muestras separadas método Telemann ) (proc. aut.)",0,0,null,null,null,null,null,null,null,null,null,null,null,null,null,null,null,null,null,null,null,null,null,null,null,null,null,null,null,null,null,null,null,null,3130,0]
["0306049","Diagnóstico de parásitos en jugo duodenal y/o bilis, examen macroscópico y microscópico (directo y/o concentración, c/s tinción)",0,0,null,null,null,null,null,null,null,null,null,null,null,null,null,null,null,null,null,null,null,null,null,null,null,null,null,null,null,null,null,null,null,null,2970,0]
["0306050","Diagnóstico parasitario en exudados, secreciones y otros líquidos orgánicos, examen macro y microscópico de (incluye concentración y/o tinción cuando proceda), c/u",0,0,null,null,null,null,null,null,null,null,null,null,null,null,null,null,null,null,null,null,null,null,null,null,null,null,null,null,null,null,null,null,null,null,2970,0]
["0306051","Graham, examen de (incluye diagnóstico de gusanos macroscópicos y examen microscópico de 5 muestras separadas)",0,0,null,null,null,null,null,null,null,null,null,null,null,null,null,null,null,null,null,null,null,null,null,null,null,null,null,null,null,null,null,null,null,null,2100,0,null," "]
["0306052","Estudio de gusanos macroscópicos",0,0,null,null,null,null,null,null,null,null,null,null,null,null,null,null,null,null,null,null,null,null,null,null,null,null,null,null,null,null,null,null,null,null,1690,0]
["0306053","Hemoparásitos, diagnóstico microscópico de (mínimo 10 frotis y/o gotas gruesas, c/s examen directo al fresco), cada sesión",0,0,null,null,null,null,null,null,null,null,null,null,null,null,null,null,null,null,null,null,null,null,null,null,null,null,null,null,null,null,null,null,null,null,8870,0]
["0306054","Hemoparásitos, diagnóstico por técnica de Microstrout o similar en hasta 10 tubos capilares, cada sesión (Chagas)",0,0,null,null,null,null,null,null,null,null,null,null,null,null,null,null,null,null,null,null,null,null,null,null,null,null,null,null,null,null,null,null,null,null,11740,0]
["0306056","Raspado de piel, examen microscópico de (\"Acarotest\"): de 6 a 10 preparaciones",0,0,null,null,null,null,null,null,null,null,null,null,null,null,null,null,null,null,null,null,null,null,null,null,null,null,null,null,null,null,null,null,null,null,4000,0]
["0306059","Coproparasitológico seriado simple (incluye diagnóstico de gusanos macroscópicos y examen microscópico por concentración de tres muestras separadas método PAFS) (proc. aut.)  ",{"$f":"SUM(D594+G594)","v":0},{"$f":"SUM(E594:F594)","v":0},null,null,null,null,null,null,null,null,null,null,null,null,null,null,null,null,null,null,null,null,null,null,null,null,null,null,null,null,null,null,null,null,4040,0]
["0306137","Raspado de piel, examen microscópico para búsqueda de demodex",0,0,null,null,null,null,null,null,null,null,null,null,null,null,null,null,null,null,null,null,null,null,null,null,null,null,null,null,null,null,null,null,null,null,9320,0]
["0306061","Parásitos IgG/IgM (Chagas, Hidatidosis, Toxocariasis y otros por Elisa o Inmunofluorescencia), c/u",0,0,null,null,null,null,null,null,null,null,null,null,null,null,null,null,null,null,null,null,null,null,null,null,null,null,null,null,null,null,null,null,null,null,5400,{"$f":"AK596*E596","v":0}]
["0306066","Inmunofluorescencia indirecta (toxoplasmosis, Chagas, amebiasis y otras), c/u",0,0,null,null,null,null,null,null,null,null,null,null,null,null,null,null,null,null,null,null,null,null,null,null,null,null,null,null,null,null,null,null,null,null,5400,{"$f":"AK597*E597","v":0}]
["0306095","Parásitos: determinación por reacción de polimerasa en cadena (PCR)",0,0,null,null,null,null,null,null,null,null,null,null,null,null,null,null,null,null,null,null,null,null,null,null,null,null,null,null,null,null,null,null,null,null,39320,{"$f":"AK598*E598","v":0}]
["0306096","Parásitos: test rápido anticuerpos (Chagas y otros)",0,0,null,null,null,null,null,null,null,null,null,null,null,null,null,null,null,null,null,null,null,null,null,null,null,null,null,null,null,null,null,null,null,null,10760,{"$f":"AK599*E599","v":0}]
[null,"TOTAL",{"$f":"SUM(C582:C599)","v":0},{"$f":"SUM(D582:D599)","v":0},0,0,0,null,null,null,null,null,null,null,null,null,null,null,null,null,null,null,null,null,null,null,{"$f":"SUM(AA582:AA599)","v":0},{"$f":"SUM(AB582:AB599)","v":0},0,0,0,0,0,0,0,0,null,0]
[null,"VIRUS"]
["0306068","Aislamiento de virus (Adenovirus, Citomegalovirus, Enterovirus, Herpes, Influenza, Polio,Sarampión y otros), c/u",{"$f":"SUM(D602+G602)","v":0},{"$f":"SUM(E602:F602)","v":0},null,null,null,null,null,null,null,null,null,null,null,null,null,null,null,null,null,null,null,null,null,null,null,null,null,null,null,null,null,null,null,null,6530,{"$f":"AK602*E602","v":0}]
["0306069","Anticuerpos virales, determ. de (SARS  CoV-2  IgM, IgG), (adenovirus, citomegalovirus, herpes simple, rubéola, influenza  A y B; virus varicela-zoster; virus sincicial respiratorio; parainfluenza 1, 2 y 3; Epstein Barr , otros) c/u",{"$f":"SUM(D603+G603)","v":0},{"$f":"SUM(E603:F603)","v":0},null,null,null,null,null,null,null,null,null,null,null,null,null,null,null,null,null,null,null,null,null,null,null,null,null,null,null,null,null,null,null,null,5600,{"$f":"AK603*E603","v":0},null," "]
["0306169","Anticuerpos virales, determ. de H.I.V.",{"$f":"SUM(D604+G604)","v":0},{"$f":"SUM(E604:F604)","v":0},null,null,null,null,null,null,null,null,null,null,null,null,null,null,null,null,null,null,null,null,null,null,null,null,null,null,null,null,null,null,null,null,5560,0]
["0306070","Antígenos virales determ. de (Adenovirus, Citomegalovirus, Herpes simplex, Rubeola, influenza y otros), (por cualquier técnica ej: inmunofluorescencia), c/u",{"$f":"SUM(D605+G605)","v":0},{"$f":"SUM(E605:F605)","v":0},null,null,null,null,null,null,null,null,null,null,null,null,null,null,null,null,null,null,null,null,null,null,null,null,null,null,null,null,null,null,null,null,5220,0]
["0306170","Antígenos virales determ. de rotavirus, por cualquier técnica ",{"$f":"SUM(D606+G606)","v":0},{"$f":"SUM(E606:F606)","v":0},null,null,null,null,null,null,null,null,null,null,null,null,null,null,null,null,null,null,null,null,null,null,null,null,null,null,null,null,null,null,null,null,5220,0]
["0306270","Antígenos virales determ. de virus sincicial, por cualquier técnica ",0,0,null,null,null,null,null,null,null,null,null,null,null,null,null,null,null,null,null,null,null,null,null,null,null,null,null,null,null,null,null,null,null,null,5740,0]
["0306074","Virus Hepatitis A, anticuerpos IgG, IgM o totales c/u",0,0,null,null,null,null,null,null,null,null,null,null,null,null,null,null,null,null,null,null,null,null,null,null,null,null,null,null,null,null,null,null,null,null,7740,0]
["0306075","Virus hepatitis B, anticuerpo del antígeno E del",0,0,null,null,null,null,null,null,null,null,null,null,null,null,null,null,null,null,null,null,null,null,null,null,null,null,null,null,null,null,null,null,null,null,6530,0]
["0306076","Virus hepatitis B, anticore total del (anti HBc total)",0,0,null,null,null,null,null,null,null,null,null,null,null,null,null,null,null,null,null,null,null,null,null,null,null,null,null,null,null,null,null,null,null,null,7140,0]
["0306077","Virus hepatitis B, anticuerpos contra antígeno superficie",0,0,null,null,null,null,null,null,null,null,null,null,null,null,null,null,null,null,null,null,null,null,null,null,null,null,null,null,null,null,null,null,null,null,5340,0]
["0306078","Virus hepatitis B, antígeno E del (HBEAg)",0,0,null,null,null,null,null,null,null,null,null,null,null,null,null,null,null,null,null,null,null,null,null,null,null,null,null,null,null,null,null,null,null,null,6530,0]
["0306079","Virus hepatitis B, antígeno de superficie (HBsAg)",0,0,null,null,null,null,null,null,null,null,null,null,null,null,null,null,null,null,null,null,null,null,null,null,null,null,null,null,null,null,null,null,null,null,5400,0]
["0306080","Virus hepatitis B, anticore IgM del (anti HBc IgM)",0,0,null,null,null,null,null,null,null,null,null,null,null,null,null,null,null,null,null,null,null,null,null,null,null,null,null,null,null,null,null,null,null,null,7380,0]
["0306081","Virus hepatitis C, anticuerpos de (anti HCV)",0,0,null,null,null,null,null,null,null,null,null,null,null,null,null,null,null,null,null,null,null,null,null,null,null,null,null,null,null,null,null,null,null,null,8170,0]
["0306082","Reacción de Polimerasa en cadena (P.C.R.) en tiempo real, SARS CoV-2, (incluye toma muestra hisopado nasofaríngeo).",0,0,null,null,null,null,null,null,null,null,null,null,null,null,null,null,null,null,null,null,null,null,null,null,null,null,null,null,null,null,null,null,null,null,23390,0]
["0306182","Reacción de Polimerasa en cadena (P.C.R.) en tiempo real, virus Influenza, virus Herpes, citomegalovirus, hepatitis C, mycobacteria TBC, c/u (incluye toma muestra hisopado nasofaríngeo).",0,0,null,null,null,null,null,null,null,null,null,null,null,null,null,null,null,null,null,null,null,null,null,null,null,null,null,null,null,null,null,null,null,null,28360,0]
["0306083","Citomegalovirus (CMV) shell vial aislamiento rápido",0,0,null,null,null,null,null,null,null,null,null,null,null,null,null,null,null,null,null,null,null,null,null,null,null,null,null,null,null,null,null,null,null,null,38070,0]
["0306084","Hepatitis B, carga viral ",0,0,null,null,null,null,null,null,null,null,null,null,null,null,null,null,null,null,null,null,null,null,null,null,null,null,null,null,null,null,null,null,null,null,103820,0]
["0306085","Hepatitis C carga viral. Técnica PCR",0,0,null,null,null,null,null,null,null,null,null,null,null,null,null,null,null,null,null,null,null,null,null,null,null,null,null,null,null,null,null,null,null,null,126730,0]
["0306086","VIH, carga viral ",0,0,null,null,null,null,null,null,null,null,null,null,null,null,null,null,null,null,null,null,null,null,null,null,null,null,null,null,null,null,null,null,null,null,57050,0]
["0306087","Virus Epstein Barr (VEB) carga viral. Técnica PCR",0,0,null,null,null,null,null,null,null,null,null,null,null,null,null,null,null,null,null,null,null,null,null,null,null,null,null,null,null,null,null,null,null,null,158040,0]
["0306088","Polioma (BK) virus carga viral. Técnica PCR",0,0,null,null,null,null,null,null,null,null,null,null,null,null,null,null,null,null,null,null,null,null,null,null,null,null,null,null,null,null,null,null,null,null,97400,0]
["0306109","VIH, Genotipificación antivirales",0,0,null,null,null,null,null,null,null,null,null,null,null,null,null,null,null,null,null,null,null,null,null,null,null,null,null,null,null,null,null,null,null,null,363650,0]
["0306110","PCR metapneumovirus",0,0,null,null,null,null,null,null,null,null,null,null,null,null,null,null,null,null,null,null,null,null,null,null,null,null,null,null,null,null,null,null,null,null,46730,0]
["0306111","HTLV I y II determinación de anticuerpos virales",0,0,null,null,null,null,null,null,null,null,null,null,null,null,null,null,null,null,null,null,null,null,null,null,null,null,null,null,null,null,null,null,null,null,60930,0]
["0306112","VIH, anticuerpos y antígenos virales, determ. de H.I.V. ",0,0,null,null,null,null,null,null,null,null,null,null,null,null,null,null,null,null,null,null,null,null,null,null,null,null,null,null,null,null,null,null,null,null,30330,0]
["0306113","VIH, reacción de polimerasa en cadena (P.C.R.) en líquido cefaloraquídeo",0,0,null,null,null,null,null,null,null,null,null,null,null,null,null,null,null,null,null,null,null,null,null,null,null,null,null,null,null,null,null,null,null,null,61650,0]
["0306120","Panel viral diarrea por PCR (determinación de rotavirus, norovirus g1, norovirus g2, astrovirus, adenovirus)",0,0,null,null,null,null,null,null,null,null,null,null,null,null,null,null,null,null,null,null,null,null,null,null,null,null,null,null,null,null,null,null,null,null,113500,0]
["0306121","Hanta virus, anticuerpos IgM test rápido",0,0,null,null,null,null,null,null,null,null,null,null,null,null,null,null,null,null,null,null,null,null,null,null,null,null,null,null,null,null,null,null,null,null,61810,0]
["0306122","Panel virus respiratorio molecular (15 a 17 virus) (adenovirus, VRS A, VRS B, parainfluenza 1,2,3,4, influenza a y b, influenza a H1N1, bocavirus, coronavirus (2 tipos), rinovirus, enterovirus. ",0,0,null,null,null,null,null,null,null,null,null,null,null,null,null,null,null,null,null,null,null,null,null,null,null,null,null,null,null,null,null,null,null,null,83930,0]
["0306123","Virus Papiloma Humano por PCR con genotipificación de papiloma de alto riesgo de Cáncer Cérvico Uterino tipos 16 y 19",0,0,null,null,null,null,null,null,null,null,null,null,null,null,null,null,null,null,null,null,null,null,null,null,null,null,null,null,null,null,null,null,null,null,39920,0]
["0306124","Virus ARN por PCR (hanta, dengue, chikungunya, sarampión, enterovirus, parechovirus, zika) c/u",0,0,null,null,null,null,null,null,null,null,null,null,null,null,null,null,null,null,null,null,null,null,null,null,null,null,null,null,null,null,null,null,null,null,78110,0]
["0306125","Virus hepatitis C, genotipificación ",0,0,null,null,null,null,null,null,null,null,null,null,null,null,null,null,null,null,null,null,null,null,null,null,null,null,null,null,null,null,null,null,null,null,126020,0]
["0306126","Hanta virus serologia IgG/IgM c/u",0,0,null,null,null,null,null,null,null,null,null,null,null,null,null,null,null,null,null,null,null,null,null,null,null,null,null,null,null,null,null,null,null,null,59050,0]
["0306127","Panel de meningitis encefalitis por biología molecular ",0,0,null,null,null,null,null,null,null,null,null,null,null,null,null,null,null,null,null,null,null,null,null,null,null,null,null,null,null,null,null,null,null,null,101300,0]
["0306128","Rotavirus y adenovirus detección simultanea de por inmunocromatografia",0,0,null,null,null,null,null,null,null,null,null,null,null,null,null,null,null,null,null,null,null,null,null,null,null,null,null,null,null,null,null,null,null,null,6550,0]
["0306129","Norovirus detección por inmunocromatografia",0,0,null,null,null,null,null,null,null,null,null,null,null,null,null,null,null,null,null,null,null,null,null,null,null,null,null,null,null,null,null,null,null,null,10680,0]
["0306130","Virus hepatitis B, anticuerpos anti antígeno de superficie (títulos)",0,0,null,null,null,null,null,null,null,null,null,null,null,null,null,null,null,null,null,null,null,null,null,null,null,null,null,null,null,null,null,null,null,null,16600,0]
["0306271","Test rápido de detección de antígenos SARS-CoV-2 (incluye toma de muestra)",0,0,null,null,null,null,null,null,null,null,null,null,null,null,null,null,null,null,null,null,null,null,null,null,null,null,null,null,null,null,null,null,null,null,8880,0]
["0306139","Virus Hepatitis E, Anticuerpos IgM",{"$f":"SUM(D641+G641)","v":0},{"$f":"SUM(E641:F641)","v":0},null,null,null,null,null,null,null,null,null,null,null,null,null,null,null,null,null,null,null,null,null,null,null,null,null,null,null,null,null,null,null,null,80140,0]
["0306140","Virus Hepatitis E, Anticuerpos IgG",0,0,null,null,null,null,null,null,null,null,null,null,null,null,null,null,null,null,null,null,null,null,null,null,null,null,null,null,null,null,null,null,null,null,40400,0]
["0306141","Parvovirus B19, anticuerpos IgG o IgM, c/u",0,0,null,null,null,null,null,null,null,null,null,null,null,null,null,null,null,null,null,null,null,null,null,null,null,null,null,null,null,null,null,null,null,null,23410,0]
["0306142","PCR para parvovirus B19",0,0,null,null,null,null,null,null,null,null,null,null,null,null,null,null,null,null,null,null,null,null,null,null,null,null,null,null,null,null,null,null,null,null,63650,0]
["0306143","PCR para virus varicela zoster ",0,0,null,null,null,null,null,null,null,null,null,null,null,null,null,null,null,null,null,null,null,null,null,null,null,null,null,null,null,null,null,null,null,null,52270,0]
["0306144","HTLV virus por PCR",0,0,null,null,null,null,null,null,null,null,null,null,null,null,null,null,null,null,null,null,null,null,null,null,null,null,null,null,null,null,null,null,null,null,82200,0]
["0306145","CMV, carga viral",0,0,null,null,null,null,null,null,null,null,null,null,null,null,null,null,null,null,null,null,null,null,null,null,null,null,null,null,null,null,null,null,null,null,73540,0,null," "]
["0306146","Reacción de Polimerasa en cadena (P.C.R.) virus viruela símica (incluye hisopado de lesiones cutáneas)",0,0,null,null,null,null,null,null,null,null,null,null,null,null,null,null,null,null,null,null,null,null,null,null,null,null,null,null,null,null,null,null,null,null,27260,0]
[null,"TOTAL",{"$f":"SUM(C602:C648)","v":0},{"$f":"SUM(D602:D648)","v":0},{"$f":"SUM(E602:E648)","v":0},0,0,null,null,null,null,null,null,null,null,null,null,null,null,null,null,null,null,null,null,null,{"$f":"SUM(AA602:AA648)","v":0},{"$f":"SUM(AB602:AB648)","v":0},0,0,0,0,0,0,0,0,null,0]
[null,"PROCEDIMIENTOS O DETERMINACIONES DIRECTAMENTE CON EL PACIENTE"]
["0307001","Dietilendiamina tetraacetato de sodio cromo (EDTA Cr 51)",0,0,null,null,null,null,null,null,null,null,null,null,null,null,null,null,null,null,null,null,null,null,null,null,null,null,null,null,null,null,null,null,null,null,5900,{"$f":"AK651*E651","v":0},null," "]
["0307002","Prueba de la sed (volumen, densidad, osmolalidad seriada en sangre y orina)",0,0,null,null,null,null,null,null,null,null,null,null,null,null,null,null,null,null,null,null,null,null,null,null,null,null,null,null,null,null,null,null,null,null,5250,0]
["0307005","Reacción cutánea de parche c/u",0,0,null,null,null,null,null,null,null,null,null,null,null,null,null,null,null,null,null,null,null,null,null,null,null,null,null,null,null,null,null,null,null,null,660,0]
["0307006","Sobrecarga hídrica",0,0,null,null,null,null,null,null,null,null,null,null,null,null,null,null,null,null,null,null,null,null,null,null,null,null,null,null,null,null,null,null,null,null,1470,0]
["0307007","Test del sudor (procedimiento completo)",0,0,null,null,null,null,null,null,null,null,null,null,null,null,null,null,null,null,null,null,null,null,null,null,null,null,null,null,null,null,null,null,null,null,13890,0]
["0307008","Vasopresina test o similares (incluye además mediciones de diuresis)",0,0,null,null,null,null,null,null,null,null,null,null,null,null,null,null,null,null,null,null,null,null,null,null,null,null,null,null,null,null,null,null,null,null,4440,0]
["0307023","Aspirados nasofaríngeo para adulto y niño.",0,0,null,null,null,null,null,null,null,null,null,null,null,null,null,null,null,null,null,null,null,null,null,null,null,null,null,null,null,null,null,null,null,null,2320,0]
["0307024","Reacción cutánea a alergenos  (incluye el valor de los alergenos)",0,0,null,null,null,null,null,null,null,null,null,null,null,null,null,null,null,null,null,null,null,null,null,null,null,null,null,null,null,null,null,null,null,null,5900,0,null," "]
[null,"TOTAL",{"$f":"SUM(C651:C658)","v":0},{"$f":"SUM(D651:D658)","v":0},{"$f":"SUM(E651:E658)","v":0},{"$f":"SUM(F651:F658)","v":0},{"$f":"SUM(G651:G658)","v":0},null,null,null,null,null,null,null,null,null,null,null,null,null,null,null,null,null,null,null,{"$f":"SUM(AA651:AA658)","v":0},0,0,0,0,0,0,0,0,0,null,{"$f":"SUM(AL651:AL658)","v":0}]
[null,"TOMA DE MUESTRAS"]
["0307009","Toma de muestra arterial en adultos",0,0,null,null,null,null,null,null,null,null,null,null,null,null,null,null,null,null,null,null,null,null,null,null,null,null,null,null,null,null,null,null,null,null,null,null," "," "]
["0307010","Toma de muestra arterial en niños y lactantes",0,0,null,null,null,null,null,null,null,null,null,null,null,null,null,null,null,null,null,null,null,null,null,null,null,null,null,null,null,null,null,null,null,null,null,null," "]
["0307011","Toma de muestra venosa en adultos",0,0]
["0307012","Toma de muestra venosa en niños y lactantes",0,0]
["0307013","Toma de muestra con técnica aséptica para hemocultivo, c/u",0,0]
["0307014","Toma de muestra capilar ( adultos, niños y lactantes )",0,0]
["0307016","Toma de muestra por punción traqueal",0,0]
["0307017","Toma de muestra por punción vesical en recién nacidos",0,0]
["0307018","Toma de muestra por punción medular ósea",0,0,null,null,null,null,null,null,null,null,null,null,null,null,null,null,null,null,null,null,null,null,null,null,null,null,null,null,null,null,null,null,null,null,null,null,null," "]
[null,"TOTAL",{"$f":"SUM(C661:C669)","v":0},{"$f":"SUM(D661:D669)","v":0},{"$f":"SUM(E661:E669)","v":0},{"$f":"SUM(F661:F669)","v":0},{"$f":"SUM(G661:G669)","v":0},null,null,null,null,null,null,null,null,null,null,null,null,null,null,null,null,null,null,null,{"$f":"SUM(AA661:AA669)","v":0},0,0,0,0,0,0,0,0,0]
[null,"EXAMENES DE DEPOSICIONES, EXUDADOS, SECRECIONES Y OTROS LIQUIDOS"]
["0308001","Azúcares reductores (Benedict-Fehling o similar)",{"$f":"SUM(D672+G672)","v":0},0,null,null,null,null,null,null,null,null,null,null,null,null,null,null,null,null,null,null,null,null,null,null,null,null,null,null,null,null,null,null,null,null,1160,{"$f":"AK672*E672","v":0},null," "]
["0308003","Grasas neutras (Sudán III)",0,0,null,null,null,null,null,null,null,null,null,null,null,null,null,null,null,null,null,null,null,null,null,null,null,null,null,null,null,null,null,null,null,null,660,0]
["0308004","Hemorragias ocultas, (bencidina, guayaco o test de Weber y similares), cualquier método, c/muestra",0,0,null,null,null,null,null,null,null,null,null,null,null,null,null,null,null,null,null,null,null,null,null,null,null,null,null,null,null,null,null,null,null,null,1160,0]
["0308005","Leucocitos fecales",0,0,null,null,null,null,null,null,null,null,null,null,null,null,null,null,null,null,null,null,null,null,null,null,null,null,null,null,null,null,null,null,null,null,1160,0]
["0308006","pH en deposiciones",0,0,null,null,null,null,null,null,null,null,null,null,null,null,null,null,null,null,null,null,null,null,null,null,null,null,null,null,null,null,null,null,null,null,660,0]
["0308007","Elastasa fecal ",0,0,null,null,null,null,null,null,null,null,null,null,null,null,null,null,null,null,null,null,null,null,null,null,null,null,null,null,null,null,null,null,null,null,71800,0]
["0308047","Esteatocrito",0,0,null,null,null,null,null,null,null,null,null,null,null,null,null,null,null,null,null,null,null,null,null,null,null,null,null,null,null,null,null,null,null,null,15160,0]
["0308049","Calprotectina cuantitativa por Elisa",0,0,null,null,null,null,null,null,null,null,null,null,null,null,null,null,null,null,null,null,null,null,null,null,null,null,null,null,null,null,null,null,null,null,41680,0]
["0308009","Células neoplásicas en fluidos biológicos",0,0,null,null,null,null,null,null,null,null,null,null,null,null,null,null,null,null,null,null,null,null,null,null,null,null,null,null,null,null,null,null,null,null,4120,{"$f":"AK680*E680","v":0}]
["0308010","Citológico c/s tinción (incluye examen al fresco, recuento celular y citológico porcentual)",0,0,null,null,null,null,null,null,null,null,null,null,null,null,null,null,null,null,null,null,null,null,null,null,null,null,null,null,null,null,null,null,null,null,2980,0]
["0308011","Directo al fresco c/s tinción, (incluye trichomonas)",0,0,null,null,null,null,null,null,null,null,null,null,null,null,null,null,null,null,null,null,null,null,null,null,null,null,null,null,null,null,null,null,null,null,1470,0]
["0308012","Electrolitos (sodio, potasio, cloro), en exudados, secreciones y otros líquidos, c/u ",0,0,null,null,null,null,null,null,null,null,null,null,null,null,null,null,null,null,null,null,null,null,null,null,null,null,null,null,null,null,null,null,null,null,1470,0]
["0308013","Eosinófilos en secreciones",0,0,null,null,null,null,null,null,null,null,null,null,null,null,null,null,null,null,null,null,null,null,null,null,null,null,null,null,null,null,null,null,null,null,820,0]
["0308014","Físico-químico (incluye aspecto, color, pH, glucosa, proteína, Pandy y filancia)",0,0,null,null,null,null,null,null,null,null,null,null,null,null,null,null,null,null,null,null,null,null,null,null,null,null,null,null,null,null,null,null,null,null,2320,0]
["0308015","Glucosa en exudados, secreciones y otros líquidos",0,0,null,null,null,null,null,null,null,null,null,null,null,null,null,null,null,null,null,null,null,null,null,null,null,null,null,null,null,null,null,null,null,null,660,0]
["0308016","Mucina, determinación de",0,0,null,null,null,null,null,null,null,null,null,null,null,null,null,null,null,null,null,null,null,null,null,null,null,null,null,null,null,null,null,null,null,null,1160,0]
["0308017","pH en exudados, secreciones y otros líquidos (proc. aut.)",0,0,null,null,null,null,null,null,null,null,null,null,null,null,null,null,null,null,null,null,null,null,null,null,null,null,null,null,null,null,null,null,null,null,660,0]
["0308050","Proteínas totales en exudados, secreciones y otros líquidos",0,0,null,null,null,null,null,null,null,null,null,null,null,null,null,null,null,null,null,null,null,null,null,null,null,null,null,null,null,null,null,null,null,null,1470,0]
["0308051","Albúminas en exudados, secreciones y otros líquidos",0,0,null,null,null,null,null,null,null,null,null,null,null,null,null,null,null,null,null,null,null,null,null,null,null,null,null,null,null,null,null,null,null,null,1470,0]
["0308019","Proteínas, electroforésis de (incluye proteínas totales) en otros líquidos biológicos",0,0,null,null,null,null,null,null,null,null,null,null,null,null,null,null,null,null,null,null,null,null,null,null,null,null,null,null,null,null,null,null,null,null,6190,0]
["0308020","Bandas oligoclonales (incluye electroforesis de L.C.R., suero e inmunofijación)",0,0,null,null,null,null,null,null,null,null,null,null,null,null,null,null,null,null,null,null,null,null,null,null,null,null,null,null,null,null,null,null,null,null,21270,0]
["0308021","Glutamina",{"$f":"SUM(D693+G693)","v":0},{"$f":"SUM(E693:F693)","v":0},null,null,null,null,null,null,null,null,null,null,null,null,null,null,null,null,null,null,null,null,null,null,null,null,null,null,null,null,null,null,null,null,1960,0]
["0308022","Índice IgG/albúmina (incluye determ. de IgG y albúmina en L.C.R. y suero)",0,0,null,null,null,null,null,null,null,null,null,null,null,null,null,null,null,null,null,null,null,null,null,null,null,null,null,null,null,null,null,null,null,null,11750,0]
["0308023","Estudio de cristales (con luz polarizada)",0,0,null,null,null,null,null,null,null,null,null,null,null,null,null,null,null,null,null,null,null,null,null,null,null,null,null,null,null,null,null,null,null,null,1470,0]
["0308025","Prueba de estimulación máxima con histamina, mínimo 5 muestras (no incluye la histamina ni el antihistamínico).",0,0,null,null,null,null,null,null,null,null,null,null,null,null,null,null,null,null,null,null,null,null,null,null,null,null,null,null,null,null,null,null,null,null,5900,0]
["0308029","Espermiograma (físico y microscópico, con o sin observación hasta 24 horas)",0,0,null,null,null,null,null,null,null,null,null,null,null,null,null,null,null,null,null,null,null,null,null,null,null,null,null,null,null,null,null,null,null,null,4060,0]
["0308030","Fosfatasa ácida prostática",0,0,null,null,null,null,null,null,null,null,null,null,null,null,null,null,null,null,null,null,null,null,null,null,null,null,null,null,null,null,null,null,null,null,2980,0]
["0308031","Fructosa seminal",0,0,null,null,null,null,null,null,null,null,null,null,null,null,null,null,null,null,null,null,null,null,null,null,null,null,null,null,null,null,null,null,null,null,1700,0]
["0308033","Células anaranjadas (proc. aut.)",0,0,null,null,null,null,null,null,null,null,null,null,null,null,null,null,null,null,null,null,null,null,null,null,null,null,null,null,null,null,null,null,null,null,660,0]
["0308034","Contaminantes (meconio y sangre) (proc. aut.)",0,0,null,null,null,null,null,null,null,null,null,null,null,null,null,null,null,null,null,null,null,null,null,null,null,null,null,null,null,null,null,null,null,null,1160,0]
["0308035","Creatinina en exudados, secreciones y otros líquidos (proc. aut.)",0,0,null,null,null,null,null,null,null,null,null,null,null,null,null,null,null,null,null,null,null,null,null,null,null,null,null,null,null,null,null,null,null,null,1160,0]
["0308036","Fosfatidil glicerol y/o fosfatidil inositol",0,0,null,null,null,null,null,null,null,null,null,null,null,null,null,null,null,null,null,null,null,null,null,null,null,null,null,null,null,null,null,null,null,null,6530,0]
["0308037","Índice de bilirrubina (prueba de Liley)",0,0,null,null,null,null,null,null,null,null,null,null,null,null,null,null,null,null,null,null,null,null,null,null,null,null,null,null,null,null,null,null,null,null,1470,0]
["0308038","Índice lecitina/esfingomielina",0,0,null,null,null,null,null,null,null,null,null,null,null,null,null,null,null,null,null,null,null,null,null,null,null,null,null,null,null,null,null,null,null,null,5900,0]
["0308039","Madurez fetal completa (físico; células anaranjadas, bilirrubina, test de Clements, creatinina, contaminantes)",0,0,null,null,null,null,null,null,null,null,null,null,null,null,null,null,null,null,null,null,null,null,null,null,null,null,null,null,null,null,null,null,null,null,5900,0]
["0308040","Test de Clements (proc. aut.)",0,0,null,null,null,null,null,null,null,null,null,null,null,null,null,null,null,null,null,null,null,null,null,null,null,null,null,null,null,null,null,null,null,null,1160,0]
["0308041","Colpocitograma",0,0,null,null,null,null,null,null,null,null,null,null,null,null,null,null,null,null,null,null,null,null,null,null,null,null,null,null,null,null,null,null,null,null,2320,0]
["0308043","Moco-semen, prueba de compatibilidad",0,0,null,null,null,null,null,null,null,null,null,null,null,null,null,null,null,null,null,null,null,null,null,null,null,null,null,null,null,null,null,null,null,null,2320,0]
["0308044","Flujo vaginal o secreción uretral, estudio de (incluye toma de muestra y códigos 03-06-004, 03-06-005, 03-06-008, 03-06-017 y 03-06-026)       ",0,0,null,null,null,null,null,null,null,null,null,null,null,null,null,null,null,null,null,null,null,null,null,null,null,null,null,null,null,null,null,null,null,null,8090,0]
["0308045","Amilasa en Líquidos Biológicos",0,0,null,null,null,null,null,null,null,null,null,null,null,null,null,null,null,null,null,null,null,null,null,null,null,null,null,null,null,null,null,null,null,null,4230,0]
["0308046","Lipasa en  Líquidos Biológicos",0,0,null,null,null,null,null,null,null,null,null,null,null,null,null,null,null,null,null,null,null,null,null,null,null,null,null,null,null,null,null,null,null,null,2790,0]
["0308048","Cuerpos lamelares (procedimiento automatizado) en líquido amniótico",0,0,null,null,null,null,null,null,null,null,null,null,null,null,null,null,null,null,null,null,null,null,null,null,null,null,null,null,null,null,null,null,null,null,8630,0]
["0308052","Colesterol total en exudados, secreciones y otros líquidos",0,0,null,null,null,null,null,null,null,null,null,null,null,null,null,null,null,null,null,null,null,null,null,null,null,null,null,null,null,null,null,null,null,null,3940,0]
["0308053","Hematocrito automatizado (en contador hematológico) en exudados, secreciones y otros líquidos",0,0,null,null,null,null,null,null,null,null,null,null,null,null,null,null,null,null,null,null,null,null,null,null,null,null,null,null,null,null,null,null,null,null,4850,0]
["0308054","LDH en exudados, secreciones y otros líquidos",0,0,null,null,null,null,null,null,null,null,null,null,null,null,null,null,null,null,null,null,null,null,null,null,null,null,null,null,null,null,null,null,null,null,4400,0]
["0308055","Trigliceridos en exudados, secreciones y otros líquidos",0,0,null,null,null,null,null,null,null,null,null,null,null,null,null,null,null,null,null,null,null,null,null,null,null,null,null,null,null,null,null,null,null,null,5070,0]
["0308056","Beta-2 transferrina",0,0,null,null,null,null,null,null,null,null,null,null,null,null,null,null,null,null,null,null,null,null,null,null,null,null,null,null,null,null,null,null,null,null,60180,0]
["0308057","Acido láctico, LCR",0,0,null,null,null,null,null,null,null,null,null,null,null,null,null,null,null,null,null,null,null,null,null,null,null,null,null,null,null,null,null,null,null,null,4830,0,null," "]
[null,"TOTAL",{"$f":"SUM(C672:C719)","v":0},{"$f":"SUM(D672:D719)","v":0},0,0,0,null,null,null,null,null,null,null,null,null,null,null,null,null,null,null,null,null,null,null,{"$f":"SUM(AA672:AA719)","v":0},{"$f":"SUM(AB672:AB719)","v":0},0,0,0,0,0,0,0,0,null,0]
[null,"EXAMENES ORINA"]
["0309001","Acido ascórbico",0,0,null,null,null,null,null,null,null,null,null,null,null,null,null,null,null,null,null,null,null,null,null,null,null,null,null,null,null,null,null,null,null,null,2320,{"$f":"AK722*E722","v":0},null," "]
["0309002","Acido delta aminolevulínico",0,0,null,null,null,null,null,null,null,null,null,null,null,null,null,null,null,null,null,null,null,null,null,null,null,null,null,null,null,null,null,null,null,null,4750,0]
["0309004","Ácido úrico en orina (cuantitativo)",0,0,null,null,null,null,null,null,null,null,null,null,null,null,null,null,null,null,null,null,null,null,null,null,null,null,null,null,null,null,null,null,null,null,2100,0]
["0309005","Acido 5 hidroxiindolacético cuantitativo",0,0,null,null,null,null,null,null,null,null,null,null,null,null,null,null,null,null,null,null,null,null,null,null,null,null,null,null,null,null,null,null,null,null,4940,0]
["0309006","Amilasa cuantitativa en orina",0,0,null,null,null,null,null,null,null,null,null,null,null,null,null,null,null,null,null,null,null,null,null,null,null,null,null,null,null,null,null,null,null,null,2610,0]
["0309007","Aminoácidos en orina (cualitativo)(excepto fenilalanina, PKU)",0,0,null,null,null,null,null,null,null,null,null,null,null,null,null,null,null,null,null,null,null,null,null,null,null,null,null,null,null,null,null,null,null,null,4750,0]
["0309008","Calcio cuantitativo en orina",0,0,null,null,null,null,null,null,null,null,null,null,null,null,null,null,null,null,null,null,null,null,null,null,null,null,null,null,null,null,null,null,null,null,1960,0]
["0309009","Cálculo urinario (examen físico y químico)",0,0,null,null,null,null,null,null,null,null,null,null,null,null,null,null,null,null,null,null,null,null,null,null,null,null,null,null,null,null,null,null,null,null,4080,0]
["0309010","Creatinina cuantitativa en orina",0,0,null,null,null,null,null,null,null,null,null,null,null,null,null,null,null,null,null,null,null,null,null,null,null,null,null,null,null,null,null,null,null,null,1470,0]
["0309011","Cuerpos cetónicos",0,0,null,null,null,null,null,null,null,null,null,null,null,null,null,null,null,null,null,null,null,null,null,null,null,null,null,null,null,null,null,null,null,null,1470,0]
["0309012","Electrólitos (sodio, potasio, cloro) c/u, en orina",0,0,null,null,null,null,null,null,null,null,null,null,null,null,null,null,null,null,null,null,null,null,null,null,null,null,null,null,null,null,null,null,null,null,1470,0]
["0309013","Microalbuminuria cuantitativa",0,0,null,null,null,null,null,null,null,null,null,null,null,null,null,null,null,null,null,null,null,null,null,null,null,null,null,null,null,null,null,null,null,null,2970,0]
["0309014","Gonadotrofina coriónica, sub-unidad beta en orina (test rápido)",0,0,null,null,null,null,null,null,null,null,null,null,null,null,null,null,null,null,null,null,null,null,null,null,null,null,null,null,null,null,null,null,null,null,2500,0]
["0309015","Fósforo cuantitativo en orina",0,0,null,null,null,null,null,null,null,null,null,null,null,null,null,null,null,null,null,null,null,null,null,null,null,null,null,null,null,null,null,null,null,null,1960,0]
["0309016","Glucosa (cuantitativo), en orina",0,0,null,null,null,null,null,null,null,null,null,null,null,null,null,null,null,null,null,null,null,null,null,null,null,null,null,null,null,null,null,null,null,null,1310,0]
["0309035","Hemosiderina",0,0,null,null,null,null,null,null,null,null,null,null,null,null,null,null,null,null,null,null,null,null,null,null,null,null,null,null,null,null,null,null,null,null,1090,0]
["0309017","Hidroxiprolina en orina",0,0,null,null,null,null,null,null,null,null,null,null,null,null,null,null,null,null,null,null,null,null,null,null,null,null,null,null,null,null,null,null,null,null,4440,0]
["0309019","Mucopolisacáridos",0,0,null,null,null,null,null,null,null,null,null,null,null,null,null,null,null,null,null,null,null,null,null,null,null,null,null,null,null,null,null,null,null,null,5900,0]
["0309020","Nitrógeno ureico o urea en orina (cuantitativo)",0,0,null,null,null,null,null,null,null,null,null,null,null,null,null,null,null,null,null,null,null,null,null,null,null,null,null,null,null,null,null,null,null,null,820,0]
["0309021","Nucleótidos cíclicos (CAMP, CGM, u otros) c/u",0,0,null,null,null,null,null,null,null,null,null,null,null,null,null,null,null,null,null,null,null,null,null,null,null,null,null,null,null,null,null,null,null,null,4750,0]
["0309022","Orina completa, (incluye cód. 03-09-023 y 03-09-024)",0,0,null,null,null,null,null,null,null,null,null,null,null,null,null,null,null,null,null,null,null,null,null,null,null,null,null,null,null,null,null,null,null,null,1880,0]
["0309023","Orina, físico-químico ( aspecto, color, densidad, pH; proteínas, glucosa, cuerpos cetónicos, urobilinogeno, bilirrubina, hemoglobina y nitritos, determinación cualitativa o semi cuantitativa) todos o cada uno de los parámetros (proc. aut.)",0,0,null,null,null,null,null,null,null,null,null,null,null,null,null,null,null,null,null,null,null,null,null,null,null,null,null,null,null,null,null,null,null,null,1160,0]
["0309024","Sedimento de orina (proc. aut.)",0,0,null,null,null,null,null,null,null,null,null,null,null,null,null,null,null,null,null,null,null,null,null,null,null,null,null,null,null,null,null,null,null,null,1060,0]
["0309025","Osmolalidad",0,0,null,null,null,null,null,null,null,null,null,null,null,null,null,null,null,null,null,null,null,null,null,null,null,null,null,null,null,null,null,null,null,null,1700,0]
["0309027","Porfirinas, c/u",0,0,null,null,null,null,null,null,null,null,null,null,null,null,null,null,null,null,null,null,null,null,null,null,null,null,null,null,null,null,null,null,null,null,2040,0]
["0309028","Proteína (cuantitativa), en orina",0,0,null,null,null,null,null,null,null,null,null,null,null,null,null,null,null,null,null,null,null,null,null,null,null,null,null,null,null,null,null,null,null,null,1700,0]
["0309029","Proteínas de Bence-Jones prueba térmica",0,0,null,null,null,null,null,null,null,null,null,null,null,null,null,null,null,null,null,null,null,null,null,null,null,null,null,null,null,null,null,null,null,null,1160,0]
["0309031","Screening de drogas",0,0,null,null,null,null,null,null,null,null,null,null,null,null,null,null,null,null,null,null,null,null,null,null,null,null,null,null,null,null,null,null,null,null,6570,0]
["0309034","Arsenico en orina (muestra aislada)",0,0,null,null,null,null,null,null,null,null,null,null,null,null,null,null,null,null,null,null,null,null,null,null,null,null,null,null,null,null,null,null,null,null,47400,0]
["0309036","Cobre en orina",0,0,null,null,null,null,null,null,null,null,null,null,null,null,null,null,null,null,null,null,null,null,null,null,null,null,null,null,null,null,null,null,null,null,32170,0]
["0309037","Oxalato en orina",0,0,null,null,null,null,null,null,null,null,null,null,null,null,null,null,null,null,null,null,null,null,null,null,null,null,null,null,null,null,null,null,null,null,20580,0]
["0309038","Citrato en orina (enzimático)",0,0,null,null,null,null,null,null,null,null,null,null,null,null,null,null,null,null,null,null,null,null,null,null,null,null,null,null,null,null,null,null,null,null,23260,0]
["0309039","Deoxipiridinolina (DPD)",0,0,null,null,null,null,null,null,null,null,null,null,null,null,null,null,null,null,null,null,null,null,null,null,null,null,null,null,null,null,null,null,null,null,17590,0]
["0309040","Magnesio en orina",0,0,null,null,null,null,null,null,null,null,null,null,null,null,null,null,null,null,null,null,null,null,null,null,null,null,null,null,null,null,null,null,null,null,16420,0]
["0309041","Sulfato en orina",0,0,null,null,null,null,null,null,null,null,null,null,null,null,null,null,null,null,null,null,null,null,null,null,null,null,null,null,null,null,null,null,null,null,23930,0]
["0309042","L-Cistina en orina",0,0,null,null,null,null,null,null,null,null,null,null,null,null,null,null,null,null,null,null,null,null,null,null,null,null,null,null,null,null,null,null,null,null,16540,0]
["0309043","Ph en orina con peachimetro",0,0,null,null,null,null,null,null,null,null,null,null,null,null,null,null,null,null,null,null,null,null,null,null,null,null,null,null,null,null,null,null,null,null,1130,0]
["0309044","Ácidos orgánicos, orina",0,0,null,null,null,null,null,null,null,null,null,null,null,null,null,null,null,null,null,null,null,null,null,null,null,null,null,null,null,null,null,null,null,null,142150,0]
["0309045","Ácido orótico, orina",0,0,null,null,null,null,null,null,null,null,null,null,null,null,null,null,null,null,null,null,null,null,null,null,null,null,null,null,null,null,null,null,null,null,119900,0]
["0309046","Screening de mucopolisacaridos",0,0,null,null,null,null,null,null,null,null,null,null,null,null,null,null,null,null,null,null,null,null,null,null,null,null,null,null,null,null,null,null,null,null,110520,0]
["0309047","Zinc en orina",{"$f":"SUM(D762+G762)","v":0},{"$f":"SUM(E762:F762)","v":0},null,null,null,null,null,null,null,null,null,null,null,null,null,null,null,null,null,null,null,null,null,null,null,null,null,null,null,null,null,null,null,null,18670,0,null," "]
[null,"TOTAL",{"$f":"SUM(C722:C762)","v":0},{"$f":"SUM(D722:D762)","v":0},{"$f":"SUM(E722:E762)","v":0},{"$f":"SUM(F722:F762)","v":0},{"$f":"SUM(G722:G762)","v":0},null,null,null,null,null,null,null,null,null,null,null,null,null,null,null,null,null,null,null,{"$f":"SUM(AA722:AA762)","v":0},{"$f":"SUM(AB722:AB762)","v":0},0,0,0,0,0,0,{"$f":"SUM(AI722:AI762)","v":0},{"$f":"SUM(AJ722:AJ762)","v":0},null,{"$f":"SUM(AL722:AL762)","v":0}]
[null,"IMAGENOLOGIA                "]
[null,"EXAMENES RADIOLOGICOS SIMPLES      "]
["0401001","Radiografía de las glándulas salivales \"sialografía\"",0,0,null,null,null,null,null,null,null,null,null,null,null,null,null,null,null,null,null,null,null,null,null,null,null,null,null,null,null,null,null,null,null,null,22520,{"$f":"AK766*E766","v":0}]
["0401002","Radiografía de partes blandas, laringe lateral, cavum rinofaríngeo (rinofarinx). ",0,0,null,null,null,null,null,null,null,null,null,null,null,null,null,null,null,null,null,null,null,null,null,null,null,null,null,null,null,null,null,null,null,null,9440,0]
["0401004","Radiografía de tórax, proyección complementaria (oblicuas, selectivas u otras)",0,0,null,null,null,null,null,null,null,null,null,null,null,null,null,null,null,null,null,null,null,null,null,null,null,null,null,null,null,null,null,null,null,null,6790,0]
["0401008","Radiografía de tórax  frontal o lateral con equipo móvil fuera del departamento de rayos.",0,0,null,null,null,null,null,null,null,null,null,null,null,null,null,null,null,null,null,null,null,null,null,null,null,null,null,null,null,null,null,null,null,null,10100,0]
["0401009","Radiografía de tórax simple frontal o lateral ",0,0,null,null,null,null,null,null,null,null,null,null,null,null,null,null,null,null,null,null,null,null,null,null,null,null,null,null,null,null,null,null,null,null,10100,0]
["0401070","Radiografía de tórax frontal y lateral",0,0,null,null,null,null,null,null,null,null,null,null,null,null,null,null,null,null,null,null,null,null,null,null,null,null,null,null,null,null,null,null,null,null,18500,0]
["0401075","Radiografía de tórax frontal y lateral con equipo móvil fuera del departamento de rayos",0,0,null,null,null,null,null,null,null,null,null,null,null,null,null,null,null,null,null,null,null,null,null,null,null,null,null,null,null,null,null,null,null,null,7810,0]
["0401010","Mamografía bilateral",0,0,null,null,null,null,null,null,null,null,null,null,null,null,null,null,null,null,null,null,null,null,null,null,null,null,null,null,null,null,null,null,null,null,21420,0]
["0401110","Mamografía unilateral",0,0,null,null,null,null,null,null,null,null,null,null,null,null,null,null,null,null,null,null,null,null,null,null,null,null,null,null,null,null,null,null,null,null,12780,0]
["0401130","Mamografía proyección complementaria  (axilar u otras)",{"$f":"SUM(D775+G775)","v":0},{"$f":"SUM(E775:F775)","v":0},null,null,null,null,null,null,null,null,null,null,null,null,null,null,null,null,null,null,null,null,null,null,null,null,null,null,null,null,null,null,null,null,4890,0]
["0401011","Marcación preoperatoria de lesiones de la mama",0,0,null,null,null,null,null,null,null,null,null,null,null,null,null,null,null,null,null,null,null,null,null,null,null,null,null,null,null,null,null,null,null,null,22520,0]
["0401012","Radiografía de mama, pieza operatoria",0,0,null,null,null,null,null,null,null,null,null,null,null,null,null,null,null,null,null,null,null,null,null,null,null,null,null,null,null,null,null,null,null,null,6790,0]
["0401013","Radiografía de Abdomen Simple",0,0,null,null,null,null,null,null,null,null,null,null,null,null,null,null,null,null,null,null,null,null,null,null,null,null,null,null,null,null,null,null,null,null,8980,{"$f":"AK778*E778","v":0}]
["0401014","Radiografía de abdomen simple, proyección complementaria (lateral y/o oblicua)",0,0,null,null,null,null,null,null,null,null,null,null,null,null,null,null,null,null,null,null,null,null,null,null,null,null,null,null,null,null,null,null,null,null,6790,0]
["0401015","Colangiografía intra o postoperatoria (por sonda T, o similar)",0,0,null,null,null,null,null,null,null,null,null,null,null,null,null,null,null,null,null,null,null,null,null,null,null,null,null,null,null,null,null,null,null,null,18780,0]
["0401018","Enema baritado del colon (incluye llene y control post-vaciamiento)",0,0,null,null,null,null,null,null,null,null,null,null,null,null,null,null,null,null,null,null,null,null,null,null,null,null,null,null,null,null,null,null,null,null,37890,0]
["0401019","Enema baritado del colon o intestino delgado, doble contraste",0,0,null,null,null,null,null,null,null,null,null,null,null,null,null,null,null,null,null,null,null,null,null,null,null,null,null,null,null,null,null,null,null,null,42610,0]
["0401020","Esofagograma  (incluye pesquisa de cuerpo extraño) (proc.aut.)",0,0,null,null,null,null,null,null,null,null,null,null,null,null,null,null,null,null,null,null,null,null,null,null,null,null,null,null,null,null,null,null,null,null,16860,0]
["0401021","Radiografía de esófago, estómago y duodeno, relleno y/o doble contraste ",0,0,null,null,null,null,null,null,null,null,null,null,null,null,null,null,null,null,null,null,null,null,null,null,null,null,null,null,null,null,null,null,null,null,37530,0]
["0401022","Estudio radiológico de deglución faríngea",0,0,null,null,null,null,null,null,null,null,null,null,null,null,null,null,null,null,null,null,null,null,null,null,null,null,null,null,null,null,null,null,null,null,16860,0]
["0401023","Estudio radiológico del intestino delgado",0,0,null,null,null,null,null,null,null,null,null,null,null,null,null,null,null,null,null,null,null,null,null,null,null,null,null,null,null,null,null,null,null,null,30060,0]
["0401024","Radiografía de esófago, estómago y duodeno, simple en niños ",0,0,null,null,null,null,null,null,null,null,null,null,null,null,null,null,null,null,null,null,null,null,null,null,null,null,null,null,null,null,null,null,null,null,27790,0]
["0401027","Pielografía de eliminación o descendente: incluye renal y vesical simples previas, 3 placas post inyección de medio de contraste, controles de pie y cistografía pre y post miccional. ",0,0,null,null,null,null,null,null,null,null,null,null,null,null,null,null,null,null,null,null,null,null,null,null,null,null,null,null,null,null,null,null,null,null,40880,{"$f":"AK788*E788","v":0}]
["0401028","Radiografía renal simple (proc. aut.)",0,0,null,null,null,null,null,null,null,null,null,null,null,null,null,null,null,null,null,null,null,null,null,null,null,null,null,null,null,null,null,null,null,null,8640,0]
["0401029","Radiografía vesical simple o perivesical (proc. aut.)",0,0,null,null,null,null,null,null,null,null,null,null,null,null,null,null,null,null,null,null,null,null,null,null,null,null,null,null,null,null,null,null,null,null,7530,0]
["0401031","Radiografía de cavidades perinasales, órbitas, articulaciones temporomandibulares, huesos propios de la nariz, malar, maxilar, arco cigomático y cara",0,0,null,null,null,null,null,null,null,null,null,null,null,null,null,null,null,null,null,null,null,null,null,null,null,null,null,null,null,null,null,null,null,null,10100,0]
["0401032","Radiografía de cráneo frontal y lateral",0,0,null,null,null,null,null,null,null,null,null,null,null,null,null,null,null,null,null,null,null,null,null,null,null,null,null,null,null,null,null,null,null,null,10680,0]
["0401033","Radiografía de Cráneo  proyección especial de  base de cráneo (Towne)",0,0,null,null,null,null,null,null,null,null,null,null,null,null,null,null,null,null,null,null,null,null,null,null,null,null,null,null,null,null,null,null,null,null,7530,0]
["0401035","Radiografía de oído, unilateral o bilateral",0,0,null,null,null,null,null,null,null,null,null,null,null,null,null,null,null,null,null,null,null,null,null,null,null,null,null,null,null,null,null,null,null,null,14740,0]
["0401040","Radiografía de silla turca frontal y lateral",0,0,null,null,null,null,null,null,null,null,null,null,null,null,null,null,null,null,null,null,null,null,null,null,null,null,null,null,null,null,null,null,null,null,12360,0]
["0401042","Radiografía de columna cervical o atlas-axis (frontal y lateral)",0,0,null,null,null,null,null,null,null,null,null,null,null,null,null,null,null,null,null,null,null,null,null,null,null,null,null,null,null,null,null,null,null,null,10100,0]
["0401043","Radiografía de columna cervical (frontal, lateral y oblicuas)",0,0,null,null,null,null,null,null,null,null,null,null,null,null,null,null,null,null,null,null,null,null,null,null,null,null,null,null,null,null,null,null,null,null,18010,0]
["0401044","Radiografía de columna cervical  flexión y  extensión (Dinámicas)",0,0,null,null,null,null,null,null,null,null,null,null,null,null,null,null,null,null,null,null,null,null,null,null,null,null,null,null,null,null,null,null,null,null,10100,0]
["0401045","Radiografía de columna dorsal o dorsolumbar localizada, parrilla costal (frontal y lateral)",0,0,null,null,null,null,null,null,null,null,null,null,null,null,null,null,null,null,null,null,null,null,null,null,null,null,null,null,null,null,null,null,null,null,11820,0]
["0401046","Radiografía columna lumbar o lumbosacra ( frontal, lateral y focalizada en el 5° espacio)   ",0,0,null,null,null,null,null,null,null,null,null,null,null,null,null,null,null,null,null,null,null,null,null,null,null,null,null,null,null,null,null,null,null,null,17420,0]
["0401047","Radiografía columna lumbar o lumbosacra  flexión y  extensión (Dinámicas)",0,0,null,null,null,null,null,null,null,null,null,null,null,null,null,null,null,null,null,null,null,null,null,null,null,null,null,null,null,null,null,null,null,null,14950,0]
["0401048","Radiografía columna lumbar o lumbosacra, oblicuas adicionales ",0,0,null,null,null,null,null,null,null,null,null,null,null,null,null,null,null,null,null,null,null,null,null,null,null,null,null,null,null,null,null,null,null,null,10100,0]
["0401049","Radiografía de columna total, panorámica con folio graduado  frontal o lateral",0,0,null,null,null,null,null,null,null,null,null,null,null,null,null,null,null,null,null,null,null,null,null,null,null,null,null,null,null,null,null,null,null,null,13530,0]
["0401051","Radiografía de pelvis, cadera o coxofemoral",0,0,null,null,null,null,null,null,null,null,null,null,null,null,null,null,null,null,null,null,null,null,null,null,null,null,null,null,null,null,null,null,null,null,7790,0]
["0401151","Radiografía de pelvis, cadera o coxofemoral de RN, lactante o niño menor de 6 años.",0,0,null,null,null,null,null,null,null,null,null,null,null,null,null,null,null,null,null,null,null,null,null,null,null,null,null,null,null,null,null,null,null,null,7790,0]
["0401052","Radiografía de pelvis, cadera o coxofemoral, proyecciones especiales; (rotación interna, abducción, lateral, Lawenstein u otras)",0,0,null,null,null,null,null,null,null,null,null,null,null,null,null,null,null,null,null,null,null,null,null,null,null,null,null,null,null,null,null,null,null,null,7530,0," "," "]
["0401053","Radiografía de Sacrocoxis o articulaciones sacroilíacas.",0,0,null,null,null,null,null,null,null,null,null,null,null,null,null,null,null,null,null,null,null,null,null,null,null,null,null,null,null,null,null,null,null,null,11240,0]
["0401054","Radiografía de brazo, antebrazo, codo, muñeca, mano, dedos, pie  (frontal y lateral)",0,0,null,null,null,null,null,null,null,null,null,null,null,null,null,null,null,null,null,null,null,null,null,null,null,null,null,null,null,null,null,null,null,null,8980,0]
["0401055","Radiografía de clavícula.",0,0,null,null,null,null,null,null,null,null,null,null,null,null,null,null,null,null,null,null,null,null,null,null,null,null,null,null,null,null,null,null,null,null,10390,0]
["0401056","Radiografía Edad Ósea: carpo y mano ",0,0,null,null,null,null,null,null,null,null,null,null,null,null,null,null,null,null,null,null,null,null,null,null,null,null,null,null,null,null,null,null,null,null,7530,0]
["0401057","Radiografía Edad ósea : rodilla frontal",0,0,null,null,null,null,null,null,null,null,null,null,null,null,null,null,null,null,null,null,null,null,null,null,null,null,null,null,null,null,null,null,null,null,7530,0]
["0401058","Estudio radiológico de escafoides",0,0,null,null,null,null,null,null,null,null,null,null,null,null,null,null,null,null,null,null,null,null,null,null,null,null,null,null,null,null,null,null,null,null,11240,0]
["0401059","Estudio radiológico de muñeca o tobillo frontal lateral y oblicuas",0,0,null,null,null,null,null,null,null,null,null,null,null,null,null,null,null,null,null,null,null,null,null,null,null,null,null,null,null,null,null,null,null,null,10490,0]
["0401060","Radiografía de hombro, fémur, rodilla, pierna, costilla o esternón Frontal y Lateral",0,0,null,null,null,null,null,null,null,null,null,null,null,null,null,null,null,null,null,null,null,null,null,null,null,null,null,null,null,null,null,null,null,null,10490,0]
["0401062","Radiografía de Proyecciones especiales oblicuas u otras en hombro, brazo, codo, rodilla, rótulas, sesamoideos, axial de ambas rótulas o similares",0,0,null,null,null,null,null,null,null,null,null,null,null,null,null,null,null,null,null,null,null,null,null,null,null,null,null,null,null,null,null,null,null,null,7530,0]
["0401063","Radiografía de túnel intercondíleo o radio-carpiano",0,0,null,null,null,null,null,null,null,null,null,null,null,null,null,null,null,null,null,null,null,null,null,null,null,null,null,null,null,null,null,null,null,null,7530,0,null," "]
["0401064","Apoyo fluoroscópico a procedimientos intraoperatorios y/o biopsia (no incluye el proc.)",0,0,null,null,null,null,null,null,null,null,null,null,null,null,null,null,null,null,null,null,null,null,null,null,null,null,null,null,null,null,null,null,null,null,7530,0,null," "]
["0401071","Mamografía bilateral digital 3D con tomosíntesis",0,0,null,null,null,null,null,null,null,null,null,null,null,null,null,null,null,null,null,null,null,null,null,null,null,null,null,null,null,null,null,null,null,null,34050,0,null," "]
["0401072","Mamografía unilateral digital 3D con tomosíntesis",0,0,null,null,null,null,null,null,null,null,null,null,null,null,null,null,null,null,null,null,null,null,null,null,null,null,null,null,null,null,null,null,null,null,27210,0,null," "]
["0401073","Videofluoroscopia para estudio de deglución",0,0,null,null,null,null,null,null,null,null,null,null,null,null,null,null,null,null,null,null,null,null,null,null,null,null,null,null,null,null,null,null,null,null,37680,0,null," "]
["0401074","Tránsito colónico con marcadores",0,0,null,null,null,null,null,null,null,null,null,null,null,null,null,null,null,null,null,null,null,null,null,null,null,null,null,null,null,null,null,null,null,null,27000,0,null," "]
[5099115,"Radiografía de pelvis, cadera o coxofemoral de 1er screening  (entre 3 -6 meses)",{"$f":"SUM(D822+G822)","v":0},{"$f":"SUM(E822:F822)","v":0},null,null,null,null,null,null,null,null,null,null,null,null,null,null,null,null,null,null,null,null,null,null,null,null,null,null,null,null,null,null,null,null,null,null,null," "]
[null,"TOTAL",{"$f":"SUM(C766:C821)","v":0},{"$f":"SUM(D766:D821)","v":0},0,0,0,null,null,null,null,null,null,null,null,null,null,null,null,null,null,null,null,null,null,null,{"$f":"SUM(AA766:AA821)","v":0},{"$f":"SUM(AB766:AB821)","v":0},0,0,0,0,0,0,0,0,null,{"$f":"SUM(AL766:AL821)","v":0}]
[null,"EXAMENES RADIOLOGICOS COMPLEJOS   "]
["0402001","Vía lagrimal unilateral",0,0,null,null,null,null,null,null,null,null,null,null,null,null,null,null,null,null,null,null,null,null,null,null,null,null,null,null,null,null,null,null,null,null,18760,{"$f":"AK825*E825","v":0},null," "]
["0402005","Galactografía, unilateral",0,0,null,null,null,null,null,null,null,null,null,null,null,null,null,null,null,null,null,null,null,null,null,null,null,null,null,null,null,null,null,null,null,null,10780,0]
["0402008","Colangiopancreatografía endoscópica (5-7 exp)",0,0,null,null,null,null,null,null,null,null,null,null,null,null,null,null,null,null,null,null,null,null,null,null,null,null,null,null,null,null,null,null,null,null,82490,0]
["0402009","Fistulografía  (3 exp.)",0,0,null,null,null,null,null,null,null,null,null,null,null,null,null,null,null,null,null,null,null,null,null,null,null,null,null,null,null,null,null,null,null,null,14790,0," "," "]
["0402011","Histerosalpingografía (a.c. 20-01-013) (4 exp.; incluye prueba de Cotte tardía)",0,0,null,null,null,null,null,null,null,null,null,null,null,null,null,null,null,null,null,null,null,null,null,null,null,null,null,null,null,null,null,null,null,null,21970,0]
["0402012","Pielografía ascendente (3 exp.)",0,0,null,null,null,null,null,null,null,null,null,null,null,null,null,null,null,null,null,null,null,null,null,null,null,null,null,null,null,null,null,null,null,null,61720,0]
["0402014","Uretro y/o cistouretrografía miccional retrógrada  (5 exp.)",0,0,null,null,null,null,null,null,null,null,null,null,null,null,null,null,null,null,null,null,null,null,null,null,null,null,null,null,null,null,null,null,null,null,31560,0]
["0402015","Artrografía facetaria",0,0,null,null,null,null,null,null,null,null,null,null,null,null,null,null,null,null,null,null,null,null,null,null,null,null,null,null,null,null,null,null,null,null,36000,0]
["0402019","Angiografía selectiva de carótida externa o interna",0,0,null,null,null,null,null,null,null,null,null,null,null,null,null,null,null,null,null,null,null,null,null,null,null,null,null,null,null,null,null,null,null,null,62260,0]
["0402020","Angiografía selectiva medular",0,0,null,null,null,null,null,null,null,null,null,null,null,null,null,null,null,null,null,null,null,null,null,null,null,null,null,null,null,null,null,null,null,null,62260,0]
["0402024","Aortografía con AOT o cineangiografía",0,0,null,null,null,null,null,null,null,null,null,null,null,null,null,null,null,null,null,null,null,null,null,null,null,null,null,null,null,null,null,null,null,null,66260,0]
["0402025","Arteriografía de miembros superiores o inferiores unilateral (a.c.17-01-023)",0,0,null,null,null,null,null,null,null,null,null,null,null,null,null,null,null,null,null,null,null,null,null,null,null,null,null,null,null,null,null,null,null,null,49380,0]
["0402027","Arteriografía selectiva con AOT o cineangiografía (pulmonar, renal, tronco celíaco o similar) c/u",{"$f":"SUM(D837+G837)","v":0},{"$f":"SUM(E837:F837)","v":0},null,null,null,null,null,null,null,null,null,null,null,null,null,null,null,null,null,null,null,null,null,null,null,null,null,null,null,null,null,null,null,null,81080,0]
["0402029","Arteriografía de vasos del cuello (carótidas y vertebrales) (a.c. 11-01-013)",0,0,null,null,null,null,null,null,null,null,null,null,null,null,null,null,null,null,null,null,null,null,null,null,null,null,null,null,null,null,null,null,null,null,58450,0]
["0402031","Embolización o balonización (a.c. de la angiografía correspondiente) (incluye control radiológico inmediato)",0,0,null,null,null,null,null,null,null,null,null,null,null,null,null,null,null,null,null,null,null,null,null,null,null,null,null,null,null,null,null,null,null,null,24100,0]
["0402032","Instalación de catéter o sonda intracardíaca, control por radiólogo",0,0,null,null,null,null,null,null,null,null,null,null,null,null,null,null,null,null,null,null,null,null,null,null,null,null,null,null,null,null,null,null,null,null,59460,0]
["0402035","Cavografía",0,0,null,null,null,null,null,null,null,null,null,null,null,null,null,null,null,null,null,null,null,null,null,null,null,null,null,null,null,null,null,null,null,null,42190,0," "," "]
["0402038","Flebografía extremidad inferior o superior, unilateral (a.c. 17-01-026) cada extremidad.",0,0,null,null,null,null,null,null,null,null,null,null,null,null,null,null,null,null,null,null,null,null,null,null,null,null,null,null,null,null,null,null,null,null,31760,0]
["0402040","Flebografía orbitaria o yugular",0,0,null,null,null,null,null,null,null,null,null,null,null,null,null,null,null,null,null,null,null,null,null,null,null,null,null,null,null,null,null,null,null,null,44660,0]
["0402041","Flebografía selectiva de venas hepáticas, renales, gonadales, pélvicas. (a.c. 17-01-027)",0,0,null,null,null,null,null,null,null,null,null,null,null,null,null,null,null,null,null,null,null,null,null,null,null,null,null,null,null,null,null,null,null,null,42190,0]
["0402050","Mielografía por punción lumbar con contraste hidrosoluble",0,0,null,null,null,null,null,null,null,null,null,null,null,null,null,null,null,null,null,null,null,null,null,null,null,null,null,null,null,null,null,null,null,null,44660,0,null," "]
[null,"TOTAL",{"$f":"SUM(C825:C845)","v":0},{"$f":"SUM(D825:D845)","v":0},{"$f":"SUM(E825:E845)","v":0},{"$f":"SUM(F825:F845)","v":0},{"$f":"SUM(G825:G845)","v":0},null,null,null,null,null,null,null,null,null,null,null,null,null,null,null,null,null,null,null,{"$f":"SUM(AA825:AA845)","v":0},0,0,0,0,0,0,0,0,0,null,0]
[null,"TOMOGRAFIA AXIAL COMPUTARIZADA (TAC)   "]
["0403001","Tomografía Computarizada de cráneo encefálica",0,0,null,null,null,null,null,null,null,null,null,null,null,null,null,null,null,null,null,null,null,null,null,null,null,null,null,null,null,null,null,null,null,null,63610,{"$f":"AK848*E848","v":0},null," "]
["0403002","Tomografía Computarizada de hipotálamo-hipófisis",0,0,null,null,null,null,null,null,null,null,null,null,null,null,null,null,null,null,null,null,null,null,null,null,null,null,null,null,null,null,null,null,null,null,71010,0]
["0403003","Tomografía Computarizada de fosa posterior",0,0,null,null,null,null,null,null,null,null,null,null,null,null,null,null,null,null,null,null,null,null,null,null,null,null,null,null,null,null,null,null,null,null,58530,0]
["0403006","Tomografía Computarizada de temporal-oído ",0,0,null,null,null,null,null,null,null,null,null,null,null,null,null,null,null,null,null,null,null,null,null,null,null,null,null,null,null,null,null,null,null,null,58530,0]
["0403007","Tomografía Computarizada de órbitas maxilofacial ",0,0,null,null,null,null,null,null,null,null,null,null,null,null,null,null,null,null,null,null,null,null,null,null,null,null,null,null,null,null,null,null,null,null,71010,0]
["0403008","Tomografía Computarizada de columna cervical ",0,0,null,null,null,null,null,null,null,null,null,null,null,null,null,null,null,null,null,null,null,null,null,null,null,null,null,null,null,null,null,null,null,null,77640,0]
["0403018","Tomografía Computarizada de Columna Dorsal. Incluye mínimo 6 espacios ",0,0,null,null,null,null,null,null,null,null,null,null,null,null,null,null,null,null,null,null,null,null,null,null,null,null,null,null,null,null,null,null,null,null,70880,0]
["0403019","Tomografía Computarizada de Columna Lumbar ",0,0,null,null,null,null,null,null,null,null,null,null,null,null,null,null,null,null,null,null,null,null,null,null,null,null,null,null,null,null,null,null,null,null,70880,0," "," "]
["0403012","Tomografía Computarizada de cuello, partes blandas ",0,0,null,null,null,null,null,null,null,null,null,null,null,null,null,null,null,null,null,null,null,null,null,null,null,null,null,null,null,null,null,null,null,null,58530,0]
["0403013","Tomografía Computarizada de Tórax. Incluye además: Esternón, Clavículas, Articulación Acromioclavicular, Escápula, Costillas, Articulación Esternoclavicular. Incluye todo el Tórax o cada segmento o articulación. Incluye bilateralidad",0,0,null,null,null,null,null,null,null,null,null,null,null,null,null,null,null,null,null,null,null,null,null,null,null,null,null,null,null,null,null,null,null,null,91660,0]
["0403014","Tomografía Computarizada de abdomen (hígado, vías y vesícula biliar, páncreas, bazo, suprarrenales y riñones)",0,0,null,null,null,null,null,null,null,null,null,null,null,null,null,null,null,null,null,null,null,null,null,null,null,null,null,null,null,null,null,null,null,null,54590,0]
["0403016","Tomografía Computarizada de Pelvis (Además incluye Sacro, Coxis, Caderas, Huesos Pélvicos, Articulaciones Sacro Ilíacas). Bilateral",0,0,null,null,null,null,null,null,null,null,null,null,null,null,null,null,null,null,null,null,null,null,null,null,null,null,null,null,null,null,null,null,null,null,54590,0]
["0403020","Tomografía Computarizada de Abdomen y Pelvis",0,0,null,null,null,null,null,null,null,null,null,null,null,null,null,null,null,null,null,null,null,null,null,null,null,null,null,null,null,null,null,null,null,null,92800,0]
["0403021","Tomografía Computarizada Pielografía",0,0,null,null,null,null,null,null,null,null,null,null,null,null,null,null,null,null,null,null,null,null,null,null,null,null,null,null,null,null,null,null,null,null,21560,0]
["0403022","Tomografía Computarizada Urografía",0,0,null,null,null,null,null,null,null,null,null,null,null,null,null,null,null,null,null,null,null,null,null,null,null,null,null,null,null,null,null,null,null,null,53900,0]
["0403023","Tomografía Computarizada de Colonoscopía Virtual. No incluye instalación de sonda",0,0,null,null,null,null,null,null,null,null,null,null,null,null,null,null,null,null,null,null,null,null,null,null,null,null,null,null,null,null,null,null,null,null,41120,0]
["0403024","Tomografía Computarizada Planificación Radioterapia",0,0,null,null,null,null,null,null,null,null,null,null,null,null,null,null,null,null,null,null,null,null,null,null,null,null,null,null,null,null,null,null,null,null,58380,0," "," "]
["0403025","Tomografía Computarizada de Calcio Coronario",0,0,null,null,null,null,null,null,null,null,null,null,null,null,null,null,null,null,null,null,null,null,null,null,null,null,null,null,null,null,null,null,null,null,24950,0]
["0403104","Tomografía Computarizada Angio de Cuello",0,0,null,null,null,null,null,null,null,null,null,null,null,null,null,null,null,null,null,null,null,null,null,null,null,null,null,null,null,null,null,null,null,null,52170,0]
["0403105","Tomografía Computarizada Angio de Pelvis",0,0,null,null,null,null,null,null,null,null,null,null,null,null,null,null,null,null,null,null,null,null,null,null,null,null,null,null,null,null,null,null,null,null,42580,0]
["0403106","Tomografía Computarizada de Angio Cardíaco. Mínimo 64 cortes",0,0,null,null,null,null,null,null,null,null,null,null,null,null,null,null,null,null,null,null,null,null,null,null,null,null,null,null,null,null,null,null,null,null,46840,0]
["0403017","Tomografía Computarizada Musculoesquelética por zona anatómica. Por cada segmento o articulación: muslo, pierna, rodillas, antebrazo, codo, muñeca, mano, hombro, pie, tobillo u otros. Bilateral sólo para rodillas",0,0,null,null,null,null,null,null,null,null,null,null,null,null,null,null,null,null,null,null,null,null,null,null,null,null,null,null,null,null,null,null,null,null,49530,0]
["0403101","Tomografía Computarizada angio  de encéfalo",0,0,null,null,null,null,null,null,null,null,null,null,null,null,null,null,null,null,null,null,null,null,null,null,null,null,null,null,null,null,null,null,null,null,77170,0]
["0403102","Tomografía Computarizada angio de tórax",0,0,null,null,null,null,null,null,null,null,null,null,null,null,null,null,null,null,null,null,null,null,null,null,null,null,null,null,null,null,null,null,null,null,109790,0]
["0403103","Tomografía Computarizada angio de abdomen",0,0,null,null,null,null,null,null,null,null,null,null,null,null,null,null,null,null,null,null,null,null,null,null,null,null,null,null,null,null,null,null,null,null,104490,0," "," "]
["0403107","Tomografía computarizada angio de extremidades inferiores (bilateral)",0,0,null,null,null,null,null,null,null,null,null,null,null,null,null,null,null,null,null,null,null,null,null,null,null,null,null,null,null,null,null,null,null,null,78670,0]
["0403108","Tomografía computarizada angio de extremidad superior (unilateral)",0,0,null,null,null,null,null,null,null,null,null,null,null,null,null,null,null,null,null,null,null,null,null,null,null,null,null,null,null,null,null,null,null,null,79330,0]
["0403026","Tomografía computarizada de enterografía ",0,0,null,null,null,null,null,null,null,null,null,null,null,null,null,null,null,null,null,null,null,null,null,null,null,null,null,null,null,null,null,null,null,null,70140,0,null," "]
[null,"TOTAL",{"$f":"SUM(C848:C875)","v":0},{"$f":"SUM(D848:D875)","v":0},{"$f":"SUM(E848:E875)","v":0},{"$f":"SUM(F848:F875)","v":0},{"$f":"SUM(G848:G875)","v":0},null,null,null,null,null,null,null,null,null,null,null,null,null,null,null,null,null,null,null,{"$f":"SUM(AA848:AA875)","v":0},{"$f":"SUM(AB848:AB875)","v":0},{"$f":"SUM(AC848:AC875)","v":0},{"$f":"SUM(AD848:AD875)","v":0},0,0,0,0,0,0,null,0]
[null,"ULTRASONOGRAFIA                "]
["0404002","Ecografía obstétrica",0,0,null,null,null,null,null,null,null,null,null,null,null,null,null,null,null,null,null,null,null,null,null,null,null,null,null,null,null,null,null,null,null,null,6890,{"$f":"AK878*E878","v":0},null," "]
["0404003","Ecografía abdominal (incluye hígado, vía biliar, vesícula, páncreas, riñones, bazo, retroperitoneo y grandes vasos)",0,0,null,null,null,null,null,null,null,null,null,null,null,null,null,null,null,null,null,null,null,null,null,null,null,null,null,null,null,null,null,null,null,null,25240,0,null," "]
["0404004","Ecografía como apoyo a cirugía, o a procedimiento (de tórax, muscular, partes blandas, etc.)",0,0,null,null,null,null,null,null,null,null,null,null,null,null,null,null,null,null,null,null,null,null,null,null,null,null,null,null,null,null,null,null,null,null,15600,0,null," "]
["0404005","Ecografía transvaginal o transrectal",0,0,null,null,null,null,null,null,null,null,null,null,null,null,null,null,null,null,null,null,null,null,null,null,null,null,null,null,null,null,null,null,null,null,14040,0,null," "]
["0404006","Ecografía ginecológica, pelviana femenina u obstétrica con estudio fetal",0,0,null,null,null,null,null,null,null,null,null,null,null,null,null,null,null,null,null,null,null,null,null,null,null,null,null,null,null,null,null,null,null,null,13370,0,null," "]
["0404007","Ecografía transvaginal para seguimiento de ovulación, procedimiento completo (6-8 sesiones )",0,0,null,null,null,null,null,null,null,null,null,null,null,null,null,null,null,null,null,null,null,null,null,null,null,null,null,null,null,null,null,null,null,null,19510,0,null," "]
["0404008","Ecografía para seguimiento de ovulación, procedimiento completo (6 a 8 sesiones)",0,0,null,null,null,null,null,null,null,null,null,null,null,null,null,null,null,null,null,null,null,null,null,null,null,null,null,null,null,null,null,null,null,null,19510,0,null," "]
["0404009","Ecografía pélvica masculina (incluye vejiga y próstata)",0,0,null,null,null,null,null,null,null,null,null,null,null,null,null,null,null,null,null,null,null,null,null,null,null,null,null,null,null,null,null,null,null,null,14040,0,null," "]
["0404010","Ecografía renal (bilateral), o de bazo",0,0,null,null,null,null,null,null,null,null,null,null,null,null,null,null,null,null,null,null,null,null,null,null,null,null,null,null,null,null,null,null,null,null,17560,0]
["0404011","Ecografía encefálica (RN o lactante)",0,0,null,null,null,null,null,null,null,null,null,null,null,null,null,null,null,null,null,null,null,null,null,null,null,null,null,null,null,null,null,null,null,null,17560,0," "," "]
["0404012","Ecografía mamaria bilateral (incluye Doppler)",0,0,null,null,null,null,null,null,null,null,null,null,null,null,null,null,null,null,null,null,null,null,null,null,null,null,null,null,null,null,null,null,null,null,17560,0]
["0404013","Ecografía ocular, unilateral o bilateral.",0,0,null,null,null,null,null,null,null,null,null,null,null,null,null,null,null,null,null,null,null,null,null,null,null,null,null,null,null,null,null,null,null,null,17560,0]
["0404014","Ecografía testicular (unilateral o bilateral) (Incluye Doppler)",0,0,null,null,null,null,null,null,null,null,null,null,null,null,null,null,null,null,null,null,null,null,null,null,null,null,null,null,null,null,null,null,null,null,17560,0]
["0404015","Ecografía tiroidea (Incluye Doppler)",0,0,null,null,null,null,null,null,null,null,null,null,null,null,null,null,null,null,null,null,null,null,null,null,null,null,null,null,null,null,null,null,null,null,17560,0]
["0404016","Ecografía Partes Blandas o Musculoesquelética (cada zona anatómica)",0,0,null,null,null,null,null,null,null,null,null,null,null,null,null,null,null,null,null,null,null,null,null,null,null,null,null,null,null,null,null,null,null,null,17560,0]
["0404017","Ecografía axilar",0,0,null,null,null,null,null,null,null,null,null,null,null,null,null,null,null,null,null,null,null,null,null,null,null,null,null,null,null,null,null,null,null,null,17320,0]
["0404019","Ecografía espinal",0,0,null,null,null,null,null,null,null,null,null,null,null,null,null,null,null,null,null,null,null,null,null,null,null,null,null,null,null,null,null,null,null,null,21600,0," "," "]
["0404118","Ecografía vascular (arterial y venosa) periférica (bilateral)",0,0,null,null,null,null,null,null,null,null,null,null,null,null,null,null,null,null,null,null,null,null,null,null,null,null,null,null,null,null,null,null,null,null,59960,0]
["0404119","Ecografía doppler de vasos del cuello",0,0,null,null,null,null,null,null,null,null,null,null,null,null,null,null,null,null,null,null,null,null,null,null,null,null,null,null,null,null,null,null,null,null,59960,0]
["0404120","Ecografía transcraneana",0,0,null,null,null,null,null,null,null,null,null,null,null,null,null,null,null,null,null,null,null,null,null,null,null,null,null,null,null,null,null,null,null,null,59960,0]
["0404121","Ecografía abdominal o de vasos testiculares",0,0,null,null,null,null,null,null,null,null,null,null,null,null,null,null,null,null,null,null,null,null,null,null,null,null,null,null,null,null,null,null,null,null,59960,0]
["0404122","Ecografía doppler de vasos placentarios",0,0,null,null,null,null,null,null,null,null,null,null,null,null,null,null,null,null,null,null,null,null,null,null,null,null,null,null,null,null,null,null,null,null,59960,0]
["0404218","Elastografía hepática",{"$f":"SUM(D900+G900)","v":0},{"$f":"SUM(E900:F900)","v":0},null,null,null,null,null,null,null,null,null,null,null,null,null,null,null,null,null,null,null,null,null,null,null,null,null,null,null,null,null,null,null,null,24510,0,null," "]
[null,"TOTAL",{"$f":"SUM(C878:C900)","v":0},{"$f":"SUM(D878:D900)","v":0},{"$f":"SUM(E878:E900)","v":0},{"$f":"SUM(F878:F900)","v":0},{"$f":"SUM(G878:G900)","v":0},null,null,null,null,null,null,null,null,null,null,null,null,null,null,null,null,null,null,null,{"$f":"SUM(AA878:AA900)","v":0},{"$f":"SUM(AB878:AB900)","v":0},{"$f":"SUM(AC878:AC900)","v":0},0,0,0,0,0,0,0,null,0]
[null,"RESONANCIA MAGNÉTICA (incluye medio de contraste)     "]
["0405001","Resonancia Magnética Cráneo Encefálica u Oídos, bilateral",{"$f":"SUM(D903+G903)","v":0},{"$f":"SUM(E903:F903)","v":0},null,null,null,null,null,null,null,null,null,null,null,null,null,null,null,null,null,null,null,null,null,null,null,null,null,null,null,null,null,null,null,null,194110,{"$f":"AK903*E903","v":0},null," "]
["0405002","Resonancia Magnética de hipotálamo - hipófisis",0,0,null,null,null,null,null,null,null,null,null,null,null,null,null,null,null,null,null,null,null,null,null,null,null,null,null,null,null,null,null,null,null,null,194110,0]
["0405003","Resonancia Magnética  de órbitas",0,0,null,null,null,null,null,null,null,null,null,null,null,null,null,null,null,null,null,null,null,null,null,null,null,null,null,null,null,null,null,null,null,null,184110,0]
["0405004","Resonancia Magnética de articulaciones temporomandibulares",0,0,null,null,null,null,null,null,null,null,null,null,null,null,null,null,null,null,null,null,null,null,null,null,null,null,null,null,null,null,null,null,null,null,184110,0]
["0405005","Resonancia Magnética  de columna cervical",0,0,null,null,null,null,null,null,null,null,null,null,null,null,null,null,null,null,null,null,null,null,null,null,null,null,null,null,null,null,null,null,null,null,194110,0," "," "]
["0405006","Resonancia Magnética de columna dorsal",0,0,null,null,null,null,null,null,null,null,null,null,null,null,null,null,null,null,null,null,null,null,null,null,null,null,null,null,null,null,null,null,null,null,194110,0]
["0405007","Resonancia Magnética de columna lumbar",0,0,null,null,null,null,null,null,null,null,null,null,null,null,null,null,null,null,null,null,null,null,null,null,null,null,null,null,null,null,null,null,null,null,194110,0]
["0405017","Resonancia Magnética Angiografía de Encéfalo ",0,0,null,null,null,null,null,null,null,null,null,null,null,null,null,null,null,null,null,null,null,null,null,null,null,null,null,null,null,null,null,null,null,null,194110,0]
["0405018","Resonancia Magnética Angiografía de Cuello",0,0,null,null,null,null,null,null,null,null,null,null,null,null,null,null,null,null,null,null,null,null,null,null,null,null,null,null,null,null,null,null,null,null,194110,0," "," "]
["0405019","Resonancia Magnética Angiografía de Tórax ",0,0,null,null,null,null,null,null,null,null,null,null,null,null,null,null,null,null,null,null,null,null,null,null,null,null,null,null,null,null,null,null,null,null,194110,0]
["0405020","Resonancia Magnética Angiografía de Abdomen ",0,0,null,null,null,null,null,null,null,null,null,null,null,null,null,null,null,null,null,null,null,null,null,null,null,null,null,null,null,null,null,null,null,null,194110,0]
["0405021","Resonancia Magnética Angiografía de Pelvis ",0,0,null,null,null,null,null,null,null,null,null,null,null,null,null,null,null,null,null,null,null,null,null,null,null,null,null,null,null,null,null,null,null,null,194110,0]
["0405022","Resonancia Magnética  Angiografía de Extremidad Superior Unilateral ",0,0,null,null,null,null,null,null,null,null,null,null,null,null,null,null,null,null,null,null,null,null,null,null,null,null,null,null,null,null,null,null,null,null,194110,0]
["0405023","Resonancia Magnética  Angiografía de Extremidad Inferior Bilateral ",0,0,null,null,null,null,null,null,null,null,null,null,null,null,null,null,null,null,null,null,null,null,null,null,null,null,null,null,null,null,null,null,null,null,194110,0]
["0405009","Resonancia Magnética de Tórax ( corazón, esternón, clavículas, articulación acromioclavicular, escápula, costillas o articulación esternoclavicular). Toda la pared torácica o cada segmento o articulación. Bilateral",0,0,null,null,null,null,null,null,null,null,null,null,null,null,null,null,null,null,null,null,null,null,null,null,null,null,null,null,null,null,null,null,null,null,194110,0]
["0405010","Resonancia Magnética de abdomen ",0,0,null,null,null,null,null,null,null,null,null,null,null,null,null,null,null,null,null,null,null,null,null,null,null,null,null,null,null,null,null,null,null,null,194110,0]
["0405011","Resonancia Magnética de Pelvis. Incluye: osteoarticular de sacroiliacas u osteoarticular de sacrocoxis u osteoarticular de huesos pélvicos u órganos pelvianos (incluye genitales internos y gastrointestinal)",0,0,null,null,null,null,null,null,null,null,null,null,null,null,null,null,null,null,null,null,null,null,null,null,null,null,null,null,null,null,null,null,null,null,194110,0," "," "]
["0405012","Resonancia Magnética de abdomen y pelvis",0,0,null,null,null,null,null,null,null,null,null,null,null,null,null,null,null,null,null,null,null,null,null,null,null,null,null,null,null,null,null,null,null,null,291150,0]
["0405098","Colangioresonancia",{"$f":"SUM(D921+G921)","v":0},{"$f":"SUM(E921:F921)","v":0},null,null,null,null,null,null,null,null,null,null,null,null,null,null,null,null,null,null,null,null,null,null,null,null,null,null,null,null,null,null,null,null,130040,0]
["0405013","Resonancia Magnética de rodilla",0,0,null,null,null,null,null,null,null,null,null,null,null,null,null,null,null,null,null,null,null,null,null,null,null,null,null,null,null,null,null,null,null,null,159160,0]
["0405024","Resonancia Magnética de Mano o Muñeca ",0,0,null,null,null,null,null,null,null,null,null,null,null,null,null,null,null,null,null,null,null,null,null,null,null,null,null,null,null,null,null,null,null,null,159160,0]
["0405025","Resonancia Magnética de Antebrazo o Brazo ",0,0,null,null,null,null,null,null,null,null,null,null,null,null,null,null,null,null,null,null,null,null,null,null,null,null,null,null,null,null,null,null,null,null,159160,0]
["0405026","Resonancia Magnética de Codo ",0,0,null,null,null,null,null,null,null,null,null,null,null,null,null,null,null,null,null,null,null,null,null,null,null,null,null,null,null,null,null,null,null,null,159160,0]
["0405027","Resonancia Magnética de Hombro ",0,0,null,null,null,null,null,null,null,null,null,null,null,null,null,null,null,null,null,null,null,null,null,null,null,null,null,null,null,null,null,null,null,null,159160,0]
["0405028","Resonancia Magnética de Pie, Antepie o Tobillo ",0,0,null,null,null,null,null,null,null,null,null,null,null,null,null,null,null,null,null,null,null,null,null,null,null,null,null,null,null,null,null,null,null,null,159160,0]
["0405029","Resonancia Magnética de Pierna",0,0,null,null,null,null,null,null,null,null,null,null,null,null,null,null,null,null,null,null,null,null,null,null,null,null,null,null,null,null,null,null,null,null,159160,0]
["0405030","Resonancia Magnética de Muslo o Cadera. Unilateral",0,0,null,null,null,null,null,null,null,null,null,null,null,null,null,null,null,null,null,null,null,null,null,null,null,null,null,null,null,null,null,null,null,null,159160,0]
["0405031","Resonancia Magnética de Mama (bilateral)",0,0,null,null,null,null,null,null,null,null,null,null,null,null,null,null,null,null,null,null,null,null,null,null,null,null,null,null,null,null,null,null,null,null,159160,0," "," "]
["0405032","Resonancia Magnética Fetal",0,0,null,null,null,null,null,null,null,null,null,null,null,null,null,null,null,null,null,null,null,null,null,null,null,null,null,null,null,null,null,null,null,null,194110,0]
["0405016","Resonancia Columna Total (cervical, dorsal, lumbar)",{"$f":"SUM(D932+G932)","v":0},{"$f":"SUM(E932:F932)","v":0},null,null,null,null,null,null,null,null,null,null,null,null,null,null,null,null,null,null,null,null,null,null,null,null,null,null,null,null,null,null,null,null,349370,0]
["0405033","Resonancia magnética para planificación de tratamiento con radioterapia",0,0,null,null,null,null,null,null,null,null,null,null,null,null,null,null,null,null,null,null,null,null,null,null,null,null,null,null,null,null,null,null,null,null,75860,0]
["0405034","Resonancia magnética estudio funcional de encéfalo",0,0,null,null,null,null,null,null,null,null,null,null,null,null,null,null,null,null,null,null,null,null,null,null,null,null,null,null,null,null,null,null,null,null,189840,0]
["0405035","Resonancia magnética tractografía",0,0,null,null,null,null,null,null,null,null,null,null,null,null,null,null,null,null,null,null,null,null,null,null,null,null,null,null,null,null,null,null,null,null,189840,0]
["0405036","Resonancia magnética espectroscopía encefálica",0,0,null,null,null,null,null,null,null,null,null,null,null,null,null,null,null,null,null,null,null,null,null,null,null,null,null,null,null,null,null,null,null,null,189840,0," "," "]
["0405037","Resonancia magnética de cara, macizo facial y/o cavidades paranasales",0,0,null,null,null,null,null,null,null,null,null,null,null,null,null,null,null,null,null,null,null,null,null,null,null,null,null,null,null,null,null,null,null,null,189840,0]
["0405038","Resonancia magnética perfusión cerebral",0,0,null,null,null,null,null,null,null,null,null,null,null,null,null,null,null,null,null,null,null,null,null,null,null,null,null,null,null,null,null,null,null,null,189840,0]
["0405039","Resonancia magnética estudio de líquido cerebroespinal",0,0,null,null,null,null,null,null,null,null,null,null,null,null,null,null,null,null,null,null,null,null,null,null,null,null,null,null,null,null,null,null,null,null,189840,0]
["0405040","Resonancia magnética estudio de piso pélvico por defecografía ",0,0,null,null,null,null,null,null,null,null,null,null,null,null,null,null,null,null,null,null,null,null,null,null,null,null,null,null,null,null,null,null,null,null,189840,0]
["0405041","Resonancia Magnética Screening óseo o muscular",0,0,null,null,null,null,null,null,null,null,null,null,null,null,null,null,null,null,null,null,null,null,null,null,null,null,null,null,null,null,null,null,null,null,189840,0]
["0405042","Resonancia Magnética de cuello",{"$f":"SUM(D942+G942)","v":0},{"$f":"SUM(E942:F942)","v":0},null,null,null,null,null,null,null,null,null,null,null,null,null,null,null,null,null,null,null,null,null,null,null,null,null,null,null,null,null,null,null,null,159160,0,null," "]
[null,"TOTAL",{"$f":"SUM(C903:C942)","v":0},{"$f":"SUM(D903:D942)","v":0},0,0,0,null,null,null,null,null,null,null,null,null,null,null,null,null,null,null,null,null,null,null,{"$f":"SUM(AA903:AA942)","v":0},{"$f":"SUM(AB903:AB942)","v":0},0,{"$f":"SUM(AD903:AD942)","v":0},{"$f":"SUM(AE903:AE942)","v":0},0,0,0,0,0,null,{"$f":"SUM(AL903:AL942)","v":0}]
[null,"OTROS EXAMENES DE IMÁGENES"]
["0403998","Cisternotac",0,0,null,null,null,null,null,null,null,null,null,null,null,null,null,null,null,null,null,null,null,null,null,null,null,null,null,null,null,null,null,null,null,null,null,null,null," "]
["01010753","Estudio de deglución faríngea por videofluroscopía",0,0]
["01010754","Biopsia mamaria guíado por ecotomografía",0,0]
["01010755","Ecotomografia portátil (traslado desde imagenología al servicio que lo requiere)",0,0]
["01010758","Marcación Ecográfica",0,0]
["01010759","Angiotomografia  computarizada de corazón  con estudios de vasos coronarios ",0,0,null,null,null,null,null,null,null,null,null,null,null,null,null,null,null,null,null,null,null,null,null,null,null,null,null,null,null,null,null,null,null,null,null,null," "," "]
["01010760","Angiotomografía corazón con estudio de vasos coronarios",0,0]
["01010765","Estudio de Flujo de Liquido Cefalo Raquideo",0,0]
["01010772","Tóracocentesis guíado por ecotomografía",0,0]
["01010773","Laparocentesis guíado por ecotomografía",0,0,null,null,null,null,null,null,null,null,null,null,null,null,null,null,null,null,null,null,null,null,null,null,null,null,null,null,null,null,null,null,null,null,null,null," "," "]
["01010774","Ablación por radiofrecuencia de tumores guíado por ecotomografía",0,0]
["01010775","Ablación por radiofrecuencia de tumores guíado por TAC",0,0]
["01010776","Contraste paramagnético para resonancia magnética",0,0,null,null,null,null,null,null,null,null,null,null,null,null,null,null,null,null,null,null,null,null,null,null,null,null,null,null,null,null,null,null,null,null,null,null," "," "]
["01010777","Contraste yodado hidrosoluble para tomografía computada",0,0]
["01010778","Extracción de cuerpos extraños guíado por ecotomografía",0,0]
["01010779","Marcación de microcalcificaciones preoperatorias guíada por mamografías ",0,0]
["01010780","Marcación de nódulo mamario preoperatorio guíada por ultrasonido ",0,0]
["01010781","Nefrostomía bajo TAC con Anestesia General",0,0]
["01010782","Nefrostomía percutánea guíada en TAC",0,0]
["01010783","Punción Citológica bajo Ecografía",0,0]
["01010784","Punción Citológica bajo TAC",0,0]
["01010785","Punción citológica de tiroides por ultrasonido",{"$f":"SUM(D966+G966)","v":0},{"$f":"SUM(E966:F966)","v":0},null,null,null,null,null,null,null,null,null,null,null,null,null,null,null,null,null,null,null,null,null,null,null,null,null,null,null,null,null,null,null,null,null,null," "," "]
["01010786","Radiofrecuencia bajo TAC",0,0]
["01010787","Asistencia ventricular en UCI",0,0]
["01010788","Biopsia de lesiones de partes blandas guíado por ecotomografía",0,0]
["01010789","Biopsia de tiroides con aguja fina PAAF",0,0]
["01010790","Biopsia Ósea con Anestesia General",0,0]
["01010791","Biopsia Ósea sin Anestesia General",0,0]
["01010792","Biopsia Percutanea bajo Ecografía con Anestesia General",0,0]
["01010793","Biopsia Percutanea bajo TAC con Anestesia General",0,0]
["01010794","Biopsia de médula",0,0]
["01010795","Biopsia hepática",0,0]
["01010796","Biopsia muscular",0,0]
["01010798","Biopsia rápida en quirófano",0,0]
["01010799","Infiltraciones terapéuticas guíado por ecotomografía",0,0]
["01010800","Artrocentesis (drenaje articular) diagnóstico y terapéutico guíado por ecotomografía",0,0]
["01010801","Aspiración tendinitis calcificante del hombre guíado por ecotomografía",0,0]
["01010802","Calculo de reserva Fraccional de Flujo",0,0]
["01010803","Drenaje de colecciones guíado por ecotomografía",0,0,null,null,null,null,null,null,null,null,null,null,null,null,null,null,null,null,null,null,null,null,null,null,null,null,null,null,null,null,null,null,null,null,null,null," "," "]
["01010804","Drenaje de colecciones guíado por tomografía computada",0,0]
["01010805","Drenaje Percutaneo bajo TAC con Anestesia General",0,0]
["01010806","Drenaje Percutaneo bajo TAC sin Anestesia General",0,0,null,null,null,null,null,null,null,null,null,null,null,null,null,null,null,null,null,null,null,null,null,null,null,null,null,null,null,null,null,null,null,null,null,null,null," "]
[null,"TOTAL",{"$f":"SUM(C945:C986)","v":0},{"$f":"SUM(D945:D986)","v":0},{"$f":"SUM(E945:E986)","v":0},{"$f":"SUM(F945:F986)","v":0},{"$f":"SUM(G945:G986)","v":0},null,null,null,null,null,null,null,null,null,null,null,null,null,null,null,null,null,null,null,{"$f":"SUM(AA945:AA986)","v":0},0,0,0,0,0,0,0,0,0]
["MEDICINA NUCLEAR Y RADIOTERAPIA       "]
["PROCEDIMIENTOS DIAGNOSTICOS                             "]
[null,"ESTUDIOS ENDOCRINOLÓGICOS"]
["0501100","Captación I-131 a las 2 y/o 24 horas",0,0,null,null,null,null,null,null,null,null,null,null,null,null,null,null,null,null,null,null,null,null,null,null,null,null,null,null,null,null,null,null,null,null,23340,{"$f":"AK991*E991","v":0},null," "]
["0501101","Cintigrafía tiroidea, cualquier radioisótopo",0,0,null,null,null,null,null,null,null,null,null,null,null,null,null,null,null,null,null,null,null,null,null,null,null,null,null,null,null,null,null,null,null,null,23340,{"$f":"AK992*E992","v":0}," "," "]
["0501102","Cintigrafía  glándulas paratiroides (no incluye MIBI)",0,0,null,null,null,null,null,null,null,null,null,null,null,null,null,null,null,null,null,null,null,null,null,null,null,null,null,null,null,null,null,null,null,null,35040,{"$f":"AK993*E993","v":0}]
["0501140","Cintigrafía Spect glándulas paratiroides con sestamibi ",0,0,null,null,null,null,null,null,null,null,null,null,null,null,null,null,null,null,null,null,null,null,null,null,null,null,null,null,null,null,null,null,null,null,102850,{"$f":"AK994*E994","v":0}]
["0501141","Cintigrafía Spect-ct glándulas paratiroides con sestamibi ",0,0,null,null,null,null,null,null,null,null,null,null,null,null,null,null,null,null,null,null,null,null,null,null,null,null,null,null,null,null,null,null,null,null,123620,{"$f":"AK995*E995","v":0}]
[null,"TOTAL",{"$f":"SUM(C991:C995)","v":0},{"$f":"SUM(D991:D995)","v":0},0,0,0,null,null,null,null,null,null,null,null,null,null,null,null,null,null,null,null,null,null,null,{"$f":"SUM(AA991:AA995)","v":0},{"$f":"SUM(AB991:AB995)","v":0},0,0,0,0,0,0,0,0,null,{"$f":"SUM(AL991:AL995)","v":0}]
[null,"ESTUDIOS OSTEOARTICULARES"]
["0501136","Cintigrafía ósea completa planar",0,0,null,null,null,null,null,null,null,null,null,null,null,null,null,null,null,null,null,null,null,null,null,null,null,null,null,null,null,null,null,null,null,null,63100,{"$f":"AK998*E998","v":0},null," "]
["0501137","Cintigrafía de médula ósea ",0,0,null,null,null,null,null,null,null,null,null,null,null,null,null,null,null,null,null,null,null,null,null,null,null,null,null,null,null,null,null,null,null,null,63100,0]
["0501104","Cintigrafía ósea trifásica (incluye mediciones fase precoz y tardía)",0,0,null,null,null,null,null,null,null,null,null,null,null,null,null,null,null,null,null,null,null,null,null,null,null,null,null,null,null,null,null,null,null,null,93490,0]
["0501142","Cintigrama óseo de cuerpo entero con Spect",0,0,null,null,null,null,null,null,null,null,null,null,null,null,null,null,null,null,null,null,null,null,null,null,null,null,null,null,null,null,null,null,null,null,153370,0]
["0501143","Cintigrama óseo de cuerpo entero con Spect-CT",0,0,null,null,null,null,null,null,null,null,null,null,null,null,null,null,null,null,null,null,null,null,null,null,null,null,null,null,null,null,null,null,null,null,174140,0]
[null,"ESTUDIOS CARDIOVASCULARES"]
["0501105","Spect de perfusión miocárdica estrés y reposo (no incluye honorarios médico cardiólogo) ",0,0,null,null,null,null,null,null,null,null,null,null,null,null,null,null,null,null,null,null,null,null,null,null,null,null,null,null,null,null,null,null,null,null,169880,{"$f":"AK1006*E1006","v":0},null," "]
["0501108","Linfocintigrafía isotópica (no incluye procedimiento)",0,0,null,null,null,null,null,null,null,null,null,null,null,null,null,null,null,null,null,null,null,null,null,null,null,null,null,null,null,null,null,null,null,null,70100,0]
["0501109","Pool sanguíneo spect",0,0,null,null,null,null,null,null,null,null,null,null,null,null,null,null,null,null,null,null,null,null,null,null,null,null,null,null,null,null,null,null,null,null,70100,0]
[null,"TOTAL",{"$f":"SUM(C1006:C1012)","v":0},{"$f":"SUM(D1006:D1012)","v":0},0,0,0,null,null,null,null,null,null,null,null,null,null,null,null,null,null,null,null,null,null,null,{"$f":"SUM(AA1006:AA1012)","v":0},{"$f":"SUM(AB1006:AB1012)","v":0},0,0,0,0,0,0,0,0,null,0]
[null,"ESTUDIOS DIGESTIVOS"]
["0501111","Estudio motilidad esofágica y/o reflujo gastroesofágico",0,0,null,null,null,null,null,null,null,null,null,null,null,null,null,null,null,null,null,null,null,null,null,null,null,null,null,null,null,null,null,null,null,null,52570,0]
["0501112","Vaciamiento gástrico líquido o sólido",0,0,null,null,null,null,null,null,null,null,null,null,null,null,null,null,null,null,null,null,null,null,null,null,null,null,null,null,null,null,null,null,null,null,93490,0]
["0501115","Detección divertículo Meckel",0,0,null,null,null,null,null,null,null,null,null,null,null,null,null,null,null,null,null,null,null,null,null,null,null,null,null,null,null,null,null,null,null,null,35040,0]
["0501116","Spect hepatoesplénico, evaluación hemangioma o hiperplasia (incluye mediciones fase precoz y tardía)",0,0,null,null,null,null,null,null,null,null,null,null,null,null,null,null,null,null,null,null,null,null,null,null,null,null,null,null,null,null,null,null,null,null,105160,0]
["0501117","Cintigrafía renal con D.M.S.A.",{"$f":"SUM(D1025+G1025)","v":0},{"$f":"SUM(E1025:F1025)","v":0},null,null,null,null,null,null,null,null,null,null,null,null,null,null,null,null,null,null,null,null,null,null,null,null,null,null,null,null,null,null,null,null,35040,{"$f":"SUM(AK1025*E1025)","v":0},null," "]
["0501118","Estudio dinámico renal con Tc 99 - DTPA",{"$f":"SUM(D1026+G1026)","v":0},{"$f":"SUM(E1026:F1026)","v":0},null,null,null,null,null,null,null,null,null,null,null,null,null,null,null,null,null,null,null,null,null,null,null,null,null,null,null,null,null,null,null,null,52570,{"$f":"SUM(AK1026*E1026)","v":0}]
["0501120","Cistografía isotópica indirecta",{"$f":"SUM(D1028+G1028)","v":0},{"$f":"SUM(E1028:F1028)","v":0},null,null,null,null,null,null,null,null,null,null,null,null,null,null,null,null,null,null,null,null,null,null,null,null,null,null,null,null,null,null,null,null,35040,{"$f":"SUM(AK1028*E1028)","v":0}]
["0501121","Cistografía isotópica directa (no incluye procedimiento)",{"$f":"SUM(D1029+G1029)","v":0},{"$f":"SUM(E1029:F1029)","v":0},null,null,null,null,null,null,null,null,null,null,null,null,null,null,null,null,null,null,null,null,null,null,null,null,null,null,null,null,null,null,null,null,35040,{"$f":"SUM(AK1029*E1029)","v":0}]
["0501122","Cintigrafía pulmonar perfusión o ventilación o difusión, c/u",0,0,null,null,null,null,null,null,null,null,null,null,null,null,null,null,null,null,null,null,null,null,null,null,null,null,null,null,null,null,null,null,null,null,35040,{"$f":"AK1032*E1032","v":0},null," "]
["0501123","Cintigrafía y estudio aspiración pulmonar",0,0,null,null,null,null,null,null,null,null,null,null,null,null,null,null,null,null,null,null,null,null,null,null,null,null,null,null,null,null,null,null,null,null,35040,{"$f":"AK1033*E1033","v":0}]
["0501124","Spect cerebral de perfusión (no incluye radiofármaco)",0,0,null,null,null,null,null,null,null,null,null,null,null,null,null,null,null,null,null,null,null,null,null,null,null,null,null,null,null,null,null,null,null,null,70100,{"$f":"AK1036*E1036","v":0},null," "]
["0501125","Estudio dinámico sistema nervioso (radiocisternografia, fístula L.C.R, radioventriculografía, control válvula derivativa, sub-durografía isotópica), c/u (no incluye procedimiento).",0,0,null,null,null,null,null,null,null,null,null,null,null,null,null,null,null,null,null,null,null,null,null,null,null,null,null,null,null,null,null,null,null,null,70100,{"$f":"AK1037*E1037","v":0}]
["0501126","Cintigrafía evaluación infecciones (leucocitos, infecton, granulocitos u otros) (no incluye radiofármaco ni procedimiento).",0,0,null,null,null,null,null,null,null,null,null,null,null,null,null,null,null,null,null,null,null,null,null,null,null,null,null,null,null,null,null,null,null,null,70100,{"$f":"AK1040*E1040","v":0},null," "]
["0501127","Cintigrafía con galio-67 planar infección (no incluye radioisótopo) (a.c. 0501133, cuando corresponda)",{"$f":"SUM(D1041+G1041)","v":0},{"$f":"SUM(E1041:F1041)","v":0},null,null,null,null,null,null,null,null,null,null,null,null,null,null,null,null,null,null,null,null,null,null,null,null,null,null,null,null,null,null,null,null,70100,{"$f":"AK1041*E1041","v":0}]
["0501128","Detección y/o marcación de ganglio centinela, no incluye, punción ni detección con gammaprobe",0,0,null,null,null,null,null,null,null,null,null,null,null,null,null,null,null,null,null,null,null,null,null,null,null,null,null,null,null,null,null,null,null,null,70100,{"$f":"AK1044*E1044","v":0},null," "]
["0501129","Cintigrafía con galio-67 planar y Spect, para estudio de tumores (no incluye radioisótopo)",0,0,null,null,null,null,null,null,null,null,null,null,null,null,null,null,null,null,null,null,null,null,null,null,null,null,null,null,null,null,null,null,null,null,175220,0]
["0501132","Estudio de tumores (anticuerpos monoclonales, octreoscan, DMSA pentavalente, prostacint u otros) (no incluye radioisótopo)",0,0,null,null,null,null,null,null,null,null,null,null,null,null,null,null,null,null,null,null,null,null,null,null,null,null,null,null,null,null,null,null,null,null,140190,0]
["0501133","Spect - Tomografía por emisión fotón único, cualquier órgano (no incluye radioisótopo)",0,0,null,null,null,null,null,null,null,null,null,null,null,null,null,null,null,null,null,null,null,null,null,null,null,null,null,null,null,null,null,null,null,null,52570,0]
[null,"DENSITOMETRÍA OSEA"]
["0501134","Densitometría ósea a fotón doble, columna y cadera (unilateral o bilateral) o cuerpo entero",0,0,null,null,null,null,null,null,null,null,null,null,null,null,null,null,null,null,null,null,null,null,null,null,null,null,null,null,null,null,null,null,null,null,35490,{"$f":"AK1052*E1052","v":0},null," "]
["0501135","PET-CT ",{"$f":"SUM(D1055+G1055)","v":0},{"$f":"SUM(E1055:F1055)","v":0},null,null,null,null,null,null,null,null,null,null,null,null,null,null,null,null,null,null,null,null,null,null,null,null,null,null,null,null,null,null,null,null,654710,{"$f":"AK1055*E1055","v":0},null," "]
[null,"TOTAL",{"$f":"SUM(C1055)","v":0},{"$f":"SUM(D1055)","v":0},{"$f":"SUM(E1055)","v":0},{"$f":"SUM(F1055)","v":0},{"$f":"SUM(G1055)","v":0},null,null,null,null,null,null,null,null,null,null,null,null,null,null,null,null,null,null,null,{"$f":"SUM(AA1055)","v":0},{"$f":"SUM(AB1055)","v":0},0,0,0,0,0,0,0,0,null,0]
["0502001","Dosis terapéuticas con I-131 hasta 30 mCi.",{"$f":"SUM(D1059+G1059)","v":0},{"$f":"SUM(E1059:F1059)","v":0},null,null,null,null,null,null,null,null,null,null,null,null,null,null,null,null,null,null,null,null,null,null,null,null,null,null,null,null,null,null,null,null,81780,{"$f":"AK1059*E1059","v":0}," "," "]
["0502002","Dosis terapéuticas con I-131 entre 31 a 100 mCi.",0,0,null,null,null,null,null,null,null,null,null,null,null,null,null,null,null,null,null,null,null,null,null,null,null,null,null,null,null,null,null,null,null,null,157720,{"$f":"AK1060*E1060","v":0}," "," "]
["0502005","Terapia paliativa del dolor con radioisótopos (no incluye radiofármaco)",0,0,null,null,null,null,null,null,null,null,null,null,null,null,null,null,null,null,null,null,null,null,null,null,null,null,null,null,null,null,null,null,null,null,35040,{"$f":"AK1063*E1063","v":0}]
[null,"TOTAL",{"$f":"SUM(C1059:C1063)","v":0},{"$f":"SUM(D1059:D1063)","v":0},{"$f":"SUM(E1059:E1063)","v":0},{"$f":"SUM(F1059:F1063)","v":0},{"$f":"SUM(G1059:G1063)","v":0},null,null,null,null,null,null,null,null,null,null,null,null,null,null,null,null,null,null,null,{"$f":"SUM(AA1059:AA1063)","v":0},{"$f":"SUM(AB1059:AB1063)","v":0},{"$f":"SUM(AC1059:AC1063)","v":0},0,0,0,0,0,0,0,null,{"$f":"SUM(AL1059:AL1063)","v":0}]
["2901001","Tratamiento integral de braquiterapia endocavitaria o intersticial (por sesión)",{"$f":"SUM(D1067+G1067)","v":0},{"$f":"SUM(E1067:F1067)","v":0},null,null,null,null,null,null,null,null,null,null,null,null,null,null,null,null,null,null,null,null,null,null,null,null,null,null,null,null,null,null,null,null,1169190,{"$f":"AK1067*E1067","v":0}," "," "]
["2901002","Tratamiento integral de braquiterapia de implante permanente, no incluye implante (por sesión)",0,0,null,null,null,null,null,null,null,null,null,null,null,null,null,null,null,null,null,null,null,null,null,null,null,null,null,null,null,null,null,null,null,null,1959870,0,null," "]
[null,"RADIOTERAPIA"]
["2902001","Tratamiento integral de radioterapia altamente compleja con Linac ",{"$f":"SUM(D1072+G1072)","v":0},{"$f":"SUM(E1072:F1072)","v":0},null,null,null,null,null,null,null,null,null,null,null,null,null,null,null,null,null,null,null,null,null,null,null,null,null,null,null,null,null,null,null,null,4489840,{"$f":"AK1072*E1072","v":0},null," "]
["2902004","Tratamiento integral de radioterapia convencional con Linac ",0,0,null,null,null,null,null,null,null,null,null,null,null,null,null,null,null,null,null,null,null,null,null,null,null,null,null,null,null,null,null,null,null,null,2691490,0," "," "]
["2902009","Tratamiento integral de radioterapia altamente compleja con cobalto",0,0,null,null,null,null,null,null,null,null,null,null,null,null,null,null,null,null,null,null,null,null,null,null,null,null,null,null,null,null,null,null,null,null,2909360,0]
["2902011","Tratamiento integral de radioterapia estándar con cobalto",0,0,null,null,null,null,null,null,null,null,null,null,null,null,null,null,null,null,null,null,null,null,null,null,null,null,null,null,null,null,null,null,null,null,2063410,0," "," "]
["2902012","Tratamiento integral de radioterapia convencional con cobalto ",0,0,null,null,null,null,null,null,null,null,null,null,null,null,null,null,null,null,null,null,null,null,null,null,null,null,null,null,null,null,null,null,null,null,1775810,0]
[2904001,"Quimioterapia alto riesgo 1 (por ciclo)",{"$f":"SUM(D1082+G1082)","v":0},{"$f":"SUM(E1082:F1082)","v":0},null,null,null,null,null,null,null,null,null,null,null,null,null,null,null,null,null,null,null,null,null,null,null,null,null,null,null,null,null,null,null,null,1747420,{"$f":"AK1082*E1082","v":0},null," "]
["2904002","Quimioterapia alto riesgo 2 (por ciclo)",0,0,null,null,null,null,null,null,null,null,null,null,null,null,null,null,null,null,null,null,null,null,null,null,null,null,null,null,null,null,null,null,null,null,455960,0,null," "]
["2904005","Quimioterapia bajo riesgo 3 (por ciclo)",0,0,null,null,null,null,null,null,null,null,null,null,null,null,null,null,null,null,null,null,null,null,null,null,null,null,null,null,null,null,null,null,null,null,93580,0,null," "]
["2904006","Quimioterapia bajo riesgo 4 (por ciclo)",0,0,null,null,null,null,null,null,null,null,null,null,null,null,null,null,null,null,null,null,null,null,null,null,null,null,null,null,null,null,null,null,null,null,24050,0]
["2904009","Quimioterapia riesgo intermedio 3 (por ciclo)",0,0,null,null,null,null,null,null,null,null,null,null,null,null,null,null,null,null,null,null,null,null,null,null,null,null,null,null,null,null,null,null,null,null,219720,0," "," "]
["2904010","Quimioterapia riesgo intermedio 4 (por ciclo)",0,0,null,null,null,null,null,null,null,null,null,null,null,null,null,null,null,null,null,null,null,null,null,null,null,null,null,null,null,null,null,null,null,null,76970,0]
["2904013","Tratamiento terapia endocrina 1 (por ciclo)",0,0,null,null,null,null,null,null,null,null,null,null,null,null,null,null,null,null,null,null,null,null,null,null,null,null,null,null,null,null,null,null,null,null,1560230,0]
["2904014","Tratamiento terapia endocrina 2 (por ciclo)",0,0,null,null,null,null,null,null,null,null,null,null,null,null,null,null,null,null,null,null,null,null,null,null,null,null,null,null,null,null,null,null,null,null,148480,0]
["2904017","Tratamiento inhibidores tirosin kinasa 3 (valor trimestral)",0,0,null,null,null,null,null,null,null,null,null,null,null,null,null,null,null,null,null,null,null,null,null,null,null,null,null,null,null,null,null,null,null,null,2492960,0]
["2904018","Tratamiento inhibidores tirosin kinasa 4 (valor trimestral)",0,0,null,null,null,null,null,null,null,null,null,null,null,null,null,null,null,null,null,null,null,null,null,null,null,null,null,null,null,null,null,null,null,null,1130900,0]
["2903001","Radiocirugía",{"$f":"SUM(D1102+G1102)","v":0},{"$f":"SUM(E1102:F1102)","v":0},null,null,null,null,null,null,null,null,null,null,null,null,null,null,null,null,null,null,null,null,null,null,null,null,null,null,null,null,null,null,null,null,4489840,{"$f":"AK1102*E1102","v":0},null," "]
[null,"TOTAL",{"$f":"SUM(C1102)","v":0},{"$f":"SUM(D1102)","v":0},0,0,0,null,null,null,null,null,null,null,null,null,null,null,null,null,null,null,null,null,null,null,{"$f":"SUM(AA1102)","v":0},{"$f":"SUM(AB1102)","v":0},0,0,0,0,0,0,0,0,null,0]
["0601101","Evaluación Kinesiológica Integral",{"$f":"SUM(D1105+G1105)","v":0},{"$f":"SUM(E1105:F1105)","v":0},null,null,null,null,null,null,null,null,null,null,null,null,null,null,null,null,null,null,null,null,null,null,null,null,null,null,null,null,null,null,null,null,3370,{"$f":"AK1105*E1105","v":0},null," "]
["0601103","Atención Kinesiológica Integral en Pacientes hospitalizados",{"$f":"SUM(D1106+G1106)","v":0},{"$f":"SUM(E1106:F1106)","v":0},null,null,null,null,null,null,null,null,null,null,null,null,null,null,null,null,null,null,null,null,null,null,null,null,null,null,null,null,null,null,null,null,11380,0]
["0601106","Atención Kinesiológica Integral Domiciliaria",{"$f":"SUM(D1109+G1109)","v":0},0,null,null,null,null,null,null,null,null,null,null,null,null,null,null,null,null,null,null,null,null,null,null,null,null,null,null,null,null,null,null,null,null,13040,0]
["0602001","Atención integral de terapia ocupacional",0,{"$f":"SUM(E1110:F1110)","v":0},null,null,null,null,null,null,null,null,null,null,null,null,null,null,null,null,null,null,null,null,null,null,null,null,null,null,null,null,null,null,null,null,9180,0," "," "]
["0608101","Telerehabilitación: Evaluación Kinesiológica Integral",0,0,null,null,null,null,null,null,null,null,null,null,null,null,null,null,null,null,null,null,null,null,null,null,null,null,null,null,null,null,null,null,null,null,2860,0]
["0608102","Telerehabilitación: Atención Kinesiológica Integral ",0,0,null,null,null,null,null,null,null,null,null,null,null,null,null,null,null,null,null,null,null,null,null,null,null,null,null,null,null,null,null,null,null,null,8830,0]
["0608203","Telerehabilitación: Intervención terapia ocupacional en actividades de la vida diaria, básicas, instrumentales y avanzadas",0,0,null,null,null,null,null,null,null,null,null,null,null,null,null,null,null,null,null,null,null,null,null,null,null,null,null,null,null,null,null,null,null,null,3650,0,null," "]
[null,"TOTAL MAI",{"$f":"SUM(C1105:C1117)","v":0},{"$f":"SUM(D1105:D1117)","v":0},{"$f":"SUM(E1105:E1117)","v":0},{"$f":"SUM(F1105:F1117)","v":0},{"$f":"SUM(G1105:G1117)","v":0},null,null,null,null,null,null,null,null,null,null,null,null,null,null,null,null,null,null,null,{"$f":"SUM(AA1105:AA1117)","v":0},0,0,0,0,0,0,0,0,0,null,{"$f":"SUM(AL1105:AL1117)","v":0}," "," "]
["0601004","Piscina temperada (incluye ejercicios) (proc.aut.)",0,0]
["0601005","Radiación infrarroja, horno, baño parafina, compresas húmedas, c/u (proc.aut.)",0,0]
["0601010","Terapia por radiación ultravioleta. (proc.aut.)",0,0]
["0601008","Laserterapia (proc.aut.)",0,0]
["0601011","Terapia por ondas mecánicas (proc. aut.)",0,0]
["0601012","Analgesia transcutánea (TENS) (proc.aut.)",0,0]
["0601015","Retroalimentación neuromuscular (miofeedback) (proc.aut.)",0,0]
["0601016","Compresión neumática (masaje compresivo) (proc.aut.)",0,0]
["0601028","Entrenamiento cardiorespiratorio funcional",0,0]
["0601018","Prueba de esfuerzo o Entrenamiento ergométrico (porc.aut.)",0,0]
["0601021","Manipulación osteopática (liberación articular, manipulación vertebral) (proc.aut.)",0,0,null,null,null,null,null,null,null,null,null,null,null,null,null,null,null,null,null,null,null,null,null,null,null,null,null,null,null,null,null,null,null,null,null,null," "," "]
["0601022","Masoterapia, por sesión (proc.aut.)",0,0]
["0601025","Técnicas de facilitación, técnicas de inhibición  (Kabat y/o Bobath) (proc.aut.)",0,0]
["0601026","Técnicas de relajación (entrenamiento autógeno Schultz - Jacobson o similar) (proc.aut.)",0,0]
["0601171","Asistencia en IOT, VMNI, cambio de cánula de traqueostomía",0,0]
["0601181","Entrenamiento ortostático en mesa basculante",0,0]
["0102501","Reeducación de la tos y respiración en pacientes con traqueostomía",0,0,null,null,null,null,null,null,null,null,null,null,null,null,null,null,null,null,null,null,null,null,null,null,null,null,null,null,null,null,null,null,null,null,null,null," "," "]
["0102505","Evaluación de funciones cognitivas",0,0]
["01010918","Deep oscilación",0,0]
["01010919","Plataforma Vibratoria",0,0,null,null,null,null,null,null,null,null,null,null,null,null,null,null,null,null,null,null,null,null,null,null,null,null,null,null,null,null,null,null,null,null,null,null," "," "]
["01010922","Prueba de tolerancia ortostática",0,0]
["01010923","Rehabilitación vestibular",0,0]
["01010926","Neurodinamia",0,0]
["01010927","Entrenamiento ortésico de gran incapacitado",0,0]
["01010931","Habilitación y rehabilitación educacional",0,0,null,null,null,null,null,null,null,null,null,null,null,null,null,null,null,null,null,null,null,null,null,null,null,null,null,null,null,null,null,null,null,null,null,null," "," "]
["01010932","Integración sensorial",0,0]
["01010937","Estimulación magnética",0,0,null,null,null,null,null,null,null,null,null,null,null,null,null,null,null,null,null,null,null,null,null,null,null,null,null,null,null,null,null,null,null,null,null,null,null," "]
["01010938","Atención integral en demencia",0,0]
[null,"MEDICINA TRANSFUSIONAL "]
["0702101","Producción de glóbulo rojo ",{"$f":"SUM(D1176+G1176)","v":0},{"$f":"SUM(E1176:F1176)","v":0},null,null,null,null,null,null,null,null,null,null,null,null,null,null,null,null,null,null,null,null,null,null,null,null,null,null,null,null,null,null,null,null,29630,{"$f":"AK1176*E1176","v":0}]
["0702104","Producción de concentrado de plaquetas por aféresis automática ",0,0,null,null,null,null,null,null,null,null,null,null,null,null,null,null,null,null,null,null,null,null,null,null,null,null,null,null,null,null,null,null,null,null,342200,0]
["0702105","Producción de concentrado de glóbulos rojos por aféresis automática ",0,0,null,null,null,null,null,null,null,null,null,null,null,null,null,null,null,null,null,null,null,null,null,null,null,null,null,null,null,null,null,null,null,null,342200,0]
["0702107","Producción de concentrado de plasma por aféresis automática",0,0,null,null,null,null,null,null,null,null,null,null,null,null,null,null,null,null,null,null,null,null,null,null,null,null,null,null,null,null,null,null,null,null,342200,0]
["0702108","Producción de células progenitoras hematopoyética por aféresis automática a partir de sangre periférica",0,0,null,null,null,null,null,null,null,null,null,null,null,null,null,null,null,null,null,null,null,null,null,null,null,null,null,null,null,null,null,null,null,null,760400,0]
["0702201","Calificación microbiológica por donante estudiado, componente sanguíneo producido o producto de aféresis automática",0,0,null,null,null,null,null,null,null,null,null,null,null,null,null,null,null,null,null,null,null,null,null,null,null,null,null,null,null,null,null,null,null,null,30190,0]
["0702202","Calificación inmunohematológica por donante estudiado, componente sanguíneo producido o producto de aféresis automática",0,0,null,null,null,null,null,null,null,null,null,null,null,null,null,null,null,null,null,null,null,null,null,null,null,null,null,null,null,null,null,null,null,null,15230,0]
["0702205","Titulación de anticuerpos irregulares eritrocitarios",0,0,null,null,null,null,null,null,null,null,null,null,null,null,null,null,null,null,null,null,null,null,null,null,null,null,null,null,null,null,null,null,null,null,29510,0]
["0702206","Genotipificación D variante (incluye D parcial y débil)",0,0,null,null,null,null,null,null,null,null,null,null,null,null,null,null,null,null,null,null,null,null,null,null,null,null,null,null,null,null,null,null,null,null,94780,0]
["0702209","Subgrupo ABO ",0,0,null,null,null,null,null,null,null,null,null,null,null,null,null,null,null,null,null,null,null,null,null,null,null,null,null,null,null,null,null,null,null,null,4000,0]
["0702301","Transfusión en adulto por unidad o subunidad de glóbulos rojos o unidad / subunidad o pool de: plasma, plaquetas o crioprecipitados (atención ambulatoria, atención cerrada siempre que la administración sea controlada por profesional especialista, tecnólogo médico o médico responsable)  ",0,0,null,null,null,null,null,null,null,null,null,null,null,null,null,null,null,null,null,null,null,null,null,null,null,null,null,null,null,null,null,null,null,null,10420,0]
["0702304","Sangría (considera el cobro de una prestación por cada unidad de sangre extraída)",0,0,null,null,null,null,null,null,null,null,null,null,null,null,null,null,null,null,null,null,null,null,null,null,null,null,null,null,null,null,null,null,null,null,9160,0]
["0702305","Recambio plasmático por aféresis terapéutica",0,0,null,null,null,null,null,null,null,null,null,null,null,null,null,null,null,null,null,null,null,null,null,null,null,null,null,null,null,null,null,null,null,null,352100,0]
["0702308","Eritroféresis por aféresis terapéutica",0,0,null,null,null,null,null,null,null,null,null,null,null,null,null,null,null,null,null,null,null,null,null,null,null,null,null,null,null,null,null,null,null,null,352100,0]
["0702309","Fotoféresis terapéutica",0,0,null,null,null,null,null,null,null,null,null,null,null,null,null,null,null,null,null,null,null,null,null,null,null,null,null,null,null,null,null,null,null,null,1443220,0," "," "]
["0704018","Parche de 5x10 cm (50 cm2 c/u) Piel de Donante",0,0,null,null,null,null,null,null,null,null,null,null,null,null,null,null,null,null,null,null,null,null,null,null,null,null,null,null,null,null,null,null,null,null,171090,0," "," "]
["0704019","Parche de 10x10 cm (100 cm2 c/u) Piel Donante",0,0,null,null,null,null,null,null,null,null,null,null,null,null,null,null,null,null,null,null,null,null,null,null,null,null,null,null,null,null,null,null,null,null,282900,0]
["0704022","Parche de 5x5 cm (25 cm2 c/u) Amnios",0,0,null,null,null,null,null,null,null,null,null,null,null,null,null,null,null,null,null,null,null,null,null,null,null,null,null,null,null,null,null,null,null,null,32610,0," "," "]
["0704023","Parche de 2x2 cm (4 cm2 c/u) Amnios",0,0,null,null,null,null,null,null,null,null,null,null,null,null,null,null,null,null,null,null,null,null,null,null,null,null,null,null,null,null,null,null,null,null,5430,0," "," "]
["0704026","Tablilla de Tejido óseo (Liofilizado/congelado), c/u",0,0,null,null,null,null,null,null,null,null,null,null,null,null,null,null,null,null,null,null,null,null,null,null,null,null,null,null,null,null,null,null,null,null,63910,0]
["0704028","Microfragmentado o granulado (1 gr) de Tejido óseo (Liofilizado)",0,0,null,null,null,null,null,null,null,null,null,null,null,null,null,null,null,null,null,null,null,null,null,null,null,null,null,null,null,null,null,null,null,null,271950,0]
["0704031","Procuramiento y Procesamiento de Homoinjertos Segmentos Vasculares. Por segmento",0,0,null,null,null,null,null,null,null,null,null,null,null,null,null,null,null,null,null,null,null,null,null,null,null,null,null,null,null,null,null,null,null,null,102580,0]
["0704032","Córnea de Donante",0,0,null,null,null,null,null,null,null,null,null,null,null,null,null,null,null,null,null,null,null,null,null,null,null,null,null,null,null,null,null,null,null,null,681270,0]
["0801001","Citodiagnóstico corriente, exfoliativa (Papanicolau) (por cada placa)",{"$f":"SUM(D1221+G1221)","v":0},{"$f":"SUM(E1221:F1221)","v":0},null,null,null,null,null,null,null,null,null,null,null,null,null,null,null,null,null,null,null,null,null,null,null,null,null,null,null,null,null,null,null,null,6470,{"$f":"AK1221*E1221","v":0},null," "]
["0801002","Citología no ginecológica (por cada placa o frasco) (máximo 6)",0,0,null,null,null,null,null,null,null,null,null,null,null,null,null,null,null,null,null,null,null,null,null,null,null,null,null,null,null,null,null,null,null,null,9610,0]
["0801005","Estudio histopatológico con técnicas histoquímicas, niveles, decalcificación (por cada lámina)",0,0,null,null,null,null,null,null,null,null,null,null,null,null,null,null,null,null,null,null,null,null,null,null,null,null,null,null,null,null,null,null,null,null,19700,0]
["0801006","Consulta intraoperatoria (por cada muestra / tejido o asistencia a pabellón) (no incluye biopsia diferida)",0,0,null,null,null,null,null,null,null,null,null,null,null,null,null,null,null,null,null,null,null,null,null,null,null,null,null,null,null,null,null,null,null,null,26210,0," "," "]
["0801009","Necropsia de adulto o niño, con estudio histopatológico corriente",0,0,null,null,null,null,null,null,null,null,null,null,null,null,null,null,null,null,null,null,null,null,null,null,null,null,null,null,null,null,null,null,null,null,72080,0," "," "]
["0801010","Necropsia de feto o recién nacido, con estudio histopatológico corriente",0,0,null,null,null,null,null,null,null,null,null,null,null,null,null,null,null,null,null,null,null,null,null,null,null,null,null,null,null,null,null,null,null,null,57610,0]
["0801012","Técnica inmunohistoquimica para marcadores tumorales (ALK-PDL1-ROS1) c/u",0,0,null,null,null,null,null,null,null,null,null,null,null,null,null,null,null,null,null,null,null,null,null,null,null,null,null,null,null,null,null,null,null,null,162290,0]
["0801013","Hibridación in situ en corte de tejido en parafina, búsqueda de alteraciones",{"$f":"SUM(D1233+G1233)","v":0},{"$f":"SUM(E1233:F1233)","v":0},null,null,null,null,null,null,null,null,null,null,null,null,null,null,null,null,null,null,null,null,null,null,null,null,null,null,null,null,null,null,null,null,194720,0,null," "]
[null,"PSIQUIATRIA Y SALUD MENTAL     "]
["0903002","Consulta o control por psicólogo clínico",{"$f":"SUM(D1237+G1237)","v":0},{"$f":"SUM(E1237:F1237)","v":0},null,null,null,null,null,null,null,null,null,null,null,null,null,null,null,null,null,null,null,null,null,null,null,null,null,null,null,null,null,null,null,null,3670,{"$f":"AK1237*E1237","v":0},null," "]
["0903005","Psicoterapia de grupo (por psicólogo o psiquiatra) (4 a 8 pacientes)",0,0,null,null,null,null,null,null,null,null,null,null,null,null,null,null,null,null,null,null,null,null,null,null,null,null,null,null,null,null,null,null,null,null,17070,0," "," "]
["0903006","Consultoría de salud mental por psiquiatra (sesión 4 hrs.) (mínimo 8 pacientes)",0,0,null,null,null,null,null,null,null,null,null,null,null,null,null,null,null,null,null,null,null,null,null,null,null,null,null,null,null,null,null,null,null,null,38750,0," "," "]
["0908101","Telerehabilitación: Psicólogo clínico (sesiones 45')",0,0,null,null,null,null,null,null,null,null,null,null,null,null,null,null,null,null,null,null,null,null,null,null,null,null,null,null,null,null,null,null,null,null,12790,0," "," "]
["0908102","Telerehabilitación: Psicoterapia Individual",0,0,null,null,null,null,null,null,null,null,null,null,null,null,null,null,null,null,null,null,null,null,null,null,null,null,null,null,null,null,null,null,null,null,13970,0,null," "]
[null,"PSIQUIATRIA Y PSICOLOGIA CLINICA     "]
["0901001","Control paciente psiquiátrico crónico;máx.2 controles al mes",{"$f":"SUM(D1249+G1249)","v":0},{"$f":"SUM(E1249:F1249)","v":0}]
["0901005","Atención psiquiátrica o psicoterapia de familia, individual, de relajación o de manejo (con familia u otros);(cada sesión mínimo 45')",0,0]
["0901010","Psicoterapia de pareja (por cada miembro de la pareja)",0,0]
["0902003","Sesión de psicoterapia de pareja (con ambos miembros)",0,0,null,null,null,null,null,null,null,null,null,null,null,null,null,null,null,null,null,null,null,null,null,null,null,null,null,null,null,null,null,null,null,null,null,null," "," "]
["0902010","Test de Rorschach",0,0,null,null,null,null,null,null,null,null,null,null,null,null,null,null,null,null,null,null,null,null,null,null,null,null,null,null,null,null,null,null,null,null,null,null," "," "]
["0902012","Test de Apercepción Temática, T.A.T., C.A.T.-H o C.A.T.-A.",0,0]
["0902013","Test de Edwards",0,0]
["0902016","Test de Dominó o Test de Raven",0,0,null,null,null,null,null,null,null,null,null,null,null,null,null,null,null,null,null,null,null,null,null,null,null,null,null,null,null,null,null,null,null,null,null,null,null," "]
["0902017","Test de Bender",0,0]
["0902020","Test de Luria-Nebraska",0,0]
[null,"TOTAL MLE ",{"$f":"SUM(C1249:C1267)","v":0},{"$f":"SUM(D1249:D1267)","v":0},{"$f":"SUM(E1249:E1267)","v":0},{"$f":"SUM(F1249:F1267)","v":0},{"$f":"SUM(G1249:G1267)","v":0},null,null,null,null,null,null,null,null,null,null,null,null,null,null,null,null,null,null,null,{"$f":"SUM(AA1249:AA1267)","v":0},0,0,0,0,0,0,0,0,0]
["1101004","E.E.G. de 16 o más canales (incluye el cód. 11-01-006)",{"$f":"SUM(D1271+G1271)","v":0},{"$f":"SUM(E1271:F1271)","v":0},null,null,null,null,null,null,null,null,null,null,null,null,null,null,null,null,null,null,null,null,null,null,null,null,null,null,null,null,null,null,null,null,19330,{"$f":"AK1271*E1271","v":0},null," "]
["1101006","Electroencefalograma (E.E.G.) standard y/o activado \"sin privación de sueño\" (incluye mono y bipolares, hiperventilación, c/s reactividad auditiva, visual, lumínica, por drogas u otras). Equipo de 8 canales",0,0,null,null,null,null,null,null,null,null,null,null,null,null,null,null,null,null,null,null,null,null,null,null,null,null,null,null,null,null,null,null,null,null,15470,0]
["1101141","Esclerosis Múltiple Remitente Recurrente, Tratamiento rehabilitación",0,0,null,null,null,null,null,null,null,null,null,null,null,null,null,null,null,null,null,null,null,null,null,null,null,null,null,null,null,null,null,null,null,null,302090,0]
["1101142","Esclerosis Múltiple Remitente Recurrente,  Tratamiento Brote",0,0,null,null,null,null,null,null,null,null,null,null,null,null,null,null,null,null,null,null,null,null,null,null,null,null,null,null,null,null,null,null,null,null,1377510,0]
["1101003","Punción Lumbar c/s manometría c/s Queckensted",0,0,null,null,null,null,null,null,null,null,null,null,null,null,null,null,null,null,null,null,null,null,null,null,null,null,null,null,null,null,null,null,null,null,8190,0]
["1101047","Cateterismo selectivo de senos petrosos",0,0,null,null,null,null,null,null,null,null,null,null,null,null,null,null,null,null,null,null,null,null,null,null,null,null,null,null,null,null,null,null,null,null,12320,0]
["1101005","Electrocorticografía",0,0,null,null,null,null,null,null,null,null,null,null,null,null,null,null,null,null,null,null,null,null,null,null,null,null,null,null,null,null,null,null,null,null,25580,0]
["1101007","Estéreo-electroencefalografía (incluye uno o mas electrodos adicionales)",0,0,null,null,null,null,null,null,null,null,null,null,null,null,null,null,null,null,null,null,null,null,null,null,null,null,null,null,null,null,null,null,null,null,34440,0]
["1101041","EEG en vigilia, sueño y post-privación de sueño. Equipo de 16 o mas canales",0,0,null,null,null,null,null,null,null,null,null,null,null,null,null,null,null,null,null,null,null,null,null,null,null,null,null,null,null,null,null,null,null,null,27380,0]
["1101042","EEG digital 20 canales (con activaciones HV y FE) estándar o post privación de sueño de 20 a 30 minutos duración",0,0,null,null,null,null,null,null,null,null,null,null,null,null,null,null,null,null,null,null,null,null,null,null,null,null,null,null,null,null,null,null,null,null,23610,0]
["1101044","Monitoreo E.E.G. continuo de 24 hrs.",0,0,null,null,null,null,null,null,null,null,null,null,null,null,null,null,null,null,null,null,null,null,null,null,null,null,null,null,null,null,null,null,null,null,46120,0]
["1101045","Polisomnografía  (electroencefalograma, electrocardiograma, monitoreo de apneas y electronistagmografía, electromiografía)",0,0,null,null,null,null,null,null,null,null,null,null,null,null,null,null,null,null,null,null,null,null,null,null,null,null,null,null,null,null,null,null,null,null,61900,0]
["1101011","Potenciales evocados en corteza ( por ej.: auditivo, ocular o corporales), c/u",0,0,null,null,null,null,null,null,null,null,null,null,null,null,null,null,null,null,null,null,null,null,null,null,null,null,null,null,null,null,null,null,null,null,15060,0]
["1101012","Velocidad de conducción nerviosa (incluye reflejo H, onda F y otros)",0,0,null,null,null,null,null,null,null,null,null,null,null,null,null,null,null,null,null,null,null,null,null,null,null,null,null,null,null,null,null,null,null,null,11640,0]
["1101019","Neumoencefalografía fraccionada, por punción lumbar ",{"$f":"SUM(D1298+G1298)","v":0},{"$f":"SUM(E1298:F1298)","v":0},null,null,null,null,null,null,null,null,null,null,null,null,null,null,null,null,null,null,null,null,null,null,null,null,null,null,null,null,null,null,null,null,16310,0]
["1101020","Neumoencefalografía p/punción suboccipital",0,0,null,null,null,null,null,null,null,null,null,null,null,null,null,null,null,null,null,null,null,null,null,null,null,null,null,null,null,null,null,null,null,null,25040,0]
["1101028","Infiltración o bloqueo de ramas del trigémino o del facial",0,0,null,null,null,null,null,null,null,null,null,null,null,null,null,null,null,null,null,null,null,null,null,null,null,null,null,null,null,null,null,null,null,null,8650,0]
["1101029","Infiltración o bloqueo del ganglio estrellado",0,0,null,null,null,null,null,null,null,null,null,null,null,null,null,null,null,null,null,null,null,null,null,null,null,null,null,null,null,null,null,null,null,null,8650,0]
["1101032","Rizotomía química por medio de inyección intratecal",0,0,null,null,null,null,null,null,null,null,null,null,null,null,null,null,null,null,null,null,null,null,null,null,null,null,null,null,null,null,null,null,null,null,24600,0]
["1101033","Infiltración o bloqueo suboccipital u otros nervios cervicales",0,0,null,null,null,null,null,null,null,null,null,null,null,null,null,null,null,null,null,null,null,null,null,null,null,null,null,null,null,null,null,null,null,null,8650,0]
["1101035","Alcoholización o fenolización de nervios periféricos: intratecal",0,0,null,null,null,null,null,null,null,null,null,null,null,null,null,null,null,null,null,null,null,null,null,null,null,null,null,null,null,null,null,null,null,null,20650,0]
["1101036","Alcoholización o fenolización de nervios periféricos: troncular",0,0,null,null,null,null,null,null,null,null,null,null,null,null,null,null,null,null,null,null,null,null,null,null,null,null,null,null,null,null,null,null,null,null,16820,0]
[5099018,"Inyeccion toxina botulinica",0,0]
[5099019,"Inyeccion interferon",0,0,null,null,null,null,null,null,null,null,null,null,null,null,null,null,null,null,null,null,null,null,null,null,null,null,null,null,null,null,null,null,null,null,null,null," "," "]
["01011042","Implantación estimulador vagal epilepsia refractaria menores de 15 años",0,0]
["01011044","Bloqueo neuromuscular con Toxina Butolínica",0,0]
["01011047","Trombolisis de urgencia infarto cerebral",0,0]
["01011049","Embolización de Malformaciones arteriovenosas medulares",0,0]
[null,"TOTAL",{"$f":"SUM(C1271:C1324)","v":0},{"$f":"SUM(D1271:D1324)","v":0},{"$f":"SUM(E1271:E1324)","v":0},{"$f":"SUM(F1271:F1324)","v":0},{"$f":"SUM(G1271:G1324)","v":0},null,null,null,null,null,null,null,null,null,null,null,null,null,null,null,null,null,null,null,{"$f":"SUM(AA1271:AA1324)","v":0},0,0,0,0,0,0,0,0,0,null,{"$f":"SUM(AL1271:AL1324)","v":0}]
[null,"INTERVENCIONES QUIRURGICAS. NEUROCIRUGIA  "]
["1103003","Hundimiento simple, reparación de",0,null,null,null,null,0,null,null,null,null,null,null,0,null,null,0,null,null,0,null,null,0,null,null,null,null,null,null,null,null,null,null,null,null,243680,0]
["1103004","Craneoplastía con autoinjerto",0,null,null,null,null,0,null,null,null,null,null,null,0,null,null,0,null,null,0,null,null,0,null,null,null,null,null,null,null,null,null,null,null,null,467400,0]
["1103007","Osteomielitis, limpieza quirúrgica",0,null,null,null,null,0,null,null,null,null,null,null,0,null,null,0,null,null,0,null,null,0,null,null,null,null,null,null,null,null,null,null,null,null,244040,0," "," "]
["1103008","Craniectomías descompresivas",0,null,null,null,null,0,null,null,null,null,null,null,0,null,null,0,null,null,0,null,null,0,null,null,null,null,null,null,null,null,null,null,null,null,299420,0]
["1103010","Craneotomías lineales",0,null,null,null,null,0,null,null,null,null,null,null,0,null,null,0,null,null,0,null,null,0,null,null,null,null,null,null,null,null,null,null,null,null,487900,0]
["1103011","Craniectomías c/s remodelación ósea",{"$f":"SUM(I1337:N1337)","v":0},null,null,null,null,0,null,null,null,null,null,null,0,null,null,0,null,null,0,null,null,0,null,null,null,null,null,null,null,null,null,null,null,null,749110,0]
["1103015","Reparación de fístula de LCR",0,null,null,null,null,0,null,null,null,null,null,null,0,null,null,0,null,null,0,null,null,0,null,null,null,null,null,null,null,null,null,null,null,null,508920,0]
["1103016","Hematoma, empiema o colección subdural, vaciamiento de",0,null,null,null,null,0,null,null,null,null,null,null,0,null,null,0,null,null,0,null,null,0,null,null,null,null,null,null,null,null,null,null,null,null,455700,0]
["1103019","Absceso cerebral, trat. quir.",0,null,null,null,null,0,null,null,null,null,null,null,0,null,null,0,null,null,0,null,null,0,null,null,null,null,null,null,null,null,null,null,null,null,636590,0]
["1103020","Tratamiento quirúrgico del traumatismo craneoencefálico  abierto o penetrante (herida a bala u otro elemento penetrante)",0,null,null,null,null,0,null,null,null,null,null,null,0,null,null,0,null,null,0,null,null,0,null,null,null,null,null,null,null,null,null,null,null,null,402740,0]
["1103023","Hematoma intracerebral, vaciamiento de",0,null,null,null,null,0,null,null,null,null,null,null,0,null,null,0,null,null,0,null,null,0,null,null,null,null,null,null,null,null,null,null,null,null,536840,0]
["1103024","De base de cráneo, resección de tumores y/o quistes y/o cavernoma",0,null,null,null,null,0,null,null,null,null,null,null,0,null,null,0,null,null,0,null,null,0,null,null,null,null,null,null,null,null,null,null,null,null,1100790,0]
["1103027","Aneurismas, malformaciones arteriovenosas encefálicas u orbitarias, fístulas durales",0,null,null,null,null,0,null,null,null,null,null,null,0,null,null,0,null,null,0,null,null,0,null,null,null,null,null,null,null,null,null,null,null,null,1190940,0]
["1103028","Fístula carótido cavernosa tratamiento endovascular",0,null,null,null,null,0,null,null,null,null,null,null,0,null,null,0,null,null,0,null,null,0,null,null,null,null,null,null,null,null,null,null,null,null,420450,0]
["1103031","Anastomosis y revascularización cerebral extra-intracraneana (cirugía de carótida: ver Cirugía Vascular Periférica)",0,null,null,null,null,0,null,null,null,null,null,null,0,null,null,0,null,null,0,null,null,0,null,null,null,null,null,null,null,null,null,null,null,null,853960,0]
["1103032","Instalación de derivativas de LCR (no incluye valor de la válvula)",0,null,null,null,null,0,null,null,null,null,null,null,0,null,null,0,null,null,0,null,null,0,null,null,null,null,null,null,null,null,null,null,null,null,377210,0]
["1103033","Revisión o exteriorización de derivativa",0,null,null,null,null,0,null,null,null,null,null,null,0,null,null,0,null,null,0,null,null,0,null,null,null,null,null,null,null,null,null,null,null,null,195650,0]
["1103034","Ventriculocisternostomía",0,null,null,null,null,0,null,null,null,null,null,null,0,null,null,0,null,null,0,null,null,0,null,null,null,null,null,null,null,null,null,null,null,null,353380,0]
["1103037","Meningo y meningoencefalocele occipital, repar. de",0,null,null,null,null,0,null,null,null,null,null,null,0,null,null,0,null,null,0,null,null,0,null,null,null,null,null,null,null,null,null,null,null,null,808070,0]
["1103038","Cirugía descompresiva neurovascular",0,null,null,null,null,0,null,null,null,null,null,null,0,null,null,0,null,null,0,null,null,0,null,null,null,null,null,null,null,null,null,null,null,null,644310,0]
["1103041","Cirugía de la epilepsia (cualquier técnica)",0,null,null,null,null,0,null,null,null,null,null,null,0,null,null,0,null,null,0,null,null,0,null,null,null,null,null,null,null,null,null,null,null,null,575270,0]
["1103042","Biopsia estereotáxica cerebral con marco de estereotaxia o neuronavegador",0,null,null,null,null,0,null,null,null,null,null,null,0,null,null,0,null,null,0,null,null,0,null,null,null,null,null,null,null,null,null,null,null,null,626420,0]
["1103076","Guía estereotáxica para realización de cirugía o procedimiento neuroquirúrgico intracranéano ",0,null,null,null,null,0,null,null,null,null,null,null,0,null,null,0,null,null,0,null,null,0,null,null,null,null,null,null,null,null,null,null,null,null,377150,0]
["1103046","Instalación de estimuladores medulares",0,null,null,null,null,0,null,null,null,null,null,null,0,null,null,0,null,null,0,null,null,0,null,null,null,null,null,null,null,null,null,null,null,null,380410,0]
["1103049","Hernia núcleo pulposo, estenorraquis, aracnoiditis, fibrosis perirradicular cervical, dorsal o lumbar, trat. quir.",0,null,null,null,null,0,null,null,null,null,null,null,0,null,null,0,null,null,0,null,null,0,null,null,null,null,null,null,null,null,null,null,null,null,694550,0]
["1103050","Laminectomía descompresiva",0,null,null,null,null,0,null,null,null,null,null,null,0,null,null,0,null,null,0,null,null,0,null,null,null,null,null,null,null,null,null,null,null,null,533870,0]
["1103052","Tratamiento quirúrgico de tumor espinal extradural",0,null,null,null,null,0,null,null,null,null,null,null,0,null,null,0,null,null,0,null,null,0,null,null,null,null,null,null,null,null,null,null,null,null,455700,0]
["1103053","Extirpación de tumor o quiste medular o intrarraquídeo",0,null,null,null,null,0,null,null,null,null,null,null,0,null,null,0,null,null,0,null,null,0,null,null,null,null,null,null,null,null,null,null,null,null,586700,0]
["1103056","Mielotomía, DREZtomía",0,null,null,null,null,0,null,null,null,null,null,null,0,null,null,0,null,null,0,null,null,0,null,null,null,null,null,null,null,null,null,null,null,null,484820,0]
["1103057","Rizotomía (cualquier técnica)",0,null,null,null,null,0,null,null,null,null,null,null,0,null,null,0,null,null,0,null,null,0,null,null,null,null,null,null,null,null,null,null,null,null,380620,0]
["1103073","Artroplastia de columna ",0,null,null,null,null,0,null,null,null,null,null,null,0,null,null,0,null,null,0,null,null,0,null,null,null,null,null,null,null,null,null,null,null,null,806070,0]
["1103074","Aseo quirúrgico de columna vertebral",0,null,null,null,null,0,null,null,null,null,null,null,0,null,null,0,null,null,0,null,null,0,null,null,null,null,null,null,null,null,null,null,null,null,496420,0]
["1103079","Cementación vertebral cervical, dorsal o lumbar mas de 3 niveles",{"$f":"SUM(I1390:N1390)","v":0},null,null,null,null,{"$f":"SUM(I1390:J1390)","v":0},null,null,null,null,null,null,{"$f":"SUM(P1390:Q1390)","v":0},null,null,{"$f":"SUM(S1390:T1390)","v":0},null,null,{"$f":"SUM(V1390:W1390)","v":0},null,null,{"$f":"SUM(Y1390:Z1390)","v":0},null,null,null,null,null,null,null,null,null,null,null,null,688830,0]
["1103080","Fusión intersomatica cervical",{"$f":"SUM(I1391:N1391)","v":0},null,null,null,null,{"$f":"SUM(I1391:J1391)","v":0},null,null,null,null,null,null,{"$f":"SUM(P1391:Q1391)","v":0},null,null,{"$f":"SUM(S1391:T1391)","v":0},null,null,{"$f":"SUM(V1391:W1391)","v":0},null,null,{"$f":"SUM(Y1391:Z1391)","v":0},null,null,null,null,null,null,null,null,null,null,null,null,752190,0," "," "]
["1103058","Tumor de nervio periférico, extirp. de",{"$f":"SUM(I1394:N1394)","v":0},null,null,null,null,{"$f":"SUM(I1394:J1394)","v":0},null,null,null,null,null,null,{"$f":"SUM(P1394:Q1394)","v":0},null,null,{"$f":"SUM(S1394:T1394)","v":0},null,null,{"$f":"SUM(V1394:W1394)","v":0},null,null,{"$f":"SUM(Y1394:Z1394)","v":0},null,null,null,null,null,null,null,null,null,null,null,null,202440,0]
["1103059","Reparación de plexos c/s neurotización con técnica microquirúrgica o injertos interfasciculares",0,null,null,null,null,0,null,null,null,null,null,null,0,null,null,0,null,null,0,null,null,0,null,null,null,null,null,null,null,null,null,null,null,null,557930,0," "," "]
["1103068","Neurectomía, cualquier localización, cada zona quirúrgica",0,null,null,null,null,0,null,null,null,null,null,null,0,null,null,0,null,null,0,null,null,0,null,null,null,null,null,null,null,null,null,null,null,null,190340,0]
["1103062","Neurolisis con técnica microquirúrgica",0,null,null,null,null,0,null,null,null,null,null,null,0,null,null,0,null,null,0,null,null,0,null,null,null,null,null,null,null,null,null,null,null,null,346960,0]
["1103065","Síndrome de costilla cervical, trat. quir.",0,null,null,null,null,0,null,null,null,null,null,null,0,null,null,0,null,null,0,null,null,0,null,null,null,null,null,null,null,null,null,null,null,null,384210,0]
["1103066","Liberación quirúrgica de nervio periférico extracraneano (trat. quir. del Síndrome del Túnel Carpiano, tarso u otro)",0,null,null,null,null,0,null,null,null,null,null,null,0,null,null,0,null,null,0,null,null,0,null,null,null,null,null,null,null,null,null,null,null,null,202440,0]
["1103077","Neurotomía periférica selectiva para tratamiento de espasticidad",0,null,null,null,null,{"$f":"SUM(I1406:J1406)","v":0},null,null,null,null,null,null,0,null,null,0,null,null,0,null,null,0,null,null,null,null,null,null,null,null,null,null,null,null,805390,0,null," "]
[1103083,"Liberación quirúrgica de nervio periférico en el Síndrome del Túnel Carpiano téc. WALANT (anestesia local sin torniquete)",0,null,null,null,null,{"$f":"SUM(I1407:J1407)","v":0},null,null,null,null,null,null,null,null,null,null,null,null,null,null,null,null,null,null,null,null,null,null,null,null,null,null,null,null,202440,0]
["1201044","Tomografía coherencia óptica, c/ ojo ",{"$f":"SUM(D1410+G1410)","v":0},{"$f":"SUM(E1410:F1410)","v":0},null,null,null,null,null,null,null,null,null,null,null,null,null,null,null,null,null,null,null,null,null,null,null,null,null,null,null,null,null,null,null,null,53880,{"$f":"AK1410*E1410","v":0}," "," "]
["1201001","Campimetría de proyección, unilateral (proc.aut.)",{"$f":"SUM(D1411+G1411)","v":0},{"$f":"SUM(E1411:F1411)","v":0},null,null,null,null,null,null,null,null,null,null,null,null,null,null,null,null,null,null,null,null,null,null,null,null,null,null,null,null,null,null,null,null,5580,0," "]
["1201002","Coordimetría, test de Hess u otro, unilateral",0,0,null,null,null,null,null,null,null,null,null,null,null,null,null,null,null,null,null,null,null,null,null,null,null,null,null,null,null,null,null,null,null,null,3030,0," "]
["1201003","Cuantificación de lagrimación (test de Schirmer), uni o bilateral",0,0,null,null,null,null,null,null,null,null,null,null,null,null,null,null,null,null,null,null,null,null,null,null,null,null,null,null,null,null,null,null,null,null,2090,0," "]
["1201006","Electromiografía músculos oculares adultos, unilateral",0,0,null,null,null,null,null,null,null,null,null,null,null,null,null,null,null,null,null,null,null,null,null,null,null,null,null,null,null,null,null,null,null,null,13760,0," "]
["1201007","Electromiografía músculos oculares niños, unilateral",0,0,null,null,null,null,null,null,null,null,null,null,null,null,null,null,null,null,null,null,null,null,null,null,null,null,null,null,null,null,null,null,null,null,13760,0," "]
["1201010","Perimetría de Goldman o perimetría cinética, unilateral",0,0,null,null,null,null,null,null,null,null,null,null,null,null,null,null,null,null,null,null,null,null,null,null,null,null,null,null,null,null,null,null,null,null,10300,0," "," "]
["1201011","Pruebas de provocación para glaucoma (prueba de oscuridad u otras), uni o bilateral",0,0,null,null,null,null,null,null,null,null,null,null,null,null,null,null,null,null,null,null,null,null,null,null,null,null,null,null,null,null,null,null,null,null,6460,0," "]
["1201015","Tratamiento ortóptico y/o pleóptico (por sesión), bilateral",0,0,null,null,null,null,null,null,null,null,null,null,null,null,null,null,null,null,null,null,null,null,null,null,null,null,null,null,null,null,null,null,null,null,3890,0," "]
["1201027","Examen Optométrico c/s Prescripción de Lentes",0,0,null,null,null,null,null,null,null,null,null,null,null,null,null,null,null,null,null,null,null,null,null,null,null,null,null,null,null,null,null,null,null,null,11610,0," "]
["1201018","Electrorretinografía, unilateral",0,0,null,null,null,null,null,null,null,null,null,null,null,null,null,null,null,null,null,null,null,null,null,null,null,null,null,null,null,null,null,null,null,null,10510,0," "]
["1201019","Exploración vitreorretinal, ambos ojos",0,0,null,null,null,null,null,null,null,null,null,null,null,null,null,null,null,null,null,null,null,null,null,null,null,null,null,null,null,null,null,null,null,null,6280,0," "]
["1201024","Potencial visual evocado en niños, bilateral",0,0,null,null,null,null,null,null,null,null,null,null,null,null,null,null,null,null,null,null,null,null,null,null,null,null,null,null,null,null,null,null,null,null,15540,0," "]
["1201043","Topografía corneal computarizada, unilateral",0,0,null,null,null,null,null,null,null,null,null,null,null,null,null,null,null,null,null,null,null,null,null,null,null,null,null,null,null,null,null,null,null,null,25580,0," "]
["1201030","Cuerpo extraño conjuntival y/o corneal en niños",0,0,null,null,null,null,null,null,null,null,null,null,null,null,null,null,null,null,null,null,null,null,null,null,null,null,null,null,null,null,null,null,null,null,12310,0," "]
["1201031","Vía lagrimal, cateterismo o sondaje en adultos",0,0,null,null,null,null,null,null,null,null,null,null,null,null,null,null,null,null,null,null,null,null,null,null,null,null,null,null,null,null,null,null,null,null,12310,0," "]
["1201034","Tocación corneal c/yodo y/o éter u otros, en niños o adultos",0,0,null,null,null,null,null,null,null,null,null,null,null,null,null,null,null,null,null,null,null,null,null,null,null,null,null,null,null,null,null,null,null,null,5860,0," "]
["1201035","Criocoagulación conjuntival, corneal o palpebral en adultos",0,0,null,null,null,null,null,null,null,null,null,null,null,null,null,null,null,null,null,null,null,null,null,null,null,null,null,null,null,null,null,null,null,null,12310,0," "]
["1201038","Inyección retrobulbar",0,0,null,null,null,null,null,null,null,null,null,null,null,null,null,null,null,null,null,null,null,null,null,null,null,null,null,null,null,null,null,null,null,null,8170,0," "]
["1201039","Pestañas, extirp. por electrocoagulación (cualquier número)",0,0,null,null,null,null,null,null,null,null,null,null,null,null,null,null,null,null,null,null,null,null,null,null,null,null,null,null,null,null,null,null,null,null,13670,0," "]
["1201045","Paquimetría",{"$f":"SUM(D1448+G1448)","v":0},{"$f":"SUM(E1448:F1448)","v":0},null,null,null,null,null,null,null,null,null,null,null,null,null,null,null,null,null,null,null,null,null,null,null,null,null,null,null,null,null,null,null,null,25890,0," "]
[5099013,"Inyeccion intravitrea  avastin",0,0,null,null,null,null,null,null,null,null,null,null,null,null,null,null,null,null,null,null,null,null,null,null,null,null,null,null,null,null,null,null,null,null,null,null," "]
[5099016,"Lensometria",0,0,null,null,null,null,null,null,null,null,null,null,null,null,null,null,null,null,null,null,null,null,null,null,null,null,null,null,null,null,null,null,null,null,null,null," "]
[5099051,"Test de ishihara",0,0,null,null,null,null,null,null,null,null,null,null,null,null,null,null,null,null,null,null,null,null,null,null,null,null,null,null,null,null,null,null,null,null,null,null," "]
["01011176","Examen de visión cromática",0,0,null,null,null,null,null,null,null,null,null,null,null,null,null,null,null,null,null,null,null,null,null,null,null,null,null,null,null,null,null,null,null,null,null,null," "," "]
[null,"TOTAL ",{"$f":"SUM(C1410:C1456)","v":0},{"$f":"SUM(D1410:D1456)","v":0},{"$f":"SUM(E1410:E1456)","v":0},{"$f":"SUM(F1410:F1456)","v":0},{"$f":"SUM(G1410:G1456)","v":0},null,null,null,null,null,null,null,null,null,null,null,null,null,null,null,null,null,null,null,{"$f":"SUM(AA1410:AA1456)","v":0},0,0,0,0,0,0,0,0,0,null,{"$f":"SUM(AL1410:AL1456)","v":0}]
["1202002","Puntos lagrimales, plastía de",{"$f":"SUM(I1460:N1460)","v":0},null,null,null,null,{"$f":"SUM(I1460:J1460)","v":0},null,null,null,null,null,null,null,null,null,null,null,null,null,null,null,null,null,null,null,null,null,null,null,null,null,null,null,null,38410,0]
["1202003","Reconstitución de canalículos",0,null,null,null,null,0,null,null,null,null,null,null,null,null,null,null,null,null,null,null,null,null,null,null,null,null,null,null,null,null,null,null,null,null,89470,0]
["1202005","Dacriocistorrinostomía",0,null,null,null,null,0,null,null,null,null,null,null,null,null,null,null,null,null,null,null,null,null,null,null,null,null,null,null,null,null,null,null,null,null,118570,0]
["1202006","Extirpación de saco y/o glándula lagrimal",0,null,null,null,null,0,null,null,null,null,null,null,null,null,null,null,null,null,null,null,null,null,null,null,null,null,null,null,null,null,null,null,null,null,53550,0]
["1202009","Tumor maligno  del saco, trat. quir. completo",0,null,null,null,null,0,null,null,null,null,null,null,0,null,null,0,null,null,0,null,null,0,null,null,null,null,null,null,null,null,null,null,null,null,135130,0]
["1202010","Absceso, trat. quir. párpado o ceja",{"$f":"SUM(I1468:N1468)","v":0},null,null,null,null,{"$f":"SUM(I1468:J1468)","v":0},null,null,null,null,null,null,null,null,null,null,null,null,null,null,null,null,null,null,null,null,null,null,null,null,null,null,null,null,20320,0]
["1202013","Blefarofimosis, plastía de",{"$f":"SUM(I1471:N1471)","v":0},null,null,null,null,{"$f":"SUM(I1471:J1471)","v":0},null,null,null,null,null,null,{"$f":"SUM(P1471:Q1471)","v":0},null,null,{"$f":"SUM(S1471:T1471)","v":0},null,null,{"$f":"SUM(V1471:W1471)","v":0},null,null,{"$f":"SUM(Y1471:Z1471)","v":0},null,null,null,null,null,null,null,null,null,null,null,null,107600,0]
["1202014","Blefarorrafia con blefarotomía posterior",0,null,null,null,null,0,null,null,null,null,null,null,null,null,null,null,null,null,null,null,null,null,null,null,null,null,null,null,null,null,null,null,null,null,32000,0]
["1202017","Coloboma, plastía de",0,null,null,null,null,0,null,null,null,null,null,null,0,null,null,0,null,null,0,null,null,0,null,null,null,null,null,null,null,null,null,null,null,null,113010,0]
["1202018","Ectropión, plastía de",0,null,null,null,null,0,null,null,null,null,null,null,null,null,null,null,null,null,null,null,null,null,null,null,null,null,null,null,null,null,null,null,null,null,68300,0]
["1202021","Ptosis, trat. quir.",0,null,null,null,null,0,null,null,null,null,null,null,0,null,null,0,null,null,0,null,null,0,null,null,null,null,null,null,null,null,null,null,null,null,108840,0]
["1202022","Quiste dermoide de la cola de la ceja, resec. plástica",0,null,null,null,null,0,null,null,null,null,null,null,null,null,null,null,null,null,null,null,null,null,null,null,null,null,null,null,null,null,null,null,null,null,35410,0]
["1202071","Herida o dehiscencia de sutura de párpado, reparación",0,null,null,null,null,0,null,null,null,null,null,null,null,null,null,null,null,null,null,null,null,null,null,null,null,null,null,null,null,null,null,null,null,null,40870,0]
["1202080","Tratamiento quirúrgico ptosis de la ceja",0,null,null,null,null,0,null,null,null,null,null,null,0,null,null,0,null,null,0,null,null,0,null,null,null,null,null,null,null,null,null,null,null,null,127720,0]
["1202027","Simbléfaron, resección de adherencias y plastía de",0,null,null,null,null,0,null,null,null,null,null,null,0,null,null,0,null,null,0,null,null,0,null,null,null,null,null,null,null,null,null,null,null,null,66450,0]
[5099191,"Extirpación de Pterigión con injerto corneal",0,null,null,null,null,0,null,null,null,null,null,null,0,null,null,0,null,null,0,null,null,0]
["1202029","Absceso orbitario, trat. quir.",0,null,null,null,null,0,null,null,null,null,null,null,null,null,null,null,null,null,null,null,null,null,null,null,null,null,null,null,null,null,null,null,null,null,39120,0]
["1202030","Corrección de cavidad anoftálmica trat. completo",0,null,null,null,null,0,null,null,null,null,null,null,0,null,null,0,null,null,0,null,null,0,null,null,null,null,null,null,null,null,null,null,null,null,174460,0]
["1202033","Orbitotomía anterior",0,null,null,null,null,0,null,null,null,null,null,null,0,null,null,0,null,null,0,null,null,0,null,null,null,null,null,null,null,null,null,null,null,null,84070,0]
["1202034","Orbitotomía lateral descompresiva",0,null,null,null,null,0,null,null,null,null,null,null,0,null,null,0,null,null,0,null,null,0,null,null,null,null,null,null,null,null,null,null,null,null,123900,0]
["1202036","Enucleación o implante de prótesis ocular (proc. aut.)",0,null,null,null,null,0,null,null,null,null,null,null,0,null,null,0,null,null,0,null,null,0,null,null,null,null,null,null,null,null,null,null,null,null,146070,0]
["1202037","Enucleación con implante",0,null,null,null,null,0,null,null,null,null,null,null,0,null,null,0,null,null,0,null,null,0,null,null,null,null,null,null,null,null,null,null,null,null,198140,0]
["1202040","Sutura de lesión traumática de globo o musculos oculares (proc. aut.)",0,null,null,null,null,0,null,null,null,null,null,null,0,null,null,0,null,null,0,null,null,0,null,null,null,null,null,null,null,null,null,null,null,null,74760,0]
["1202081","Evisceración del globo ocular",0,null,null,null,null,0,null,null,null,null,null,null,0,null,null,0,null,null,0,null,null,0,null,null,null,null,null,null,null,null,null,null,null,null,360090,0]
["1202044","Extracción quir. de cuerpo extraño en cornea y/o esclera",0,null,null,null,null,0,null,null,null,null,null,null,null,null,null,null,null,null,null,null,null,null,null,null,null,null,null,null,null,null,null,null,null,null,30400,0]
["1202045","Glaucoma, trat. quir. por cualquier técnica",0,null,null,null,null,0,null,null,null,null,null,null,0,null,null,0,null,null,0,null,null,0,null,null,null,null,null,null,null,null,null,null,null,null,216420,0]
["1202048","Queratoplastía. Injerto lamelar o penetrante trat. quir. Completo",0,null,null,null,null,0,null,null,null,null,null,null,0,null,null,0,null,null,0,null,null,0,null,null,null,null,null,null,null,null,null,null,null,null,251050,0]
["1202049","Queratoprótesis, implantación de (no incluye el valor de la prótesis)",0,null,null,null,null,0,null,null,null,null,null,null,0,null,null,0,null,null,0,null,null,0,null,null,null,null,null,null,null,null,null,null,null,null,288270,0]
["1202051","Rehabilitación superficie ocular (con injerto de mucosa)",0,null,null,null,null,0,null,null,null,null,null,null,0,null,null,0,null,null,0,null,null,0,null,null,null,null,null,null,null,null,null,null,null,null,133250,0]
["1202070","Sinequiotomía (proc. aut.)",0,null,null,null,null,0,null,null,null,null,null,null,0,null,null,0,null,null,0,null,null,0,null,null,null,null,null,null,null,null,null,null,null,null,76460,0]
["1202083","Tratamiento Trasplante de Córnea",0,null,null,null,null,0,null,null,null,null,null,null,0,null,null,0,null,null,0,null,null,0,null,null,null,null,null,null,null,null,null,null,null,null,1235310,0]
["1202053","Iridectomía periférica y/u óptica, (proc. aut.)",0,null,null,null,null,0,null,null,null,null,null,null,0,null,null,0,null,null,0,null,null,0,null,null,null,null,null,null,null,null,null,null,null,null,96700,0]
["1202055","Desgarro  con o sin desprendimiento, diatermo y/o crio y/o fotocoagulación (incluye endofotocoagulación intraquirúrgica )",0,null,null,null,null,0,null,null,null,null,null,null,null,null,null,null,null,null,null,null,null,null,null,null,null,null,null,null,null,null,null,null,null,null,106000,0," "," "]
["1202056","Desprendimiento retinal, cirugía convencional (exoimplantes)",0,null,null,null,null,0,null,null,null,null,null,null,0,null,null,0,null,null,0,null,null,0,null,null,null,null,null,null,null,null,null,null,null,null,237860,0," "]
["1202060","Vitrectomía c/retinotomía (c/s inyección de gas o silicona)",0,null,null,null,null,0,null,null,null,null,null,null,0,null,null,0,null,null,0,null,null,0,null,null,null,null,null,null,null,null,null,null,null,null,395330,0]
["1202061","Vitrectomía con inyección de gas o silicona",0,null,null,null,null,0,null,null,null,null,null,null,0,null,null,0,null,null,0,null,null,0,null,null,null,null,null,null,null,null,null,null,null,null,353750,0]
["1202077","Desprendimiento coroídeo o hemorragia coroídea, trat. quir.",0,null,null,null,null,0,null,null,null,null,null,null,0,null,null,0,null,null,0,null,null,0,null,null,null,null,null,null,null,null,null,null,null,null,100500,0]
["1202063","Facoéresis intracapsular o catarata secundaria o discisión y aspiración de masas",0,null,null,null,null,0,null,null,null,null,null,null,0,null,null,0,null,null,0,null,null,0,null,null,null,null,null,null,null,null,null,null,null,null,184630,0]
["1202065","Implante secundario de lente intraocular",0,null,null,null,null,0,null,null,null,null,null,null,0,null,null,0,null,null,0,null,null,0,null,null,null,null,null,null,null,null,null,null,null,null,328280,0]
["1202066","Aspiración esferular c/s capsulotomía",0,null,null,null,null,0,null,null,null,null,null,null,0,null,null,0,null,null,0,null,null,0,null,null,null,null,null,null,null,null,null,null,null,null,92740,0," "," "]
["1202057","Retinopatía proliferativa, (diabética, hipertensiva, eales y otras) panfotocoagulación trat. completo   (incluye endofotocoagulación intraquirúrgica )",0,null,null,null,null,0,null,null,null,null,null,null,null,null,null,null,null,null,null,null,null,null,null,null,null,null,null,null,null,null,null,null,null,null,185680,0," "," "]
["1202067","Discisión de cápsula posterior",0,null,null,null,null,0,null,null,null,null,null,null,null,null,null,null,null,null,null,null,null,null,null,null,null,null,null,null,null,null,null,null,null,null,207810,0]
["1202069","Trabeculoplastía o iridoplastía",0,null,null,null,null,0,null,null,null,null,null,null,null,null,null,null,null,null,null,null,null,null,null,null,null,null,null,null,null,null,null,null,null,null,207810,0]
["1202078","Cirugía fotorrefractiva o fototerapéutica de córnea, cualquier técnica",0,null,null,null,null,0,null,null,null,null,null,null,0,null,null,0,null,null,0,null,null,0,null,null,null,null,null,null,null,null,null,null,null,null,190420,0,null," "]
["1301001","Electrogustometría",{"$f":"SUM(D1544+G1544)","v":0},{"$f":"SUM(E1544:F1544)","v":0},null,null,null,null,null,null,null,null,null,null,null,null,null,null,null,null,null,null,null,null,null,null,null,null,null,null,null,null,null,null,null,null,3890,{"$f":"AK1544*E1544","v":0},null," "]
["1301047","Nasofibroscopía de la deglución",{"$f":"SUM(D1545+G1545)","v":0},{"$f":"SUM(E1545:F1545)","v":0},null,null,null,null,null,null,null,null,null,null,null,null,null,null,null,null,null,null,null,null,null,null,null,null,null,null,null,null,null,null,null,null,41260,0]
["1301005","Sinusoscopia de cada seno maxilar por punción, c/s biopsia, c/s toma de muestras",0,0,null,null,null,null,null,null,null,null,null,null,null,null,null,null,null,null,null,null,null,null,null,null,null,null,null,null,null,null,null,null,null,null,8170,0]
["1301006","Laringoscopia y/o traqueoscopia directa c/s toma de muestra, c/s biopsia. Con microscopio",0,0,null,null,null,null,null,null,null,null,null,null,null,null,null,null,null,null,null,null,null,null,null,null,null,null,null,null,null,null,null,null,null,null,19350,0]
["1301008","Audiometría niños",0,0,null,null,null,null,null,null,null,null,null,null,null,null,null,null,null,null,null,null,null,null,null,null,null,null,null,null,null,null,null,null,null,null,9060,0]
["1301009","Impedanciometría",0,0,null,null,null,null,null,null,null,null,null,null,null,null,null,null,null,null,null,null,null,null,null,null,null,null,null,null,null,null,null,null,null,null,5770,0]
["1301012","Cócleovestibular con electronistagmografía",0,0,null,null,null,null,null,null,null,null,null,null,null,null,null,null,null,null,null,null,null,null,null,null,null,null,null,null,null,null,null,null,null,null,15540,0," "," "]
["1301015","Electronistagmografía o Videoelectronistagmografía c/s nistag.de posición",0,0,null,null,null,null,null,null,null,null,null,null,null,null,null,null,null,null,null,null,null,null,null,null,null,null,null,null,null,null,null,null,null,null,5580,0]
["1301019","Test de glicerol (con 3 audiometrías)",0,0,null,null,null,null,null,null,null,null,null,null,null,null,null,null,null,null,null,null,null,null,null,null,null,null,null,null,null,null,null,null,null,null,15540,0]
["1301020","Examen funcional de VIII par",0,0,null,null,null,null,null,null,null,null,null,null,null,null,null,null,null,null,null,null,null,null,null,null,null,null,null,null,null,null,null,null,null,null,17180,0]
["1303002","Evaluación de habla",0,0,null,null,null,null,null,null,null,null,null,null,null,null,null,null,null,null,null,null,null,null,null,null,null,null,null,null,null,null,null,null,null,null,8670,0]
["1303003","Evaluación del lenguaje (incluye voz, habla y aspecto semántico, sintáctico y fonológico, etc. e informe) (incluye 3 sesiones de mínimo 30')",0,0,null,null,null,null,null,null,null,null,null,null,null,null,null,null,null,null,null,null,null,null,null,null,null,null,null,null,null,null,null,null,null,null,12330,0]
["1303005","Rehabilitación del habla y/o del lenguaje (máximo 30 sesiones anuales)(cada sesión mínimo 30')      ",0,0,null,null,null,null,null,null,null,null,null,null,null,null,null,null,null,null,null,null,null,null,null,null,null,null,null,null,null,null,null,null,null,null,4100,0]
["1303006","Rehabilitación de la deglución",0,0,null,null,null,null,null,null,null,null,null,null,null,null,null,null,null,null,null,null,null,null,null,null,null,null,null,null,null,null,null,null,null,null,7050,0]
["1308302","Telerehabilitación: Evaluación de habla",0,0,null,null,null,null,null,null,null,null,null,null,null,null,null,null,null,null,null,null,null,null,null,null,null,null,null,null,null,null,null,null,null,null,12120,0]
["1308303","Telerehabilitación: Evaluación del lenguaje (incluye voz, habla y aspecto semántico, sintáctico y fonológico, etc. e informe) (incluye 3 sesiones de mínimo 30')",0,0,null,null,null,null,null,null,null,null,null,null,null,null,null,null,null,null,null,null,null,null,null,null,null,null,null,null,null,null,null,null,null,null,17220,0]
["1301048","Prueba de impulso cefálico con videooculografía o similar (VHIT) ",0,0,null,null,null,null,null,null,null,null,null,null,null,null,null,null,null,null,null,null,null,null,null,null,null,null,null,null,null,null,null,null,null,null,5580,0]
["1301049","Pruebas rotatorias",0,0,null,null,null,null,null,null,null,null,null,null,null,null,null,null,null,null,null,null,null,null,null,null,null,null,null,null,null,null,null,null,null,null,10070,{"$f":"AK1576*E1576","v":0}]
["1301025","Taponamiento nasal anterior (proc. aut.)",0,0,null,null,null,null,null,null,null,null,null,null,null,null,null,null,null,null,null,null,null,null,null,null,null,null,null,null,null,null,null,null,null,null,4220,0]
["1301026","Taponamiento nasal posterior",0,0,null,null,null,null,null,null,null,null,null,null,null,null,null,null,null,null,null,null,null,null,null,null,null,null,null,null,null,null,null,null,null,null,12310,0]
["1301029","Cuerpo extraño en fosas nasales, extracción de: - En adultos",0,0,null,null,null,null,null,null,null,null,null,null,null,null,null,null,null,null,null,null,null,null,null,null,null,null,null,null,null,null,null,null,null,null,5860,0]
["1301030","Cuerpo extraño en fosas nasales, extracción de: - En niños",0,0,null,null,null,null,null,null,null,null,null,null,null,null,null,null,null,null,null,null,null,null,null,null,null,null,null,null,null,null,null,null,null,null,13030,0]
["1301037","Dilatación esofágica por sesión",0,0,null,null,null,null,null,null,null,null,null,null,null,null,null,null,null,null,null,null,null,null,null,null,null,null,null,null,null,null,null,null,null,null,6030,0]
["1301038","Cuerpo extraño extracción en hipofaringe y/o esófago (por tubo rígido) - En niños",0,0,null,null,null,null,null,null,null,null,null,null,null,null,null,null,null,null,null,null,null,null,null,null,null,null,null,null,null,null,null,null,null,null,24600,0]
["1301040","Lesiones del oído externo y/o medio, curación bajo microscopio (proc. aut.)",0,0,null,null,null,null,null,null,null,null,null,null,null,null,null,null,null,null,null,null,null,null,null,null,null,null,null,null,null,null,null,null,null,null,4100,0]
["1301041","Trompa de Eustaquio, insuflación instrumental (proc. aut.)",0,0,null,null,null,null,null,null,null,null,null,null,null,null,null,null,null,null,null,null,null,null,null,null,null,null,null,null,null,null,null,null,null,null,4100,0]
["1301044","Biopsia oído (proc. aut.)",0,0,null,null,null,null,null,null,null,null,null,null,null,null,null,null,null,null,null,null,null,null,null,null,null,null,null,null,null,null,null,null,null,null,12310,0," "," "]
["1301051","Retiro de tubos de ventilación timpánica, uni o bilateral",{"$f":"SUM(D1595+G1595)","v":0},{"$f":"SUM(E1595:F1595)","v":0},null,null,null,null,null,null,null,null,null,null,null,null,null,null,null,null,null,null,null,null,null,null,null,null,null,null,null,null,null,null,null,null,57300,0]
[5099092,"Retiro de taponaje anterior",0,0]
[5099093,"Retiro de yeso",0,0]
["","Electrococleografía ",0,0]
["01011304","Maniobras de reposición de particulas",0,0]
["01011309","Rinometría acústica",0,0]
["","Maniobras de reposición vestibular ",0,0]
["01011314","Timpanometría de banda ancha",0,0]
["01011315","Estudio funcional de equilibrio en plataforma",0,0]
[null,"CIRUGIA OTORRINOLARINGOLOGICA       "]
["1302001","Absceso y/o hematomas oído externo, trat. quir.",{"$f":"SUM(I1615:N1615)","v":0},null,null,null,null,{"$f":"SUM(I1615:J1615)","v":0},null,null,null,null,null,null,null,null,null,null,null,null,null,null,null,null,null,null,null,null,null,null,null,null,null,null,null,null,17220,{"$f":"+(I1615*AK1615)+(L1615*AK1615*0.5)","v":0},null," "]
["1302003","Fístula preauricular complicada, trat. quir.",0,null,null,null,null,0,null,null,null,null,null,null,null,null,null,null,null,null,null,null,null,null,null,null,null,null,null,null,null,null,null,null,null,null,160420,0]
["1302004","Extirpación de tumor de conducto auditivo externo",0,null,null,null,null,0,null,null,null,null,null,null,null,null,null,null,null,null,null,null,null,null,null,null,null,null,null,null,null,null,null,null,null,null,32690,0]
["1302006","Estapedectomía o estapedostomía ",0,null,null,null,null,0,null,null,null,null,null,null,0,null,null,0,null,null,0,null,null,0,null,null,null,null,null,null,null,null,null,null,null,null,234990,0]
["1302007","Mastoidectomía c/s sección cuerda del tímpano",0,null,null,null,null,0,null,null,null,null,null,null,0,null,null,0,null,null,0,null,null,0,null,null,null,null,null,null,null,null,null,null,null,null,251000,0]
["1302011","Reconstitución funcional de oído radicalizado",0,null,null,null,null,0,null,null,null,null,null,null,0,null,null,0,null,null,0,null,null,0,null,null,null,null,null,null,null,null,null,null,null,null,302440,0]
["1302012","Timpanoplastía funcional (cualquier tipo) c/s mastoidectomía",0,null,null,null,null,0,null,null,null,null,null,null,0,null,null,0,null,null,0,null,null,0,null,null,null,null,null,null,null,null,null,null,null,null,225430,0]
["1302079","Aticotomía (excluye timpanoplastia funcional)",0,null,null,null,null,0,null,null,null,null,null,null,0,null,null,0,null,null,0,null,null,0,null,null,null,null,null,null,null,null,null,null,null,null,207980,0]
["1302080","Plastía o dilatación por vía endoscópica trompa de Eustaquio",0,null,null,null,null,0,null,null,null,null,null,null,0,null,null,0,null,null,0,null,null,0,null,null,null,null,null,null,null,null,null,null,null,null,207160,0]
["1302083","Resección subtotal del hueso temporal (incluye tegmen, laberinto y punta de peñasco)",0,null,null,null,null,0,null,null,null,null,null,null,0,null,null,0,null,null,0,null,null,0,null,null,null,null,null,null,null,null,null,null,null,null,384530,0]
["1302084","Resección total del hueso temporal (abordaje combinado orl y neurocirujano)",0,null,null,null,null,0,null,null,null,null,null,null,0,null,null,0,null,null,0,null,null,0,null,null,null,null,null,null,null,null,null,null,null,null,499890,0]
["1302087","Timpanotomía exploradora",0,null,null,null,null,0,null,null,null,null,null,null,0,null,null,0,null,null,0,null,null,0,null,null,null,null,null,null,null,null,null,null,null,null,349220,0]
["1302088","Tiroplastia 1-4",0,null,null,null,null,0,null,null,null,null,null,null,0,null,null,0,null,null,0,null,null,0,null,null,null,null,null,null,null,null,null,null,null,null,331530,0]
["1302091","Tumor glómico petro-tímpano-mástoídeo, tratamiento quirúrgico",0,null,null,null,null,0,null,null,null,null,null,null,0,null,null,0,null,null,0,null,null,0,null,null,null,null,null,null,null,null,null,null,null,null,384640,0]
["1302013","Reconstitución plástica de conducto auditivo externo cartilaginoso",0,null,null,null,null,0,null,null,null,null,null,null,0,null,null,0,null,null,0,null,null,0,null,null,null,null,null,null,null,null,null,null,null,null,280450,0]
["1302015","Neurectomía de Jacobson",0,null,null,null,null,0,null,null,null,null,null,null,0,null,null,0,null,null,0,null,null,0,null,null,null,null,null,null,null,null,null,null,null,null,202440,0]
["1302016","Reconstitución de conducto auditivo externo, c/s timpanoplastía (incluye revisión de cadena osicular)",0,null,null,null,null,0,null,null,null,null,null,null,0,null,null,0,null,null,0,null,null,0,null,null,null,null,null,null,null,null,null,null,null,null,251000,0]
["1302019","Neurinoma del acústico, trat. quir. vía translaberíntica y/o fosa media",0,null,null,null,null,0,null,null,null,null,null,null,0,null,null,0,null,null,0,null,null,0,null,null,null,null,null,null,null,null,null,null,null,null,368890,0]
["1302074","Intervención quirúrgica implante coclear",0,null,null,null,null,0,null,null,null,null,null,null,0,null,null,0,null,null,0,null,null,0,null,null,null,null,null,null,null,null,null,null,null,null,598840,0]
["1302022","Biopsia buco-faríngea (proc. aut.)",{"$f":"SUM(I1652:N1652)","v":0},null,null,null,null,{"$f":"SUM(I1652:J1652)","v":0},null,null,null,null,null,null,null,null,null,null,null,null,null,null,null,null,null,null,null,null,null,null,null,null,null,null,null,null,25830,0]
["1302023","Sección y/o resección frenillos cavidad bucal",0,null,null,null,null,0,null,null,null,null,null,null,null,null,null,null,null,null,null,null,null,null,null,null,null,null,null,null,null,null,null,null,null,null,17220,0]
["1302026","Drenaje de absceso o flegmón retrofaríngeo o faringolaríngeo",0,null,null,null,null,0,null,null,null,null,null,null,null,null,null,null,null,null,null,null,null,null,null,null,null,null,null,null,null,null,null,null,null,null,37410,0]
["1302027","Drenaje de absceso o flegmón de vestíbulo bucal",0,null,null,null,null,0,null,null,null,null,null,null,null,null,null,null,null,null,null,null,null,null,null,null,null,null,null,null,null,null,null,null,null,null,17220,0]
["1302030","Extracción de cálculos o tapones salivales",{"$f":"SUM(I1660:N1660)","v":0},null,null,null,null,{"$f":"SUM(I1660:J1660)","v":0},null,null,null,null,null,null,null,null,null,null,null,null,null,null,null,null,null,null,null,null,null,null,null,null,null,null,null,null,23630,0]
["1302031","Tumor benigno de la mucosa bucal,  extirp. c/s  biopsia bucofaríngea",0,null,null,null,null,0,null,null,null,null,null,null,null,null,null,null,null,null,null,null,null,null,null,null,null,null,null,null,null,null,null,null,null,null,23630,0]
["1302034","Extirpación tumor maligno de base de lengua",0,null,null,null,null,0,null,null,null,null,null,null,0,null,null,0,null,null,0,null,null,0,null,null,null,null,null,null,null,null,null,null,null,null,401690,0]
["1302035","Faringoplastía (cualq. técn.), c/s desplazamiento de colgajos",0,null,null,null,null,0,null,null,null,null,null,null,0,null,null,0,null,null,0,null,null,0,null,null,null,null,null,null,null,null,null,null,null,null,285790,0]
["1302037","Glosectomía total",0,null,null,null,null,0,null,null,null,null,null,null,0,null,null,0,null,null,0,null,null,0,null,null,null,null,null,null,null,null,null,null,null,null,414480,0]
["1302038","Abscesos y hematoma del tabique nasal, trat. quir.",{"$f":"SUM(I1668:N1668)","v":0},null,null,null,null,{"$f":"SUM(I1668:J1668)","v":0},null,null,null,null,null,null,null,null,null,null,null,null,null,null,null,null,null,null,null,null,null,null,null,null,null,null,null,null,34120,0]
["1302041","Ligadura de arterias etmoidales anteriores",{"$f":"SUM(I1671:N1671)","v":0},null,null,null,null,{"$f":"SUM(I1671:J1671)","v":0},null,null,null,null,null,null,null,null,null,null,null,null,null,null,null,null,null,null,null,null,null,null,null,null,null,null,null,null,137530,0]
["1302042","Turbinectomía o cauterización de cornetes, cualquier técnica ",0,null,null,null,null,0,null,null,null,null,null,null,null,null,null,null,null,null,null,null,null,null,null,null,null,null,null,null,null,null,null,null,null,null,46420,0]
["1302092","Cirugía de fosa pterigo palatina",0,null,null,null,null,0,null,null,null,null,null,null,0,null,null,0,null,null,0,null,null,0,null,null,null,null,null,null,null,null,null,null,null,null,398190,0]
["1302045","Tratamiento quirúrgico de las fistulas buco-sinusales o buco-nasales  y/o retiro cuerpos extraños del seno maxilar",0,null,null,null,null,0,null,null,null,null,null,null,0,null,null,0,null,null,0,null,null,0,null,null,null,null,null,null,null,null,null,null,null,null,169270,0]
["1302048","Perforación del tabique, trat. quir.",{"$f":"SUM(I1679:N1679)","v":0},null,null,null,null,{"$f":"SUM(I1679:J1679)","v":0},null,null,null,null,null,null,null,null,null,null,null,null,null,null,null,null,null,null,null,null,null,null,null,null,null,null,null,null,137530,{"$f":"+(I1679*AK1679)+(L1679*AK1679*0.5)","v":0}]
["1302049","Tratamiento quirúrgico pólipo nasal",0,null,null,null,null,0,null,null,null,null,null,null,null,null,null,null,null,null,null,null,null,null,null,null,null,null,null,null,null,null,null,null,null,null,39920,0]
["1302052","Rinoplastía y/o septoplastía, cualquier técnica",0,null,null,null,null,0,null,null,null,null,null,null,0,null,null,0,null,null,0,null,null,0,null,null,null,null,null,null,null,null,null,null,null,null,216380,0]
["1302053","Seno esfenoidal, abertura por cualquier vía ",0,null,null,null,null,0,null,null,null,null,null,null,0,null,null,0,null,null,0,null,null,0,null,null,null,null,null,null,null,null,null,null,null,null,210070,0]
["1302056","Sinequia nasal, trat. quir.",{"$f":"SUM(I1687:N1687)","v":0},null,null,null,null,{"$f":"SUM(I1687:J1687)","v":0},null,null,null,null,null,null,null,null,null,null,null,null,null,null,null,null,null,null,null,null,null,null,null,null,null,null,null,null,25830,0]
["1302057","Tumor nasal, extirp. por rinotomía lateral",0,null,null,null,null,0,null,null,null,null,null,null,{"$f":"SUM(P1688:Q1688)","v":0},null,null,{"$f":"SUM(S1688:T1688)","v":0},null,null,{"$f":"SUM(V1688:W1688)","v":0},null,null,{"$f":"SUM(Y1688:Z1688)","v":0},null,null,null,null,null,null,null,null,null,null,null,null,176050,0]
["1302094","Resección de tumor de base de cráneo anterior con reparación de duramadre (colgajo pediculado de haddad o similar)",{"$f":"SUM(I1691:N1691)","v":0},null,null,null,null,{"$f":"SUM(I1691:J1691)","v":0},null,null,null,null,null,null,{"$f":"SUM(P1691:Q1691)","v":0},null,null,{"$f":"SUM(S1691:T1691)","v":0},null,null,{"$f":"SUM(V1691:W1691)","v":0},null,null,{"$f":"SUM(Y1691:Z1691)","v":0},null,null,null,null,null,null,null,null,null,null,null,null,275210,0,null," "]
["1302095","Resección lateral del hueso temporal (incluye mástoides y conducto auditivo externo en forma circular)",{"$f":"SUM(I1692:N1692)","v":0},null,null,null,null,{"$f":"SUM(I1692:J1692)","v":0},null,null,null,null,null,null,{"$f":"SUM(P1692:Q1692)","v":0},null,null,0,null,null,0,null,null,0,null,null,null,null,null,null,null,null,null,null,null,null,295790,0]
["1302097","Tumor de espacio parafaríngeo, extirpación",{"$f":"SUM(I1694:N1694)","v":0},null,null,null,null,{"$f":"SUM(I1694:J1694)","v":0},null,null,null,null,null,null,{"$f":"SUM(P1694:Q1694)","v":0},null,null,{"$f":"SUM(S1694:T1694)","v":0},null,null,{"$f":"SUM(V1694:W1694)","v":0},null,null,{"$f":"SUM(Y1694:Z1694)","v":0},null,null,null,null,null,null,null,null,null,null,null,null,223840,0]
["1302098","Tumor maligno nasosinusal y/o rinofaríngeo, tratamiento quirúrgico por vía endoscópica",0,null,null,null,null,0,null,null,null,null,null,null,0,null,null,0,null,null,0,null,null,0,null,null,null,null,null,null,null,null,null,null,null,null,384640,0]
["1302101","Sinuplastía seno esfenoidal con balón por endoscopia u otra técnica",0,null,null,null,null,0,null,null,null,null,null,null,0,null,null,0,null,null,0,null,null,0,null,null,null,null,null,null,null,null,null,null,null,null,223230,0]
["1302102","Dacriocistocele reseccion vía nasal",0,null,null,null,null,0,null,null,null,null,null,null,0,null,null,0,null,null,0,null,null,0,null,null,null,null,null,null,null,null,null,null,null,null,127560,0]
["1302103","Abducción de aritenoides, aritenoidopexia",0,null,null,null,null,0,null,null,null,null,null,null,0,null,null,0,null,null,0,null,null,0,null,null,null,null,null,null,null,null,null,null,null,null,274390,0]
["1302061","Decorticación de cuerdas vocales c/microscopio",0,null,null,null,null,{"$f":"SUM(I1703:J1703)","v":0},null,null,null,null,null,null,{"$f":"SUM(P1703:Q1703)","v":0},null,null,0,null,null,0,null,null,0,null,null,null,null,null,null,null,null,null,null,null,null,164010,0]
["1302062","Tumor benigno de cuerdas vocales, trat. quirúrgico por vía abierta ",{"$f":"SUM(I1706:N1706)","v":0},null,null,null,null,{"$f":"SUM(I1706:J1706)","v":0},null,null,null,null,null,null,null,null,null,null,null,null,null,null,null,null,null,null,null,null,null,null,null,null,null,null,null,null,136300,0]
["1302063","Tumor benigno de cuerdas vocales, trat. quirúrgico por vía endoscópica",0,null,null,null,null,0,null,null,null,null,null,null,null,null,null,null,null,null,null,null,null,null,null,null,null,null,null,null,null,null,null,null,null,null,136300,0]
["1302066","Laringectomía parcial o subtotal (cualquier técnica)",0,null,null,null,null,0,null,null,null,null,null,null,0,null,null,0,null,null,0,null,null,0,null,null,null,null,null,null,null,null,null,null,null,null,375320,0]
["1302106","Laringectomía parcial endoscópica con láser, incluye cordectomía ampliada (carcinoma supraglótico)",0,null,null,null,null,{"$f":"SUM(I1711:J1711)","v":0},null,null,null,null,null,null,{"$f":"SUM(P1711:Q1711)","v":0},null,null,{"$f":"SUM(S1711:T1711)","v":0},null,null,{"$f":"SUM(V1711:W1711)","v":0},null,null,{"$f":"SUM(Y1711:Z1711)","v":0},null,null,null,null,null,null,null,null,null,null,null,null,898520,{"$f":"+(I1711*AK1711)+(L1711*AK1711*0.5)","v":0}]
["1302107","Laringoplastía por laringomalacia",0,null,null,null,null,0,null,null,null,null,null,null,0,null,null,0,null,null,0,null,null,0,null,null,null,null,null,null,null,null,null,null,null,null,232790,0]
["1302069","Laringocele, trat. quir.",0,null,null,null,null,0,null,null,null,null,null,null,0,null,null,0,null,null,0,null,null,0,null,null,null,null,null,null,null,null,null,null,null,null,169270,0]
["1302072","Traqueostomía (proc. aut.)",0,null,null,null,null,0,null,null,null,null,null,null,0,null,null,0,null,null,0,null,null,0,null,null,null,null,null,null,null,null,null,null,null,null,169270,0]
["1302073","Estenosis laringotraqueales y faríngeas, trat. quir. por vía endoscópica (incluye laser) ",{"$f":"SUM(I1719:N1719)","v":0},null,null,null,null,{"$f":"SUM(I1719:J1719)","v":0},null,null,null,null,null,null,null,null,null,null,null,null,null,null,null,null,null,null,null,null,null,null,null,null,null,null,null,null,99090,0]
["1302108","Inyección de cuerda vocal vía endoscópica",0,null,null,null,null,0,null,null,null,null,null,null,0,null,null,0,null,null,0,null,null,0,null,null,null,null,null,null,null,null,null,null,null,null,182920,0]
["1302109","Inyección de cuerda vocal vía externa",0,null,null,null,null,0,null,null,null,null,null,null,0,null,null,0,null,null,0,null,null,0,null,null,null,null,null,null,null,null,null,null,null,null,174850,0,null," "]
["1401001","Punción aspirativa con aguja fina de nódulo tiroideo",{"$f":"SUM(D1725+G1725)","v":0},{"$f":"SUM(E1725:F1725)","v":0},null,null,null,null,null,null,null,null,null,null,null,null,null,null,null,null,null,null,null,null,null,null,null,null,null,null,null,null,null,null,null,null,12360,{"$f":"AK1725*E1725","v":0},null," "]
[null,"TOTAL",{"$f":"C1725","v":0},{"$f":"D1725","v":0},{"$f":"E1725","v":0},{"$f":"F1725","v":0},{"$f":"G1725","v":0},null,null,null,null,null,null,null,null,null,null,null,null,null,null,null,null,null,null,null,{"$f":"AA1725","v":0},0,0,0,0,0,0,0,0,0,null,0]
["1402002","Tiroidectomía bilateral subtotal",{"$f":"SUM(I1729:N1729)","v":0},null,null,null,null,0,null,null,null,null,null,null,{"$f":"SUM(P1729:Q1729)","v":0},null,null,{"$f":"SUM(S1729:T1729)","v":0},null,null,{"$f":"SUM(V1729:W1729)","v":0},null,null,{"$f":"SUM(Y1729:Z1729)","v":0},null,null,null,null,null,null,null,null,null,null,null,null,276600,0]
["1402003","Bocio intratorácico, trat. quir. por esternotomía",0,null,null,null,null,0,null,null,null,null,null,null,{"$f":"SUM(P1730:Q1730)","v":0},null,null,{"$f":"SUM(S1730:T1730)","v":0},null,null,{"$f":"SUM(V1730:W1730)","v":0},null,null,{"$f":"SUM(Y1730:Z1730)","v":0},null,null,null,null,null,null,null,null,null,null,null,null,415940,0]
["1402006","Tiroidectomía total ampliada (incluye extirpación de estructuras anatómicas vecinas)",0,null,null,null,null,0,null,null,null,null,null,null,0,null,null,0,null,null,0,null,null,0,null,null,null,null,null,null,null,null,null,null,null,null,603100,0]
["1402007","Autotransplante de paratiroides (operación asociada a algunas de las prestaciones de tiroides y paratiroides)",0,null,null,null,null,0,null,null,null,null,null,null,0,null,null,0,null,null,0,null,null,0,null,null,null,null,null,null,null,null,null,null,null,null,244730,0]
["1402010","Reexploración cervical paratiroides por persistencia o recidiva hiperparatiroidismo",0,null,null,null,null,0,null,null,null,null,null,null,0,null,null,0,null,null,0,null,null,0,null,null,null,null,null,null,null,null,null,null,null,null,354380,0]
["1402011","Parotidectomía suprafacial con disección y preservación del nervio facial",0,null,null,null,null,0,null,null,null,null,null,null,0,null,null,0,null,null,0,null,null,0,null,null,null,null,null,null,null,null,null,null,null,null,187050,0]
["1402014","Totalización de parotidectomía previa o parotidectomía del lóbulo profundo",0,null,null,null,null,0,null,null,null,null,null,null,0,null,null,0,null,null,0,null,null,0,null,null,null,null,null,null,null,null,null,null,null,null,318570,0]
["1402015","Extirpación submandibular ampliada (incluye piso de boca, arco mandibular, músculos y articulaciones)  ",0,null,null,null,null,0,null,null,null,null,null,null,0,null,null,0,null,null,0,null,null,0,null,null,null,null,null,null,null,null,null,null,null,null,547980,0]
["1402017","Extirpación glándula salival sublingual",0,null,null,null,null,0,null,null,null,null,null,null,0,null,null,0,null,null,0,null,null,0,null,null,null,null,null,null,null,null,null,null,null,null,146310,0]
["1402018","Extirpación sublingual ampliada (incluye piso de boca, arco mandibular, músculos, ganglios y articulaciones)   ",0,null,null,null,null,0,null,null,null,null,null,null,0,null,null,0,null,null,0,null,null,0,null,null,null,null,null,null,null,null,null,null,null,null,547980,0]
["1402021","Cierre de fístula salival: reparación del conducto de excreción",0,null,null,null,null,0,null,null,null,null,null,null,null,null,null,null,null,null,null,null,null,null,null,null,null,null,null,null,null,null,null,null,null,null,152570,0]
["1402022","Extirpación de quiste o mucocele de glándula salival menor de labios",0,null,null,null,null,0,null,null,null,null,null,null,null,null,null,null,null,null,null,null,null,null,null,null,null,null,null,null,null,null,null,null,null,null,80340,0]
["1402025","Tumores del cuerpo carotídeo, trat. quir. (incl. proc. vascular)",0,null,null,null,null,0,null,null,null,null,null,null,0,null,null,0,null,null,0,null,null,0,null,null,null,null,null,null,null,null,null,null,null,null,244650,0]
["1402026","Biopsia quir., mucosa oronasofaríngea (proc. aut.)",0,null,null,null,null,0,null,null,null,null,null,null,null,null,null,null,null,null,null,null,null,null,null,null,null,null,null,null,null,null,null,null,null,null,25830,0]
["1402029","Resección cutánea simple (sutura primaria)",0,null,null,null,null,0,null,null,null,null,null,null,null,null,null,null,null,null,null,null,null,null,null,null,null,null,null,null,null,null,null,null,null,null,44230,0]
["1402030","Tumor maligno de labio superior o inferior, resección total del labio y cirugía reparadora",0,null,null,null,null,0,null,null,null,null,null,null,0,null,null,0,null,null,0,null,null,0,null,null,null,null,null,null,null,null,null,null,null,null,216380,0]
["1402033","Resección total y cirugía reparadora nariz",0,null,null,null,null,0,null,null,null,null,null,null,0,null,null,0,null,null,0,null,null,0,null,null,null,null,null,null,null,null,null,null,null,null,187050,{"$f":"+(I1760*AK1760)+(L1760*AK1760*0.5)","v":0}]
["1402034","Extirpación ampliada de nariz incluyendo parte esqueleto facial (naso-etmoidiana)",0,null,null,null,null,0,null,null,null,null,null,null,0,null,null,0,null,null,0,null,null,0,null,null,null,null,null,null,null,null,null,null,null,null,266610,0]
["1402037","Maxilectomia parcial y reparación protésica",0,null,null,null,null,0,null,null,null,null,null,null,0,null,null,0,null,null,0,null,null,0,null,null,null,null,null,null,null,null,null,null,null,null,231860,0]
["1402038","Maxilectomía parcial (incluye paladar óseo; reparación con colgajo)",0,null,null,null,null,0,null,null,null,null,null,null,0,null,null,0,null,null,0,null,null,0,null,null,null,null,null,null,null,null,null,null,null,null,283100,0]
["1402041","Maxilectomía radical clásica (incluye exanteración orbitaria y reparación protésica)",0,null,null,null,null,0,null,null,null,null,null,null,0,null,null,0,null,null,0,null,null,0,null,null,null,null,null,null,null,null,null,null,null,null,557930,0]
["1402042","Glosectomía parcial, reparación primaria",0,null,null,null,null,0,null,null,null,null,null,null,0,null,null,0,null,null,0,null,null,0,null,null,null,null,null,null,null,null,null,null,null,null,152510,0]
["1402044","Hemimandibulectomía",0,null,null,null,null,0,null,null,null,null,null,null,0,null,null,0,null,null,0,null,null,0,null,null,null,null,null,null,null,null,null,null,null,null,272720,0]
["1402045","Mandibulectomía total",0,null,null,null,null,0,null,null,null,null,null,null,0,null,null,0,null,null,0,null,null,0,null,null,null,null,null,null,null,null,null,null,null,null,457950,0]
["1402048","Extirpación de tumor intraoral amplia en tercio posterior cavidad oral (región faringea) ",0,null,null,null,null,0,null,null,null,null,null,null,0,null,null,0,null,null,0,null,null,0,null,null,null,null,null,null,null,null,null,null,null,null,636220,0]
["1402050","Faringectomía parcial",0,null,null,null,null,0,null,null,null,null,null,null,0,null,null,0,null,null,0,null,null,0,null,null,null,null,null,null,null,null,null,null,null,null,187050,0]
["1402053","Osteotomias totales del maxilar o mandibula (tipo Le Fort I o sagital de rama)",0,null,null,null,null,0,null,null,null,null,null,null,0,null,null,0,null,null,0,null,null,0,null,null,null,null,null,null,null,null,null,null,null,null,289350,0]
["1402054","Reducción cerrada de fracturas maxilofaciales",0,null,null,null,null,0,null,null,null,null,null,null,null,null,null,null,null,null,null,null,null,null,null,null,null,null,null,null,null,null,null,null,null,null,80280,0]
["1402057","Reconstrucciones complejas de la cara simultáneas con proc. neuroquirúrgico (craneotomías más abordajes y trat. facial), tiempo facial",0,null,null,null,null,0,null,null,null,null,null,null,0,null,null,0,null,null,0,null,null,0,null,null,null,null,null,null,null,null,null,null,null,null,557930,0]
["1402058","Reconstrucciones de partes duras y blandas de la cara, mediante abordajes múltiples y hemicoronal o coronal",0,null,null,null,null,0,null,null,null,null,null,null,0,null,null,0,null,null,0,null,null,0,null,null,null,null,null,null,null,null,null,null,null,null,350120,0]
[null,"TOTAL",{"$f":"SUM(C1728:C1786)","v":0},null,null,null,null,{"$f":"SUM(H1728:H1786)","v":0},0,0,0,0,0,0,0,0,0,0,0,0,0,0,0,0,0,0,{"$f":"SUM(AA1728:AA1786)","v":0},0,0,0,0,0,0,0,0,0,null,{"$f":"SUM(AL1728:AL1786)","v":0}]
[null,"CIRUGIA PLASTICA Y REPARADORA     "]
["1502002","Heridas de la cara simples: 1 o varias de hasta 5 cms. que sólo comprometen piel",{"$f":"SUM(I1791:N1791)","v":0},null,null,null,null,0,null,null,null,null,null,null,null,null,null,null,null,null,null,null,null,null,null,null,null,null,null,null,null,null,null,null,null,null,37410,0]
["1502003","Implante de silicona facial (cualquier zona o zonas)",{"$f":"SUM(I1792:N1792)","v":0},null,null,null,null,0,null,null,null,null,null,null,null,null,null,null,null,null,null,null,null,null,null,null,null,null,null,null,null,null,null,null,null,null,103920,0]
["1502006","Injertos  hasta 1% superficie corporal receptora",0,null,null,null,null,0,null,null,null,null,null,null,null,null,null,null,null,null,null,null,null,null,null,null,null,null,null,null,null,null,null,null,null,null,38470,0]
["1502007","Injertos  hasta 5% superficie corporal receptora",0,null,null,null,null,0,null,null,null,null,null,null,null,null,null,null,null,null,null,null,null,null,null,null,null,null,null,null,null,null,null,null,null,null,62360,0]
["1502009","Injertos por cada 10% (o su fracción) adicional hasta 50%",0,null,null,null,null,0,null,null,null,null,null,null,0,null,null,0,null,null,0,null,null,0,null,null,null,null,null,null,null,null,null,null,null,null,72590,0]
["1502010","Injertos 51% y más de superficie corporal receptora",0,null,null,null,null,0,null,null,null,null,null,null,0,null,null,0,null,null,0,null,null,0,null,null,null,null,null,null,null,null,null,null,null,null,423920,0]
["1502013","Toma de injertos-óseo (costal, ilíaco, tibial o similares) c/u.",0,null,null,null,null,0,null,null,null,null,null,null,0,null,null,0,null,null,0,null,null,0,null,null,null,null,null,null,null,null,null,null,null,null,169970,0]
["1502067","Toma de injerto de cuero cabelludo",0,null,null,null,null,0,null,null,null,null,null,null,null,null,null,null,null,null,null,null,null,null,null,null,null,null,null,null,null,null,null,null,null,null,142750,0]
["1502070","Expansor de piel (único) primer tiempo",0,null,null,null,null,0,null,null,null,null,null,null,0,null,null,0,null,null,0,null,null,0,null,null,null,null,null,null,null,null,null,null,null,null,257870,0]
["1502071","Expansor de piel (único) segundo tiempo o retiro",0,null,null,null,null,0,null,null,null,null,null,null,0,null,null,0,null,null,0,null,null,0,null,null,null,null,null,null,null,null,null,null,null,null,262680,0]
["1502016","Colgajos complejos (Abbe, Mustarda, Converse, Juri, Bakamjian o similar)",0,null,null,null,null,0,null,null,null,null,null,null,0,null,null,0,null,null,0,null,null,0,null,null,null,null,null,null,null,null,null,null,null,null,225430,0]
["1502017","Colgajos libres con microanastomosis (incluye toma del colgajo y las suturas neurovasculares)",0,null,null,null,null,0,null,null,null,null,null,null,0,null,null,0,null,null,0,null,null,0,null,null,null,null,null,null,null,null,null,null,null,null,599960,0]
["1502020","Colgajos simples dos o más",0,null,null,null,null,0,null,null,null,null,null,null,0,null,null,0,null,null,0,null,null,0,null,null,null,null,null,null,null,null,null,null,null,null,187050,0]
["1502021","Colgajo simple único",0,null,null,null,null,0,null,null,null,null,null,null,0,null,null,0,null,null,0,null,null,0,null,null,null,null,null,null,null,null,null,null,null,null,128710,0]
["1502024","Ridectomía frontal",0,null,null,null,null,0,null,null,null,null,null,null,0,null,null,0,null,null,0,null,null,0,null,null,null,null,null,null,null,null,null,null,null,null,176050,0]
["1502025","Orejas aladas o en asa, corrección plástica",0,null,null,null,null,0,null,null,null,null,null,null,null,null,null,null,null,null,null,null,null,null,null,null,null,null,null,null,null,null,null,null,null,null,160670,0]
["1502027","Malformación congénita compleja en orejas, cada plastía o plastías en tiempos diferentes",0,null,null,null,null,0,null,null,null,null,null,null,0,null,null,0,null,null,0,null,null,0,null,null,null,null,null,null,null,null,null,null,null,null,176050,0]
["1502028","Corrección nasal parcial (alares, alargamiento columela o similar)",0,null,null,null,null,0,null,null,null,null,null,null,0,null,null,0,null,null,0,null,null,0,null,null,null,null,null,null,null,null,null,null,null,null,169270,{"$f":"+(I1822*AK1822)+(L1822*AK1822*0.5)","v":0}]
["1502031","Corrección quirúrgica secundaria de queiloplastía",0,null,null,null,null,0,null,null,null,null,null,null,0,null,null,0,null,null,0,null,null,0,null,null,null,null,null,null,null,null,null,null,null,null,176050,0]
["1502032","Queiloplastía primaria, un lado (proc. quir. completo por cualquier técnica)",0,null,null,null,null,0,null,null,null,null,null,null,0,null,null,0,null,null,0,null,null,0,null,null,null,null,null,null,null,null,null,null,null,null,176050,0]
["1502035","Plastia de velo (cualquier técnica)",0,null,null,null,null,0,null,null,null,null,null,null,0,null,null,0,null,null,0,null,null,0,null,null,null,null,null,null,null,null,null,null,null,null,176050,0]
["1502036","Cierre de macrostomía, unilateral",0,null,null,null,null,0,null,null,null,null,null,null,0,null,null,0,null,null,0,null,null,0,null,null,null,null,null,null,null,null,null,null,null,null,169270,0]
["1502039","Reconstrucción osteoplástica reborde alveolar unilateral",0,null,null,null,null,0,null,null,null,null,null,null,0,null,null,0,null,null,0,null,null,0,null,null,null,null,null,null,null,null,null,null,null,null,186260,0]
["1502040","Distoplasias orbitarias: movilización unilateral o vertical tiempo facial",0,null,null,null,null,0,null,null,null,null,null,null,0,null,null,0,null,null,0,null,null,0,null,null,null,null,null,null,null,null,null,null,null,null,585040,0]
["1502043","Síndrome de Apert Crouzon o similar: osteotomía tipo Le Fort III o similar",0,null,null,null,null,0,null,null,null,null,null,null,0,null,null,0,null,null,0,null,null,0,null,null,null,null,null,null,null,null,null,null,null,null,683900,0]
["1502044","Corrección telecanto",0,null,null,null,null,0,null,null,null,null,null,null,0,null,null,0,null,null,0,null,null,0,null,null,null,null,null,null,null,null,null,null,null,null,203600,0]
["1502047","Ginecomastia, corrección plástica",0,null,null,null,null,0,null,null,null,null,null,null,0,null,null,0,null,null,0,null,null,0,null,null,null,null,null,null,null,null,null,null,null,null,169970,0]
["1502048","Mamoplastía de aumento (unilateral)",0,null,null,null,null,0,null,null,null,null,null,null,0,null,null,0,null,null,0,null,null,0,null,null,null,null,null,null,null,null,null,null,null,null,180310,0]
["1502051","Reconstrucción areola y/o pezón c/s plastía (proc. aut.)",0,null,null,null,null,0,null,null,null,null,null,null,0,null,null,0,null,null,0,null,null,0,null,null,null,null,null,null,null,null,null,null,null,null,141490,0]
["1502052","Reconstrucción mamaria",0,null,null,null,null,0,null,null,null,null,null,null,0,null,null,0,null,null,0,null,null,0,null,null,null,null,null,null,null,null,null,null,null,null,257370,0]
["1502054","Escarectomía con resección ósea c/s colgajo de rotación",0,null,null,null,null,0,null,null,null,null,null,null,0,null,null,0,null,null,0,null,null,0,null,null,null,null,null,null,null,null,null,null,null,null,196400,0]
["1502055","Tratamiento de escaras de decubito, con resección ósea y colgajos musculares o musculocutáneos",0,null,null,null,null,0,null,null,null,null,null,null,0,null,null,0,null,null,0,null,null,0,null,null,null,null,null,null,null,null,null,null,null,null,315000,0]
["1502058","Polidactilia, extirpación y plastía unilateral",0,null,null,null,null,0,null,null,null,null,null,null,0,null,null,0,null,null,0,null,null,0,null,null,null,null,null,null,null,null,null,null,null,null,141490,0]
["1502059","Lipectomía glútea, unilateral",0,null,null,null,null,0,null,null,null,null,null,null,0,null,null,0,null,null,0,null,null,0,null,null,null,null,null,null,null,null,null,null,null,null,152510,0]
["1502062","Escarotomía por cada 10 % adicional (o su fracción)",0,null,null,null,null,0,null,null,null,null,null,null,null,null,null,null,null,null,null,null,null,null,null,null,null,null,null,null,null,null,null,null,null,null,25830,0]
["1502063","Escarectomía hasta 1 % superficie corporal",0,null,null,null,null,0,null,null,null,null,null,null,null,null,null,null,null,null,null,null,null,null,null,null,null,null,null,null,null,null,null,null,null,null,54440,0]
["1502066","Escarectomía por cada 10% adicional (o su fracción) (Se cobrará cód. ad. una sóla vez por superficie entre el 11% y 50%).",0,null,null,null,null,{"$f":"+I1860+J1860","v":0},null,null,null,null,null,null,0,null,null,0,null,null,0,null,null,0,null,null,null,null,null,null,null,null,null,null,null,null,88580,0,null," "]
[null,"TOTAL",{"$f":"SUM(C1790:C1860)","v":0},null,null,null,null,{"$f":"SUM(H1790:H1860)","v":0},0,0,0,0,0,0,0,0,0,0,0,0,0,0,0,0,0,{"$f":"SUM(Z1790:Z1860)","v":0},0,0,0,0,0,0,0,0,0,0,null,{"$f":"SUM(AL1790:AL1860)","v":0}]
["1601111","Aplicación de inmunomoduladores, químicos y similares hasta 10 lesiones por sesión",{"$f":"SUM(D1864+G1864)","v":0},{"$f":"SUM(E1864:F1864)","v":0},null,null,null,null,null,null,null,null,null,null,null,null,null,null,null,null,null,null,null,null,null,null,null,null,null,null,null,null,null,null,null,null,16320,0]
["1601112","Fototerapia UVB, UVA localizada, por sesión",0,0,null,null,null,null,null,null,null,null,null,null,null,null,null,null,null,null,null,null,null,null,null,null,null,null,null,null,null,null,null,null,null,null,4890,0]
["1601116","Crioterapia hasta 5 lesiones por sesión",0,0,null,null,null,null,null,null,null,null,null,null,null,null,null,null,null,null,null,null,null,null,null,null,null,null,null,null,null,null,null,null,null,null,16320,0]
["1601117","Crioterapia 6 a 10 lesiones por sesión",0,0,null,null,null,null,null,null,null,null,null,null,null,null,null,null,null,null,null,null,null,null,null,null,null,null,null,null,null,null,null,null,null,null,24510,0]
["1601120","Tratamiento abrasivo cutáneo mecánico por sesión",0,0,null,null,null,null,null,null,null,null,null,null,null,null,null,null,null,null,null,null,null,null,null,null,null,null,null,null,null,null,null,null,null,null,32680,0]
["1601121","Tratamiento abrasivo cutáneo químico por sesión",0,0,null,null,null,null,null,null,null,null,null,null,null,null,null,null,null,null,null,null,null,null,null,null,null,null,null,null,null,null,null,null,null,null,24510,0]
["1601124","Tratamiento por láser, IPL o similar por área hasta 16 cm2  por sesión",0,0,null,null,null,null,null,null,null,null,null,null,null,null,null,null,null,null,null,null,null,null,null,null,null,null,null,null,null,null,null,null,null,null,40850,0]
["1601125","Terapia fotodinámica (no incluye medicamento) por sesión",0,0,null,null,null,null,null,null,null,null,null,null,null,null,null,null,null,null,null,null,null,null,null,null,null,null,null,null,null,null,null,null,null,null,40850,0]
[null,"INTERVENCIONES QUIRURGICAS DE DERMATOLOGÍA Y TEGUMENTOS                    "]
["1602201","Biopsia de piel y/o mucosa por curetaje o sección tangencial c/s electro por 1 lesión",{"$f":"SUM(I1880:N1880)","v":0},null,null,null,null,{"$f":"+I1880+J1880","v":0},null,null,null,null,null,null,null,null,null,null,null,null,null,null,null,null,null,null,null,null,null,null,null,null,null,null,null,null,41970,{"$f":"+(I1880*AK1880)+(L1880*AK1880*0.5)","v":0},null," "]
["1602204","Extirpacion de, reparacion o biopsia total o parcial, de lesiones benignas cutáneas por excision cabeza, cuello, genitales, desde 4 hasta 6 lesiones                                              ",0,null,null,null,null,0,null,null,null,null,null,null,null,null,null,null,null,null,null,null,null,null,null,null,null,null,null,null,null,null,null,null,null,null,148130,0]
["1602205","Extirpacion de, reparacion o biopsia total o parcial, de lesiones benignas cutáneas por excision resto de cuerpo desde 4 hasta 6 lesiones                                                             ",0,null,null,null,null,0,null,null,null,null,null,null,null,null,null,null,null,null,null,null,null,null,null,null,null,null,null,null,null,null,null,null,null,null,98750,0]
["1602211","Cabeza, cuello, genitales: tratamiento quirúrgico de tumor maligno por escisión total o parcial, con o sin sutura, por cada lesión o melanoma cualquier localización",0,null,null,null,null,0,null,null,null,null,null,null,null,null,null,null,null,null,null,null,null,null,null,null,null,null,null,null,null,null,null,null,null,null,154310,0]
["1602212","Resto del cuerpo: tratamiento quirúrgico de tumor maligno por escisión total o parcial, con o sin sutura, por cada lesión",0,null,null,null,null,0,null,null,null,null,null,null,null,null,null,null,null,null,null,null,null,null,null,null,null,null,null,null,null,null,null,null,null,null,123440,0]
["1602215","Tumores vasculares profundos cabeza, cuello, genitales",0,null,null,null,null,0,null,null,null,null,null,null,null,null,null,null,null,null,null,null,null,null,null,null,null,null,null,null,null,null,null,null,null,null,154310,0]
["1602216","Tumores Vasculares Profundos Resto del cuerpo",0,null,null,null,null,0,null,null,null,null,null,null,null,null,null,null,null,null,null,null,null,null,null,null,null,null,null,null,null,null,null,null,null,null,123440,0]
["1602223","Cabeza, cuello, genitales: extirpación de lesión benigna subepidérmica, incluye tumor sólido, quiste epidérmico y lipoma por lesión ",0,null,null,null,null,0,null,null,null,null,null,null,null,null,null,null,null,null,null,null,null,null,null,null,null,null,null,null,null,null,null,null,null,null,92590,0]
["1602224","Resto del cuerpo: extirpación de lesión benigna subepidérmica, incluye tumor sólido, quiste epidérmico y lipoma por lesión ",0,null,null,null,null,0,null,null,null,null,null,null,null,null,null,null,null,null,null,null,null,null,null,null,null,null,null,null,null,null,null,null,null,null,77130,0]
["1602231","Onicectomía total o parcial simple",0,null,null,null,null,0,null,null,null,null,null,null,null,null,null,null,null,null,null,null,null,null,null,null,null,null,null,null,null,null,null,null,null,null,19730,0]
["1602232","Cirugía reparadora ungueal por proceso inflamatorio",0,null,null,null,null,0,null,null,null,null,null,null,null,null,null,null,null,null,null,null,null,null,null,null,null,null,null,null,null,null,null,null,null,null,61720,0]
["1602241","Curación por Médico, Quemadura o Similar  5 a 10% superficie corporal en pabellón",0,null,null,null,null,0,null,null,null,null,null,null,null,null,null,null,null,null,null,null,null,null,null,null,null,null,null,null,null,null,null,null,null,null,24680,0]
["1602242","Curación por Médico, Quemadura o Similar mayor al 10 %  superficie corporal en pabellón",0,null,null,null,null,0,null,null,null,null,null,null,{"$f":"SUM(P1903:Q1903)","v":0},null,null,{"$f":"SUM(S1903:T1903)","v":0},null,null,{"$f":"SUM(V1903:W1903)","v":0},null,null,{"$f":"SUM(Y1903:Z1903)","v":0},null,null,null,null,null,null,null,null,null,null,null,null,44420,0,null," "]
["1701001","E.C.G. de reposo (incluye mínimo 12 derivaciones y 4 complejos por derivación)",{"$f":"SUM(D1906+G1906)","v":0},{"$f":"SUM(E1906:F1906)","v":0},null,null,null,null,null,null,null,null,null,null,null,null,null,null,null,null,null,null,null,null,null,null,null,null,null,null,null,null,null,null,null,null,6620,{"$f":"AK1906*E1906","v":0},null," "]
["1701003","Electrocardiograma de esfuerzo",{"$f":"SUM(D1907+G1907)","v":0},{"$f":"SUM(E1907:F1907)","v":0},null,null,null,null,null,null,null,null,null,null,null,null,null,null,null,null,null,null,null,null,null,null,null,null,null,null,null,null,null,null,null,null,18660,0]
["1701045","Ecocardiograma bidimensional doppler color",0,0,null,null,null,null,null,null,null,null,null,null,null,null,null,null,null,null,null,null,null,null,null,null,null,null,null,null,null,null,null,null,null,null,67300,0]
["1701008","Ecocardiograma bidimensional (incluye registro modo M, papel fotosensible y fotografía), en adultos o niños (proc. aut.)",0,0,null,null,null,null,null,null,null,null,null,null,null,null,null,null,null,null,null,null,null,null,null,null,null,null,null,null,null,null,null,null,null,null,37760,0]
["1701012","Sondeo cardíaco izquierdo, en adultos o niños",0,0,null,null,null,null,null,null,null,null,null,null,null,null,null,null,null,null,null,null,null,null,null,null,null,null,null,null,null,null,null,null,null,null,270840,0]
["1701019","Cinecoronariografía derecha y/o izquierda (incluye sondeo cardíaco izquierdo  y ventriculografía izquierda)",0,0,null,null,null,null,null,null,null,null,null,null,null,null,null,null,null,null,null,null,null,null,null,null,null,null,null,null,null,null,null,null,null,null,347890,0]
["1701022","Aortografía, en adultos o niños (Incluye proc. rad.)",0,0,null,null,null,null,null,null,null,null,null,null,null,null,null,null,null,null,null,null,null,null,null,null,null,null,null,null,null,null,null,null,null,null,321320,0]
["1701023","Arteriografía de extremidades, en adultos o niños (incluye proc. rad.)",0,0,null,null,null,null,null,null,null,null,null,null,null,null,null,null,null,null,null,null,null,null,null,null,null,null,null,null,null,null,null,null,null,null,384220,0]
["1701043","Angioplastía de coartación aórtica (incl. proc. rad.) (proc. completo)",0,0,null,null,null,null,null,null,null,null,null,null,null,null,null,null,null,null,null,null,null,null,null,null,null,null,null,null,null,null,null,null,null,null,1507340,0]
["1701144","Angioplastía de arteria pulmonar o vena cava en niños (incluye proc. rad., balón, Stent o similar)",0,0,null,null,null,null,null,null,null,null,null,null,null,null,null,null,null,null,null,null,null,null,null,null,null,null,null,null,null,null,null,null,null,null,1579160,0]
["1701038","Septostomía de Rashkind o con controlada con balón",0,0,null,null,null,null,null,null,null,null,null,null,null,null,null,null,null,null,null,null,null,null,null,null,null,null,null,null,null,null,null,null,null,null,509940,0]
["1701035","Colocación de sonda marcapaso transitorio (proc. completo)",0,0,null,null,null,null,null,null,null,null,null,null,null,null,null,null,null,null,null,null,null,null,null,null,null,null,null,null,null,null,null,null,null,null,189070,0]
["1701004","Registro de haz de His, en adultos o niños",{"$f":"SUM(D1929+G1929)","v":0},{"$f":"SUM(E1929:F1929)","v":0},null,null,null,null,null,null,null,null,null,null,null,null,null,null,null,null,null,null,null,null,null,null,null,null,null,null,null,null,null,null,null,null,36630,0]
["1701055","Ecocardiograma bidimensional doppler color transesofágico",0,0,null,null,null,null,null,null,null,null,null,null,null,null,null,null,null,null,null,null,null,null,null,null,null,null,null,null,null,null,null,null,null,null,77740,0]
["1701058","Test de esfuerzo con consumo de oxígeno (adultos y niños)",0,0,null,null,null,null,null,null,null,null,null,null,null,null,null,null,null,null,null,null,null,null,null,null,null,null,null,null,null,null,null,null,null,null,51470,0]
["1701059","Tilt test o prueba de inclinación",0,0,null,null,null,null,null,null,null,null,null,null,null,null,null,null,null,null,null,null,null,null,null,null,null,null,null,null,null,null,null,null,null,null,66790,0]
["1701014","Instalación de catéter Swan-Ganz o similar, en adultos o niños (proc. aut.)",0,0,null,null,null,null,null,null,null,null,null,null,null,null,null,null,null,null,null,null,null,null,null,null,null,null,null,null,null,null,null,null,null,null,43300,0]
["1701015","Doppler con ergometría (por sesión)",0,0,null,null,null,null,null,null,null,null,null,null,null,null,null,null,null,null,null,null,null,null,null,null,null,null,null,null,null,null,null,null,null,null,10760,0]
["1701018","Registro ecoarterial o ecovenoso periférico c/u (por sesión)",0,0,null,null,null,null,null,null,null,null,null,null,null,null,null,null,null,null,null,null,null,null,null,null,null,null,null,null,null,null,null,null,null,null,19350,0]
["1701030","Punción evacuadora de pericardio, c/s toma de muestra c/s inyección de medicamento",{"$f":"SUM(D1942+G1942)","v":0},{"$f":"SUM(E1942:F1942)","v":0},null,null,null,null,null,null,null,null,null,null,null,null,null,null,null,null,null,null,null,null,null,null,null,null,null,null,null,null,null,null,null,null,14470,0]
["1701037","Punción subclavia o yugular con colocación de catéter",0,0,null,null,null,null,null,null,null,null,null,null,null,null,null,null,null,null,null,null,null,null,null,null,null,null,null,null,null,null,null,null,null,null,17250,0]
["1701039","Trombólisis arterial periférica",0,0,null,null,null,null,null,null,null,null,null,null,null,null,null,null,null,null,null,null,null,null,null,null,null,null,null,null,null,null,null,null,null,null,72220,0]
["1701050","Ablación con corriente continua o radiofrecuencia de nódulo aurículo-ventricular",0,0,null,null,null,null,null,null,null,null,null,null,null,null,null,null,null,null,null,null,null,null,null,null,null,null,null,null,null,null,null,null,null,null,62550,0]
["1701051","Ablación con corriente continua o con radiofrecuencia de vías accesorias y otros",0,0,null,null,null,null,null,null,null,null,null,null,null,null,null,null,null,null,null,null,null,null,null,null,null,null,null,null,null,null,null,null,null,null,100000,0]
[1701061,"Arteriografía selectiva o superselectiva pulmonar en adultos o niños (incl. proc. rad.)",{"$f":"SUM(D1952+G1952)","v":0},{"$f":"SUM(E1952:F1952)","v":0},null,null,null,null,null,null,null,null,null,null,null,null,null,null,null,null,null,null,null,null,null,null,null,null,null,null,null,null,null,null,null,null,340710,0]
["1701062","Arteriografía selectiva o superselectiva renal en adultos o niños (incl. proc. rad.)",0,0,null,null,null,null,null,null,null,null,null,null,null,null,null,null,null,null,null,null,null,null,null,null,null,null,null,null,null,null,null,null,null,null,340710,0]
["1701065","Arteriografía selectiva o superselectiva hipogástrica en adultos o niños (incl. proc. rad.)",0,0,null,null,null,null,null,null,null,null,null,null,null,null,null,null,null,null,null,null,null,null,null,null,null,null,null,null,null,null,null,null,null,null,340710,0]
["1701066","Arteriografía selectiva o superselectiva hepática en adultos o niños (incl. proc. rad.)",0,0,null,null,null,null,null,null,null,null,null,null,null,null,null,null,null,null,null,null,null,null,null,null,null,null,null,null,null,null,null,null,null,null,340710,0]
["1701069","Arteriografía selectiva o superselectiva arteria vesical en adultos o niños (incl. proc. rad.)",0,0,null,null,null,null,null,null,null,null,null,null,null,null,null,null,null,null,null,null,null,null,null,null,null,null,null,null,null,null,null,null,null,null,340710,0,null," "]
[null,"Total ARANCEL MAI",{"$f":"SUM(C1906:C1960)","v":0},{"$f":"SUM(D1906:D1960)","v":0},{"$f":"SUM(E1906:E1960)","v":0},{"$f":"SUM(F1906:F1960)","v":0},{"$f":"SUM(G1906:G1960)","v":0},null,null,null,null,null,null,null,null,null,null,null,null,null,null,null,null,null,null,null,{"$f":"SUM(AA1906:AA1960)","v":0},0,0,0,0,0,0,0,0,0,null,{"$f":"SUM(AL1906:AL1960)","v":0}]
["01011632","Ablación septal con Alcohol en las Miocardiopatías Hipertróficas,",0,0]
["01011634","Reposición por desplazamiento electrodo",0,0]
["01011649","Ultrasonido intravascular: IVUS",0,0]
["01011650","Extracción de cuerpos extraños intravascular",0,0]
["01011653","Implantación percutánea de válvula aórtica: TAVI",0,0]
["01011654","Estudio de Puentes Coronarios",0,0]
["01011662","Micro embolizaciones mal formación arterio venosa",0,0]
["01011661","Tratamiento percutáneo de la coartación aortica",0,0,null,null,null,null,null,null,null,null,null,null,null,null,null,null,null,null,null,null,null,null,null,null,null,null,null,null,null,null,null,null,null,null,null,null,null," "]
[null,"CIRUGIA CARDIOVASCULAR                                   "]
["1703001","Embolectomía y/o trombectomía, unilateral, miembro superior o inferior (proc. aut.)",{"$f":"SUM(I1980:N1980)","v":0},null,null,null,null,{"$f":"+I1980+J1980","v":0},null,null,null,null,null,null,{"$f":"SUM(P1980:Q1980)","v":0},null,null,{"$f":"SUM(S1980:T1980)","v":0},null,null,{"$f":"SUM(V1980:W1980)","v":0},null,null,{"$f":"SUM(Y1980:Z1980)","v":0},null,null,null,null,null,null,null,null,null,null,null,null,224450,{"$f":"+(I1980*AK1980)+(L1980*AK1980*0.5)","v":0},null," "]
["1703005","Reparación quirúrgica de vasos arteriales y/o venosos intra-abdominales o intra-torácicos c/s injerto (biológicos o sintéticos)",0,null,null,null,null,0,null,null,null,null,null,null,0,null,null,0,null,null,0,null,null,0,null,null,null,null,null,null,null,null,null,null,null,null,455700,0]
["1703006","Reparación quirúrgica de vasos arteriales y/o venosos periféricos c/s injerto (biológicos o sintéticos)",0,null,null,null,null,0,null,null,null,null,null,null,0,null,null,0,null,null,0,null,null,0,null,null,null,null,null,null,null,null,null,null,null,null,298590,0]
["1703009","Reparación quirúrgica de vasos arteriales y/o venosos periféricos c/s injerto (biológicos o sintéticos) tóraco-abdominal",0,null,null,null,null,0,null,null,null,null,null,null,0,null,null,0,null,null,0,null,null,0,null,null,null,null,null,null,null,null,null,null,null,null,919630,0]
["1703071","Aneurisma torácico con compromiso de arco aórtico tratamiento endovascular",0,null,null,null,null,0,null,null,null,null,null,null,0,null,null,0,null,null,0,null,null,0,null,null,null,null,null,null,null,null,null,null,null,null,1343400,0]
["1703012","Puente aorto-visceral (renal, mesentérico o similar); c/u",0,null,null,null,null,0,null,null,null,null,null,null,0,null,null,0,null,null,0,null,null,0,null,null,null,null,null,null,null,null,null,null,null,null,600810,0]
["1703013","Puente aorto-ilíaco",0,null,null,null,null,0,null,null,null,null,null,null,0,null,null,0,null,null,0,null,null,0,null,null,null,null,null,null,null,null,null,null,null,null,600810,0]
["1703016","Endarterectomía renal, c/s injerto (proc. aut.)",0,null,null,null,null,0,null,null,null,null,null,null,0,null,null,0,null,null,0,null,null,0,null,null,null,null,null,null,null,null,null,null,null,null,437930,0]
["1703017","Puente fémoro-tibial o distales",0,null,null,null,null,0,null,null,null,null,null,null,0,null,null,0,null,null,0,null,null,0,null,null,null,null,null,null,null,null,null,null,null,null,506830,0]
["1703020","Otras derivaciones: fémoro–femoral, axilo-humeral, axilo-femoral, carótidosubclavio, axilo-axilar o similares; c/u",0,null,null,null,null,0,null,null,null,null,null,null,0,null,null,0,null,null,0,null,null,0,null,null,null,null,null,null,null,null,null,null,null,null,455690,0]
["1703064","Implante de prótesis para hemodiálisis",{"$f":"SUM(I2000:N2000)","v":0},null,null,null,null,{"$f":"+I2000+J2000","v":0},null,null,null,null,null,null,null,null,null,null,null,null,null,null,null,null,null,null,null,null,null,null,null,null,null,null,null,null,455830,0," "," "]
["1703021","Anastomosis portocava u otras portosistémicas",0,null,null,null,null,0,null,null,null,null,null,null,0,null,null,0,null,null,0,null,null,0,null,null,null,null,null,null,null,null,null,null,null,null,658370,0," "," "]
["1703022","Anastomosis venosas intraabdominales",0,null,null,null,null,0,null,null,null,null,null,null,0,null,null,0,null,null,0,null,null,0,null,null,null,null,null,null,null,null,null,null,null,null,568800,0," "," "]
["1703025","Implante filtros venosos",0,null,null,null,null,0,null,null,null,null,null,null,0,null,null,0,null,null,0,null,null,0,null,null,null,null,null,null,null,null,null,null,null,null,362500,0," "]
["1703026","Ligadura cayado safena interna, unilateral",0,null,null,null,null,0,null,null,null,null,null,null,0,null,null,0,null,null,0,null,null,0,null,null,null,null,null,null,null,null,null,null,null,null,169270,0," "]
["1703029","Resección cutáneo-aponeurótica unilateral (incluye fasciotomía interna o posterior)",0,null,null,null,null,0,null,null,null,null,null,null,0,null,null,0,null,null,0,null,null,0,null,null,null,null,null,null,null,null,null,null,null,null,210070,0," "]
["1703030","Safenectomía interna y/o externa, unilateral, o endoablación por cualquier técnica (láser, radiofrecuencia o similar).",0,null,null,null,null,0,null,null,null,null,null,null,0,null,null,0,null,null,0,null,null,0,null,null,null,null,null,null,null,null,null,null,null,null,180310,0," "]
["1703032","Anastomosis linfovenosas",0,null,null,null,null,0,null,null,null,null,null,null,0,null,null,0,null,null,0,null,null,0,null,null,null,null,null,null,null,null,null,null,null,null,270210,0," "]
["1703033","Linfedema, trat. quir. una extremidad",0,null,null,null,null,0,null,null,null,null,null,null,0,null,null,0,null,null,0,null,null,0,null,null,null,null,null,null,null,null,null,null,null,null,346920,0," "]
["1703036","Disección y extirpación ganglionar regional: axilo-supraclavicular ",0,null,null,null,null,0,null,null,null,null,null,null,0,null,null,0,null,null,0,null,null,0,null,null,null,null,null,null,null,null,null,null,null,null,433660,0]
["1703037","Disección y extirpación ganglionar regional: cérvico-torácica",0,null,null,null,null,0,null,null,null,null,null,null,0,null,null,0,null,null,0,null,null,0,null,null,null,null,null,null,null,null,null,null,null,null,388890,0]
["1703040","Disección y extirpación ganglionar regional: lumbo-aórticos",0,null,null,null,null,0,null,null,null,null,null,null,0,null,null,0,null,null,0,null,null,0,null,null,null,null,null,null,null,null,null,null,null,null,538200,0]
["1703068","Resección ganglios mediastínicos por toracotomía",0,null,null,null,null,0,null,null,null,null,null,null,0,null,null,0,null,null,0,null,null,0,null,null,null,null,null,null,null,null,null,null,null,null,495680,0]
[1703041,"Disección y extirpación  ganglionar regional (proc. aut.): mediastínicos",0,null,null,null,null,0,null,null,null,null,null,null,0,null,null,0,null,null,0,null,null,0]
["1703042","Disección y extirpación ganglionar regional: poplíteos",0,null,null,null,null,0,null,null,null,null,null,null,0,null,null,0,null,null,0,null,null,0,null,null,null,null,null,null,null,null,null,null,null,null,243240,{"$f":"+(I2027*AK2027)+(L2027*AK2027*0.5)","v":0}]
["1703044","Disección y extirpación ganglionar regional: yugular simple",0,null,null,null,null,0,null,null,null,null,null,null,0,null,null,0,null,null,0,null,null,0,null,null,null,null,null,null,null,null,null,null,null,null,169270,0]
["1703045","Simpatectomía cérvico-torácica",0,null,null,null,null,0,null,null,null,null,null,null,0,null,null,0,null,null,0,null,null,0,null,null,null,null,null,null,null,null,null,null,null,null,388890,0]
["1703047","Anastomosis vasculares sistémicopulmonares (Blalock-Pott-Glenn o similares)",0,null,null,null,null,0,null,null,null,null,null,null,0,null,null,0,null,null,0,null,null,0,null,null,null,null,null,null,null,null,null,null,null,null,658370,0]
["1703048","Cambio de generador de marcapaso, sin cambio de electrodo (no incluye el valor de la prótesis)",0,null,null,null,null,0,null,null,null,null,null,null,0,null,null,0,null,null,0,null,null,0,null,null,null,null,null,null,null,null,null,null,null,null,176050,0]
["1703050","Coartación aórtica, trat. quir.",0,null,null,null,null,0,null,null,null,null,null,null,0,null,null,0,null,null,0,null,null,0,null,null,null,null,null,null,null,null,null,null,null,null,658370,0]
["1703051","Conducto arterioso persistente, trat. quir.",0,null,null,null,null,0,null,null,null,null,null,null,0,null,null,0,null,null,0,null,null,0,null,null,null,null,null,null,null,null,null,null,null,null,735990,0]
["1703153","Implantación de marcapaso c/electrod. intraven. o epicárdico (incluye el valor de la prótesis)",0,null,null,null,null,0,null,null,null,null,null,null,0,null,null,0,null,null,0,null,null,0,null,null,null,null,null,null,null,null,null,null,null,null,2383200,0]
["1703054","Operación sobre anillos valvulares o vasculares",0,null,null,null,null,0,null,null,null,null,null,null,0,null,null,0,null,null,0,null,null,0,null,null,null,null,null,null,null,null,null,null,null,null,482760,0]
["1703057","Pericardiorrafia o miopericardiorrafia en heridas penetrantes",0,null,null,null,null,0,null,null,null,null,null,null,0,null,null,0,null,null,0,null,null,0,null,null,null,null,null,null,null,null,null,null,null,null,557930,0]
["1703058","Pericardiotomía",0,null,null,null,null,0,null,null,null,null,null,null,0,null,null,0,null,null,0,null,null,0,null,null,null,null,null,null,null,null,null,null,null,null,359750,0]
["1703061","De complejidad mayor: incluye reemplazo valvular múltiple, tres o más puentes aortocoronarios y/o anastomosis con arteria mamaria, corrección de cardiopatías congénitas complejas (por ejemplo: Fallot; atresia tricuspídea; doble salida del ventrículo derecho; transposición grandes vasos; ventrículo único o similares), aneurisma aórtico torácico, trasplante cardíaco y cualquier operación cardíaca en lactantes",0,null,null,null,null,0,null,null,null,null,null,null,0,null,null,0,null,null,0,null,null,0,null,null,null,null,null,null,null,null,null,null,null,null,4494570,0]
["1703062","De complejidad mediana: incluye comunicación interventricular, reemplazo univalvular, uno o dos puentes aortocoronarios; aneurisma ventricular, corrección de Wolf-Parkinson White y otras arritmias",0,null,null,null,null,0,null,null,null,null,null,null,0,null,null,0,null,null,0,null,null,0,null,null,null,null,null,null,null,null,null,null,null,null,2721320,0]
[null,"TOTAL ARANCEL MAI",{"$f":"SUM(C1980:C2051)","v":0},null,null,null,null,{"$f":"SUM(H1980:H2051)","v":0},0,0,0,{"$f":"SUM(L1980:L2051)","v":0},{"$f":"SUM(M1980:M2051)","v":0},{"$f":"SUM(N1980:N2051)","v":0},{"$f":"SUM(O1980:O2051)","v":0},{"$f":"SUM(P1980:P2051)","v":0},{"$f":"SUM(Q1980:Q2051)","v":0},{"$f":"SUM(R1980:R2051)","v":0},{"$f":"SUM(S1980:S2051)","v":0},{"$f":"SUM(T1980:T2051)","v":0},{"$f":"SUM(U1980:U2051)","v":0},{"$f":"SUM(V1980:V2051)","v":0},{"$f":"SUM(W1980:W2051)","v":0},{"$f":"SUM(X1980:X2051)","v":0},{"$f":"SUM(Y1980:Y2051)","v":0},{"$f":"SUM(Z1980:Z2051)","v":0},{"$f":"SUM(AA1980:AA2051)","v":0},{"$f":"SUM(AB1980:AB2051)","v":0},{"$f":"SUM(AC1980:AC2051)","v":0},{"$f":"SUM(AD1980:AD2051)","v":0},{"$f":"SUM(AE1980:AE2051)","v":0},{"$f":"SUM(AF1980:AF2051)","v":0},{"$f":"SUM(AG1980:AG2051)","v":0},{"$f":"SUM(AH1980:AH2051)","v":0},{"$f":"SUM(AI1980:AI2051)","v":0},{"$f":"SUM(AJ1980:AJ2051)","v":0},null,0]
["01011754","Instalación de ECMO adulto (cirugía)",{"$f":"SUM(I2053:N2053)","v":0},null,null,null,null,{"$f":"+I2053+J2053","v":0},null,null,null,null,null,null,{"$f":"SUM(P2053:Q2053)","v":0},null,null,{"$f":"SUM(S2053:T2053)","v":0},null,null,{"$f":"SUM(V2053:W2053)","v":0},null,null,{"$f":"SUM(Y2053:Z2053)","v":0}]
["01011760","Implante marcapaso DDD con resincronización cardiaca",{"$f":"SUM(I2056:N2056)","v":0},null,null,null,null,0,null,null,null,null,null,null,0,null,null,0,null,null,0,null,null,0]
["01011761","Implante marcapaso VVI con resincronisador cardiaco",0,null,null,null,null,0,null,null,null,null,null,null,0,null,null,0,null,null,0,null,null,0]
["01011764","Reposiciones parciales equipo marcapaso ",0,null,null,null,null,0,null,null,null,null,null,null,0,null,null,0,null,null,0,null,null,0,null,null,null,null,null,null,null,null,null,null,null,null,null,null,null," "]
["01011756","Trasplante corazón (Contenido en la prestación 1703061)",{"$f":"SUM(I2061:N2061)","v":0},null,null,null,null,{"$f":"+I2061+J2061","v":0},null,null,null,null,null,null,{"$f":"SUM(P2061:Q2061)","v":0},null,null,{"$f":"SUM(S2061:T2061)","v":0},null,null,{"$f":"SUM(V2061:W2061)","v":0},null,null,{"$f":"SUM(Y2061:Z2061)","v":0},null,null,null,null,null,null,null,null,null,null,null,null,null,null,null," "]
[null,"CIRUGIA DE TORAX     "]
["1704001","Cirugía del opérculo torácico (resección de primera costilla, cualquier abordaje); unilateral",{"$f":"SUM(I2065:N2065)","v":0},null,null,null,null,{"$f":"+I2065+J2065","v":0},null,null,null,null,null,null,{"$f":"SUM(P2065:Q2065)","v":0},null,null,{"$f":"SUM(S2065:T2065)","v":0},null,null,{"$f":"SUM(V2065:W2065)","v":0},null,null,{"$f":"SUM(Y2065:Z2065)","v":0},null,null,null,null,null,null,null,null,null,null,null,null,347550,{"$f":"+(I2065*AK2065)+(L2065*AK2065*0.5)","v":0},null," "]
["1704003","Fenestración o toracoplastía",0,null,null,null,null,0,null,null,null,null,null,null,0,null,null,0,null,null,0,null,null,0,null,null,null,null,null,null,null,null,null,null,null,null,337780,0]
["1704004","Reparación pectum excavatum o carinatum, (proc. aut.)",0,null,null,null,null,0,null,null,null,null,null,null,0,null,null,0,null,null,0,null,null,0,null,null,null,null,null,null,null,null,null,null,null,null,307030,0]
["1704007","Toracofrenolaparatomía exploradora c/s reparación vísceras torácicas y abdominales",0,null,null,null,null,0,null,null,null,null,null,null,0,null,null,0,null,null,0,null,null,0,null,null,null,null,null,null,null,null,null,null,null,null,417310,0]
["1704008","Toracofrenotomía exploradora",0,null,null,null,null,0,null,null,null,null,null,null,0,null,null,0,null,null,0,null,null,0,null,null,null,null,null,null,null,null,null,null,null,null,359750,0]
["1704010","Toracotomía mínima c/s resección costal, c/s biopsia, c/s drenaje",0,null,null,null,null,0,null,null,null,null,null,null,0,null,null,0,null,null,0,null,null,0,null,null,null,null,null,null,null,null,null,null,null,null,152510,0]
["1704011","Mediastinotomía exploradora ant. o post. c/s biopsia proc. aut",0,null,null,null,null,0,null,null,null,null,null,null,0,null,null,0,null,null,0,null,null,0,null,null,null,null,null,null,null,null,null,null,null,null,228240,0]
["1704013","Drenaje quir. de mediastino, vía torácica",0,null,null,null,null,0,null,null,null,null,null,null,0,null,null,0,null,null,0,null,null,0,null,null,null,null,null,null,null,null,null,null,null,null,278100,0]
["1704014","Timectomía vía cervical",0,null,null,null,null,0,null,null,null,null,null,null,0,null,null,0,null,null,0,null,null,0,null,null,null,null,null,null,null,null,null,null,null,null,258680,0]
["1704081","Conducto torácico, ligadura por vía videotoracoscopica",0,null,null,null,null,0,null,null,null,null,null,null,0,null,null,0,null,null,0,null,null,0,null,null,null,null,null,null,null,null,null,null,null,null,924720,0]
["1704017","Tumores o quistes de mediastino (anterior o posterior) trat. quir. c/s disección ganglionar",0,null,null,null,null,0,null,null,null,null,null,null,0,null,null,0,null,null,0,null,null,0,null,null,null,null,null,null,null,null,null,null,null,null,513170,0]
["1704018","Cirugía del diafragma con cirugía de vísceras abdominales o torácicas",{"$f":"SUM(I2087:N2087)","v":0},null,null,null,null,{"$f":"+I2087+J2087","v":0},null,null,null,null,null,null,{"$f":"SUM(P2087:Q2087)","v":0},null,null,{"$f":"SUM(S2087:T2087)","v":0},null,null,{"$f":"SUM(V2087:W2087)","v":0},null,null,{"$f":"SUM(Y2087:Z2087)","v":0},null,null,null,null,null,null,null,null,null,null,null,null,423700,0]
["1704064","Frenoparálisis trat. quir.",0,null,null,null,null,0,null,null,null,null,null,null,0,null,null,0,null,null,0,null,null,0,null,null,null,null,null,null,null,null,null,null,null,null,421540,0]
["1704019","Heridas traumáticas del diafragma, trat. quir.",0,null,null,null,null,0,null,null,null,null,null,null,0,null,null,0,null,null,0,null,null,0,null,null,null,null,null,null,null,null,null,null,null,null,312170,0]
["1704020","Hernioplastía diafragmática por vía torácica c/ prótesis (no incluye valor de la prótesis)",0,null,null,null,null,0,null,null,null,null,null,null,0,null,null,0,null,null,0,null,null,0,null,null,null,null,null,null,null,null,null,null,null,null,359750,0]
["1704022","Tumores, malformaciones o quistes del diafragma (no incluye valor de la prótesis) trat. quir.",0,null,null,null,null,0,null,null,null,null,null,null,0,null,null,0,null,null,0,null,null,0,null,null,null,null,null,null,null,null,null,null,null,null,359750,0]
["1704067","Cirugía del diafragma con cirugía de vísceras abdominales o torácicas por vía toracoscopia",{"$f":"SUM(I2096:N2096)","v":0},null,null,null,null,{"$f":"+I2096+J2096","v":0},null,null,null,null,null,null,{"$f":"SUM(P2096:Q2096)","v":0},null,null,{"$f":"SUM(S2096:T2096)","v":0},null,null,{"$f":"SUM(V2096:W2096)","v":0},null,null,{"$f":"SUM(Y2096:Z2096)","v":0},null,null,null,null,null,null,null,null,null,null,null,null,319350,0]
["1704023","Cuerpo extraño pleural, extrac. quir.",0,null,null,null,null,0,null,null,null,null,null,null,0,null,null,0,null,null,0,null,null,0,null,null,null,null,null,null,null,null,null,null,null,null,299420,0]
["1704024","Decorticación pleuropulmonar (pleurectomía parcial o total)",0,null,null,null,null,0,null,null,null,null,null,null,0,null,null,0,null,null,0,null,null,0,null,null,null,null,null,null,null,null,null,null,null,null,354850,0]
["1704085","Pleurodesis por vía videotoracoscopica",0,null,null,null,null,0,null,null,null,null,null,null,0,null,null,0,null,null,0,null,null,0,null,null,null,null,null,null,null,null,null,null,null,null,440040,0]
["1704027","Pleurotomía única o doble ",0,null,null,null,null,0,null,null,null,null,null,null,null,null,null,null,null,null,null,null,null,null,null,null,null,null,null,null,null,null,null,null,null,null,71280,0,null," "]
["1704086","Tumores pleurales, por vía videotoracoscopica",0,null,null,null,null,0,null,null,null,null,null,null,0,null,null,0,null,null,0,null,null,0,null,null,null,null,null,null,null,null,null,null,null,null,448810,0]
["1704087","Cirugía del mesotelioma maligno",0,null,null,null,null,0,null,null,null,null,null,null,0,null,null,0,null,null,0,null,null,0,null,null,null,null,null,null,null,null,null,null,null,null,2661440,0]
["1704071","Cuerpo extraño pleural, por videotoracoscopia",{"$f":"SUM(I2110:N2110)","v":0},null,null,null,null,{"$f":"+I2110+J2110","v":0},null,null,null,null,null,null,{"$f":"SUM(P2110:Q2110)","v":0},null,null,{"$f":"SUM(S2110:T2110)","v":0},null,null,{"$f":"SUM(V2110:W2110)","v":0},null,null,{"$f":"SUM(Y2110:Z2110)","v":0},null,null,null,null,null,null,null,null,null,null,null,null,290960,0]
["1704072","Decorticación pleuropulmonar (pleurectomía parcial o total) por videotoracoscopia",{"$f":"SUM(I2111:N2111)","v":0},null,null,null,null,{"$f":"+I2111+J2111","v":0},null,null,null,null,null,null,{"$f":"SUM(P2111:Q2111)","v":0},null,null,{"$f":"SUM(S2111:T2111)","v":0},null,null,{"$f":"SUM(V2111:W2111)","v":0},null,null,{"$f":"SUM(Y2111:Z2111)","v":0},null,null,null,null,null,null,null,null,null,null,null,null,391830,0]
["1704031","Plastía de tráquea y/o bronquios c/s resección, c/s prótesis (no incluye el valor de la prótesis)",0,null,null,null,null,0,null,null,null,null,null,null,0,null,null,0,null,null,0,null,null,0,null,null,null,null,null,null,null,null,null,null,null,null,596310,0]
["1704032","Tratamiento quirúrgico fístula bronquial por toracotomía",0,null,null,null,null,0,null,null,null,null,null,null,0,null,null,0,null,null,0,null,null,0,null,null,null,null,null,null,null,null,null,null,null,null,469930,0]
["1704035","Biopsia pulmonar por toracotomía",0,null,null,null,null,0,null,null,null,null,null,null,0,null,null,0,null,null,0,null,null,0,null,null,null,null,null,null,null,null,null,null,null,null,299420,0]
["1704036","Bulas, trat. quir.",0,null,null,null,null,0,null,null,null,null,null,null,0,null,null,0,null,null,0,null,null,0,null,null,null,null,null,null,null,null,null,null,null,null,299420,0," "," "]
["1704039","Heridas de pulmón, trat. quir. (proc. aut.)",0,null,null,null,null,0,null,null,null,null,null,null,0,null,null,0,null,null,0,null,null,0,null,null,null,null,null,null,null,null,null,null,null,null,279410,0]
["1704090","Heridas de pulmón, trat. quir. por vía videotoracoscopica",0,null,null,null,null,0,null,null,null,null,null,null,0,null,null,0,null,null,0,null,null,0,null,null,null,null,null,null,null,null,null,null,null,null,674250,0]
["1704041","Metástasis bilateral pulmón, trat. quir. por esternotomía",0,null,null,null,null,0,null,null,null,null,null,null,0,null,null,0,null,null,0,null,null,0,null,null,null,null,null,null,null,null,null,null,null,null,533870,0]
["1704042","Metástasis unilateral pulmón",0,null,null,null,null,0,null,null,null,null,null,null,0,null,null,0,null,null,0,null,null,0,null,null,null,null,null,null,null,null,null,null,null,null,378910,0]
["1704092","Neumonectomía por vía videotoracoscopica",0,null,null,null,null,0,null,null,null,null,null,null,0,null,null,0,null,null,0,null,null,0,null,null,null,null,null,null,null,null,null,null,null,null,853530,{"$f":"+(I2129*AK2129)+(L2129*AK2129*0.5)","v":0}]
["1704045","Quistectomía simple de pulmón",0,null,null,null,null,0,null,null,null,null,null,null,0,null,null,0,null,null,0,null,null,0,null,null,null,null,null,null,null,null,null,null,null,null,378910,0]
["1704073","Absceso pulmonar, drenaje por videotoracoscopia",{"$f":"SUM(I2133:N2133)","v":0},null,null,null,null,{"$f":"+I2133+J2133","v":0},null,null,null,null,null,null,{"$f":"SUM(P2133:Q2133)","v":0},null,null,{"$f":"SUM(S2133:T2133)","v":0},null,null,{"$f":"SUM(V2133:W2133)","v":0},null,null,{"$f":"SUM(Y2133:Z2133)","v":0},null,null,null,null,null,null,null,null,null,null,null,null,802010,0]
["1704089","Resección segmentaria atipica por vía videotoracoscopica",{"$f":"SUM(I2134:N2134)","v":0},null,null,null,null,{"$f":"+I2134+J2134","v":0},null,null,null,null,null,null,{"$f":"SUM(P2134:Q2134)","v":0},null,null,{"$f":"SUM(S2134:T2134)","v":0},null,null,{"$f":"SUM(V2134:W2134)","v":0},null,null,{"$f":"SUM(Y2134:Z2134)","v":0},null,null,null,null,null,null,null,null,null,null,null,null,802010,0]
["1704047","Extracción cuerpo extraño esofágico por vía cervical",0,null,null,null,null,0,null,null,null,null,null,null,0,null,null,0,null,null,0,null,null,0,null,null,null,null,null,null,null,null,null,null,null,null,190830,0]
["1704048","Cuerpo extraño esofágico, extracción por esofagotomía, vía torácica",0,null,null,null,null,0,null,null,null,null,null,null,0,null,null,0,null,null,0,null,null,0,null,null,null,null,null,null,null,null,null,null,null,null,337770,0]
["1704050","Tumores benignos y/o quistes esofágicos,  trat. quir., vía cervical",0,null,null,null,null,0,null,null,null,null,null,null,0,null,null,0,null,null,0,null,null,0,null,null,null,null,null,null,null,null,null,null,null,null,250850,0]
["1704051","Tratamiento quirúrgico de tumores esofagicos benignos y/o quistes vía torácica",0,null,null,null,null,0,null,null,null,null,null,null,0,null,null,0,null,null,0,null,null,0,null,null,null,null,null,null,null,null,null,null,null,null,337770,0]
["1704053","Divertículos esofágicos, trat. quir., vía torácica",0,null,null,null,null,0,null,null,null,null,null,null,0,null,null,0,null,null,0,null,null,0,null,null,null,null,null,null,null,null,null,null,null,null,311420,0]
["1704096","Resección de diverticulos esofágicos por vía videotoracoscopica",0,null,null,null,null,0,null,null,null,null,null,null,0,null,null,0,null,null,0,null,null,0,null,null,null,null,null,null,null,null,null,null,null,null,609130,0]
["1704056","Esofagectomía con restitución del tránsito mediante estómago o intestino; parcial o total",0,null,null,null,null,0,null,null,null,null,null,null,0,null,null,0,null,null,0,null,null,0,null,null,null,null,null,null,null,null,null,null,null,null,696750,0]
["1704057","Esofagectomía total con esofagostomía, gastrostomía y yeyunostomía",0,null,null,null,null,0,null,null,null,null,null,null,0,null,null,0,null,null,0,null,null,0,null,null,null,null,null,null,null,null,null,null,null,null,581630,0]
["1704060","Reconstitución de tránsito en segundo tiempo (estómago o intestino) de operación cód. 17-04-057",0,null,null,null,null,0,null,null,null,null,null,null,0,null,null,0,null,null,0,null,null,0,null,null,null,null,null,null,null,null,null,null,null,null,469930,0]
["1704061","Sutura herida o perforación esófago cervical",0,null,null,null,null,0,null,null,null,null,null,null,0,null,null,0,null,null,0,null,null,0,null,null,null,null,null,null,null,null,null,null,null,null,420910,0]
["1704097","Sutura herida o perforación esófago torácico por vía videotoracoscopica",0,null,null,null,null,0,null,null,null,null,null,null,0,null,null,0,null,null,0,null,null,0,null,null,null,null,null,null,null,null,null,null,null,null,730960,0]
["1704063","Várices esofágicos, ligadura directa",0,null,null,null,null,0,null,null,null,null,null,null,0,null,null,0,null,null,0,null,null,0,null,null,null,null,null,null,null,null,null,null,null,null,344640,0]
["1704078","Atresia esofágica sin fístula traqueoesofágica. Anastomosis",0,null,null,null,null,{"$f":"+I2160+J2160","v":0},null,null,null,null,null,null,{"$f":"SUM(P2160:Q2160)","v":0},null,null,0,null,null,0,null,null,0,null,null,null,null,null,null,null,null,null,null,null,null,575270,0]
[1703060,"Operaciones cardíacas sin circulación extracorpórea",{"$f":"SUM(I2161:N2161)","v":0},null,null,null,null,{"$f":"+I2161+J2161","v":0},null,null,null,null,null,null,{"$f":"SUM(P2161:Q2161)","v":0},null,null,{"$f":"SUM(S2161:T2161)","v":0},null,null,{"$f":"SUM(V2161:W2161)","v":0},null,null,{"$f":"SUM(Y2161:Z2161)","v":0},null,null,null,null,null,null,null,null,null,null,null,null,null,null,null," "]
[null," TOTAL ARANCEL MLE Y NO ARANCELADO ",{"$f":"SUM(C2163:C2163)","v":0},null,null,null,null,{"$f":"SUM(H2163:H2163)","v":0},0,0,0,0,0,0,0,0,0,0,0,0,0,0,0,0,0,0,0,0,0,0,0,0,{"$f":"SUM(AG2163:AG2163)","v":0},{"$f":"SUM(AH2163:AH2163)","v":0},{"$f":"SUM(AI2163:AI2163)","v":0},{"$f":"SUM(AJ2163:AJ2163)","v":0}]
[null," TOTAL PRODUCCION ",{"$f":"SUM(C2162+C2164)","v":0},null,null,null,null,{"$f":"SUM(H2162+H2164)","v":0},0,0,0,0,0,0,0,0,0,0,0,0,0,0,0,0,{"$f":"SUM(Y2162+Y2164)","v":0},{"$f":"SUM(Z2162+Z2164)","v":0},{"$f":"SUM(AA2162+AA2164)","v":0},0,0,0,0,0,0,0,0,0,null,0]
["1707002","Espirometría Basal y con broncodilatador",{"$f":"SUM(D2168+G2168)","v":0},{"$f":"SUM(E2168:F2168)","v":0},null,null,null,null,null,null,null,null,null,null,null,null,null,null,null,null,null,null,null,null,null,null,null,null,null,null,null,null,null,null,null,null,10760,0]
["1707003","Prueba de provocación con alergeno (incluye alergeno)",0,0,null,null,null,null,null,null,null,null,null,null,null,null,null,null,null,null,null,null,null,null,null,null,null,null,null,null,null,null,null,null,null,null,16320,0]
["1707051","Curva dosis respuesta a broncodilatadores.",0,0,null,null,null,null,null,null,null,null,null,null,null,null,null,null,null,null,null,null,null,null,null,null,null,null,null,null,null,null,null,null,null,null,13710,0]
["1707057","Determinación de umbral tusígeno",0,0,null,null,null,null,null,null,null,null,null,null,null,null,null,null,null,null,null,null,null,null,null,null,null,null,null,null,null,null,null,null,null,null,26230,0]
["1707009","Capacidad física del trabajo",0,0,null,null,null,null,null,null,null,null,null,null,null,null,null,null,null,null,null,null,null,null,null,null,null,null,null,null,null,null,null,null,null,null,15540,0]
["1707010","Curva de lavado de nitrógeno (N)",0,0,null,null,null,null,null,null,null,null,null,null,null,null,null,null,null,null,null,null,null,null,null,null,null,null,null,null,null,null,null,null,null,null,15970,0]
["1707013","Medición de presión de oclusión",0,0,null,null,null,null,null,null,null,null,null,null,null,null,null,null,null,null,null,null,null,null,null,null,null,null,null,null,null,null,null,null,null,null,10760,0]
["1707014","Medición de presión inspiratoria máxima (proc. aut.)",0,0,null,null,null,null,null,null,null,null,null,null,null,null,null,null,null,null,null,null,null,null,null,null,null,null,null,null,null,null,null,null,null,null,4460,0]
["1707016","Registro flujométrico, por semana",0,0,null,null,null,null,null,null,null,null,null,null,null,null,null,null,null,null,null,null,null,null,null,null,null,null,null,null,null,null,null,null,null,null,5410,0]
["1707017","Respuesta respiratoria al CO2",0,0,null,null,null,null,null,null,null,null,null,null,null,null,null,null,null,null,null,null,null,null,null,null,null,null,null,null,null,null,null,null,null,null,22800,0]
["1707020","Volúmenes pulmonares por lavado de nitrógeno",0,0,null,null,null,null,null,null,null,null,null,null,null,null,null,null,null,null,null,null,null,null,null,null,null,null,null,null,null,null,null,null,null,null,22750,0]
["1707058","Volúmenes pulmonares por pletismografía corporal. Estudio basal",0,0,null,null,null,null,null,null,null,null,null,null,null,null,null,null,null,null,null,null,null,null,null,null,null,null,null,null,null,null,null,null,null,null,41100,0]
["1707022","Larigotraqueoscopía con tubo rígido",0,0,null,null,null,null,null,null,null,null,null,null,null,null,null,null,null,null,null,null,null,null,null,null,null,null,null,null,null,null,null,null,null,null,16440,0]
["1707024","Pleuroscopia (toracoscopia) c/s biopsia",0,0,null,null,null,null,null,null,null,null,null,null,null,null,null,null,null,null,null,null,null,null,null,null,null,null,null,null,null,null,null,null,null,null,22800,0]
["1707060","Colocación de stent endobronquial por broncoscopía",0,0,null,null,null,null,null,null,null,null,null,null,null,null,null,null,null,null,null,null,null,null,null,null,null,null,null,null,null,null,null,null,null,null,1737200,0]
["1707061","Fibrobroncoscopía con biopsia transbronquial",0,0,null,null,null,null,null,null,null,null,null,null,null,null,null,null,null,null,null,null,null,null,null,null,null,null,null,null,null,null,null,null,null,null,162660,0]
["1707026","Procedimiento para determinar gasometría arterial respirando O2 puro ",0,0,null,null,null,null,null,null,null,null,null,null,null,null,null,null,null,null,null,null,null,null,null,null,null,null,null,null,null,null,null,null,null,null,3110,0]
["1707054","Saturación de O2 en reposo y/o ejercicio (con oxímetro) ",0,0,null,null,null,null,null,null,null,null,null,null,null,null,null,null,null,null,null,null,null,null,null,null,null,null,null,null,null,null,null,null,null,null,3430,0]
["1707063","Poligrafía cardiorrespiratoria del sueño ambulatoria",{"$f":"SUM(D2203+G2203)","v":0},{"$f":"SUM(E2203:F2203)","v":0},null,null,null,null,null,null,null,null,null,null,null,null,null,null,null,null,null,null,null,null,null,null,null,null,null,null,null,null,null,null,null,null,83420,0," "," "]
[null,"TOTAL ARANCEL MAI",{"$f":"SUM(C2167:C2203)","v":0},{"$f":"SUM(D2167:D2203)","v":0},{"$f":"SUM(E2167:E2203)","v":0},{"$f":"SUM(F2167:F2203)","v":0},{"$f":"SUM(G2167:G2203)","v":0},null,null,null,null,null,null,null,null,null,null,null,null,null,null,null,null,null,null,null,0,0,0,0,0,0,0,0,{"$f":"SUM(AI2167:AI2203)","v":0},{"$f":"SUM(AJ2167:AJ2203)","v":0},null,{"$f":"SUM(AL2167:AL2203)","v":0}," "," "]
[null,"TOTAL ARANCEL MLE Y NO ARANCELADO",{"$f":"SUM(C2205)","v":0},{"$f":"SUM(D2205)","v":0},{"$f":"SUM(E2205)","v":0},{"$f":"SUM(F2205)","v":0},{"$f":"SUM(G2205)","v":0},null,null,null,null,null,null,null,null,null,null,null,null,null,null,null,null,null,null,null,{"$f":"SUM(AA2205)","v":0},{"$f":"SUM(AB2205)","v":0},{"$f":"SUM(AC2205)","v":0},{"$f":"SUM(AD2205)","v":0},{"$f":"SUM(AE2205)","v":0},0,0,0,0,0,null,null,null," "]
[null,"TOTAL PRODUCCION",{"$f":"SUM(C2204+C2206)","v":0},{"$f":"SUM(D2204+D2206)","v":0},0,0,{"$f":"SUM(G2204+G2206)","v":0},null,null,null,null,null,null,null,null,null,null,null,null,null,null,null,null,null,null,null,{"$f":"SUM(AA2204+AA2206)","v":0},{"$f":"SUM(AB2204+AB2206)","v":0},0,0,0,0,0,0,0,0,null,{"$f":"SUM(AL2204)","v":0}]
["1801003","Enteroscopía",{"$f":"SUM(D2210+G2210)","v":0},{"$f":"SUM(E2210:F2210)","v":0},null,null,null,null,null,null,null,null,null,null,null,null,null,null,null,null,null,null,null,null,null,null,null,null,null,null,null,null,null,null,null,null,55080,0]
["1801006","Colonoscopía larga (incluye sigmoidoscopía y colonoscopía izquierda)",{"$f":"SUM(D2211+G2211)","v":0},{"$f":"SUM(E2211:F2211)","v":0},null,null,null,null,null,null,null,null,null,null,null,null,null,null,null,null,null,null,null,null,null,null,null,null,null,null,null,null,null,null,null,null,58700,0]
["1801004","Ano-recto-sigmoidoscopia en adultos",0,0,null,null,null,null,null,null,null,null,null,null,null,null,null,null,null,null,null,null,null,null,null,null,null,null,null,null,null,null,null,null,null,null,13670,0]
["1801005","Ano-recto-sigmoidoscopía en niños ",0,0,null,null,null,null,null,null,null,null,null,null,null,null,null,null,null,null,null,null,null,null,null,null,null,null,null,null,null,null,null,null,null,null,20460,0]
["1801009","Peritoneoscopia transparietal (incluye el neumoperitoneo)",0,0,null,null,null,null,null,null,null,null,null,null,null,null,null,null,null,null,null,null,null,null,null,null,null,null,null,null,null,null,null,null,null,null,26510,0]
["1801010","Test de Bernstein",0,0,null,null,null,null,null,null,null,null,null,null,null,null,null,null,null,null,null,null,null,null,null,null,null,null,null,null,null,null,null,null,null,null,5710,0]
["1801015","Biopsia de intestino delgado, por cápsula (de Rubin, Crosby o sim.)",0,0,null,null,null,null,null,null,null,null,null,null,null,null,null,null,null,null,null,null,null,null,null,null,null,null,null,null,null,null,null,null,null,null,20460,0]
["1801016","Punción biopsia transparietal de órganos abdominales c/u",0,0,null,null,null,null,null,null,null,null,null,null,null,null,null,null,null,null,null,null,null,null,null,null,null,null,null,null,null,null,null,null,null,null,20220,0]
["1801021","Neumoperitoneo por punción transparietal",0,0,null,null,null,null,null,null,null,null,null,null,null,null,null,null,null,null,null,null,null,null,null,null,null,null,null,null,null,null,null,null,null,null,8650,{"$f":"AK2226*E2226","v":0}]
["1801022","Intubación sonda de Sengstaken",0,0,null,null,null,null,null,null,null,null,null,null,null,null,null,null,null,null,null,null,null,null,null,null,null,null,null,null,null,null,null,null,null,null,8840,0]
["1801025","Dilatación de estenosis benignas o malignas del tracto digestivo por balón",0,0,null,null,null,null,null,null,null,null,null,null,null,null,null,null,null,null,null,null,null,null,null,null,null,null,null,null,null,null,null,null,null,null,16820,0]
["1801026","Dilatación de estenosis benignas o malignas del tracto digestivo por bujía",0,0,null,null,null,null,null,null,null,null,null,null,null,null,null,null,null,null,null,null,null,null,null,null,null,null,null,null,null,null,null,null,null,null,6980,0]
["1801028","Cuerpo extraño, extracción endoscópica",0,0,null,null,null,null,null,null,null,null,null,null,null,null,null,null,null,null,null,null,null,null,null,null,null,null,null,null,null,null,null,null,null,null,42150,0]
["1801029","Devolvulación de colon por colonoscopía",0,0,null,null,null,null,null,null,null,null,null,null,null,null,null,null,null,null,null,null,null,null,null,null,null,null,null,null,null,null,null,null,null,null,24070,0]
["1801045","Polipectomía o Mucosectomía endoscópica baja",0,0,null,null,null,null,null,null,null,null,null,null,null,null,null,null,null,null,null,null,null,null,null,null,null,null,null,null,null,null,null,null,null,null,81610,0]
["1801032","Escleroterapia de hemorroides, cualquier número ",0,0,null,null,null,null,null,null,null,null,null,null,null,null,null,null,null,null,null,null,null,null,null,null,null,null,null,null,null,null,null,null,null,null,20990,0]
["1801035","Ligadura hemorroides",0,0,null,null,null,null,null,null,null,null,null,null,null,null,null,null,null,null,null,null,null,null,null,null,null,null,null,null,null,null,null,null,null,null,27310,0]
["1801036","Extracción endoscópica de cálculos biliares o pancreáticos",0,0,null,null,null,null,null,null,null,null,null,null,null,null,null,null,null,null,null,null,null,null,null,null,null,null,null,null,null,null,null,null,null,null,28110,0]
["1801042","Vaciamiento manual de fecaloma",0,0,null,null,null,null,null,null,null,null,null,null,null,null,null,null,null,null,null,null,null,null,null,null,null,null,null,null,null,null,null,null,null,null,31270,0]
["1801043","Manometría anorectal convencional",0,0,null,null,null,null,null,null,null,null,null,null,null,null,null,null,null,null,null,null,null,null,null,null,null,null,null,null,null,null,null,null,null,null,20020,0]
["1801048","Punción evacuadora de líquido ascítico",0,0,null,null,null,null,null,null,null,null,null,null,null,null,null,null,null,null,null,null,null,null,null,null,null,null,null,null,null,null,null,null,null,null,27560,0]
["1801049","Manometría anorrectal alta resolución",0,0,null,null,null,null,null,null,null,null,null,null,null,null,null,null,null,null,null,null,null,null,null,null,null,null,null,null,null,null,null,null,null,null,43430,0]
["1801052","Punción guiada con endosonografía digestiva ",0,0,null,null,null,null,null,null,null,null,null,null,null,null,null,null,null,null,null,null,null,null,null,null,null,null,null,null,null,null,null,null,null,null,134760,0]
["1801053","Drenaje guiado con endosonografía digestiva",0,0,null,null,null,null,null,null,null,null,null,null,null,null,null,null,null,null,null,null,null,null,null,null,null,null,null,null,null,null,null,null,null,null,153200,0]
["1801056","Dilatación de acalasia",0,0,null,null,null,null,null,null,null,null,null,null,null,null,null,null,null,null,null,null,null,null,null,null,null,null,null,null,null,null,null,null,null,null,59700,0]
["1801057","Instalación de prótesis autoexpandibles en tracto digestivo",0,0,null,null,null,null,null,null,null,null,null,null,null,null,null,null,null,null,null,null,null,null,null,null,null,null,null,null,null,null,null,null,null,null,64960,0]
["1801059","Test de hidrógeno en aire espirado ",0,0,null,null,null,null,null,null,null,null,null,null,null,null,null,null,null,null,null,null,null,null,null,null,null,null,null,null,null,null,null,null,null,null,44000,0]
[1801060,"Test de carbono en aire espirado",0,0,null,null,null,null,null,null,null,null,null,null,null,null,null,null,null,null,null,null,null,null,null,null,null,null,null,null,null,null,null,null,null,null,105010,0]
[5099102,"Endosonografia alta lineal",0,0]
[5099103,"Endosonografia alta radial",0,0]
[5099106,"litotripsia biliar",0,0]
[5099107,"Mucosectomia",0,0]
["01011884","Cierre de fistula de esófago-colon-gástrica",{"$f":"SUM(D2272+G2272)","v":0},{"$f":"SUM(E2272:F2272)","v":0}]
["01011885","Coagulación Endoscópica con Argón plasma (digestivo alto y bajo)",0,0]
["01013670","Inyección toxina botulínica en pared abdominal ",0,0,null,null,null,null,null,null,null,null,null,null,null,null,null,null,null,null,null,null,null,null,null,null,null,null,null,null,null,null,null,null,null,null,null,null,null," "]
[null," TOTAL",{"$f":"SUM(C2209:C2276)","v":0},{"$f":"SUM(D2209:D2276)","v":0},{"$f":"SUM(E2209:E2276)","v":0},{"$f":"SUM(F2209:F2276)","v":0},{"$f":"SUM(G2209:G2276)","v":0},null,null,null,null,null,null,null,null,null,null,null,null,null,null,null,null,null,null,null,{"$f":"SUM(AA2209:AA2276)","v":0},0,0,0,0,0,0,0,0,0,null,{"$f":"SUM(AL2209:AL2276)","v":0}]
["1802101","Hernia diafragmática por vía abdominal o cualquiera otra hernia con uso de prótesis (incluye el valor de la prótesis)",{"$f":"SUM(I2280:N2280)","v":0},null,null,null,null,0,null,null,null,null,null,null,{"$f":"SUM(P2280:Q2280)","v":0},null,null,{"$f":"SUM(S2280:T2280)","v":0},null,null,{"$f":"SUM(V2280:W2280)","v":0},null,null,{"$f":"SUM(Y2280:Z2280)","v":0},null,null,null,null,null,null,null,null,null,null,null,null,552060,0]
["1802002","Hernia incisional o evisceración post-op. sin resección intestinal",{"$f":"SUM(I2281:N2281)","v":0},null,null,null,null,0,null,null,null,null,null,null,{"$f":"SUM(P2281:Q2281)","v":0},null,null,{"$f":"SUM(S2281:T2281)","v":0},null,null,{"$f":"SUM(V2281:W2281)","v":0},null,null,{"$f":"SUM(Y2281:Z2281)","v":0},null,null,null,null,null,null,null,null,null,null,null,null,229270,0]
["1802004","Laparotomía exploradora, c/s liberación de adherencias, c/s drenaje, c/s biopsias como proc. aut. o como resultado de una herida penetrante abdominal no complicada o de un hemoperitoneo postoperatorio o como tratamiento de una peritonitis (laparostomía contenida -máximo cuatro-, resuturas, etc.)",0,null,null,null,null,0,null,null,null,null,null,null,0,null,null,0,null,null,0,null,null,0,null,null,null,null,null,null,null,null,null,null,null,null,195650,0]
["1802005","Onfalocele (hasta 5 cms.); trat. quir.",0,null,null,null,null,0,null,null,null,null,null,null,0,null,null,0,null,null,0,null,null,0,null,null,null,null,null,null,null,null,null,null,null,null,212650,0]
["1802007","Peritonitis difusa aguda, trat. quir. (proc. aut.) ",0,null,null,null,null,0,null,null,null,null,null,null,0,null,null,0,null,null,0,null,null,0,null,null,null,null,null,null,null,null,null,null,null,null,276210,0]
["1802008","Tumor y/o quiste peritoneal (parietal)",0,null,null,null,null,0,null,null,null,null,null,null,0,null,null,0,null,null,0,null,null,0,null,null,null,null,null,null,null,null,null,null,null,null,212650,0]
["1802011","Desgastrectomía y neoanastomosis, c/s vaguectomía",0,null,null,null,null,0,null,null,null,null,null,null,0,null,null,0,null,null,0,null,null,0,null,null,null,null,null,null,null,null,null,null,null,null,474820,0]
["1802012","Gastroenteroanastomosis, cualquier técnica. (proc. aut.)",0,null,null,null,null,0,null,null,null,null,null,null,0,null,null,0,null,null,0,null,null,0,null,null,null,null,null,null,null,null,null,null,null,null,289350,0]
["1802014","Gastrotomía y/o gastrostomía (proc. aut.)",0,null,null,null,null,0,null,null,null,null,null,null,0,null,null,0,null,null,0,null,null,0,null,null,null,null,null,null,null,null,null,null,null,null,187050,0]
["1802015","Perforación gástrica aguda, trat. quir. (proc. aut.)",0,null,null,null,null,0,null,null,null,null,null,null,0,null,null,0,null,null,0,null,null,0,null,null,null,null,null,null,null,null,null,null,null,null,254180,0]
["1802018","Gastrectomía subtotal sin disección ganglionar",0,null,null,null,null,0,null,null,null,null,null,null,0,null,null,0,null,null,0,null,null,0,null,null,null,null,null,null,null,null,null,null,null,null,395960,0]
["1802019","Dumping y/o síndrome asa aferente, trat. quir.",0,null,null,null,null,0,null,null,null,null,null,null,0,null,null,0,null,null,0,null,null,0,null,null,null,null,null,null,null,null,null,null,null,null,452820,0]
["1802023","Gastrectomía total o sub-total ampliada (incluye esplenectomía y pancreatectomía corporocaudal y disección ganglionar)",0,null,null,null,null,0,null,null,null,null,null,null,0,null,null,0,null,null,0,null,null,0,null,null,null,null,null,null,null,null,null,null,null,null,1041180,0]
["1802024","Gastropexia y/u otra cirugía antirreflujo, c/s vagotomía",0,null,null,null,null,0,null,null,null,null,null,null,0,null,null,0,null,null,0,null,null,0,null,null,null,null,null,null,null,null,null,null,null,null,346510,0]
["1802080","Reconstitución  de tránsito en 2° tiempo de operación código 18-02-079",0,null,null,null,null,0,null,null,null,null,null,null,0,null,null,0,null,null,0,null,null,0,null,null,null,null,null,null,null,null,null,null,null,null,406000,0]
["1802083","Cirugía de la estenosis hipertrófica del píloro. Abierta",{"$f":"SUM(I2308:N2308)","v":0},null,null,null,null,{"$f":"+I2308+J2308","v":0},null,null,null,null,null,null,{"$f":"SUM(P2308:Q2308)","v":0},null,null,{"$f":"SUM(S2308:T2308)","v":0},null,null,{"$f":"SUM(V2308:W2308)","v":0},null,null,{"$f":"SUM(Y2308:Z2308)","v":0},null,null,null,null,null,null,null,null,null,null,null,null,225430,0]
["1802085","Laparotomía exploradora, instalación de VAC (por procedimiento)",0,null,null,null,null,{"$f":"+I2310+J2310","v":0},null,null,null,null,null,null,0,null,null,0,null,null,0,null,null,0,null,null,null,null,null,null,null,null,null,null,null,null,314790,0]
["1802086","Cirugía antirreflujo más gastrostomía",0,null,null,null,null,{"$f":"+I2311+J2311","v":0},null,null,null,null,null,null,0,null,null,0,null,null,0,null,null,0,null,null,null,null,null,null,null,null,null,null,null,null,533540,{"$f":"+(I2311*AK2311)+(L2311*AK2311*0.5)","v":0}]
[1802159,"Cirugía bariátrica Manga Gástrica por laparoscopia",0,null,null,null,null,0,null,null,null,null,null,null,0,null,null,0,null,null,0,null,null,0,null,null,null,null,null,null,null,null,null,null,null,null,834340,0," "," , * Intervenciones Quirurgicas Mayores, Debe ser igual a total -"]
["1802026","Drenaje de colecciones líquidas hepáticas",0,null,null,null,null,0,null,null,null,null,null,null,0,null,null,0,null,null,0,null,null,0,null,null,null,null,null,null,null,null,null,null,null,null,311420,0]
["1802081","Colecistectomía por videolaparoscopía, proc. completo",0,null,null,null,null,0,null,null,null,null,null,null,0,null,null,0,null,null,0,null,null,0,null,null,null,null,null,null,null,null,null,null,null,null,455690,0]
["1802029","Colecistectomía y coledocostomía (sonda T y colangiografía postoperatoria) c/s colangiografía operatoria",0,null,null,null,null,0,null,null,null,null,null,null,0,null,null,0,null,null,0,null,null,0,null,null,null,null,null,null,null,null,null,null,null,null,368890,0]
["1802032","Colédoco o hepatoenteroanastomosis",0,null,null,null,null,0,null,null,null,null,null,null,0,null,null,0,null,null,0,null,null,0,null,null,null,null,null,null,null,null,null,null,null,null,484820,0]
["1802033","Coledocostomía supraduodenal o hepaticostomía (proc. aut.)",0,null,null,null,null,0,null,null,null,null,null,null,0,null,null,0,null,null,0,null,null,0,null,null,null,null,null,null,null,null,null,null,null,null,314540,0]
["1802034","Colocación de válvula peritoneoyugular derivativa de ascitis",0,null,null,null,null,0,null,null,null,null,null,null,0,null,null,0,null,null,0,null,null,0,null,null,null,null,null,null,null,null,null,null,null,null,195650,0]
["1802035","Desconexión ácigoportal con transección esofágica",0,null,null,null,null,0,null,null,null,null,null,null,0,null,null,0,null,null,0,null,null,0,null,null,null,null,null,null,null,null,null,null,null,null,658370,0]
["1802038","Esfinteroplastía transduodenal, (proc. aut.)",0,null,null,null,null,0,null,null,null,null,null,null,0,null,null,0,null,null,0,null,null,0,null,null,null,null,null,null,null,null,null,null,null,null,420910,0]
["1802039","Hepatectomía segmentaria (proc. aut.)",0,null,null,null,null,0,null,null,null,null,null,null,0,null,null,0,null,null,0,null,null,0,null,null,null,null,null,null,null,null,null,null,null,null,506830,0]
["1802042","Quiste hidatídico, único o múltiple, y/o cistoyeyunoanastomosis, trat. quir.",0,null,null,null,null,0,null,null,null,null,null,null,0,null,null,0,null,null,0,null,null,0,null,null,null,null,null,null,null,null,null,null,null,null,369800,0]
["1802100","Trasplante hepático",0,null,null,null,null,0,null,null,null,null,null,null,0,null,null,0,null,null,0,null,null,0,null,null,null,null,null,null,null,null,null,null,null,null,1094450,0]
["1802089","Cirugía de la atresia de vía biliar por vía laparoscopia",{"$f":"SUM(I2337:N2337)","v":0},null,null,null,null,{"$f":"+I2337+J2337","v":0},null,null,null,null,null,null,{"$f":"SUM(P2337:Q2337)","v":0},null,null,{"$f":"SUM(S2337:T2337)","v":0},null,null,{"$f":"SUM(V2337:W2337)","v":0},null,null,{"$f":"SUM(Y2337:Z2337)","v":0},null,null,null,null,null,null,null,null,null,null,null,null,808520,0]
["1802043","Abscesos, quistes, pseudoquistes o similares de páncreas, trat. quir.",0,null,null,null,null,0,null,null,null,null,null,null,0,null,null,0,null,null,0,null,null,0,null,null,null,null,null,null,null,null,null,null,null,null,344640,0]
["1802046","Pancreatectomía total c/s esplenectomía",0,null,null,null,null,0,null,null,null,null,null,null,0,null,null,0,null,null,0,null,null,0,null,null,null,null,null,null,null,null,null,null,null,null,747890,0]
["1802047","Pancreatoduodenectomía",0,null,null,null,null,0,null,null,null,null,null,null,0,null,null,0,null,null,0,null,null,0,null,null,null,null,null,null,null,null,null,null,null,null,1050960,0]
["1802090","Atresia o estenosis duodenal, páncreas anular, reparación quirúrgica. Abierta",{"$f":"SUM(I2345:N2345)","v":0},null,null,null,null,{"$f":"+I2345+J2345","v":0},null,null,null,null,null,null,{"$f":"SUM(P2345:Q2345)","v":0},null,null,{"$f":"SUM(S2345:T2345)","v":0},null,null,{"$f":"SUM(V2345:W2345)","v":0},null,null,{"$f":"SUM(Y2345:Z2345)","v":0},null,null,null,null,null,null,null,null,null,null,null,null,262070,{"$f":"+(I2345*AK2345)+(L2345*AK2345*0.5)","v":0}]
["1802091","Atresia o estenosis duodenal, páncreas anular, reparación quirúrgica laparoscopia",{"$f":"SUM(I2346:N2346)","v":0},null,null,null,null,{"$f":"+I2346+J2346","v":0},null,null,null,null,null,null,{"$f":"SUM(P2346:Q2346)","v":0},null,null,{"$f":"SUM(S2346:T2346)","v":0},null,null,{"$f":"SUM(V2346:W2346)","v":0},null,null,{"$f":"SUM(Y2346:Z2346)","v":0},null,null,null,null,null,null,null,null,null,null,null,null,340690,0]
["1802050","Esplenectomía total o parcial (proc. aut.)",0,null,null,null,null,0,null,null,null,null,null,null,0,null,null,0,null,null,0,null,null,0,null,null,null,null,null,null,null,null,null,null,null,null,311420,0]
["1802051","Operación de etapificación (incluye esplenectomía, biopsias hepáticas, de ganglios abdominales y de cresta ilíaca)",0,null,null,null,null,0,null,null,null,null,null,null,0,null,null,0,null,null,0,null,null,0,null,null,null,null,null,null,null,null,null,null,null,null,433660,0]
["1802054","Cierre de colostomía (proc. aut.)",0,null,null,null,null,0,null,null,null,null,null,null,0,null,null,0,null,null,0,null,null,0,null,null,null,null,null,null,null,null,null,null,null,null,212650,0]
["1802055","Colostomía (proc. aut.)",0,null,null,null,null,0,null,null,null,null,null,null,0,null,null,0,null,null,0,null,null,0,null,null,null,null,null,null,null,null,null,null,null,null,225430,0]
["1802058","Entero-enteroanastomosis o enterocoloanastomosis (proc. aut.)",0,null,null,null,null,0,null,null,null,null,null,null,0,null,null,0,null,null,0,null,null,0,null,null,null,null,null,null,null,null,null,null,null,null,262070,0]
["1802059","Enterotomía o enterostomía (yeyunostomía u otra) (proc. aut.)",0,null,null,null,null,{"$f":"+I2358+J2358","v":0},null,null,null,null,null,null,0,null,null,0,null,null,0,null,null,0,null,null,null,null,null,null,null,null,null,null,null,null,187050,0]
["1802061","Invaginación intestinal, trat. quir.",{"$f":"SUM(I2360:N2360)","v":0},null,null,null,null,0,null,null,null,null,null,null,{"$f":"SUM(P2360:Q2360)","v":0},null,null,{"$f":"SUM(S2360:T2360)","v":0},null,null,{"$f":"SUM(V2360:W2360)","v":0},null,null,{"$f":"SUM(Y2360:Z2360)","v":0},null,null,null,null,null,null,null,null,null,null,null,null,202440,0]
["1802062","Persistencia conducto onfalomesentérico, trat. quir.",0,null,null,null,null,0,null,null,null,null,null,null,0,null,null,0,null,null,0,null,null,0,null,null,null,null,null,null,null,null,null,null,null,null,202440,0]
["1802066","Oclusión intestinal sin resección",0,null,null,null,null,0,null,null,null,null,null,null,0,null,null,0,null,null,0,null,null,0,null,null,null,null,null,null,null,null,null,null,null,null,254180,0]
["1802067","Colectomía parcial o hemicolectomía",0,null,null,null,null,0,null,null,null,null,null,null,0,null,null,0,null,null,0,null,null,0,null,null,null,null,null,null,null,null,null,null,null,null,484820,0]
["1802070","Hartmann, operación de (o similar)",0,null,null,null,null,0,null,null,null,null,null,null,0,null,null,0,null,null,0,null,null,0,null,null,null,null,null,null,null,null,null,null,null,null,484820,0]
["1802071","Perforación y/o herida de intestino, única o múltiple, trat. quir. (proc. aut.)",0,null,null,null,null,0,null,null,null,null,null,null,0,null,null,0,null,null,0,null,null,0,null,null,null,null,null,null,null,null,null,null,null,null,244650,0]
["1802074","Resección de intestino y enteroanastomosis (proc. aut.)",0,null,null,null,null,0,null,null,null,null,null,null,0,null,null,0,null,null,0,null,null,0,null,null,null,null,null,null,null,null,null,null,null,null,311520,0]
["1802082","Resección intestinal con ostomías proximal y distal",0,null,null,null,null,0,null,null,null,null,null,null,0,null,null,0,null,null,0,null,null,0,null,null,null,null,null,null,null,null,null,null,null,null,298590,0]
["1802077","Mal rotación intestinal, trat. quir.",0,null,null,null,null,0,null,null,null,null,null,null,0,null,null,0,null,null,0,null,null,0,null,null,null,null,null,null,null,null,null,null,null,null,311420,0]
["1802093","Cirugía de la enterocolitis neonatal con resección intestinal",0,null,null,null,null,0,null,null,null,null,null,null,0,null,null,0,null,null,0,null,null,0,null,null,null,null,null,null,null,null,null,null,null,null,331440,{"$f":"+(I2377*AK2377)+(L2377*AK2377*0.5)","v":0}]
["1802096","Cirugía de la enterocolitis neonatal con resección múltiple laparoscopia",0,null,null,null,null,0,null,null,null,null,null,null,0,null,null,0,null,null,0,null,null,0,null,null,null,null,null,null,null,null,null,null,null,null,538600,0]
["1802097","Cirugía de la enterocolitis neonatal sin resección intestinal",0,null,null,null,null,0,null,null,null,null,null,null,0,null,null,0,null,null,0,null,null,0,null,null,null,null,null,null,null,null,null,null,null,null,276210,0]
["1802106","Reconstitución de transito post enterocolitis neonatal con múltiples entero-entero anastomosis",0,null,null,null,null,0,null,null,null,null,null,null,0,null,null,0,null,null,0,null,null,0,null,null,null,null,null,null,null,null,null,null,null,null,581800,0]
["1802102","Atresia o estenosis yeyuno-ileal, reparación primaria abierta",0,null,null,null,null,0,null,null,null,null,null,null,0,null,null,0,null,null,0,null,null,0,null,null,null,null,null,null,null,null,null,null,null,null,314490,0]
["1802104","Atresia o estenosis yeyuno-ileal, resección y ostomías abierta",0,null,null,null,null,0,null,null,null,null,null,null,0,null,null,0,null,null,0,null,null,0,null,null,null,null,null,null,null,null,null,null,null,null,314490,0]
["1802105","Atresia o estenosis yeyuno-ileal, resección y ostomías laparoscopia",0,null,null,null,null,0,null,null,null,null,null,null,0,null,null,0,null,null,0,null,null,0,null,null,null,null,null,null,null,null,null,null,null,null,408830,0,null," "]
[5099007,"Cirugía bariátrica con Balón Intragástrico",0,null,null,null,null,{"$f":"+I2391+J2391","v":0},null,null,null,null,null,null,0,null,null,0,null,null,0,null,null,0]
[null,"Laparoscopía exploradora (diagnóstica)",0,null,null,null,null,{"$f":"+I2392+J2392","v":0},null,null,null,null,null,null,0,null,null,0,null,null,0,null,null,0,null,null,null,null,null,null,null,null,null,null,null,null,null,null," "," "]
[null,"TOTAL ARANCEL MLE Y NO ARANCELADO",{"$f":"SUM(C2390:C2394)","v":0},null,null,null,null,{"$f":"SUM(H2390:H2394)","v":0},0,0,0,0,0,0,0,0,0,0,0,0,0,0,0,0,0,0,0,0,0,0,0,0,0,0,0,0]
[null,"TOTAL PRODUCCION",{"$f":"SUM(C2389+C2395)","v":0},null,null,null,null,{"$f":"SUM(H2389+H2395)","v":0},0,0,0,0,0,0,0,0,0,0,0,0,0,0,0,0,0,0,0,0,0,0,0,0,0,0,0,0,null,{"$f":"SUM(AL2389+AL2395)","v":0}]
["1803002","Absceso anorrectal simple, trat. quir.",{"$f":"SUM(I2399:N2399)","v":0},null,null,null,null,0,null,null,null,null,null,null,null,null,null,null,null,null,null,null,null,null,null,null,null,null,null,null,null,null,null,null,null,null,71280,0,null," "]
["1803003","Absceso sacrocoxígeo, drenaje",{"$f":"SUM(I2400:N2400)","v":0},null,null,null,null,0,null,null,null,null,null,null,null,null,null,null,null,null,null,null,null,null,null,null,null,null,null,null,null,null,null,null,null,null,43190,0,null," "]
["1803007","Cuerpo extraño rectal, extracción por vía anal",0,null,null,null,null,0,null,null,null,null,null,null,null,null,null,null,null,null,null,null,null,null,null,null,null,null,null,null,null,null,null,null,null,null,62360,0,null," "]
["1803008","Desgarros y heridas anorrectales con compromiso del esfínter",0,null,null,null,null,0,null,null,null,null,null,null,0,null,null,0,null,null,0,null,null,0,null,null,null,null,null,null,null,null,null,null,null,null,202010,0,null," "]
["1803011","Estenosis anal, plastía",0,null,null,null,null,0,null,null,null,null,null,null,0,null,null,0,null,null,0,null,null,0,null,null,null,null,null,null,null,null,null,null,null,null,152510,0]
["1803012","Estenosis rectal, plastía",0,null,null,null,null,0,null,null,null,null,null,null,0,null,null,0,null,null,0,null,null,0,null,null,null,null,null,null,null,null,null,null,null,null,167890,0]
["1803015","Fístula rectovaginal, rectouretral o uretrovaginal, trat.quir.",0,null,null,null,null,0,null,null,null,null,null,null,0,null,null,0,null,null,0,null,null,0,null,null,null,null,null,null,null,null,null,null,null,null,273010,0]
["1803016","Fístula anorrectal, trat.quir.de cualquier tipo",0,null,null,null,null,0,null,null,null,null,null,null,0,null,null,0,null,null,0,null,null,0,null,null,null,null,null,null,null,null,null,null,null,null,180310,0]
["1803018","Hemorroidectomía (incluye otras operaciones complementarias en canal anal)",0,null,null,null,null,0,null,null,null,null,null,null,0,null,null,0,null,null,0,null,null,0,null,null,null,null,null,null,null,null,null,null,null,null,203600,0]
["1803019","Hemorroides, trombectomía (proc. aut.)",0,null,null,null,null,0,null,null,null,null,null,null,null,null,null,null,null,null,null,null,null,null,null,null,null,null,null,null,null,null,null,null,null,null,28890,0,null," "]
["1803023","Incontinencia anal, trat.quir. con cerclaje",0,null,null,null,null,0,null,null,null,null,null,null,0,null,null,0,null,null,0,null,null,0,null,null,null,null,null,null,null,null,null,null,null,null,180310,0]
["1803024","Incontinencia anal, trat.quir. con plastía muscular",0,null,null,null,null,0,null,null,null,null,null,null,0,null,null,0,null,null,0,null,null,0,null,null,null,null,null,null,null,null,null,null,null,null,251000,0]
["1803027","Prolapso rectal, trat.quir. por vía abdominal",0,null,null,null,null,0,null,null,null,null,null,null,0,null,null,0,null,null,0,null,null,0,null,null,null,null,null,null,null,null,null,null,null,null,304960,0]
["1803028","Prolapso rectal, trat.quir. por vía anal",0,null,null,null,null,0,null,null,null,null,null,null,0,null,null,0,null,null,0,null,null,0,null,null,null,null,null,null,null,null,null,null,null,null,187050,0]
["1803031","Quiste sacrocoxígeo, trat. quir.",0,null,null,null,null,0,null,null,null,null,null,null,0,null,null,0,null,null,0,null,null,0,null,null,null,null,null,null,null,null,null,null,null,null,187050,0]
["1803032","Resección abdómino-perineal de ano y recto (2 equipos)",0,null,null,null,null,0,null,null,null,null,null,null,0,null,null,0,null,null,0,null,null,0,null,null,null,null,null,null,null,null,null,null,null,null,533870,0]
["1803035","Resección perineal de ano y recto",0,null,null,null,null,0,null,null,null,null,null,null,0,null,null,0,null,null,0,null,null,0,null,null,null,null,null,null,null,null,null,null,null,null,353380,0]
["1803038","Condilomas anales, trat. quir. ",0,null,null,null,null,0,null,null,null,null,null,null,0,null,null,0,null,null,0,null,null,0,null,null,null,null,null,null,null,null,null,null,null,null,140320,0]
["1803041","Cirugía reparadora en Enfermedad de Hirschsprung vía abdomino-perineal",0,null,null,null,null,0,null,null,null,null,null,null,0,null,null,0,null,null,0,null,null,0,null,null,null,null,null,null,null,null,null,null,null,null,583600,0]
["1803042","Cirugía reparadora en Enfermedad de Hirschsprung vía endoanal",0,null,null,null,null,0,null,null,null,null,null,null,0,null,null,0,null,null,0,null,null,0,null,null,null,null,null,null,null,null,null,null,null,null,408520,0,null," "]
["PROCEDIMIENTOS DE UROLOGÍA Y NEFROLOGÍA"]
["1901001","Exploración de uretra ántero-posterior con bujía y/o explorador olivar, y/o sonda, y/o Beniqué, y/o medición de residuo vesical (la calibración del meato esta incluída en el valor de la consulta)",{"$f":"SUM(D2438+G2438)","v":0},{"$f":"SUM(E2438:F2438)","v":0},null,null,null,null,null,null,null,null,null,null,null,null,null,null,null,null,null,null,null,null,null,null,null,null,null,null,null,null,null,null,null,null,5510,{"$f":"AK2438*E2438","v":0},null," "]
["1901004","Ureteronefroscopia",0,0,null,null,null,null,null,null,null,null,null,null,null,null,null,null,null,null,null,null,null,null,null,null,null,null,null,null,null,null,null,null,null,null,60260,0]
["1901005","Biopsia prostática transrectal o transperineal con apoyo ecográfico",0,0,null,null,null,null,null,null,null,null,null,null,null,null,null,null,null,null,null,null,null,null,null,null,null,null,null,null,null,null,null,null,null,null,38760,0]
["1901007","Cistometría (proc.aut.)",0,0,null,null,null,null,null,null,null,null,null,null,null,null,null,null,null,null,null,null,null,null,null,null,null,null,null,null,null,null,null,null,null,null,18090,0]
["1901009","Electromiografía perineal y del esfínter uretral en niños (proc.aut.)",0,0,null,null,null,null,null,null,null,null,null,null,null,null,null,null,null,null,null,null,null,null,null,null,null,null,null,null,null,null,null,null,null,null,13760,0]
["1901030","Estudio urodinámico (incluye cistometría, EMG perineal y del esfínter uretral, perfil uretral y uroflujometría)",0,0,null,null,null,null,null,null,null,null,null,null,null,null,null,null,null,null,null,null,null,null,null,null,null,null,null,null,null,null,null,null,null,null,62660,0]
["1901012","Cistografía por sonda (de relleno) o por punción  hipogástrica",0,0,null,null,null,null,null,null,null,null,null,null,null,null,null,null,null,null,null,null,null,null,null,null,null,null,null,null,null,null,null,null,null,null,12080,0]
["1901016","Uretrografía retrógrada o cistouretrografía (miccional) ",0,0,null,null,null,null,null,null,null,null,null,null,null,null,null,null,null,null,null,null,null,null,null,null,null,null,null,null,null,null,null,null,null,null,8160,0]
["1901018","Dilatación uretra c/s masaje, c/s instilación o inyección de medicamentos: anterior y/o posterior",0,0,null,null,null,null,null,null,null,null,null,null,null,null,null,null,null,null,null,null,null,null,null,null,null,null,null,null,null,null,null,null,null,null,9500,0]
["1901020","Inyección de medicamentos en el pene",0,0,null,null,null,null,null,null,null,null,null,null,null,null,null,null,null,null,null,null,null,null,null,null,null,null,null,null,null,null,null,null,null,null,7970,0]
["1901021","Vaciamiento vesical p/punción hipogástrica o cistostomía p/punción",0,0,null,null,null,null,null,null,null,null,null,null,null,null,null,null,null,null,null,null,null,null,null,null,null,null,null,null,null,null,null,null,null,null,15090,0]
[" 5099109 ","Instalacion de sonda vesical ",0,0]
["01012045","Extracción percutánea de calculos renales ",0,0]
[null,"TOTAL PRODUCCION",{"$f":"SUM(C2438:C2463)","v":0},{"$f":"SUM(D2438:D2463)","v":0},{"$f":"SUM(E2438:E2463)","v":0},{"$f":"SUM(F2438:F2463)","v":0},{"$f":"SUM(G2438:G2463)","v":0},null,null,null,null,null,null,null,null,null,null,null,null,null,null,null,null,null,null,null,{"$f":"SUM(AA2438:AA2463)","v":0},0,0,0,0,0,0,0,0,0,null,{"$f":"SUM(AL2438:AL2463)","v":0}]
[null,"UROLOGIA Y NEFROLOGIA   "]
["1901024","Hemodiálisis sin insumos",0,0,null,null,null,null,null,null,null,null,null,null,null,null,null,null,null,null,null,null,null,null,null,null,null,null,null,null,null,null,null,null,null,null,35420,0,null," "]
["1901025","Peritoneodiálisis por sesión (incluye insumos)",0,0,null,null,null,null,null,null,null,null,null,null,null,null,null,null,null,null,null,null,null,null,null,null,null,null,null,null,null,null,null,null,null,null,36470,0,null," "]
["1901027","Hemodiálisis, tratamiento mensual (con insumos incluidos)",0,0,null,null,null,null,null,null,null,null,null,null,null,null,null,null,null,null,null,null,null,null,null,null,null,null,null,null,null,null,null,null,null,null,760390,0,null," "]
["1901028","Hemodiálisis con bicarbonato con insumos (por sesión)",0,0,null,null,null,null,null,null,null,null,null,null,null,null,null,null,null,null,null,null,null,null,null,null,null,null,null,null,null,null,null,null,null,null,68560,0,null," "]
["1901032","Retiro de catéter de peritoneodiálisis",{"$f":"SUM(D2476+G2476)","v":0},{"$f":"SUM(E2476:F2476)","v":0},null,null,null,null,null,null,null,null,null,null,null,null,null,null,null,null,null,null,null,null,null,null,null,null,null,null,null,null,null,null,null,null,165880,0,null," "]
[1901033,"Revisión de catéter de peritoneodiálisis laparoscopia",{"$f":"SUM(D2477+G2477)","v":0},{"$f":"SUM(E2477:F2477)","v":0},null,null,null,null,null,null,null,null,null,null,null,null,null,null,null,null,null,null,null,null,null,null,null,null,null,null,null,null,null,null,null,null,338040,0,null," "]
["1902002","Arterias renales, operaciones sobre (proc. aut.)",{"$f":"SUM(I2480:N2480)","v":0},null,null,null,null,{"$f":"+I2480+J2480","v":0},null,null,null,null,null,null,{"$f":"SUM(P2480:Q2480)","v":0},null,null,{"$f":"SUM(S2480:T2480)","v":0},null,null,{"$f":"SUM(V2480:W2480)","v":0},null,null,{"$f":"SUM(Y2480:Z2480)","v":0},null,null,null,null,null,null,null,null,null,null,null,null,620190,{"$f":"+(I2480*AK2480)+(L2480*AK2480*0.5)","v":0},null," "]
["1902003","Auto o heterotrasplante riñón",{"$f":"SUM(I2481:N2481)","v":0},null,null,null,null,0,null,null,null,null,null,null,{"$f":"SUM(P2481:Q2481)","v":0},null,null,{"$f":"SUM(S2481:T2481)","v":0},null,null,{"$f":"SUM(V2481:W2481)","v":0},null,null,{"$f":"SUM(Y2481:Z2481)","v":0},null,null,null,null,null,null,null,null,null,null,null,null,856640,0]
["1902090","Tratamiento integral litiasis urinaria por vía litotripsia extracorpórea",0,null,null,null,null,0,null,null,null,null,null,null,0,null,null,0,null,null,0,null,null,0,null,null,null,null,null,null,null,null,null,null,null,null,572100,0]
["1902006","Litiasis renal o ureteral  por cirugía abierta o laparoscópica, por pielotomía o nefrotomía mínima o anatrófica.",0,null,null,null,null,0,null,null,null,null,null,null,0,null,null,0,null,null,0,null,null,0,null,null,null,null,null,null,null,null,null,null,null,null,394520,0]
["1902010","Nefrectomía radical por cáncer renal, traumatismo renal, vía abierta, laparoscópica o robótica, incluye disección ganglionar etapificadora o reductiva",0,null,null,null,null,0,null,null,null,null,null,null,0,null,null,0,null,null,0,null,null,0,null,null,null,null,null,null,null,null,null,null,null,null,623220,0]
["1902011","Nefrectomía por patología benigna o malformación o trasplante.",0,null,null,null,null,0,null,null,null,null,null,null,0,null,null,0,null,null,0,null,null,0,null,null,null,null,null,null,null,null,null,null,null,null,324190,0]
["1902013","Pielotomía exploradora y/o terapéutica (incluye la  pielostomía y/o pieloplastía)",0,null,null,null,null,0,null,null,null,null,null,null,0,null,null,0,null,null,0,null,null,0,null,null,null,null,null,null,null,null,null,null,null,null,407220,0]
["1902015","Suprarrenalectomía unilateral",0,null,null,null,null,0,null,null,null,null,null,null,0,null,null,0,null,null,0,null,null,0,null,null,null,null,null,null,null,null,null,null,null,null,394520,0]
["1902018","Nefroureterectomía en patología tumoral o malformación, cualquier vía o técnica.",0,null,null,null,null,0,null,null,null,null,null,null,0,null,null,0,null,null,0,null,null,0,null,null,null,null,null,null,null,null,null,null,null,null,522370,0]
["1902019","Ureterectomía",0,null,null,null,null,0,null,null,null,null,null,null,0,null,null,0,null,null,0,null,null,0,null,null,null,null,null,null,null,null,null,null,null,null,375320,0]
["1902022","Ureterectomía, ureteroplastía, ureterorrafia, ureterolisis, transureteroanastomosis, cualquier vía o técnica. ",0,null,null,null,null,0,null,null,null,null,null,null,0,null,null,0,null,null,0,null,null,0,null,null,null,null,null,null,null,null,null,null,null,null,433660,0]
["1902023","Ureterorrafia y/o ureterolisis c/u",0,null,null,null,null,0,null,null,null,null,null,null,0,null,null,0,null,null,0,null,null,0,null,null,null,null,null,null,null,null,null,null,null,null,311420,0]
[1902093,"Ureterostomía unilateral: vesical, cutáneo o intestinal por vía de abordaje laparoscopia",0,null,null,null,null,0,null,null,null,null,null,null,0,null,null,0,null,null,0,null,null,0,null,null,null,null,null,null,null,null,null,null,null,null,510550,0]
["1902027","Cistectomía parcial y/o trat. quir. de divertículo vesical",0,null,null,null,null,0,null,null,null,null,null,null,0,null,null,0,null,null,0,null,null,0,null,null,null,null,null,null,null,null,null,null,null,null,298590,0]
["1902030","Reparación vesical por trauma o daño de cualquier tipo.",0,null,null,null,null,0,null,null,null,null,null,null,0,null,null,0,null,null,0,null,null,0,null,null,null,null,null,null,null,null,null,null,null,null,202440,0]
["1902091","Reparación vesical por trauma o daño de cualquier tipo. Por vía de abordaje laparoscópica",0,null,null,null,null,0,null,null,null,null,null,null,0,null,null,0,null,null,0,null,null,0,null,null,null,null,null,null,null,null,null,null,null,null,277180,0]
["1902033","Fístula vésico-cutánea, y/o vaginal, y/o intest., trat. quir.",0,null,null,null,null,0,null,null,null,null,null,null,0,null,null,0,null,null,0,null,null,0,null,null,null,null,null,null,null,null,null,null,null,null,304960,0]
["1902034","Cirugía abierta o endoscópica de lesiones cuello vesical y/o hemovejiga primaria o post cirugía próstata o vejiga",0,null,null,null,null,0,null,null,null,null,null,null,0,null,null,0,null,null,0,null,null,0,null,null,null,null,null,null,null,null,null,null,null,null,247480,0]
["1902036","Operación de Bricker",0,null,null,null,null,0,null,null,null,null,null,null,0,null,null,0,null,null,0,null,null,0,null,null,null,null,null,null,null,null,null,null,null,null,595080,0]
["1902037","Resección endoscópica de cáncer vesical",0,null,null,null,null,0,null,null,null,null,null,null,0,null,null,0,null,null,0,null,null,0,null,null,null,null,null,null,null,null,null,null,null,null,324980,0]
["1902040","Extirpación divertículo o quiste para-uretral, cualquier vía",0,null,null,null,null,0,null,null,null,null,null,null,0,null,null,0,null,null,0,null,null,0,null,null,null,null,null,null,null,null,null,null,null,null,311420,0]
["1902041","Flegmón urinoso, drenaje y cistostomía",0,null,null,null,null,0,null,null,null,null,null,null,0,null,null,0,null,null,0,null,null,0,null,null,null,null,null,null,null,null,null,null,null,null,225430,0]
["1902045","Incontinencia urinaria de esfuerzo o d.i.e. (disfunción intrínseca del esfínter), cualquier vía única o combinada, con o sin instalación de mallas, elementos protésicos o esfínter artificial.",0,null,null,null,null,0,null,null,null,null,null,null,0,null,null,0,null,null,0,null,null,0,null,null,null,null,null,null,null,null,null,null,null,null,289850,0]
["1902047","Meatotomía quirúrgica c/s resección de pólipo o carúncula",0,null,null,null,null,0,null,null,null,null,null,null,0,null,null,0,null,null,0,null,null,0,null,null,null,null,null,null,null,null,null,null,null,null,146310,0]
["1902051","Uretrostomía",0,null,null,null,null,0,null,null,null,null,null,null,0,null,null,0,null,null,0,null,null,0,null,null,null,null,null,null,null,null,null,null,null,null,152990,0]
["1902052","Uretrotomía externa (proc. aut.)",0,null,null,null,null,0,null,null,null,null,null,null,0,null,null,0,null,null,0,null,null,0,null,null,null,null,null,null,null,null,null,null,null,null,176050,0]
["1902055","Adenoma o cáncer prostático, resección endoscópica desobstructiva, cualquier técnica (uni, bipolar, láser u otros)",0,null,null,null,null,0,null,null,null,null,null,null,0,null,null,0,null,null,0,null,null,0,null,null,null,null,null,null,null,null,null,null,null,null,317730,0]
["1902056","Adenoma prostático, trat. quir. cualquier vía o técnica abierta",0,null,null,null,null,0,null,null,null,null,null,null,0,null,null,0,null,null,0,null,null,0,null,null,null,null,null,null,null,null,null,null,null,null,349720,0]
["1902060","Descenso testicular con o sin hernia, cualquier tiempo, cualquier técnica",0,null,null,null,null,0,null,null,null,null,null,null,0,null,null,0,null,null,0,null,null,0,null,null,null,null,null,null,null,null,null,null,null,null,233020,0]
["1902061","Descenso testículo inguinal c/s hernioplastía",0,null,null,null,null,0,null,null,null,null,null,null,0,null,null,0,null,null,0,null,null,0,null,null,null,null,null,null,null,null,null,null,null,null,199080,0]
["1902064","Hidrocele y/o hematocele, incluye quistes cordón y/o epidídimo y/o hidatidectomías y/o cirugía intravaginal del mismo lado ",0,null,null,null,null,0,null,null,null,null,null,null,0,null,null,0,null,null,0,null,null,0,null,null,null,null,null,null,null,null,null,null,null,null,169270,0]
["1902065","Orquidectomía unilateral",0,null,null,null,null,0,null,null,null,null,null,null,0,null,null,0,null,null,0,null,null,0,null,null,null,null,null,null,null,null,null,null,null,null,169270,0]
["1902067","Prótesis testicular, (proc. aut.)",0,null,null,null,null,0,null,null,null,null,null,null,0,null,null,0,null,null,0,null,null,0,null,null,null,null,null,null,null,null,null,null,null,null,169270,0]
["1902068","Orquidectomía ampliada por cáncer testicular",0,null,null,null,null,0,null,null,null,null,null,null,0,null,null,0,null,null,0,null,null,0,null,null,null,null,null,null,null,null,null,null,null,null,210070,0]
["1902071","Cirugía del epidídimo y cordón (proc.aut), incluye cirugía intravaginal y/o varicocele mismo lado",0,null,null,null,null,0,null,null,null,null,null,null,{"$f":"SUM(P2545:Q2545)","v":0},null,null,{"$f":"SUM(S2545:T2545)","v":0},null,null,{"$f":"SUM(V2545:W2545)","v":0},null,null,{"$f":"SUM(Y2545:Z2545)","v":0},null,null,null,null,null,null,null,null,null,null,null,null,186260,{"$f":"+(I2545*AK2545)+(L2545*AK2545*0.5)","v":0}]
["1902072","Plastía epidídimo-deferente (operación de Martín o sim.)",0,null,null,null,null,0,null,null,null,null,null,null,0,null,null,0,null,null,0,null,null,0,null,null,null,null,null,null,null,null,null,null,null,null,270210,0]
["1902075","Varicocele unilateral y/o denervación cordón espermático (incluye quistes, hidátides e hidrocele mismo lado)",0,null,null,null,null,0,null,null,null,null,null,null,0,null,null,0,null,null,0,null,null,0,null,null,null,null,null,null,null,null,null,null,null,null,169270,0]
["1902076","Vasectomía bilateral, (proc. aut.) (la vasectomía como tiempo previo a una resección de próstata esta incluida en la prostatectomía)",0,null,null,null,null,0,null,null,null,null,null,null,0,null,null,0,null,null,0,null,null,0,null,null,null,null,null,null,null,null,null,null,null,null,169270,0]
["1902080","Biopsia de pene (proc. aut.)",0,null,null,null,null,0,null,null,null,null,null,null,null,null,null,null,null,null,null,null,null,null,null,null,null,null,null,null,null,null,null,null,null,null,46420,0,null," "]
["1902081","Cirugía del priapismo cualquier vía o técnica",0,null,null,null,null,0,null,null,null,null,null,null,0,null,null,0,null,null,0,null,null,0,null,null,null,null,null,null,null,null,null,null,null,null,210070,0,null," "]
["1902084","Meatotomía hombre y/o sección frenillo y/o incisión dorsal, (proc. aut.)",0,null,null,null,null,0,null,null,null,null,null,null,null,null,null,null,null,null,null,null,null,null,null,null,null,null,null,null,null,null,null,null,null,null,34820,0,null," "]
["1902085","Implantación prótesis peneana cualquier tipo o vía (no incluye prótesis)",0,null,null,null,null,0,null,null,null,null,null,null,0,null,null,0,null,null,0,null,null,0,null,null,null,null,null,null,null,null,null,null,null,null,346920,0,null," "]
["2001002","Colposcopía",{"$f":"SUM(D2561+G2561)","v":0},{"$f":"SUM(E2561:F2561)","v":0},null,null,null,null,null,null,null,null,null,null,null,null,null,null,null,null,null,null,null,null,null,null,null,null,null,null,null,null,null,null,null,null,8530,{"$f":"AK2561*E2561","v":0}," "," "]
["2001005","Histeroscopía diagnóstica (proc. aut.)",{"$f":"SUM(D2562+G2562)","v":0},{"$f":"SUM(E2562:F2562)","v":0},null,null,null,null,null,null,null,null,null,null,null,null,null,null,null,null,null,null,null,null,null,null,null,null,null,null,null,null,null,null,null,null,36310,{"$f":"AK2562*E2562","v":0}," "," "]
["2001009","Monitoreo basal con informe",0,0,null,null,null,null,null,null,null,null,null,null,null,null,null,null,null,null,null,null,null,null,null,null,null,null,null,null,null,null,null,null,null,null,4770,0]
["2001010","Monitoreo fetal estresante, con control permanente del especialista y tratamiento de las posibles complicaciones",0,0,null,null,null,null,null,null,null,null,null,null,null,null,null,null,null,null,null,null,null,null,null,null,null,null,null,null,null,null,null,null,null,null,15200,0]
["2001012","Galactografía (a.c. 04-02-005)",0,0,null,null,null,null,null,null,null,null,null,null,null,null,null,null,null,null,null,null,null,null,null,null,null,null,null,null,null,null,null,null,null,null,12360,0]
["2001013","Histerosalpingografía (a.c. 04-02-011)",0,0,null,null,null,null,null,null,null,null,null,null,null,null,null,null,null,null,null,null,null,null,null,null,null,null,null,null,null,null,null,null,null,null,16000,0]
["2001016","Electrodiatermo o criocoagulación de lesiones del cuello",{"$f":"SUM(D2572+G2572)","v":0},{"$f":"SUM(E2572:F2572)","v":0},null,null,null,null,null,null,null,null,null,null,null,null,null,null,null,null,null,null,null,null,null,null,null,null,null,null,null,null,null,null,null,null,24680,{"$f":"AK2572*E2572","v":0}]
["2001020","Test postcoital",0,0,null,null,null,null,null,null,null,null,null,null,null,null,null,null,null,null,null,null,null,null,null,null,null,null,null,null,null,null,null,null,null,null,12360,0]
["2001024","Biopsia corial",0,0,null,null,null,null,null,null,null,null,null,null,null,null,null,null,null,null,null,null,null,null,null,null,null,null,null,null,null,null,null,null,null,null,20910,0]
[2001025,"Toma de biopsia con aguja bajo visión ecográfica de la Mama (Biopsia Core)",0,0,null,null,null,null,null,null,null,null,null,null,null,null,null,null,null,null,null,null,null,null,null,null,null,null,null,null,null,null,null,null,null,null,74210,0]
["2003049","Prueba avanzada de neuromodulación sacra: Implante o revisión de neuroelectrodo sacro cuadripolar",0,0,null,null,null,null,null,null,null,null,null,null,null,null,null,null,null,null,null,null,null,null,null,null,null,null,null,null,null,null,null,null,null,null,799400,0]
["2003050","Implante de generador de pulso implantable de neuromodulación sacra ",0,0,null,null,null,null,null,null,null,null,null,null,null,null,null,null,null,null,null,null,null,null,null,null,null,null,null,null,null,null,null,null,null,null,691430,0,null," "]
[null,"Total ARANCEL MAI",{"$f":"SUM(C2561:C2583)","v":0},{"$f":"SUM(D2561:D2583)","v":0},{"$f":"SUM(E2561:E2583)","v":0},{"$f":"SUM(F2561:F2583)","v":0},{"$f":"SUM(G2561:G2583)","v":0},null,null,null,null,null,null,null,null,null,null,null,null,null,null,null,null,null,null,null,{"$f":"SUM(AA2561:AA2583)","v":0},{"$f":"SUM(AB2561:AB2583)","v":0},{"$f":"SUM(AC2561:AC2583)","v":0},{"$f":"SUM(AD2561:AD2583)","v":0},0,0,0,0,0,0,null,{"$f":"SUM(AL2561:AL2583)","v":0}]
[5099004,"Biopsia core (BC) guiada por ultrasonido (US)",0,0]
[5099047,"Insercion Pellets subcutáneo ",{"$f":"SUM(D2588+G2588)","v":0},{"$f":"SUM(E2588:F2588)","v":0}]
["01012160","Electrofulguración condiloma",{"$f":"SUM(D2589+G2589)","v":0},{"$f":"SUM(E2589:F2589)","v":0}]
[null,"TOTAL PRODUCCION",{"$f":"SUM(C2584+C2590)","v":0},{"$f":"SUM(D2584+D2590)","v":0},{"$f":"SUM(E2584+E2590)","v":0},{"$f":"SUM(F2584+F2590)","v":0},{"$f":"SUM(G2584+G2590)","v":0},null,null,null,null,null,null,null,null,null,null,null,null,null,null,null,null,null,null,null,{"$f":"SUM(AA2584+AA2590)","v":0},0,0,0,0,0,0,0,0,0,null,0]
[null,"CIRUGIA DE LA MAMA (UN LADO)  "]
["2002003","Mastectomía radical o tumorectomía c/vaciamiento ganglionar o mastectomía total c/vaciamiento ganglionar",{"$f":"SUM(I2595:N2595)","v":0},null,null,null,null,{"$f":"+I2595+J2595","v":0},null,null,null,null,null,null,{"$f":"SUM(P2595:Q2595)","v":0},null,null,{"$f":"SUM(S2595:T2595)","v":0},null,null,{"$f":"SUM(V2595:W2595)","v":0},null,null,{"$f":"SUM(Y2595:Z2595)","v":0},null,null,null,null,null,null,null,null,null,null,null,null,436400,{"$f":"+(I2595*AK2595)+(L2595*AK2595*0.5)","v":0}," "]
["2002005","Tumor benigno y/o quiste y/o mama supernumeraria y/o aberrante o politelia, o biopsia quirúrgica extemporánea, trat. quir. (proc. aut)",{"$f":"SUM(I2596:N2596)","v":0},null,null,null,null,{"$f":"+I2596+J2596","v":0},null,null,null,null,null,null,{"$f":"SUM(P2596:Q2596)","v":0},null,null,{"$f":"SUM(S2596:T2596)","v":0},null,null,{"$f":"SUM(V2596:W2596)","v":0},null,null,{"$f":"SUM(Y2596:Z2596)","v":0},null,null,null,null,null,null,null,null,null,null,null,null,169270,{"$f":"+(I2596*AK2596)+(L2596*AK2596*0.5)","v":0}," "]
[null,"CIRUGIA GINECOLOGICA                                  "]
["2003031","Videolaparoscopía ginecológica exploradora (incluye toma de muestras para biopsias, punción de quistes y liberación de adherencias) (proc. aut.)",{"$f":"SUM(I2600:N2600)","v":0},null,null,null,null,{"$f":"+I2600+J2600","v":0},null,null,null,null,null,null,{"$f":"SUM(P2600:Q2600)","v":0},null,null,{"$f":"SUM(S2600:T2600)","v":0},null,null,{"$f":"SUM(V2600:W2600)","v":0},null,null,{"$f":"SUM(Y2600:Z2600)","v":0},null,null,null,null,null,null,null,null,null,null,null,null,179820,{"$f":"+(I2600*AK2600)+(L2600*AK2600*0.5)","v":0},null," "]
["2003043","Traquelectomía radical ",0,null,null,null,null,{"$f":"+I2603+J2603","v":0},null,null,null,null,null,null,0,null,null,0,null,null,0,null,null,0,null,null,null,null,null,null,null,null,null,null,null,null,911680,0]
["2003045","Traquelectomía radical laparoscópica ",{"$f":"SUM(I2604:N2604)","v":0},null,null,null,null,{"$f":"+I2604+J2604","v":0},null,null,null,null,null,null,0,null,null,0,null,null,0,null,null,0,null,null,null,null,null,null,null,null,null,null,null,null,1248260,0]
["2003002","Anexectomía y/o vac. de absceso tubo-ovárico, uni o bilateral.",{"$f":"SUM(I2607:N2607)","v":0},null,null,null,null,0,null,null,null,null,null,null,{"$f":"SUM(P2607:Q2607)","v":0},null,null,0,null,null,0,null,null,0,null,null,null,null,null,null,null,null,null,null,null,null,244650,0]
["2003003","Embarazo tubario, trat. quir.",0,null,null,null,null,0,null,null,null,null,null,null,0,null,null,0,null,null,0,null,null,0,null,null,null,null,null,null,null,null,null,null,null,null,248420,0]
["2003006","Esterilidad tubaria, operación plástica uni o bilateral con microcirugía",0,null,null,null,null,0,null,null,null,null,null,null,0,null,null,0,null,null,0,null,null,0,null,null,null,null,null,null,null,null,null,null,null,null,420910,0]
["2003007","Esterilidad tubaria, operación plástica uni o bilateral sin microcirugía",0,null,null,null,null,0,null,null,null,null,null,null,0,null,null,0,null,null,0,null,null,0,null,null,null,null,null,null,null,null,null,null,null,null,285790,0]
["2003009","Histerectomía subtotal por vía abdominal",0,null,null,null,null,0,null,null,null,null,null,null,0,null,null,0,null,null,0,null,null,0,null,null,null,null,null,null,null,null,null,null,null,null,287680,0]
["2003010","Histerectomía total o ampliada por vía abdominal",0,null,null,null,null,0,null,null,null,null,null,null,0,null,null,0,null,null,0,null,null,0,null,null,null,null,null,null,null,null,null,null,null,null,515960,0]
["2003012","Conización y/o amputación del cuello uterino, diagnóstica y/o terapéutica  c/s biopsia",0,null,null,null,null,0,null,null,null,null,null,null,0,null,null,0,null,null,0,null,null,0,null,null,null,null,null,null,null,null,null,null,null,null,169270,0]
["2003013","Exanteración pelviana anterior y/o posterior",0,null,null,null,null,0,null,null,null,null,null,null,0,null,null,0,null,null,0,null,null,0,null,null,null,null,null,null,null,null,null,null,null,null,906240,0]
["2003016","Histerectomía total c/intervención incontinencia urinaria, cualquier técnica",0,null,null,null,null,0,null,null,null,null,null,null,0,null,null,0,null,null,0,null,null,0,null,null,null,null,null,null,null,null,null,null,null,null,554300,0]
["2003017","Histeropexia",0,null,null,null,null,0,null,null,null,null,null,null,0,null,null,0,null,null,0,null,null,0,null,null,null,null,null,null,null,null,null,null,null,null,224450,0]
["2003020","Sinequia y/o estenosis cervical, trat. quir.",0,null,null,null,null,0,null,null,null,null,null,null,0,null,null,0,null,null,0,null,null,0,null,null,null,null,null,null,null,null,null,null,null,null,90280,0," "," "]
["2003030","Desgarro cervical trat. quir.",0,null,null,null,null,0,null,null,null,null,null,null,0,null,null,0,null,null,0,null,null,0,null,null,null,null,null,null,null,null,null,null,null,null,169270,0," "," "]
["2003022","Incontinencia urinaria de esfuerzo, trat. quir. por vía vaginal (proc. aut.)",0,null,null,null,null,0,null,null,null,null,null,null,0,null,null,0,null,null,0,null,null,0,null,null,null,null,null,null,null,null,null,null,null,null,210070,0," "," "]
["2003023","Prolapso anterior y/o posterior con repar., incontinencia urinaria por vía extravaginal o combinada",0,null,null,null,null,0,null,null,null,null,null,null,0,null,null,0,null,null,0,null,null,0,null,null,null,null,null,null,null,null,null,null,null,null,343330,0," "," "]
["2003026","Bartolinitis, vaciamiento y drenaje (proc. aut.)",0,null,null,null,null,0,null,null,null,null,null,null,null,null,null,null,null,null,null,null,null,null,null,null,null,null,null,null,null,null,null,null,null,null,43190,0," "," "]
["2003027","Bartolinocistoneostomía o extirp. de la glándula",0,null,null,null,null,0,null,null,null,null,null,null,0,null,null,0,null,null,0,null,null,0,null,null,null,null,null,null,null,null,null,null,null,null,169270,0]
[null,"Laparoscopía ginecológica exploradora (diagnóstica)",0,null,null,null,null,0,null,null,null,null,null,null,0,null,null,0,null,null,0,null,null,0,null,null,null,null,null,null,null,null,null,null,null,null,null,null," "," "]
[null,"TOTAL",{"$f":"SUM(C2600:C2638)","v":0},null,null,null,null,{"$f":"SUM(H2600:H2638)","v":0},0,0,0,0,0,0,{"$f":"SUM(O2600:O2638)","v":0},0,0,0,0,0,0,0,0,0,0,0,0,0,0,0,0,0,0,0,0,0,null,0]
["2004002","Raspado uterino diagnóstico o terapéutico por metrorragia o por restos de aborto",{"$f":"SUM(D2642+G2642)","v":0},{"$f":"SUM(E2642:F2642)","v":0},null,null,null,null,null,null,null,null,null,null,null,null,null,null,null,null,null,null,null,null,null,null,null,null,null,null,null,null,null,null,null,null,132060,{"$f":"AK2642*E2642","v":0},null," "]
["2004007","Aspiración manual endouterina (AMEU)",{"$f":"SUM(D2643+G2643)","v":0},{"$f":"SUM(E2643:F2643)","v":0},null,null,null,null,null,null,null,null,null,null,null,null,null,null,null,null,null,null,null,null,null,null,null,null,null,null,null,null,null,null,null,null,57090,{"$f":"AK2643*E2643","v":0},null," "]
["2004006","Cesárea c/s salpingoligadura o salpingectomía",{"$f":"SUM(I2645:N2645)","v":0},null,null,null,null,{"$f":"+I2645+J2645","v":0},null,null,null,null,null,null,{"$f":"SUM(P2645:Q2645)","v":0},null,null,{"$f":"SUM(S2645:T2645)","v":0},null,null,{"$f":"SUM(V2645:W2645)","v":0},null,null,{"$f":"SUM(Y2645:Z2645)","v":0},null,null,null,null,null,null,null,null,null,null,null,null,174710,{"$f":"+(I2645*AK2645)+(L2645*AK2645*0.5)","v":0},null," "]
["2004005","Cesárea con histerectomía",0,null,null,null,null,0,null,null,null,null,null,null,0,null,null,0,null,null,0,null,null,0,null,null,null,null,null,null,null,null,null,null,null,null,343330,0,null," "]
["2004015","Tratamiento quirúrgico abierto del quiste paraovárico o del ligamento ancho, neonatal",0,null,null,null,null,0,null,null,null,null,null,null,0,null,null,0,null,null,0,null,null,0,null,null,null,null,null,null,null,null,null,null,null,null,314540,0,null," "]
["2004016","Tratamiento quirúrgico laparoscópico del quiste paraovárico o del ligamento ancho, laparoscópico, neonatal",0,null,null,null,null,0,null,null,null,null,null,null,0,null,null,0,null,null,0,null,null,0,null,null,null,null,null,null,null,null,null,null,null,null,408890,0,null," "]
[2004113,"Parto distósico vaginal",{"$f":"SUM(D2653+G2653)","v":0},{"$f":"SUM(E2653:F2653)","v":0},null,null,null,null,null,null,null,null,null,null,null,null,null,null,null,null,null,null,null,null,null,null,null,null,null,null,null,null,null,null,null,null,183800,{"$f":"AK2653*E2653","v":0},null," "]
[null,"TOTAL PRODUCCION",{"$f":"SUM(C2641:C2653)","v":0},{"$f":"SUM(D2641:D2653)","v":0},0,0,0,0,0,0,0,0,0,0,0,0,0,0,0,0,0,0,0,0,0,0,0,0,0,0,0,0,0,0,0,0,null,{"$f":"SUM(AL2641:AL2653)","v":0}]
[2101002,"Procedimiento para exploraciones radiologicas (incluye maniobra e inyeccion del medio de contraste)  BM18A  Revisar en BM Colocación valva",0,0]
[2101003,"Movilizacion articular bajo anestesia general.",0,0]
["2105003","Minerva de yeso",0,0,null,null,null,null,null,null,null,null,null,null,null,null,null,null,null,null,null,null,null,null,null,null,null,null,null,null,null,null,null,null,null,null,28270,0]
["2105004","Rodillera, bota larga o corta de yeso",0,0,null,null,null,null,null,null,null,null,null,null,null,null,null,null,null,null,null,null,null,null,null,null,null,null,null,null,null,null,null,null,null,null,16140,0]
["2105007","Yeso braquicarpiano",0,0,null,null,null,null,null,null,null,null,null,null,null,null,null,null,null,null,null,null,null,null,null,null,null,null,null,null,null,null,null,null,null,null,16140,0]
["2105008","Yeso pelvipedio bilateral",0,0,null,null,null,null,null,null,null,null,null,null,null,null,null,null,null,null,null,null,null,null,null,null,null,null,null,null,null,null,null,null,null,null,37980,0]
["2105010","Yeso toracobraquial",0,0,null,null,null,null,null,null,null,null,null,null,null,null,null,null,null,null,null,null,null,null,null,null,null,null,null,null,null,null,null,null,null,null,28270,0]
["2105011","Corsets de Milwaukee o similares (incluye la toma de molde )",0,0,null,null,null,null,null,null,null,null,null,null,null,null,null,null,null,null,null,null,null,null,null,null,null,null,null,null,null,null,null,null,null,null,33240,0]
["01011297","Retiro de yeso",0,0,null,null,null,null,null,null,null,null,null,null,null,null,null,null,null,null,null,null,null,null,null,null,null,null,null,null,null,null,null,null,null,null,null,null,null," "]
[null,"TOTAL",{"$f":"SUM(C2656:C2672)","v":0},{"$f":"SUM(D2656:D2672)","v":0},{"$f":"SUM(E2656:E2672)","v":0},{"$f":"SUM(F2656:F2672)","v":0},{"$f":"SUM(G2656:G2672)","v":0},null,null,null,null,null,null,null,null,null,null,null,null,null,null,null,null,null,null,null,{"$f":"SUM(AA2656:AA2672)","v":0},0,0,0,0,0,0,0,0,0,null,{"$f":"SUM(AL2656:AL2672)","v":0}]
["2104002","Exostosis u osteocondroma, trat. quir.",{"$f":"SUM(I2676:N2676)","v":0},null,null,null,null,0,null,null,null,null,null,null,null,null,null,null,null,null,null,null,null,null,null,null,null,null,null,null,null,null,null,null,null,null,176130,0,null," "]
["2104003","Quistes sinoviales de vainas flexoras, bursas",{"$f":"SUM(I2677:N2677)","v":0},null,null,null,null,0,null,null,null,null,null,null,null,null,null,null,null,null,null,null,null,null,null,null,null,null,null,null,null,null,null,null,null,null,144320,0,null," "]
["2104006","Tracción transesquelética o de partes blandas en adultos o en niños (proc. aut.)",0,null,null,null,null,0,null,null,null,null,null,null,null,null,null,null,null,null,null,null,null,null,null,null,null,null,null,null,null,null,null,null,null,null,30540,0,null," "]
["2104007","Artrodesis de codo o muñeca, c/u",0,null,null,null,null,0,null,null,null,null,null,null,null,null,null,null,null,null,null,null,null,null,null,null,null,null,null,null,null,null,null,null,null,null,186480,0,null," "]
["2104010","Tratamiento completo de fracturas expuestas de brazo, antebrazo, muslo y pierna, c/u",0,null,null,null,null,0,null,null,null,null,null,null,0,null,null,{"$f":"SUM(S2684:T2684)","v":0},null,null,0,null,null,{"$f":"SUM(Y2684:Z2684)","v":0},null,null,null,null,null,null,null,null,null,null,null,null,290410,0]
["2104011","Tratamiento completo de fracturas expuestas de mano o pie, c/u      ",0,null,null,null,null,0,null,null,null,null,null,null,0,null,null,0,null,null,0,null,null,0,null,null,null,null,null,null,null,null,null,null,null,null,198210,0]
["2104014","Osteomielitis crónica huesos largos, legrado óseo,  c/s osteosíntesis o aparato de yeso",0,null,null,null,null,0,null,null,null,null,null,null,0,null,null,0,null,null,0,null,null,0,null,null,null,null,null,null,null,null,null,null,null,null,212790,0]
["2104015","Artrotomía hombro o cadera c/u",0,null,null,null,null,0,null,null,null,null,null,null,0,null,null,0,null,null,0,null,null,0,null,null,null,null,null,null,null,null,null,null,null,null,212790,0]
["2104018","Autotrasplante óseo microquirúrgico",0,null,null,null,null,0,null,null,null,null,null,null,0,null,null,0,null,null,0,null,null,0,null,null,null,null,null,null,null,null,null,null,null,null,709530,0]
["2104019","Injerto esponjoso metafisiario",0,null,null,null,null,0,null,null,null,null,null,null,null,null,null,null,null,null,null,null,null,null,null,null,null,null,null,null,null,null,null,null,null,null,186480,0,null," "]
["2104021","Transplante óseo (auto u homotrasplante)",0,null,null,null,null,0,null,null,null,null,null,null,0,null,null,0,null,null,0,null,null,0,null,null,null,null,null,null,null,null,null,null,null,null,420330,0]
["2104022","Lesiones quísticas con fractura patológica: legrado óseo, c/s relleno injerto esponjoso, c/s osteosíntesis y/o aparato de inmovilización postoperatoria",0,null,null,null,null,0,null,null,null,null,null,null,0,null,null,0,null,null,0,null,null,0,null,null,null,null,null,null,null,null,null,null,null,null,299900,0]
["2104025","Tumor óseo, resección en bloque, c/s osteosíntesis y/o aparato inmovilización postoperatorio",0,null,null,null,null,0,null,null,null,null,null,null,0,null,null,0,null,null,0,null,null,0,null,null,null,null,null,null,null,null,null,null,null,null,299900,0]
["2104026","Tumores o quistes o lesiones pseudoquísticas o musculares y/o tendíneas, trat. quir.",0,null,null,null,null,0,null,null,null,null,null,null,0,null,null,0,null,null,0,null,null,0,null,null,null,null,null,null,null,null,null,null,null,null,240790,0]
["2104029","Sinovectomías quirúrgicas de codo o muñeca o metacarpofalángicas, c/u",0,null,null,null,null,0,null,null,null,null,null,null,0,null,null,0,null,null,0,null,null,0,null,null,null,null,null,null,null,null,null,null,null,null,166310,0]
["2104030","Sinovectomías quirúrgicas de rodilla o cadera u hombro, c/u",0,null,null,null,null,0,null,null,null,null,null,null,0,null,null,0,null,null,0,null,null,0,null,null,null,null,null,null,null,null,null,null,null,null,212780,0]
["2104034","Biopsia ósea quirúrgica",0,null,null,null,null,0,null,null,null,null,null,null,0,null,null,0,null,null,0,null,null,0,null,null,null,null,null,null,null,null,null,null,null,null,166310,0,null," "]
["2104035","Biopsia sinovial o muscular por punción",0,null,null,null,null,0,null,null,null,null,null,null,null,null,null,null,null,null,null,null,null,null,null,null,null,null,null,null,null,null,null,null,null,null,37100,0,null," "]
["2104232","Punción discal diagnóstica o terapéutica",0,null,null,null,null,0,null,null,null,null,null,null,0,null,null,0,null,null,0,null,null,0,null,null,null,null,null,null,null,null,null,null,null,null,162650,0,null," "]
["2104233","Biopsia vertebral abierta",0,null,null,null,null,0,null,null,null,null,null,null,0,null,null,0,null,null,0,null,null,0,null,null,null,null,null,null,null,null,null,null,null,null,227710,0,null," "]
["2104040","Amputación interescápulo-torácica",0,null,null,null,null,0,null,null,null,null,null,null,0,null,null,0,null,null,0,null,null,0,null,null,null,null,null,null,null,null,null,null,null,null,563500,0]
["2104041","Desarticulación escápulo-humeral",0,null,null,null,null,0,null,null,null,null,null,null,0,null,null,0,null,null,0,null,null,0,null,null,null,null,null,null,null,null,null,null,null,null,392710,0]
["2104045","Fractura de clavícula, osteosíntesis",0,null,null,null,null,0,null,null,null,null,null,null,0,null,null,0,null,null,0,null,null,0,null,null,null,null,null,null,null,null,null,null,null,null,166390,0]
["2104046","Fractura escápula, osteosíntesis",0,null,null,null,null,0,null,null,null,null,null,null,0,null,null,0,null,null,0,null,null,0,null,null,null,null,null,null,null,null,null,null,null,null,212780,0]
["2104048","Luxación recidivante de hombro, trat. quir.",0,null,null,null,null,0,null,null,null,null,null,null,0,null,null,0,null,null,0,null,null,0,null,null,null,null,null,null,null,null,null,null,null,null,279490,0]
["2104049","Luxación traumática de hombro, reducción cruenta",0,null,null,null,null,0,null,null,null,null,null,null,0,null,null,0,null,null,0,null,null,0,null,null,null,null,null,null,null,null,null,null,null,null,198180,0]
["2104052","Transposiciones musculares",0,null,null,null,null,0,null,null,null,null,null,null,0,null,null,0,null,null,0,null,null,0,null,null,null,null,null,null,null,null,null,null,null,null,212780,0]
["2104053","Amputación brazo",0,null,null,null,null,0,null,null,null,null,null,null,0,null,null,0,null,null,0,null,null,0,null,null,null,null,null,null,null,null,null,null,null,null,240790,0]
["2104056","Osteosíntesis supra o intercondílea (cualquier técnica)",0,null,null,null,null,0,null,null,null,null,null,null,0,null,null,0,null,null,0,null,null,0,null,null,null,null,null,null,null,null,null,null,null,null,220380,0]
["2104057","Osteotomía húmero (cualquier técnica)",0,null,null,null,null,0,null,null,null,null,null,null,0,null,null,0,null,null,0,null,null,0,null,null,null,null,null,null,null,null,null,null,null,null,212780,0]
["2104060","Cúpula radial, resección",0,null,null,null,null,0,null,null,null,null,null,null,0,null,null,0,null,null,0,null,null,0,null,null,null,null,null,null,null,null,null,null,null,null,212720,0]
["2104061","Cúpula radial, (resección con implante de prótesis) artroplastía ",0,null,null,null,null,0,null,null,null,null,null,null,0,null,null,0,null,null,0,null,null,0,null,null,null,null,null,null,null,null,null,null,null,null,233080,0]
["2104064","Luxación de codo, reducción cruenta ",0,null,null,null,null,0,null,null,null,null,null,null,0,null,null,0,null,null,0,null,null,0,null,null,null,null,null,null,null,null,null,null,null,null,198210,0]
["2104065","Luxofractura de codo, reducción cruenta c/s resección cúpula radial",0,null,null,null,null,0,null,null,null,null,null,null,0,null,null,0,null,null,0,null,null,0,null,null,null,null,null,null,null,null,null,null,null,null,212790,{"$f":"AK2739*I2739","v":0}]
["2104068","Traslocación nervio cubital (proc. aut.)",{"$f":"SUM(I2742:N2742)","v":0},null,null,null,null,0,null,null,null,null,null,null,0,null,null,0,null,null,0,null,null,0,null,null,null,null,null,null,null,null,null,null,null,null,267100,0]
["2104069","Operación de salvataje radio-procúbito",0,null,null,null,null,0,null,null,null,null,null,null,0,null,null,0,null,null,0,null,null,0,null,null,null,null,null,null,null,null,null,null,null,null,240790,0]
["2104071","Extirpación metáfisis distal del cúbito y artrodesis radiocubital inferior",0,null,null,null,null,0,null,null,null,null,null,null,0,null,null,0,null,null,0,null,null,0,null,null,null,null,null,null,null,null,null,null,null,null,212780,0]
["2104072","Luxofracturas (Monteggia-Galeazzi), reducc. y osteosíntesis",0,null,null,null,null,0,null,null,null,null,null,null,0,null,null,0,null,null,0,null,null,0,null,null,null,null,null,null,null,null,null,null,null,null,212780,0]
["2104075","Pseudoartrosis  cúbito y/o radio c/s osteosíntesis c/s yeso",0,null,null,null,null,0,null,null,null,null,null,null,0,null,null,{"$f":"SUM(S2749:T2749)","v":0},null,null,0,null,null,{"$f":"SUM(Y2749:Z2749)","v":0},null,null,null,null,null,null,null,null,null,null,null,null,212780,0]
["2104076","Sinostosis radio-cubital, trat. quir., c/s injerto",0,null,null,null,null,0,null,null,null,null,null,null,0,null,null,0,null,null,0,null,null,0,null,null,null,null,null,null,null,null,null,null,null,null,220380,0]
["2104079","Endoprótesis total de muñeca, (cualquier técnica)",0,null,null,null,null,0,null,null,null,null,null,null,0,null,null,0,null,null,0,null,null,0,null,null,null,null,null,null,null,null,null,null,null,null,403660,0]
["2104080","Estiloides cubital, radial, resección de.",0,null,null,null,null,0,null,null,null,null,null,null,0,null,null,0,null,null,0,null,null,0,null,null,null,null,null,null,null,null,null,null,null,null,198180,0]
["2104084","Luxación semilunar ,escafoidea, reducción y osteosíntesis semicruenta o cruenta",0,null,null,null,null,0,null,null,null,null,null,null,0,null,null,0,null,null,0,null,null,0,null,null,null,null,null,null,null,null,null,null,null,null,198210,0]
["2104085","Osteosíntesis radio, (cualquier técnica)",0,null,null,null,null,0,null,null,null,null,null,null,0,null,null,0,null,null,0,null,null,0,null,null,null,null,null,null,null,null,null,null,null,null,212780,0]
["2104088","Amputación dedos (uno o dos)",0,null,null,null,null,0,null,null,null,null,null,null,null,null,null,null,null,null,null,null,null,null,null,null,null,null,null,null,null,null,null,null,null,null,157180,0,null," "]
["2104089","Amputación mano o del pulgar",0,null,null,null,null,0,null,null,null,null,null,null,0,null,null,0,null,null,0,null,null,0,null,null,null,null,null,null,null,null,null,null,null,null,246700,0,null," "]
["2104092","Contusión-compresión grave mano, trat. quir. incluye incisiones liberadoras y/o fasciotomía y/o escarectomía y/o injertos piel inmediatos y síntesis percutánea",0,null,null,null,null,0,null,null,null,null,null,null,0,null,null,0,null,null,0,null,null,0,null,null,null,null,null,null,null,null,null,null,null,null,198210,0,null," "]
["2104093","Dedos en gatillo, trat. quir., cualquier número",0,null,null,null,null,0,null,null,null,null,null,null,null,null,null,null,null,null,null,null,null,null,null,null,null,null,null,null,null,null,null,null,null,null,186480,0,null," "]
["2104096","Mano reumática en ráfaga: traslocaciones tendinosas, plastías capsulares, tenotomías, inmovilización postoperatoria",0,null,null,null,null,0,null,null,null,null,null,null,0,null,null,0,null,null,0,null,null,0,null,null,null,null,null,null,null,null,null,null,null,null,224730,0,null," "]
["2104097","Mano reumática: implant. silastic, cualq. número (proc. aut.)",0,null,null,null,null,0,null,null,null,null,null,null,0,null,null,0,null,null,0,null,null,0,null,null,null,null,null,null,null,null,null,null,null,null,245170,0,null," "]
["2104099","Osteosíntesis metacarpianas o de falanges, cualquier técnica",0,null,null,null,null,0,null,null,null,null,null,null,null,null,null,null,null,null,null,null,null,null,null,null,null,null,null,null,null,null,null,null,null,null,186480,0,null," "]
["2104100","Panadizo, trat. quir.",0,null,null,null,null,0,null,null,null,null,null,null,null,null,null,null,null,null,null,null,null,null,null,null,null,null,null,null,null,null,null,null,null,null,28810,0,null," "]
["2104103","Reparación flexores: primer tiempo espaciador silastic",0,null,null,null,null,0,null,null,null,null,null,null,0,null,null,0,null,null,0,null,null,0,null,null,null,null,null,null,null,null,null,null,null,null,212720,0]
["2104104","Reparación nervio digital con injerto interfascicular: cualquier número",0,null,null,null,null,0,null,null,null,null,null,null,0,null,null,0,null,null,0,null,null,0,null,null,null,null,null,null,null,null,null,null,null,null,339530,0]
["2104107","Tenorrafia extensores mano",0,null,null,null,null,0,null,null,null,null,null,null,0,null,null,0,null,null,0,null,null,0,null,null,null,null,null,null,null,null,null,null,null,null,198180,0]
["2104108","Tenorrafia o injertos flexores mano",0,null,null,null,null,0,null,null,null,null,null,null,0,null,null,0,null,null,0,null,null,0,null,null,null,null,null,null,null,null,null,null,null,null,198180,0]
["2104111","Transposiciones tendinosas flexoras o extensoras mano",0,null,null,null,null,0,null,null,null,null,null,null,0,null,null,0,null,null,0,null,null,0,null,null,null,null,null,null,null,null,null,null,null,null,198180,0]
[2104203,"Tratamiento quir., dedos en gatillo, cualquier número téc. WALANT (anestesia local sin torniquete)",{"$f":"SUM(I2785:N2785)","v":0},null,null,null,null,{"$f":"+I2785+J2785","v":0},null,null,null,null,null,null,null,null,null,null,null,null,null,null,null,null,null,null,null,null,null,null,null,null,null,null,null,null,186480,{"$f":"AK2785*I2785","v":0}," "," "]
["2104213","Escoliosis, trat. quir., cualquier vía de abordaje, con instrumentación (incluye elementos de osteosíntesis)",0,null,null,null,null,0,null,null,null,null,null,null,0,null,null,0,null,null,0,null,null,0,null,null,null,null,null,null,null,null,null,null,null,null,4143890,0]
["2104116","Luxaciones, luxofracturas vertebrales (cervical, dorsal, lumbar), reducción cruenta, cualquier vía de abordaje, cualquier número",0,null,null,null,null,0,null,null,null,null,null,null,0,null,null,0,null,null,0,null,null,0,null,null,null,null,null,null,null,null,null,null,null,null,462060,0]
["2104119","Reemplazo cuerpo vertebral con artrodesis c/s osteosíntesis c/s instrumentación",0,null,null,null,null,0,null,null,null,null,null,null,0,null,null,0,null,null,0,null,null,0,null,null,null,null,null,null,null,null,null,null,null,null,876020,0]
["2104121","Resección del coxis",0,null,null,null,null,0,null,null,null,null,null,null,0,null,null,0,null,null,0,null,null,0,null,null,null,null,null,null,null,null,null,null,null,null,198180,0]
["2104236","Teratoma sacrococcigeo",0,null,null,null,null,0,null,null,null,null,null,null,0,null,null,0,null,null,0,null,null,0,null,null,null,null,null,null,null,null,null,null,null,null,570760,0]
["2104237","Teratoma sacrococcigeo intra y extrapelviano",0,null,null,null,null,0,null,null,null,null,null,null,0,null,null,0,null,null,0,null,null,0,null,null,null,null,null,null,null,null,null,null,null,null,856130,0]
["2104123","Fractura de pelvis, osteosíntesis quir.",0,null,null,null,null,0,null,null,null,null,null,null,0,null,null,0,null,null,0,null,null,0,null,null,null,null,null,null,null,null,null,null,null,null,339530,0]
["2104124","Osteotomía pelviana (Salter, Chiari o similares)",0,null,null,null,null,0,null,null,null,null,null,null,0,null,null,0,null,null,0,null,null,0,null,null,null,null,null,null,null,null,null,null,null,null,346920,0]
["2104127","Desarticulación cadera",0,null,null,null,null,0,null,null,null,null,null,null,0,null,null,0,null,null,0,null,null,0,null,null,null,null,null,null,null,null,null,null,null,null,514840,0]
["2104128","Endoprótesis parcial de cadera c/s cementación (cualquier técnica) (no incluye prótesis)",0,null,null,null,null,0,null,null,null,null,null,null,0,null,null,0,null,null,0,null,null,0,null,null,null,null,null,null,null,null,null,null,null,null,370310,{"$f":"AK2804*I2804","v":0}]
["2104229","Endoprótesis total de cadera (incluye prótesis)",{"$f":"SUM(I2807:N2807)","v":0},null,null,null,null,0,null,null,null,null,null,null,0,null,null,0,null,null,0,null,null,0,null,null,null,null,null,null,null,null,null,null,null,null,1691710,0]
["2104130","Epifisiolisis lenta o aguda, trat. quir.",0,null,null,null,null,0,null,null,null,null,null,null,0,null,null,0,null,null,0,null,null,0,null,null,null,null,null,null,null,null,null,null,null,null,328590,0]
["2104132","Fractura de cuello de fémur, resección epífisis femoral",0,null,null,null,null,0,null,null,null,null,null,null,0,null,null,0,null,null,0,null,null,0,null,null,null,null,null,null,null,null,null,null,null,null,328590,0]
["2104133","Luxación traumática de cadera, reducción cruenta",0,null,null,null,null,0,null,null,null,null,null,null,{"$f":"SUM(P2812:Q2812)","v":0},null,null,0,null,null,{"$f":"SUM(V2812:W2812)","v":0},null,null,0,null,null,null,null,null,null,null,null,null,null,null,null,299900,0]
["2104136","Osteotomías femorales",0,null,null,null,null,0,null,null,null,null,null,null,0,null,null,0,null,null,0,null,null,0,null,null,null,null,null,null,null,null,null,null,null,null,328590,0]
["2104137","Reducción cruenta en luxación congénita o traumática de cadera",0,null,null,null,null,0,null,null,null,null,null,null,0,null,null,0,null,null,0,null,null,0,null,null,null,null,null,null,null,null,null,null,null,null,299900,0]
["2104140","Tenotomía aductores c/s botas, con yugo (proc. aut.)",0,null,null,null,null,0,null,null,null,null,null,null,0,null,null,0,null,null,0,null,null,0,null,null,null,null,null,null,null,null,null,null,null,null,233080,0]
["2104141","Trocanteroplastías",0,null,null,null,null,0,null,null,null,null,null,null,0,null,null,0,null,null,0,null,null,0,null,null,null,null,null,null,null,null,null,null,null,null,328590,0]
["2104143","Epifisiodesis (fémur y/o tibia)",0,null,null,null,null,0,null,null,null,null,null,null,0,null,null,0,null,null,0,null,null,0,null,null,null,null,null,null,null,null,null,null,null,null,269520,0]
["2104144","Osteosíntesis diafisiaria o metafisiaria muslo (cualquier técnica)",0,null,null,null,null,0,null,null,null,null,null,null,0,null,null,0,null,null,0,null,null,0,null,null,null,null,null,null,null,null,null,null,null,null,270160,0]
["2104147","Osteotomía en rosario con enclavijamiento clavo telescópico",0,null,null,null,null,0,null,null,null,null,null,null,0,null,null,0,null,null,0,null,null,0,null,null,null,null,null,null,null,null,null,null,null,null,392710,0]
["2104148","Pseudoartrosis, trat. quir. (cualquier técnica) muslo",0,null,null,null,null,0,null,null,null,null,null,null,0,null,null,0,null,null,0,null,null,0,null,null,null,null,null,null,null,null,null,null,null,null,342480,0]
["2104151","Desarticulación rodilla",0,null,null,null,null,0,null,null,null,null,null,null,0,null,null,0,null,null,0,null,null,0,null,null,null,null,null,null,null,null,null,null,null,null,333580,0]
["2104152","Disfunción patelo-femoral, realineamiento (cualquier técnica)",0,null,null,null,null,0,null,null,null,null,null,null,0,null,null,0,null,null,0,null,null,0,null,null,null,null,null,null,null,null,null,null,null,null,246700,0]
["2104155","Fracturas condíleas o de platillos tibiales, reducción, osteosíntesis  (cualquier técnica)",0,null,null,null,null,0,null,null,null,null,null,null,0,null,null,0,null,null,0,null,null,0,null,null,null,null,null,null,null,null,null,null,null,null,252510,0]
["2104156","Inestabilidad crónica de rodilla, reconstrucción cápsuloligamentosa (cualquier técnica)",0,null,null,null,null,0,null,null,null,null,null,null,0,null,null,0,null,null,0,null,null,0,null,null,null,null,null,null,null,null,null,null,null,null,325450,0]
["2104159","Meniscectomía u otras intervenciones por vía artroscópica (incluye artroscopía diagnóstica)",0,null,null,null,null,0,null,null,null,null,null,null,0,null,null,0,null,null,0,null,null,0,null,null,null,null,null,null,null,null,null,null,null,null,305050,0]
["2104160","Quiste poplíteo, trat. quir.",0,null,null,null,null,0,null,null,null,null,null,null,null,null,null,null,null,null,null,null,null,null,null,null,null,null,null,null,null,null,null,null,null,null,186480,0,null," "]
["2104163","Traslocaciones músculo-tendinosas en rodilla paralítica o espástica",0,null,null,null,null,0,null,null,null,null,null,null,0,null,null,0,null,null,0,null,null,0,null,null,null,null,null,null,null,null,null,null,null,null,279490,0]
["2104164","Amputación pierna",0,null,null,null,null,0,null,null,null,null,null,null,0,null,null,0,null,null,0,null,null,0,null,null,null,null,null,null,null,null,null,null,null,null,273860,0]
["2104167","Osteosíntesis tibio-peroné  (cualquier técnica)",0,null,null,null,null,0,null,null,null,null,null,null,0,null,null,0,null,null,0,null,null,0,null,null,null,null,null,null,null,null,null,null,null,null,212780,0]
["2104168","Osteotomía correctora de ejes  (cualquier técnica) pierna",0,null,null,null,null,0,null,null,null,null,null,null,0,null,null,0,null,null,0,null,null,0,null,null,null,null,null,null,null,null,null,null,null,null,220380,0]
["2104170","Osteotomía del peroné",0,null,null,null,null,0,null,null,null,null,null,null,0,null,null,0,null,null,0,null,null,0,null,null,null,null,null,null,null,null,null,null,null,null,198180,0]
["2104171","Peroné protibia",0,null,null,null,null,0,null,null,null,null,null,null,0,null,null,0,null,null,0,null,null,0,null,null,null,null,null,null,null,null,null,null,null,null,245170,0]
["2104174","Endoprótesis total tobillo, (cualquier técnica)",0,null,null,null,null,0,null,null,null,null,null,null,0,null,null,0,null,null,0,null,null,0,null,null,null,null,null,null,null,null,null,null,null,null,425470,0]
["2104175","Esguince grave de tobillo, trat. quir. cápsulo-ligamentoso ",0,null,null,null,null,0,null,null,null,null,null,null,0,null,null,0,null,null,0,null,null,0,null,null,null,null,null,null,null,null,null,null,null,null,212780,0]
["2104178","Luxación tibio-astrág.-calcán., reducc. cruenta y osteosínt.",0,null,null,null,null,0,null,null,null,null,null,null,0,null,null,0,null,null,0,null,null,0,null,null,null,null,null,null,null,null,null,null,null,null,212790,0]
["2104179","Luxofractura tobillo, cualquier tipo, osteosíntesis y reparación cápsulo-ligamentosa",0,null,null,null,null,0,null,null,null,null,null,null,0,null,null,0,null,null,0,null,null,0,null,null,null,null,null,null,null,null,null,null,null,null,267100,0]
["2104182","Ruptura tibial anterior u otros, tenorrafia",0,null,null,null,null,0,null,null,null,null,null,null,0,null,null,0,null,null,0,null,null,0,null,null,null,null,null,null,null,null,null,null,null,null,212780,0]
["2104183","Tenorrafia extensores o tenotomía de alargamiento de tendón de Aquiles",0,null,null,null,null,0,null,null,null,null,null,null,0,null,null,0,null,null,0,null,null,0,null,null,null,null,null,null,null,null,null,null,null,null,198210,0]
["2104186","Astrágalo vertical, trat. quir.",0,null,null,null,null,0,null,null,null,null,null,null,0,null,null,0,null,null,0,null,null,0,null,null,null,null,null,null,null,null,null,null,null,null,220370,0]
["2104187","Espolón calcáneo, trat. quir.",0,null,null,null,null,0,null,null,null,null,null,null,0,null,null,0,null,null,0,null,null,0,null,null,null,null,null,null,null,null,null,null,null,null,198180,0]
["2104190","Hallux valgus o rígidus, trat.quir. completo (cualquier téc.)",0,null,null,null,null,{"$f":"+I2869+J2869","v":0},null,null,null,null,null,null,0,null,null,0,null,null,0,null,null,0,null,null,null,null,null,null,null,null,null,null,null,null,198210,0]
["2104191","Luxaciones, luxofracturas, fracturas, reducción cruenta pie",0,null,null,null,null,{"$f":"+I2870+J2870","v":0},null,null,null,null,null,null,0,null,null,0,null,null,0,null,null,0,null,null,null,null,null,null,null,null,null,null,null,null,212790,0," "," "]
["2104194","Ortejos en garra, trat. quir., cualq. número (cualq. técnica)",0,null,null,null,null,0,null,null,null,null,null,null,0,null,null,0,null,null,0,null,null,0,null,null,null,null,null,null,null,null,null,null,null,null,198180,0]
["2104195","Ortejos, amputación, uno o más, unilateral",0,null,null,null,null,0,null,null,null,null,null,null,0,null,null,0,null,null,0,null,null,0,null,null,null,null,null,null,null,null,null,null,null,null,198180,0]
["2104197","Pie cavo, trat.quir. (cualquier técnica)",0,null,null,null,null,0,null,null,null,null,null,null,{"$f":"SUM(P2876:Q2876)","v":0},null,null,0,null,null,{"$f":"SUM(V2876:W2876)","v":0},null,null,0,null,null,null,null,null,null,null,null,null,null,null,null,198210,0]
["2104198","Pie plano, trat. quir. (cualquier técnica)",0,null,null,null,null,0,null,null,null,null,null,null,0,null,null,0,null,null,0,null,null,0,null,null,null,null,null,null,null,null,null,null,null,null,198210,0]
["2104201","Tenorrafia extensores pie",0,null,null,null,null,0,null,null,null,null,null,null,0,null,null,0,null,null,0,null,null,0,null,null,null,null,null,null,null,null,null,null,null,null,198180,0," "]
["2104202","Trasplantes tendinosos pie (cualquier técnica)",0,null,null,null,null,0,null,null,null,null,null,null,0,null,null,0,null,null,0,null,null,0,null,null,null,null,null,null,null,null,null,null,null,null,212790,0," "," "]
["01012427","Otras cirugías periarticulares hemofilicos ",0,null,null,null,null,0,null,null,null,null,null,null,{"$f":"SUM(P2884:Q2884)","v":0},null,null,0,null,null,0,null,null,0,null,null,null,null,null,null,null,null,null,null,null,null,null,null," "," "]
["01012428","Amputaciones pie diabético",0,null,null,null,null,{"$f":"+I2885","v":0},null,null,null,null,null,null,0,null,null,0,null,null,0,null,null,0,null,null,null,null,null,null,null,null,null,null,null,null,null,null," "," "]
[null,"TOTAL ARANCEL MLE Y NO ARANCELADO",{"$f":"SUM(C2883:C2887)","v":0},null,null,null,null,{"$f":"SUM(H2883:H2887)","v":0},{"$f":"SUM(I2883:I2887)","v":0},{"$f":"SUM(J2883:J2887)","v":0},0,0,0,0,{"$f":"SUM(O2883:O2887)","v":0},{"$f":"SUM(P2883:P2887)","v":0},0,{"$f":"SUM(R2883:R2887)","v":0},{"$f":"SUM(S2883:S2887)","v":0},0,{"$f":"SUM(U2883:U2887)","v":0},0,0,0,0,0,0,0,0,0,0,0,0,0,{"$f":"SUM(AI2883:AI2887)","v":0},0,null,null," "," "]
[null,"TOTAL PRODUCCION",{"$f":"C2882","v":0},null,null,null,null,{"$f":"SUM(H2882)","v":0},{"$f":"SUM(I2882)","v":0},0,0,0,0,0,0,0,0,0,0,0,0,0,0,0,0,0,0,0,0,0,0,0,0,0,0,0,0,0]
["2106002","Retiro de placas rectas o anguladas",{"$f":"SUM(I2892:N2892)","v":0},null,null,null,null,{"$f":"+I2892+J2892","v":0},null,null,null,null,null,null,{"$f":"SUM(P2892:Q2892)","v":0},null,null,{"$f":"SUM(S2892:T2892)","v":0},null,null,{"$f":"SUM(V2892:W2892)","v":0},null,null,{"$f":"SUM(Y2892:Z2892)","v":0},null,null,null,null,null,null,null,null,null,null,null,null,145880,{"$f":"AK2892*I2892","v":0}," "," "]
["2106003","Retiro de tornillos, clavos, agujas de osteosíntesis o similares",{"$f":"SUM(I2893:N2893)","v":0},null,null,null,null,{"$f":"+I2893+J2893","v":0},null,null,null,null,null,null,{"$f":"SUM(P2893:Q2893)","v":0},null,null,{"$f":"SUM(S2893:T2893)","v":0},null,null,{"$f":"SUM(V2893:W2893)","v":0},null,null,{"$f":"SUM(Y2893:Z2893)","v":0},null,null,null,null,null,null,null,null,null,null,null,null,73070,{"$f":"AK2893*I2893","v":0}," "," "]
["2107001","Luxaciones de articulaciones medianas (hombro, codo, rodilla, tobillo, muñeca, tarso y esternoclavicular)",{"$f":"SUM(D2896+G2896)","v":0},{"$f":"SUM(E2896:F2896)","v":0},null,null,null,null,null,null,null,null,null,null,null,null,null,null,null,null,null,null,null,null,null,null,null,null,null,null,null,null,null,null,null,null,82340,{"$f":"AK2896*E2896","v":0}," "," "]
["2107002","Luxaciones de articulaciones  mayores (columna, cadera, pelvis)",{"$f":"SUM(D2897+G2897)","v":0},{"$f":"SUM(E2897:F2897)","v":0},null,null,null,null,null,null,null,null,null,null,null,null,null,null,null,null,null,null,null,null,null,null,null,null,null,null,null,null,null,null,null,null,101360,0," "," "]
["2107004","Fracturas mayores (columna, pelvis, supracondílea, codo, epífisis femorales)",0,0,null,null,null,null,null,null,null,null,null,null,null,null,null,null,null,null,null,null,null,null,null,null,null,null,null,null,null,null,null,null,null,null,141830,0," "," "]
["2107005","Fracturas medianas (diáfisis humeral, radial, cubital, diáfisis femoral, tibial, peroneal, clavicular, platillos tibiales)",0,0,null,null,null,null,null,null,null,null,null,null,null,null,null,null,null,null,null,null,null,null,null,null,null,null,null,null,null,null,null,null,null,null,113990,0," "," "]
["2107008","Tratamiento funcional con técnica de Sarmiento y similares de extremidad superior",0,0,null,null,null,null,null,null,null,null,null,null,null,null,null,null,null,null,null,null,null,null,null,null,null,null,null,null,null,null,null,null,null,null,102620,0," "," "]
["2107009","Luxación congénita de cadera, trat. ortopédico completo (uni o bilateral)",0,{"$f":"SUM(E2904:F2904)","v":0},null,null,null,null,null,null,null,null,null,null,null,null,null,null,null,null,null,null,null,null,null,null,null,null,null,null,null,null,null,null,null,null,105800,0," "," "]
[null,"PROTESIS  Y ORTESIS"]
[2301002,"Ortesis cervicales (collares blandos y duros)",{"$f":"SUM(D2908+G2908)","v":0},{"$f":"SUM(E2908:F2908)","v":0},null,null,null,null,null,null,null,null,null,null,null,null,null,null,null,null,null,null,null,null,null,null,null,null,null,null,null,null,null,null,null,null,null,null,null," "]
[2301020,"Ortesis Muslo-Pie o Isquiopedio",0,0]
[2301021,"Arnés de Prótesis (Extremidad Superior)",0,0]
[2301029,"Cojín de abducción o Paulik",0,0]
[2301030,"Correa de ortesis",0,0]
[2301033,"Ortesis lumbosacra (Corset de Knight)",0,0]
[2301034,"Ortesis palmar activa (UCLA)",0,0]
[2301037,"Ortesis de uso nocturno de miembro inferior",0,0]
[2301038,"Ortesis Larga de Posición (Extremidad Superior)",0,0]
[2301041,"Ortesis Larga bilateral con cinturón pélvico (Extremidades Inferiores)",0,0]
[2301042,"Ortesis Larga unilateral (Extremidad Inferior)",0,0]
[2301043,"Ortesis mano-muñeca pasiva",0,0]
[2301044,"Ortesis para rodilla",0,0]
[2301045,"Ortesis tobillo-pie",0,0]
[2301067,"Talonera goma (par)",0,0]
[5099074,"Ortesis parálisis cubital",0,0]
[5099075,"Ortesis tendones flexores",0,0]
[5099076,"Ortesis digital dinámica",0,0]
[5099066,"Correas desrotadoras ",0,0]
[5099067,"Correa dorsiflexion pie",0,0]
[5099068,"Férula abducción hombro",0,0]
[5099069,"Férula extension codo",0,0]
[5099070,"Férula extension muñeca",0,0]
[5099071,"Férula flexion muñeca",0,0]
[5099072,"Palmeta extensión muñeca y dedos",0,0]
[5099073,"Correas desrotadoras parálisis braquial obstétrica",0,0]
[5099077,"Camiseta manga larga ",0,0]
[5099078,"Camiseta manga corta",0,0]
[5099079,"Manga larga ",0,0]
[5099080,"Manga corta",0,0]
[5099081,"Pantalón largo ",0,0]
[5099082,"Pantalón corto ",0,0]
[5099083,"Media larga",0,0]
[5099084,"Media corta",0,0]
[5099085,"Media tipo calcetín",0,0]
[5099086,"Guante tipo mitón",0,0]
[5099087,"Guante con dedos",0,0]
[5099088,"Máscara",0,0]
[5099089,"Mentonera",0,0]
[5099090,"Cintillo",0,0]
[5099061,"Collar cervical semirígido",0,0]
[5099062,"Collar cervical blando",0,0]
[5099065,"Canaletas  bipedestación ",{"$f":"SUM(D2959+G2959)","v":0},{"$f":"SUM(E2959:F2959)","v":0},null,null,null,null,null,null,null,null,null,null,null,null,null,null,null,null,null,null,null,null,null,null,null,null,null,null,null,null,null,null,null,null,null,null,null," "]
[null,"TOTAL",{"$f":"SUM(C2908:C2959)","v":0},{"$f":"SUM(D2908:D2959)","v":0},{"$f":"SUM(E2908:E2959)","v":0},{"$f":"SUM(F2908:F2959)","v":0},{"$f":"SUM(G2908:G2959)","v":0},null,null,null,null,null,null,null,null,null,null,null,null,null,null,null,null,null,null,null,{"$f":"SUM(AA2908:AA2959)","v":0},0,0,0,0,0,0,0,0,0]
[null,"PROCEDIMIENTOS ANESTÉSICOS"]
[2201001,"Anestesia general o regional otorgada por médico diferente al primer cirujano (en intervenciones o procedimientos diagnósticos o terapéuticos)",0,0]
[2201002,"Anestesia peridural continua, proc. aut.",0,0]
["2201102","Anestesia peridural o epidural  continua para partos",{"$f":"SUM(D2964+G2964)","v":0},{"$f":"SUM(E2964:F2964)","v":0},null,null,null,null,null,null,null,null,null,null,null,null,null,null,null,null,null,null,null,null,null,null,null,null,null,null,null,null,null,null,null,null,37900,{"$f":"AK2964*E2964","v":0},null," "]
["01012500","Intubación nasotraqueal/orotraqueal",0,0]
["01012501","Anestesia general como apoyo a resonancia magnética",0,0]
["01012502","Anestesia general como apoyo a tomografía computada",0,0]
["01012503","Sedación como apoyo a examen y/o procedimiento",0,0]
["01012504","Anestesia regional o local infiltrativa administrada por cirujano",0,0]
[null,"TOTAL",{"$f":"SUM(C2962:C2969)","v":0},{"$f":"SUM(D2962:D2969)","v":0},{"$f":"SUM(E2962:E2969)","v":0},{"$f":"SUM(F2962:F2969)","v":0},{"$f":"SUM(G2962:G2969)","v":0},null,null,null,null,null,null,null,null,null,null,null,null,null,null,null,null,null,null,null,{"$f":"SUM(AA2962:AA2969)","v":0},{"$f":"SUM(AB2962:AB2969)","v":0},{"$f":"SUM(AC2962:AC2969)","v":0},0,0,0,0,0,0,{"$f":"SUM(AJ2962:AJ2969)","v":0},null,{"$f":"SUM(AL2962:AL2969)","v":0}]
[null," RESCATES, TRASLADOS Y RONDAS RURALES  "]
["2401061","Rescate simple y/o traslado en móvil 1",0,0,null,null,null,null,null,null,null,null,null,null,null,null,null,null,null,null,null,null,null,null,null,null,null,null,null,null,null,null,null,null,null,null,24970,{"$f":"AK2972*E2972","v":0},null," "]
["2401062","Rescate profesionalizado y/o traslado paciente complejo móvil 2",0,0,null,null,null,null,null,null,null,null,null,null,null,null,null,null,null,null,null,null,null,null,null,null,null,null,null,null,null,null,null,null,null,null,78550,0,null," "]
["2401063","Rescate medicalizado y/o traslado paciente critico en móvil 3",0,0,null,null,null,null,null,null,null,null,null,null,null,null,null,null,null,null,null,null,null,null,null,null,null,null,null,null,null,null,null,null,null,null,97360,0,null," "]
["2401064","Traslado en ambulancia",0,0,null,null,null,null,null,null,null,null,null,null,null,null,null,null,null,null,null,null,null,null,null,null,null,null,null,null,null,null,null,null,null,null,3430,0,null," "]
["2401065","Ronda rural terrestre, c/ km recorrido",0,0,null,null,null,null,null,null,null,null,null,null,null,null,null,null,null,null,null,null,null,null,null,null,null,null,null,null,null,null,null,null,null,null,70,0,null," "]
["2401066","Ronda rural aérea, c/ hora de vuelo",0,0,null,null,null,null,null,null,null,null,null,null,null,null,null,null,null,null,null,null,null,null,null,null,null,null,null,null,null,null,null,null,null,null,206710,0,null," "]
["2401067","Ronda rural marítima, c/ hora de navegación",0,0,null,null,null,null,null,null,null,null,null,null,null,null,null,null,null,null,null,null,null,null,null,null,null,null,null,null,null,null,null,null,null,null,14050,0,null," "]
[null,"TOTAL",{"$f":"SUM(C2972:C2978)","v":0},{"$f":"SUM(D2972:D2978)","v":0},{"$f":"SUM(E2972:E2978)","v":0},{"$f":"SUM(F2972:F2978)","v":0},{"$f":"SUM(G2972:G2978)","v":0},null,null,null,null,null,null,null,null,null,null,null,null,null,null,null,null,null,null,null,{"$f":"SUM(AA2972:AA2978)","v":0},0,0,0,0,0,0,0,0,0,null,{"$f":"SUM(AL2972:AL2978)","v":0}]
[null,"ATENCION ODONTOLOGICA                             "]
[null,"CONSULTAS Y ATENCIÓN ODONTOLÓGICA"]
["2701101","Consulta especialidad Periodoncia",{"$f":"SUM(D2982+G2982)","v":0},{"$f":"SUM(E2982:F2982)","v":0},null,null,null,null,null,null,null,null,null,null,null,null,null,null,null,null,null,null,null,null,null,null,null,null,null,null,null,null,null,null,null,null,4440,{"$f":"AK2982*E2982","v":0},null," "]
["2701102","Consulta especialidad Cirugía y Traumatología Buco Maxilofacial",0,0,null,null,null,null,null,null,null,null,null,null,null,null,null,null,null,null,null,null,null,null,null,null,null,null,null,null,null,null,null,null,null,null,4440,0]
["2701103","Consulta especialidad Endodoncia",0,0,null,null,null,null,null,null,null,null,null,null,null,null,null,null,null,null,null,null,null,null,null,null,null,null,null,null,null,null,null,null,null,null,4440,0]
["2701104","Consulta especialidad Imagenología Oral y Maxilofacial ",0,0,null,null,null,null,null,null,null,null,null,null,null,null,null,null,null,null,null,null,null,null,null,null,null,null,null,null,null,null,null,null,null,null,4440,0]
["2701105","Consulta especialidad Implantología Buco Maxilofacial",0,0,null,null,null,null,null,null,null,null,null,null,null,null,null,null,null,null,null,null,null,null,null,null,null,null,null,null,null,null,null,null,null,null,4440,0]
["2701106","Consulta especialidad Odontopediatría",0,0,null,null,null,null,null,null,null,null,null,null,null,null,null,null,null,null,null,null,null,null,null,null,null,null,null,null,null,null,null,null,null,null,4440,0]
["2701107","Consulta especialidad Ortodoncia y Ortopedia Dento Maxilofacial",0,0,null,null,null,null,null,null,null,null,null,null,null,null,null,null,null,null,null,null,null,null,null,null,null,null,null,null,null,null,null,null,null,null,4440,0]
["2701108","Consulta especialidad Patología Oral y Maxilofacial",0,0,null,null,null,null,null,null,null,null,null,null,null,null,null,null,null,null,null,null,null,null,null,null,null,null,null,null,null,null,null,null,null,null,4440,0]
["2701109","Consulta especialidad Rehabilitación Oral",0,0,null,null,null,null,null,null,null,null,null,null,null,null,null,null,null,null,null,null,null,null,null,null,null,null,null,null,null,null,null,null,null,null,4440,0]
["2701110","Consulta especialidad Trastornos Temporomandibulares y Dolor Orofacial",0,0,null,null,null,null,null,null,null,null,null,null,null,null,null,null,null,null,null,null,null,null,null,null,null,null,null,null,null,null,null,null,null,null,4440,0]
["2701111","Consulta especialidad Somato-Prótesis ",0,0,null,null,null,null,null,null,null,null,null,null,null,null,null,null,null,null,null,null,null,null,null,null,null,null,null,null,null,null,null,null,null,null,4440,0]
["2701112","Educación grupal",0,0,null,null,null,null,null,null,null,null,null,null,null,null,null,null,null,null,null,null,null,null,null,null,null,null,null,null,null,null,null,null,null,null,12450,0]
["2701113","Consulta o control por Odontólogo General",0,0,null,null,null,null,null,null,null,null,null,null,null,null,null,null,null,null,null,null,null,null,null,null,null,null,null,null,null,null,null,null,null,null,4080,0]
["2701114","Trabajo comunitario",0,0,null,null,null,null,null,null,null,null,null,null,null,null,null,null,null,null,null,null,null,null,null,null,null,null,null,null,null,null,null,null,null,null,7040,0]
["2701115","Consulta de urgencia odontológica ",0,0,null,null,null,null,null,null,null,null,null,null,null,null,null,null,null,null,null,null,null,null,null,null,null,null,null,null,null,null,null,null,null,null,5850,0,null," "]
[null,"TOTAL",{"$f":"SUM(C2982:C2996)","v":0},{"$f":"SUM(D2982:D2996)","v":0},{"$f":"SUM(E2982:E2996)","v":0},{"$f":"SUM(F2982:F2996)","v":0},{"$f":"SUM(G2982:G2996)","v":0},null,null,null,null,null,null,null,null,null,null,null,null,null,null,null,null,null,null,null,{"$f":"SUM(AA2982:AA2996)","v":0},{"$f":"SUM(AB2982:AB2996)","v":0},0,0,0,0,0,0,0,0,null,{"$f":"SUM(AL2982:AL2996)","v":0}]
[null,"EXÁMENES IMAGENOLÓGICOS ODONTOLÓGICA"]
["2702101","Radiografía Retroalveolar Unitaria Adulto (por placa)",{"$f":"SUM(D2999+G2999)","v":0},{"$f":"SUM(E2999:F2999)","v":0},null,null,null,null,null,null,null,null,null,null,null,null,null,null,null,null,null,null,null,null,null,null,null,null,null,null,null,null,null,null,null,null,3740,{"$f":"AK2999*E2999","v":0},null," "]
["2702102","Radiografía Retroalveolar Unitaria Niño (por placa)",0,0,null,null,null,null,null,null,null,null,null,null,null,null,null,null,null,null,null,null,null,null,null,null,null,null,null,null,null,null,null,null,null,null,3740,0]
["2702103","Radiografía Bite Wing Adulto (por placa)",0,0,null,null,null,null,null,null,null,null,null,null,null,null,null,null,null,null,null,null,null,null,null,null,null,null,null,null,null,null,null,null,null,null,3740,0]
["2702104","Radiografía Bite-Wing Niño (por placa)",0,0,null,null,null,null,null,null,null,null,null,null,null,null,null,null,null,null,null,null,null,null,null,null,null,null,null,null,null,null,null,null,null,null,3740,0]
["2702105","Radiografía extraoral (por placa)",0,0,null,null,null,null,null,null,null,null,null,null,null,null,null,null,null,null,null,null,null,null,null,null,null,null,null,null,null,null,null,null,null,null,5290,0]
["2702106","Radiografía oclusal (por placa)",0,0,null,null,null,null,null,null,null,null,null,null,null,null,null,null,null,null,null,null,null,null,null,null,null,null,null,null,null,null,null,null,null,null,3030,0]
["2702107","Sialografía (cada lado) (incluye el proc.)",0,0,null,null,null,null,null,null,null,null,null,null,null,null,null,null,null,null,null,null,null,null,null,null,null,null,null,null,null,null,null,null,null,null,34830,0]
["2702108","Telerradiografía",0,0,null,null,null,null,null,null,null,null,null,null,null,null,null,null,null,null,null,null,null,null,null,null,null,null,null,null,null,null,null,null,null,null,9280,0]
["2702109","Radiografía panorámica u ortopantomografía",0,0,null,null,null,null,null,null,null,null,null,null,null,null,null,null,null,null,null,null,null,null,null,null,null,null,null,null,null,null,null,null,null,null,19680,0]
["2702110","Radiografía de ATM Bilateral en Boca Cerrada y Boca Abierta",0,0,null,null,null,null,null,null,null,null,null,null,null,null,null,null,null,null,null,null,null,null,null,null,null,null,null,null,null,null,null,null,null,null,19680,0]
["2702111","Tomografía Computacional Maxilo Facial Cone Beam Zona Dentaria",0,0,null,null,null,null,null,null,null,null,null,null,null,null,null,null,null,null,null,null,null,null,null,null,null,null,null,null,null,null,null,null,null,null,35620,0]
["2702112","Tomografía Computacional Maxilo Facial Cone Beam Unimaxilar",0,0,null,null,null,null,null,null,null,null,null,null,null,null,null,null,null,null,null,null,null,null,null,null,null,null,null,null,null,null,null,null,null,null,53440,0]
["2702113","Tomografía Computada Cone Beam Bimaxilar, Máxilo Facial, Cráneo Completo, Sialo Tc Cone Beam",0,0,null,null,null,null,null,null,null,null,null,null,null,null,null,null,null,null,null,null,null,null,null,null,null,null,null,null,null,null,null,null,null,null,64120,0]
["2702114","Tomografía Computada de Cuello Suprahioideo con contraste",0,0,null,null,null,null,null,null,null,null,null,null,null,null,null,null,null,null,null,null,null,null,null,null,null,null,null,null,null,null,null,null,null,null,57240,0]
["2702115","Sialo Tomografía Computada",0,0,null,null,null,null,null,null,null,null,null,null,null,null,null,null,null,null,null,null,null,null,null,null,null,null,null,null,null,null,null,null,null,null,57240,0]
["2702116","Resonancia Magnética de Cuello Suprahioideo",0,0,null,null,null,null,null,null,null,null,null,null,null,null,null,null,null,null,null,null,null,null,null,null,null,null,null,null,null,null,null,null,null,null,79360,0]
["2702117","Estudio de Localización Maxilofacial",0,0,null,null,null,null,null,null,null,null,null,null,null,null,null,null,null,null,null,null,null,null,null,null,null,null,null,null,null,null,null,null,null,null,11830,0,null," "]
[null,"TOTAL",{"$f":"SUM(C2999:C3015)","v":0},{"$f":"SUM(D2999:D3015)","v":0},0,0,0,null,null,null,null,null,null,null,null,null,null,null,null,null,null,null,null,null,null,null,{"$f":"SUM(AA2999:AA3015)","v":0},{"$f":"SUM(AB2999:AB3015)","v":0},{"$f":"SUM(AC2999:AC3015)","v":0},{"$f":"SUM(AD2999:AD3015)","v":0},{"$f":"SUM(AE2999:AE3015)","v":0},0,0,0,0,0,null,{"$f":"SUM(AL2999:AL3015)","v":0}]
[null,"ODONTOLOGÍA GENERAL: ACTIVIDADES PREVENTIVAS Y RECUPERATIVAS"]
["2703101","Aplicación de sellantes",{"$f":"SUM(D3018+G3018)","v":0},{"$f":"SUM(E3018:F3018)","v":0},null,null,null,null,null,null,null,null,null,null,null,null,null,null,null,null,null,null,null,null,null,null,null,null,null,null,null,null,null,null,null,null,5840,{"$f":"AK3018*E3018","v":0},null," "]
["2703102","Desgastes selectivos",0,0,null,null,null,null,null,null,null,null,null,null,null,null,null,null,null,null,null,null,null,null,null,null,null,null,null,null,null,null,null,null,null,null,4780,0]
["2703103","Destartraje y pulido coronario",0,0,null,null,null,null,null,null,null,null,null,null,null,null,null,null,null,null,null,null,null,null,null,null,null,null,null,null,null,null,null,null,null,null,9100,0]
["2703104","Mantenedores de espacio",0,0,null,null,null,null,null,null,null,null,null,null,null,null,null,null,null,null,null,null,null,null,null,null,null,null,null,null,null,null,null,null,null,null,19000,0]
["2703105","Pulpotomía",0,0,null,null,null,null,null,null,null,null,null,null,null,null,null,null,null,null,null,null,null,null,null,null,null,null,null,null,null,null,null,null,null,null,3340,0]
["2703106","Aplicación tópica de fluoruros",0,0,null,null,null,null,null,null,null,null,null,null,null,null,null,null,null,null,null,null,null,null,null,null,null,null,null,null,null,null,null,null,null,null,11940,0]
["2703107","Exodoncia simple diente permanente",0,0,null,null,null,null,null,null,null,null,null,null,null,null,null,null,null,null,null,null,null,null,null,null,null,null,null,null,null,null,null,null,null,null,5300,0]
["2703108","Exodoncia diente primario",0,0,null,null,null,null,null,null,null,null,null,null,null,null,null,null,null,null,null,null,null,null,null,null,null,null,null,null,null,null,null,null,null,null,3340,0]
["2703109","Obturación amalgama",0,0,null,null,null,null,null,null,null,null,null,null,null,null,null,null,null,null,null,null,null,null,null,null,null,null,null,null,null,null,null,null,null,null,12890,0]
["2703110","Obturación composite",0,0,null,null,null,null,null,null,null,null,null,null,null,null,null,null,null,null,null,null,null,null,null,null,null,null,null,null,null,null,null,null,null,null,12280,0]
["2703111","Obturación Vidrio Ionómero",0,0,null,null,null,null,null,null,null,null,null,null,null,null,null,null,null,null,null,null,null,null,null,null,null,null,null,null,null,null,null,null,null,null,7590,0]
["2703112","Profilaxis Dental ",0,0,null,null,null,null,null,null,null,null,null,null,null,null,null,null,null,null,null,null,null,null,null,null,null,null,null,null,null,null,null,null,null,null,25520,0]
["2703113","Acceso Cavitario",0,0,null,null,null,null,null,null,null,null,null,null,null,null,null,null,null,null,null,null,null,null,null,null,null,null,null,null,null,null,null,null,null,null,4610,0]
["2703114","Ferulización por grupo",0,0,null,null,null,null,null,null,null,null,null,null,null,null,null,null,null,null,null,null,null,null,null,null,null,null,null,null,null,null,null,null,null,null,9760,0]
["2703115","Recubrimiento Directo",0,0,null,null,null,null,null,null,null,null,null,null,null,null,null,null,null,null,null,null,null,null,null,null,null,null,null,null,null,null,null,null,null,null,3330,0]
["2703116","Pulpectomía (por odontólogo general)",0,0,null,null,null,null,null,null,null,null,null,null,null,null,null,null,null,null,null,null,null,null,null,null,null,null,null,null,null,null,null,null,null,null,7770,0,null," "]
[null,"Total ARANCEL MAI",{"$f":"SUM(C3018:C3033)","v":0},{"$f":"SUM(D3018:D3033)","v":0},{"$f":"SUM(E3018:E3033)","v":0},{"$f":"SUM(F3018:F3033)","v":0},{"$f":"SUM(G3018:G3033)","v":0},null,null,null,null,null,null,null,null,null,null,null,null,null,null,null,null,null,null,null,{"$f":"SUM(AA3018:AA3033)","v":0},{"$f":"SUM(AB3018:AB3033)","v":0},0,0,0,0,0,0,0,0,null,{"$f":"SUM(AL3018:AL3033)","v":0}]
[null,"ESPECIALIDADES"]
["2704001","Obturación Inlay metal (incluye materiales no preciosos, no incluye oro)",{"$f":"SUM(D3036+G3036)","v":0},{"$f":"SUM(E3036:F3036)","v":0},null,null,null,null,null,null,null,null,null,null,null,null,null,null,null,null,null,null,null,null,null,null,null,null,null,null,null,null,null,null,null,null,12660,{"$f":"AK3036*E3036","v":0},null," "]
["2704002","Dispositivo Interoclusal",0,0,null,null,null,null,null,null,null,null,null,null,null,null,null,null,null,null,null,null,null,null,null,null,null,null,null,null,null,null,null,null,null,null,24230,0]
["2704003","Prótesis de restitución (fase clínica)",0,0,null,null,null,null,null,null,null,null,null,null,null,null,null,null,null,null,null,null,null,null,null,null,null,null,null,null,null,null,null,null,null,null,52570,0]
["2704004","Prótesis metálica",0,0,null,null,null,null,null,null,null,null,null,null,null,null,null,null,null,null,null,null,null,null,null,null,null,null,null,null,null,null,null,null,null,null,78990,0]
["2704005","Prótesis de restitución (fase laboratorio)",0,0,null,null,null,null,null,null,null,null,null,null,null,null,null,null,null,null,null,null,null,null,null,null,null,null,null,null,null,null,null,null,null,null,26180,0]
["2704006","Reparación compuesta de prótesis",0,0,null,null,null,null,null,null,null,null,null,null,null,null,null,null,null,null,null,null,null,null,null,null,null,null,null,null,null,null,null,null,null,null,10510,0]
["2704007","Reparación corona",0,0,null,null,null,null,null,null,null,null,null,null,null,null,null,null,null,null,null,null,null,null,null,null,null,null,null,null,null,null,null,null,null,null,8080,0]
["2704008","Reparación o reajuste prótesis",0,0,null,null,null,null,null,null,null,null,null,null,null,null,null,null,null,null,null,null,null,null,null,null,null,null,null,null,null,null,null,null,null,null,6320,0]
["2704009","Restitución por corona (combinada)",0,0,null,null,null,null,null,null,null,null,null,null,null,null,null,null,null,null,null,null,null,null,null,null,null,null,null,null,null,null,null,null,null,null,47450,0]
["2704010","Restitución por corona provisoria",0,0,null,null,null,null,null,null,null,null,null,null,null,null,null,null,null,null,null,null,null,null,null,null,null,null,null,null,null,null,null,null,null,null,24230,0]
["2704011","Tratamiento ortodoncia con aparatología removible (incluye aparato)(año 1)",0,0,null,null,null,null,null,null,null,null,null,null,null,null,null,null,null,null,null,null,null,null,null,null,null,null,null,null,null,null,null,null,null,null,133140,0]
["2704012","Tratamiento ortodoncia con aparatología fija (incluye aparato) (año 1)",0,0,null,null,null,null,null,null,null,null,null,null,null,null,null,null,null,null,null,null,null,null,null,null,null,null,null,null,null,null,null,null,null,null,161420,0]
["2704013","Tratamiento ortodoncia con aparatología fija (incluye aparato) (año 2)",0,0,null,null,null,null,null,null,null,null,null,null,null,null,null,null,null,null,null,null,null,null,null,null,null,null,null,null,null,null,null,null,null,null,96390,0]
["2704014","Endodoncia Multirradicular",0,0,null,null,null,null,null,null,null,null,null,null,null,null,null,null,null,null,null,null,null,null,null,null,null,null,null,null,null,null,null,null,null,null,83380,0]
["2704015","Endodoncia birradicular",0,0,null,null,null,null,null,null,null,null,null,null,null,null,null,null,null,null,null,null,null,null,null,null,null,null,null,null,null,null,null,null,null,null,60950,0]
["2704016","Endodoncia unirradicular",0,0,null,null,null,null,null,null,null,null,null,null,null,null,null,null,null,null,null,null,null,null,null,null,null,null,null,null,null,null,null,null,null,null,54510,0]
["2704017","Destartraje Subgingival y Pulido Radicular",0,0,null,null,null,null,null,null,null,null,null,null,null,null,null,null,null,null,null,null,null,null,null,null,null,null,null,null,null,null,null,null,null,null,13650,0," "," "]
["2704018","Sedación inhalatoria con óxido nitroso",0,0,null,null,null,null,null,null,null,null,null,null,null,null,null,null,null,null,null,null,null,null,null,null,null,null,null,null,null,null,null,null,null,null,14270,0]
["2704019","Corona Metálica Preformada en diente temporal",0,0,null,null,null,null,null,null,null,null,null,null,null,null,null,null,null,null,null,null,null,null,null,null,null,null,null,null,null,null,null,null,null,null,19000,0]
["2704020","Sialometría",0,0,null,null,null,null,null,null,null,null,null,null,null,null,null,null,null,null,null,null,null,null,null,null,null,null,null,null,null,null,null,null,null,null,4440,0]
["2704021","Inyección Intralesional de Medicamentos en el territorio de la Mucosa Oral",0,0,null,null,null,null,null,null,null,null,null,null,null,null,null,null,null,null,null,null,null,null,null,null,null,null,null,null,null,null,null,null,null,null,6970,0]
["2704022","Tratamiento No Quirúrgico de Obstrucción Glándula Salival",0,0,null,null,null,null,null,null,null,null,null,null,null,null,null,null,null,null,null,null,null,null,null,null,null,null,null,null,null,null,null,null,null,null,4440,0]
["2704023","Cateterismo de Conducto Excretor Glándula Salival en Adultos (c/u)",0,0,null,null,null,null,null,null,null,null,null,null,null,null,null,null,null,null,null,null,null,null,null,null,null,null,null,null,null,null,null,null,null,null,12040,0]
["2704024","Cateterismo de Conducto Excretor Glándula Salival en Niños (c/u)",0,0,null,null,null,null,null,null,null,null,null,null,null,null,null,null,null,null,null,null,null,null,null,null,null,null,null,null,null,null,null,null,null,null,15950,0]
["2704025","Instilación de Glándula Salival (c/u) (Procedimiento)",0,0,null,null,null,null,null,null,null,null,null,null,null,null,null,null,null,null,null,null,null,null,null,null,null,null,null,null,null,null,null,null,null,null,9290,0]
["2704026","Infiltración de la Articulación Temporomandibular, por sesión",0,0,null,null,null,null,null,null,null,null,null,null,null,null,null,null,null,null,null,null,null,null,null,null,null,null,null,null,null,null,null,null,null,null,6970,0]
["2704027","Reducción de Luxación Discal de la Articulación Témporomandibular",0,0,null,null,null,null,null,null,null,null,null,null,null,null,null,null,null,null,null,null,null,null,null,null,null,null,null,null,null,null,null,null,null,null,4440,0]
["2704028","Tratamiento de Ronquido Primario y Saos (Dispositivos de Avance Mandibular)",0,0,null,null,null,null,null,null,null,null,null,null,null,null,null,null,null,null,null,null,null,null,null,null,null,null,null,null,null,null,null,null,null,null,48450,0]
["2704029","Reparación o reajuste de Dispositivo Interoclusal",0,0,null,null,null,null,null,null,null,null,null,null,null,null,null,null,null,null,null,null,null,null,null,null,null,null,null,null,null,null,null,null,null,null,6320,0]
["2704030","Artrocentesis temporomandibular unilateral",0,0,null,null,null,null,null,null,null,null,null,null,null,null,null,null,null,null,null,null,null,null,null,null,null,null,null,null,null,null,null,null,null,null,100060,0,null," "]
[null,"TOTAL ",{"$f":"SUM(C3036:C3065)","v":0},{"$f":"SUM(D3036:D3065)","v":0},0,0,0,null,null,null,null,null,null,null,null,null,null,null,null,null,null,null,null,null,null,null,{"$f":"SUM(AA3036:AA3065)","v":0},{"$f":"SUM(AB3036:AB3065)","v":0},0,0,0,0,0,0,0,0,null,{"$f":"SUM(AL3036:AL3065)","v":0}]
[null,"CIRUGÍAS ODONTOLÓGICAS"]
["2705001","Cirugía bucal",{"$f":"SUM(I3068:N3068)","v":0},null,null,null,null,{"$f":"+I3068+J3068","v":0},null,null,null,null,null,null,null,null,null,null,null,null,null,null,null,null,null,null,null,null,null,null,null,null,null,null,null,null,14830,{"$f":"AK3068*I3068","v":0}]
["2705002","Cirugía de enfermedad periodontal (por grupo)",{"$f":"SUM(I3069:N3069)","v":0},null,null,null,null,0,null,null,null,null,null,null,null,null,null,null,null,null,null,null,null,null,null,null,null,null,null,null,null,null,null,null,null,null,15850,0]
["2705003","Corticotomía",{"$f":"SUM(I3070:N3070)","v":0},null,null,null,null,0,null,null,null,null,null,null,{"$f":"SUM(P3070:Q3070)","v":0},null,null,{"$f":"SUM(S3070:T3070)","v":0},null,null,{"$f":"SUM(V3070:W3070)","v":0},null,null,{"$f":"SUM(Y3070:Z3070)","v":0},null,null,null,null,null,null,null,null,null,null,null,null,87870,0]
["2705004","Disyunción palatina quirúrgica",0,null,null,null,null,0,null,null,null,null,null,null,{"$f":"SUM(P3071:Q3071)","v":0},null,null,{"$f":"SUM(S3071:T3071)","v":0},null,null,{"$f":"SUM(V3071:W3071)","v":0},null,null,{"$f":"SUM(Y3071:Z3071)","v":0},null,null,null,null,null,null,null,null,null,null,null,null,163840,0]
["2705005","Extirpación de pseudoquistes, quistes y tumores",0,null,null,null,null,0,null,null,null,null,null,null,0,null,null,0,null,null,0,null,null,{"$f":"SUM(Y3072:Z3072)","v":0},null,null,null,null,null,null,null,null,null,null,null,null,123100,0]
["2705006","Glosectomías",0,null,null,null,null,0,null,null,null,null,null,null,{"$f":"SUM(P3073:Q3073)","v":0},null,null,{"$f":"SUM(S3073:T3073)","v":0},null,null,{"$f":"SUM(V3073:W3073)","v":0},null,null,{"$f":"SUM(Y3073:Z3073)","v":0},null,null,null,null,null,null,null,null,null,null,null,null,188410,0]
["2705007","Implante endodóntico intraóseo",0,null,null,null,null,0,null,null,null,null,null,null,null,null,null,null,null,null,null,null,null,null,null,null,null,null,null,null,null,null,null,null,null,null,49970,0]
["2705008","Implantes subperiósticos",0,null,null,null,null,0,null,null,null,null,null,null,{"$f":"SUM(P3075:Q3075)","v":0},null,null,{"$f":"SUM(S3075:T3075)","v":0},null,null,{"$f":"SUM(V3075:W3075)","v":0},null,null,{"$f":"SUM(Y3075:Z3075)","v":0},null,null,null,null,null,null,null,null,null,null,null,null,189440,0]
["2705009","Exodoncia de dientes retenidos",0,null,null,null,null,0,null,null,null,null,null,null,null,null,null,null,null,null,null,null,null,null,null,null,null,null,null,null,null,null,null,null,null,null,40560,0,null," "]
["2705010","Exodoncia de tercer molar con osteotomía ",0,null,null,null,null,0,null,null,null,null,null,null,null,null,null,null,null,null,null,null,null,null,null,null,null,null,null,null,null,null,null,null,null,null,40560,0]
["2705011","Injertos en boca",0,null,null,null,null,0,null,null,null,null,null,null,{"$f":"SUM(P3078:Q3078)","v":0},null,null,{"$f":"SUM(S3078:T3078)","v":0},null,null,{"$f":"SUM(V3078:W3078)","v":0},null,null,{"$f":"SUM(Y3078:Z3078)","v":0},null,null,null,null,null,null,null,null,null,null,null,null,163840,0]
["2705012","Elevación de piso del seno maxilar",0,null,null,null,null,0,null,null,null,null,null,null,{"$f":"SUM(P3079:Q3079)","v":0},null,null,{"$f":"SUM(S3079:T3079)","v":0},null,null,{"$f":"SUM(V3079:W3079)","v":0},null,null,{"$f":"SUM(Y3079:Z3079)","v":0},null,null,null,null,null,null,null,null,null,null,null,null,142670,0]
["2705013","Plastía de fístula salival",0,null,null,null,null,0,null,null,null,null,null,null,null,null,null,null,null,null,null,null,null,null,null,null,null,null,null,null,null,null,null,null,null,null,56560,0]
["2705014","Preparación quirúrgica de los maxilares con fines protésicos",0,null,null,null,null,0,null,null,null,null,null,null,null,null,null,null,null,null,null,null,null,null,null,null,null,null,null,null,null,null,null,null,null,null,37500,0]
["2705015","Profundización de vestíbulo o reconstrucción de rebordes, con o sin injerto",0,null,null,null,null,0,null,null,null,null,null,null,{"$f":"SUM(P3082:Q3082)","v":0},null,null,{"$f":"SUM(S3082:T3082)","v":0},null,null,{"$f":"SUM(V3082:W3082)","v":0},null,null,{"$f":"SUM(Y3082:Z3082)","v":0},null,null,null,null,null,null,null,null,null,null,null,null,180420,0]
["2705016","Reimplante y trasplante dentario",0,null,null,null,null,0,null,null,null,null,null,null,null,null,null,null,null,null,null,null,null,null,null,null,null,null,null,null,null,null,null,null,null,null,40560,0]
["2705017","Remoción de cuerpo extraño y secuestrectomía",0,null,null,null,null,0,null,null,null,null,null,null,null,null,null,null,null,null,null,null,null,null,null,null,null,null,null,null,null,null,null,null,null,null,40560,0]
["2705018","Sutura completa de herida mayor",0,null,null,null,null,0,null,null,null,null,null,null,null,null,null,null,null,null,null,null,null,null,null,null,null,null,null,null,null,null,null,null,null,null,77440,0]
["2705019","Sutura completa de herida menor",0,null,null,null,null,0,null,null,null,null,null,null,null,null,null,null,null,null,null,null,null,null,null,null,null,null,null,null,null,null,null,null,null,null,67320,0,null," "]
["2705020","Sutura simple de herida",0,null,null,null,null,0,null,null,null,null,null,null,null,null,null,null,null,null,null,null,null,null,null,null,null,null,null,null,null,null,null,null,null,null,40560,0]
["2705021","Tratamiento quirúrgico fracturas maxilar superior",0,null,null,null,null,0,null,null,null,null,null,null,{"$f":"SUM(P3088:Q3088)","v":0},null,null,{"$f":"SUM(S3088:T3088)","v":0},null,null,{"$f":"SUM(V3088:W3088)","v":0},null,null,{"$f":"SUM(Y3088:Z3088)","v":0},null,null,null,null,null,null,null,null,null,null,null,null,215810,0]
["2705022","Tratamiento quirúrgico de fracturas en maxilar inferior",0,null,null,null,null,0,null,null,null,null,null,null,0,null,null,0,null,null,0,null,null,0,null,null,null,null,null,null,null,null,null,null,null,null,215810,0]
["2705023","Tratamiento de traumatismo dento alveolar simple",{"$f":"SUM(E3090:G3090)","v":0},{"$f":"SUM(E3090:F3090)","v":0},null,null,null,null,null,null,null,null,null,null,null,null,null,null,null,null,null,null,null,null,null,null,null,null,null,null,null,null,null,null,null,null,40560,{"$f":"AK3090*D3090","v":0}," "," "]
["2705024","Tratamiento de traumatismo dento alveolar complejo",{"$f":"SUM(E3091:G3091)","v":0},{"$f":"SUM(E3091:F3091)","v":0},null,null,null,null,null,null,null,null,null,null,null,null,null,null,null,null,null,null,null,null,null,null,null,null,null,null,null,null,null,null,null,null,74590,{"$f":"AK3091*D3091","v":0}," "," "]
["2705025","Implante oseointegrado",{"$f":"SUM(I3092:N3092)","v":0},null,null,null,null,0,null,null,null,null,null,null,{"$f":"SUM(P3092:Q3092)","v":0},null,null,{"$f":"SUM(S3092:T3092)","v":0},null,null,{"$f":"SUM(V3092:W3092)","v":0},null,null,{"$f":"SUM(Y3092:Z3092)","v":0},null,null,null,null,null,null,null,null,null,null,null,null,84380,{"$f":"AK3092*I3092","v":0},null," "]
["2705026","Pilar Protésico sobre Implantes",0,null,null,null,null,{"$f":"+I3093+J3093","v":0},null,null,null,null,null,null,0,null,null,0,null,null,0,null,null,0,null,null,null,null,null,null,null,null,null,null,null,null,38490,{"$f":"AK3093*I3093","v":0}]
[null,"TOTAL ARANCEL MAI",{"$f":"SUM(C3068:C3089)+C3092+C3093","v":0},{"$f":"SUM(D3090:D3091)","v":0},{"$f":"SUM(E3090:E3091)","v":0},0,0,{"$f":"SUM(H3068:H3093)","v":0},{"$f":"SUM(I3068:I3089)+I3092+I3093","v":0},{"$f":"SUM(J3068:J3089)+J3092+J3093","v":0},0,0,0,0,{"$f":"SUM(O3068:O3093)","v":0},0,0,0,0,0,0,0,0,0,0,0,0,0,0,0,0,0,0,0,0,0,null,{"$f":"SUM(AL3068:AL3089)+AL3092+AL3093","v":0}," "," "]
["01012553","Sutura intraoral ",{"$f":"SUM(I3095:N3095)","v":0},null,null,null,null,{"$f":"+I3095+J3095","v":0},null,null,null,null,null,null,null,null,null,null,null,null,null,null,null,null,null,null,null,null,null,null,null,null,null,null,null,null,null,null," "," "]
["01012554","Tratamiento quirúrgico pseudoquiste y quiste odontológico ",{"$f":"SUM(I3096:N3096)","v":0},null,null,null,null,0]
["01012555","Tratamiento quirúrgico tumor odontológico ",0,null,null,null,null,0]
[5099022,"Frenectomia ",0,null,null,null,null,0]
[5099023,"Fenestracion",0,null,null,null,null,0]
[5099024,"Drenaje Abceso intra-extroral",0,null,null,null,null,0]
[5099025,"Cirugía preprotesica ",0,null,null,null,null,0]
[" 5099056 ","Desobturacion de conductos ",0,null,null,null,null,0,null,null,null,null,null,null,null,null,null,null,null,null,null,null,null,null,null,null,null,null,null,null,null,null,null,null,null,null,null,null,null," "]
["01012561","Cirugía ortognática",0,null,null,null,null,0]
[null,"TOTAL ARANCEL MLE Y NO ARANCELADO",{"$f":"SUM(C3095:C3103)","v":0},null,null,null,null,{"$f":"SUM(H3095:H3103)","v":0},{"$f":"SUM(I3095:I3103)","v":0},0,0,0,0,0,0,0,0,0,0,0,0,0,0,0,0,0,0,0,0,{"$f":"SUM(AD3095:AD3103)","v":0},0,0,0,0,0,0]
[null,"TOTAL PRODUCCION",{"$f":"SUM(C3094,C3104)","v":0},{"$f":"+D3094","v":0},{"$f":"SUM(E3094,E3104)","v":0},0,{"$f":"SUM(G3094,G3104)","v":0},0,{"$f":"SUM(I3094,I3104)","v":0},0,0,0,0,0,0,0,0,0,0,0,0,0,0,0,0,0,0,0,0,0,0,0,0,0,0,0,null,{"$f":"SUM(AL3094,AL3104)","v":0}]
[null,"OTRAS PRESTACIONES ODONTOLÓGICAS"]
[5099026,"Bloqueo Anestesico",{"$f":"SUM(D3107+G3107)","v":0},{"$f":"SUM(E3107:F3107)","v":0}]
[null,"Odontologia general",{"$f":"SUM(D3108+G3108)","v":0},{"$f":"SUM(E3108:F3108)","v":0},{"$f":"SUM(E3109:E3112)","v":0},{"$f":"SUM(F3109:F3112)","v":0},{"$f":"SUM(G3109:G3112)","v":0},null,null,null,null,null,null,null,null,null,null,null,null,null,null,null,null,null,null,null,{"$f":"SUM(AA3109:AA3112)","v":0},{"$f":"SUM(AB3109:AB3112)","v":0},0,0,0,0,0,0,0,{"$f":"SUM(AJ3109:AJ3112)","v":0}]
[5099028,"Actividad interseptiva de anomalias dentomaxilares OPI",{"$f":"SUM(D3109+G3109)","v":0},0]
[5099029,"Instalacion de aparato intercepcion de anomalias dentomaxilares",0,0]
[5099030,"Examen diagnostico OPI",0,0]
[5099031,"Alta mantencion ",0,0]
[null,"Odontopediatria",0,0,{"$f":"SUM(E3114:E3116)","v":0},{"$f":"SUM(F3114:F3116)","v":0},{"$f":"SUM(G3114:G3116)","v":0},null,null,null,null,null,null,null,null,null,null,null,null,null,null,null,null,null,null,null,{"$f":"SUM(AA3114:AA3116)","v":0},{"$f":"SUM(AB3114:AB3116)","v":0},0,0,0,0,0,0,0,0]
[5099032,"Corona metalica",0,{"$f":"SUM(E3114:F3114)","v":0}]
["01012592","Atención de niño discapacitado en sillón (acción de odontopediatría)",0,0]
["01012593","Atención de niño discapacitado en pabellón (acción de odontopediatría)",0,0]
[null,"Ortodoncia",{"$f":"SUM(D3117+G3117)","v":0},0,{"$f":"SUM(E3118:E3121)","v":0},{"$f":"SUM(F3118:F3121)","v":0},{"$f":"SUM(G3118:G3121)","v":0},null,null,null,null,null,null,null,null,null,null,null,null,null,null,null,null,null,null,null,{"$f":"SUM(AA3118:AA3121)","v":0},{"$f":"SUM(AB3118:AB3121)","v":0},0,0,0,0,0,0,0,0]
[5099033,"Instalacion aparato removible ",0,0]
[5099034,"Instalacion aparato ortopedia prequirurgica (fisura labiopalatina)",0,0]
[5099035,"Ortopedia prequirurgica actividad (fisura labiopalatina)",0,0]
["01012597","Instalación Aparato Fijo en Ortodoncia. (Brackets)",0,0]
[null,"Endodoncia",0,0,{"$f":"SUM(E3123:E3125)","v":0},{"$f":"SUM(F3123:F3125)","v":0},{"$f":"SUM(G3123:G3125)","v":0},null,null,null,null,null,null,null,null,null,null,null,null,null,null,null,null,null,null,null,{"$f":"SUM(AA3123:AA3125)","v":0},{"$f":"SUM(AB3123:AB3125)","v":0},0,0,0,0,0,0,0,0]
[5099036,"Tratamiento de induccion al cierre",0,0]
[5099037,"Desobturacion de conductos",0,0]
["01012600","Medicación intraconducto (acción de endodoncia)",0,0]
[null,"Periodoncia",0,0,{"$f":"SUM(E3127:E3128)","v":0},{"$f":"SUM(F3127:F3128)","v":0},{"$f":"SUM(G3127:G3128)","v":0},null,null,null,null,null,null,null,null,null,null,null,null,null,null,null,null,null,null,null,{"$f":"SUM(AA3127:AA3128)","v":0},{"$f":"SUM(AB3127:AB3128)","v":0},0,0,0,0,0,0,0,0]
[5099038,"Terapia articular especifica",0,0]
["01012602","Férula Periodoncia",0,0]
[null,"Radiologia",0,0,{"$f":"SUM(E3130:E3132)","v":0},{"$f":"SUM(F3130:F3132)","v":0},{"$f":"SUM(G3130:G3132)","v":0},null,null,null,null,null,null,null,null,null,null,null,null,null,null,null,null,null,null,null,{"$f":"SUM(AA3130:AA3132)","v":0},{"$f":"SUM(AB3130:AB3132)","v":0},0,0,0,0,0,0,0,0]
[5099041,"Telerradiografia perfil",0,0]
[5099042,"Telerradiografia frente",0,0]
[5099043,"Radiografia articulacion temporo mandibular",0,0]
[null,"Protesis",0,0,{"$f":"SUM(E3134:E3149)","v":0},{"$f":"SUM(F3134:F3149)","v":0},{"$f":"SUM(G3134:G3149)","v":0},null,null,null,null,null,null,null,null,null,null,null,null,null,null,null,null,null,null,null,{"$f":"SUM(AA3134:AA3149)","v":0},{"$f":"SUM(AB3134:AB3149)","v":0},0,0,0,0,0,0,0,0]
[5099057,"instalacion aparotologia fija",0,0]
[5099058,"instalacion protesis removible",0,0]
["01012608","Prótesis Removible Acrílica",0,0]
["01012609","Prótesis Removible Metálica",0,0]
["01012610","Instalación Aparato de Contención",0,0]
["01012611","Reparación de Prótesis",0,0]
["01012612","Prótesis Fija Provisoria (unitaria o Plural)",0,0]
["01012613","Tratamiento Traumatismo Dentoalveolar ",0,0]
["01012614","Instalación de Implante Endo-Oseo Oseointegrable. ",0,0]
["01012615","Tratamiento Temporo Mandibular ",0,0]
["01012616","Prevención odontológica niño discapacitado ",0,0]
["01012617","Tratamiento aparatología fija niños de 12 a 14 años año 1 ",0,0]
["01012618","Tratamiento aparatología fija niños de 12 a 14 años año 2 ",0,0]
["01012619","Obturaciones de vidrio Ionomero en diente temporal",0,0]
["01012620","Destartraje subgingival y Pulido radicular por Sextante",0,0,null,null,null,null,null,null,null,null,null,null,null,null,null,null,null,null,null,null,null,null,null,null,null,null,null,null,null,null,null,null,null,null,null,null,null," "]
["01012621","Desinfección Bucal Total",0,0]
[null,"Traumatologia Maxilofacial",0,0,{"$f":"SUM(E3151:E3152)","v":0},{"$f":"SUM(F3151:F3152)","v":0},{"$f":"SUM(G3151:G3152)","v":0},null,null,null,null,null,null,null,null,null,null,null,null,null,null,null,null,null,null,null,{"$f":"SUM(AA3151:AA3152)","v":0},{"$f":"SUM(AB3151:AB3152)","v":0},0,0,0,0,0,0,0,0]
[5099059,"Examen y diagnostico ttm eje I  ",0,0]
[5099060,"Examen y diagnostico ttm eje I y II montaje",0,0,null,null,null,null,null,null,null,null,null,null,null,null,null,null,null,null,null,null,null,null,null,null,null,null,null,null,null,null,null,null,null,null,null,null,null," "]
[null,"Trastornos Temporomandibular y dolor orofacial",0,0,{"$f":"SUM(E3154)","v":0},{"$f":"SUM(F3154)","v":0},{"$f":"SUM(G3154)","v":0},null,null,null,null,null,null,null,null,null,null,null,null,null,null,null,null,null,null,null,{"$f":"SUM(AA3154)","v":0},{"$f":"SUM(AB3154)","v":0},0,0,0,0,0,0,0,0]
[5099039,"Terapia cognitiva conductual y autocontrol TTM (trastornos temporomandibulares)",0,0]
[null,"TOTAL",{"$f":"SUM(C3107,C3109:C3112,C3114:C3116,C3118:C3121,   C3123:C3125, C3127:C3128, C3130:C3132, C3154,C3151:C3152,C3134:C3149)","v":0},{"$f":"SUM(D3107,D3109:D3112,D3114:D3116,D3118:D3121,   D3123:D3125, D3127:D3128, D3130:D3132, D3154,D3151:D3152,D3134:D3149)","v":0},{"$f":"SUM(E3107,E3109:E3112,E3114:E3116,E3118:E3121,   E3123:E3125, E3127:E3128, E3130:E3132, E3154,E3151:E3152,E3134:E3149)","v":0},{"$f":"SUM(F3107,F3109:F3112,F3114:F3116,F3118:F3121,   F3123:F3125, F3127:F3128, F3130:F3132, F3154,F3151:F3152,F3134:F3149)","v":0},{"$f":"SUM(G3107,G3109:G3112,G3114:G3116,G3118:G3121,   G3123:G3125, G3127:G3128, G3130:G3132, G3154,G3151:G3152,G3134:G3149)","v":0},null,null,null,null,null,null,null,null,null,null,null,null,null,null,null,null,null,null,null,{"$f":"SUM(AA3107,AA3109:AA3112,AA3114:AA3116,AA3118:AA3121,   AA3123:AA3125, AA3127:AA3128, AA3130:AA3132, AA3154,AA3151:AA3152,AA3134:AA3149)","v":0},{"$f":"SUM(AB3107,AB3109:AB3112,AB3114:AB3116,AB3118:AB3121,   AB3123:AB3125, AB3127:AB3128, AB3130:AB3132, AB3154,AB3151:AB3152,AB3134:AB3149)","v":0},0,0,0,0,0,{"$f":"SUM(AH3107,AH3109:AH3112,AH3114:AH3116,AH3118:AH3121,   AH3123:AH3125, AH3127:AH3128, AH3130:AH3132, AH3154,AH3151:AH3152,AH3134:AH3149)","v":0},{"$f":"SUM(AI3107,AI3109:AI3112,AI3114:AI3116,AI3118:AI3121,   AI3123:AI3125, AI3127:AI3128, AI3130:AI3132, AI3154,AI3151:AI3152,AI3134:AI3149)","v":0},{"$f":"SUM(AJ3107,AJ3109:AJ3112,AJ3114:AJ3116,AJ3118:AJ3121,   AJ3123:AJ3125, AJ3127:AJ3128, AJ3130:AJ3132, AJ3154,AJ3151:AJ3152,AJ3134:AJ3149)","v":0}]
[null,"LENTES,AUDIFONOS"]
[null,"LENTES Y AUDIFONOS                                          "]
["3001001","Lentes ópticos",0,0,null,null,null,null,null,null,null,null,null,null,null,null,null,null,null,null,null,null,null,null,null,null,null,null,null,null,null,null,null,null,null,null,26160,{"$f":"AK3158*E3158","v":0},null," "]
["3001002","Audífonos",0,0,null,null,null,null,null,null,null,null,null,null,null,null,null,null,null,null,null,null,null,null,null,null,null,null,null,null,null,null,null,null,null,null,327940,{"$f":"AK3159*E3159","v":0},null," "]
[null,"TOTAL",{"$f":"SUM(C3158:C3159)","v":0},{"$f":"SUM(D3158:D3159)","v":0},{"$f":"SUM(E3158:E3159)","v":0},{"$f":"SUM(F3158:F3159)","v":0},{"$f":"SUM(G3158:G3159)","v":0},null,null,null,null,null,null,null,null,null,null,null,null,null,null,null,null,null,null,null,{"$f":"SUM(AA3158:AA3159)","v":0},0,0,0,0,0,0,0,0,0,null,0]
[null,"PROGRAMA CÁNCER"]
["01012665","Test Inmunoquímico de Deposiciones",{"$f":"SUM(D3162+G3162)","v":0},{"$f":"SUM(E3162:F3162)","v":0}]
["01012666","Yodoterapia",0,0]
["01012668","Braquiterapia baja tasa en dosis (LDR)",0,0]
["01012669","Teleterapia de alta complejidad con acelerador lineal (3D)",0,0]
["01012670","Teleterapia estándar (3D) con acelerador lineal ",0,0]
["01012671","Telecobaltoterapia con acelerador lineal",0,0]
[null,"TOTAL",{"$f":"SUM(C3162:C3167)","v":0},{"$f":"SUM(D3162:D3167)","v":0},{"$f":"SUM(E3162:E3167)","v":0},{"$f":"SUM(F3162:F3167)","v":0},{"$f":"SUM(G3162:G3167)","v":0},null,null,null,null,null,null,null,null,null,null,null,null,null,null,null,null,null,null,null,{"$f":"SUM(AA3162:AA3167)","v":0},0,0,0,0,0,0,0,0,0]
[null,"TRATAMIENTO ABREVIADO DE LA TUBERCULOSIS     "]
[3003001,"TBC, esquema primario (mensual)",0,0,null,null,null,null,null,null,null,null,null,null,null,null,null,null,null,null,null,null,null,null,null,null,null,null,null,null,null,null,null,null,null,null,9340,{"$f":"AK3170*E3170","v":0},null," "]
["3003002","TBC, esquema primario simplificado (mensual)",0,0,null,null,null,null,null,null,null,null,null,null,null,null,null,null,null,null,null,null,null,null,null,null,null,null,null,null,null,null,null,null,null,null,4970,{"$f":"AK3171*E3171","v":0},null," "]
["3003003","TBC, esquema secundario (mensual)",0,0,null,null,null,null,null,null,null,null,null,null,null,null,null,null,null,null,null,null,null,null,null,null,null,null,null,null,null,null,null,null,null,null,18730,{"$f":"AK3172*E3172","v":0},null," "]
["3003004","TBC, esquema normado de retratamiento (mensual)",0,0,null,null,null,null,null,null,null,null,null,null,null,null,null,null,null,null,null,null,null,null,null,null,null,null,null,null,null,null,null,null,null,null,192120,{"$f":"AK3173*E3173","v":0},null," "]
["3003005","TBC, esquema especial de retratamiento (mensual)",0,0,null,null,null,null,null,null,null,null,null,null,null,null,null,null,null,null,null,null,null,null,null,null,null,null,null,null,null,null,null,null,null,null,1055130,{"$f":"AK3174*E3174","v":0},null," "]
[null,"TOTAL",{"$f":"SUM(C3170:C3174)","v":0},{"$f":"SUM(D3170:D3174)","v":0},{"$f":"SUM(E3170:E3174)","v":0},{"$f":"SUM(F3170:F3174)","v":0},{"$f":"SUM(G3170:G3174)","v":0},null,null,null,null,null,null,null,null,null,null,null,null,null,null,null,null,null,null,null,{"$f":"SUM(AA3170:AA3174)","v":0},0,0,0,0,0,0,0,0,0,null,0]

{"sheet":"B17","index":2,"n_rows":295,"n_cols":28,"rows_kept":295,"cut":false,"hidden":false,"merged":[[199,0,199,1],[228,0,228,1],[234,0,234,1],[235,0,235,1],[207,0,207,1],[227,0,227,1],[206,0,206,1],[226,0,226,1],[208,0,208,1],[219,0,219,1],[220,0,220,1],[221,0,221,1],[222,0,222,1],[223,0,223,1],[224,0,224,1],[209,0,211,1],[212,0,212,1],[213,0,213,1],[214,0,214,1],[215,0,215,1],[216,0,216,1],[217,0,217,1],[218,0,218,1],[240,0,240,1],[201,0,202,0],[200,0,200,1],[231,0,231,1],[204,2,205,2],[209,2,211,2],[204,0,205,1],[238,0,239,0],[203,0,203,1],[229,0,229,1],[230,0,230,1],[209,16,211,16],[210,3,211,3],[210,4,210,5],[210,6,211,6],[197,3,198,3],[197,5,198,5],[157,10,158,10],[209,13,211,13],[209,14,209,15],[157,3,158,3],[204,3,205,3],[210,7,211,7],[157,7,158,7],[210,15,211,15],[157,9,158,9],[117,17,119,17],[118,10,119,10],[118,11,119,11],[118,14,119,14],[118,15,119,15],[117,13,119,13],[117,14,117,15],[117,10,117,12],[118,12,119,12],[285,0,285,1],[286,0,286,1],[274,0,274,1],[283,0,283,1],[284,0,284,1],[255,0,255,1],[256,0,256,1],[257,0,257,1],[260,0,260,1],[261,0,261,1],[264,0,264,1],[265,0,265,1],[276,0,276,1],[277,0,277,1],[278,0,278,1],[279,0,279,1],[280,0,280,1],[281,0,281,1],[263,0,263,1],[267,0,267,1],[268,0,268,1],[269,0,269,1],[271,0,271,1],[242,0,242,1],[243,0,245,0],[273,0,273,1],[247,0,248,1],[210,11,211,11],[210,12,211,12],[210,14,211,14],[209,7,209,9],[209,10,209,12],[209,3,209,6],[210,9,211,9],[210,10,211,10],[210,8,211,8],[247,2,248,2],[247,3,248,3],[272,0,272,1],[252,0,252,1],[253,0,253,1],[258,0,258,1],[259,0,259,1],[249,0,249,1],[250,0,250,1],[251,0,251,1],[270,0,270,1],[172,17,174,17],[157,14,158,14],[172,14,174,14],[172,15,173,16],[157,12,158,12],[172,11,173,13],[156,10,156,12],[157,11,158,11],[156,7,156,9],[172,4,172,9],[156,17,158,17],[173,7,173,9],[172,10,174,10],[156,16,158,16],[157,15,158,15],[156,13,158,13],[156,14,156,15],[157,6,158,6],[157,8,158,8],[173,4,173,6],[117,3,117,6],[94,0,94,1],[117,2,119,2],[118,4,118,5],[118,3,119,3],[56,0,56,1],[118,6,119,6],[99,0,99,1],[146,16,148,16],[146,14,146,15],[146,2,148,2],[146,3,146,6],[146,7,146,9],[146,10,146,12],[146,13,148,13],[197,0,198,1],[172,0,174,1],[171,0,171,1],[172,2,174,2],[152,0,152,1],[170,0,170,1],[195,0,195,1],[7,0,7,2],[84,0,84,1],[117,0,119,1],[149,0,149,1],[150,0,150,1],[151,0,151,1],[172,19,174,19],[172,20,174,20],[172,21,174,21],[247,6,247,8],[146,17,148,17],[147,3,148,3],[147,4,147,5],[147,6,148,6],[147,7,148,7],[147,8,148,8],[147,9,148,9],[147,10,148,10],[147,11,148,11],[147,12,148,12],[147,14,148,14],[147,15,148,15],[247,4,247,5],[197,4,198,4],[196,0,196,5],[197,2,198,2],[172,3,174,3],[157,4,157,5],[156,2,158,2],[153,0,153,1],[290,0,291,1],[290,2,291,2],[290,3,290,8],[290,9,291,9],[292,0,292,1],[293,0,293,1],[294,0,294,1],[117,18,119,18],[172,18,174,18],[117,16,119,16],[118,7,119,7],[118,8,119,8],[118,9,119,9],[117,7,117,9],[120,0,120,1],[133,0,133,1],[144,0,144,1],[126,0,129,0],[137,0,140,0],[143,0,143,1],[154,0,154,1],[156,0,158,1],[146,0,148,1],[156,3,156,6]]}
["SERVICIO DE SALUD / ESTABLECIMIENTO MUNICIPAL"]
[{"$f":"CONCATENATE(\"COMUNA: \",NOMBRE!B2,\" - \",\"( \",NOMBRE!C2,NOMBRE!D2,NOMBRE!E2,NOMBRE!F2,NOMBRE!G2,\" )\")","v":"COMUNA:  - (  )"}]
[{"$f":"CONCATENATE(\"ESTABLECIMIENTO/ESTRATEGIA: \",NOMBRE!B3,\" - \",\"( \",NOMBRE!C3,NOMBRE!D3,NOMBRE!E3,NOMBRE!F3,NOMBRE!G3,NOMBRE!H3,\" )\")","v":"ESTABLECIMIENTO/ESTRATEGIA:  - (  )"}]
[{"$f":"CONCATENATE(\"MES: \",NOMBRE!B6,\" - \",\"( \",NOMBRE!C6,NOMBRE!D6,\" )\")","v":"MES:  - (  )"}]
[{"$f":"CONCATENATE(\"AÑO: \",NOMBRE!B7)","v":"AÑO: 2024"}]
[null,null,null,"REM-B17.   ACTIVIDADES DE APOYO DIAGNOSTICO y TERAPEUTICO"]
[]
["SECCION A: ATENCIONES ABIERTAS "]
["CÓDIGOS","IDENTIFICACIÓN DE PRESTACIONES","TOTAL ","TOTAL Beneficiarios MAI","PAGO POR PRESTACIONES ($)"]
[null,"CONSULTAS Y ATENCION MÉDICA ",{"$f":"SUM(C11:C17)","v":0},{"$f":"SUM(D11:D17)","v":0},{"$f":"SUM(E11:E17)","v":0}]
[null,"Consulta Médica general",{"$f":"B!C54","v":0},{"$f":"B!E54","v":0},{"$f":"B!AL54","v":0}]
[null,"Consulta Médica de Especialidades",{"$f":"SUM(B!C$6:C$51)","v":0},{"$f":"SUM(B!E$6:E$51)","v":0},{"$f":"SUM(B!AL$6:AL$51)","v":0}]
[null,"Consulta en Unidades de Urgencia Hospitalaria",{"$f":"B!C56","v":0},{"$f":"B!E56","v":0},{"$f":"B!AL56","v":0}]
[null,"Atención médica del recién nacido en sala de parto o pabellón quirúrgico c/s reanimación cardio-respiratoria",{"$f":"B!C55","v":0},{"$f":"B!E55","v":0},{"$f":"B!AL55","v":0}]
[null,"Telemedicina/ Teleconsulta por profesional médico",{"$f":"B!C$119","v":0},{"$f":"B!E$119","v":0},{"$f":"B!AL$119","v":0}]
[null,"Teleinterconsulta (Telemedicina)",{"$f":"+B!C$126","v":0},{"$f":"+B!E$126","v":0},{"$f":"+B!AL$126","v":0}]
["0903006","Consultoría de salud mental por psiquiatra (sesión 4 hrs.) (mínimo 8 pacientes)",{"$f":"B!C$1241","v":0},{"$f":"B!E$1241","v":0},{"$f":"B!AL$1241","v":0}]
[null,"CONSULTAS POR OTROS PROFESIONALES DE LA SALUD",{"$f":"SUM(C19:C29)","v":0},{"$f":"SUM(D19:D29)","v":0},{"$f":"SUM(E19:E29)","v":0}]
["0102008","Consulta o control por enfermera/o",{"$f":"+B!C$63","v":0},{"$f":"+B!E$63","v":0},{"$f":"+B!AL$63","v":0}]
["0102002","Control de salud niño con EDP por enfermera/o",{"$f":"+B!C$60","v":0},{"$f":"+B!E$60","v":0},{"$f":"+B!AL$60","v":0}]
["0102003","Consulta o control por auxiliar de enfermería",{"$f":"+B!C$61","v":0},{"$f":"+B!E$61","v":0},{"$f":"+B!AL$61","v":0}]
["0102005","Consulta por fonoaudiólogo/a",{"$f":"+B!C$62","v":0},{"$f":"+B!E$62","v":0},{"$f":"+B!AL$62","v":0}]
["0102009","Consulta o control por matrón/a",{"$f":"+B!C$64","v":0},{"$f":"+B!E$64","v":0},{"$f":"+B!AL$64","v":0}]
["0102010","Consulta o control por nutricionista",{"$f":"+B!C$65","v":0},{"$f":"+B!E$65","v":0},{"$f":"+B!AL$65","v":0}]
["0903002","Consulta o control psicológico clínico",{"$f":"+B!C$1237","v":0},{"$f":"+B!E$1237","v":0},{"$f":"+B!AL$1237","v":0}]
["0903003","Consulta de salud mental por otros profesionales",{"$f":"+B!C$1238","v":0},{"$f":"+B!E$1238","v":0},{"$f":"+B!AL$1238","v":0}]
["0903004","Intervención psicosocial grupal (4 a 8 pacientes, familiares o cuidadores)",{"$f":"+B!C$1239","v":0},{"$f":"+B!E$1239","v":0},{"$f":"+B!AL$1239","v":0}]
["0903005","Psicoterapia de grupo (por psicólogo o psiquiatra) (4 a 8 pacientes)",{"$f":"+B!C$1240","v":0},{"$f":"+B!E$1240","v":0},{"$f":"+B!AL$1240","v":0}]
[null,"Telemedicina/ Teleconsulta por profesional no médico",{"$f":"+B!C$121","v":0},{"$f":"+B!E$121","v":0},{"$f":"+B!AL$121","v":0}]
[null,"OTRAS CONSULTAS Y ATENCION MEDICA",{"$f":"SUM(C31:C32)","v":0}]
[null,"Consulta por otros profesionales ",{"$f":"+B!C$67","v":0}]
[null,"Consulta por Trabajador/a Social",{"$f":"+B!C$68","v":0}]
[null,"PROGRAMAS DE REHABILITACIÓN",{"$f":"SUM(C34:C35)","v":0},{"$f":"SUM(D34:D35)","v":0},{"$f":"SUM(E34:E35)","v":0}]
["0903007","Programa de rehabilitación tipo 1 (mensual, grupo 6 a 10 pers.)",{"$f":"+B!C$1242","v":0},{"$f":"B!$E$1242","v":0},{"$f":"B!$AL$1242","v":0}]
["0903008","Programa de rehabilitación tipo 2 (mensual, grupo 5 a 7 pers.)",{"$f":"+B!C$1243","v":0},{"$f":"B!$E$1243","v":0},{"$f":"B!$AL$1243","v":0}]
[null,"OTROS PROGRAMAS",{"$f":"C$37","v":0}]
["0901003","Sesión de terapia electroconvulsivante (hasta 6 sesiones por ciclo o sesiones de mantención) c/ sesión",{"$f":"+B!C$1251","v":0}]
[null,"EDUCACION DE GRUPO",{"$f":"SUM(C39:C44)","v":0},{"$f":"SUM(D39:D44)","v":0},{"$f":"SUM(E39:E44)","v":0}]
["0103001","Educación de grupo por médico",{"$f":"B!C128","v":0},{"$f":"B!E128","v":0},{"$f":"B!AL128","v":0}]
["0103005","Educación de grupo por enfermera",{"$f":"B!C131","v":0},{"$f":"B!E131","v":0},{"$f":"B!AL131","v":0}]
["0103003","Educación de grupo por Trabajador/a Social",{"$f":"B!C129","v":0},{"$f":"B!E129","v":0},{"$f":"B!AL129","v":0}]
["0103004","Educación de grupo por auxiliar de enfermería",{"$f":"B!C130","v":0},{"$f":"B!E130","v":0},{"$f":"B!AL130","v":0}]
["0103006","Educación de grupo por matrona ",{"$f":"B!C132","v":0},{"$f":"B!E132","v":0},{"$f":"B!AL132","v":0}]
["0103007","Educación de grupo por nutricionista",{"$f":"B!C133","v":0},{"$f":"B!E133","v":0},{"$f":"B!AL133","v":0}]
[null,"OTRA EDUCACIÓN DE GRUPO",{"$f":"C46","v":0}]
[null,"Educación de grupo por otro integrante del equipo de salud",{"$f":"B!C135","v":0}]
[null,"VISITAS DOMICILIARIAS",{"$f":"SUM(C48:C52)","v":0},{"$f":"SUM(D48:D52)","v":0},{"$f":"SUM(E48:E52)","v":0}]
["0104004","Visita a domicilio por enfermera",{"$f":"B!C141","v":0},{"$f":"B!E141","v":0},{"$f":"B!AL141","v":0}]
["0104002","Visita a domicilio por asistente social",{"$f":"B!C139","v":0},{"$f":"B!E139","v":0},{"$f":"B!AL139","v":0}]
["0104003","Visita a domicilio por auxiliar de enfermería",{"$f":"B!C140","v":0},{"$f":"B!E140","v":0},{"$f":"B!AL140","v":0}]
["0104005","Visita a domicilio por matrona",{"$f":"B!C142","v":0},{"$f":"B!E142","v":0},{"$f":"B!AL142","v":0}]
["0104006","Visita a domicilio por nutricionista",{"$f":"B!C143","v":0},{"$f":"B!E143","v":0},{"$f":"B!AL143","v":0}]
[null,"OTRAS VISITAS DOMICILIARIAS",{"$f":"SUM(C54:C55)","v":0}]
[null,"Visita a domicilio por otro integrante del equipo de salud",{"$f":"B!C145","v":0}]
[null,"Visita domiciliaria por profesional y técnico paramédico",{"$f":"B!C146","v":0}]
[null,"TOTAL ",{"$f":"C10+C18+C33+C38+C47+C30+C36+C45+C53","v":0},{"$f":"D10+D18+D33+D38+D47","v":0},{"$f":"E10+E18+E33+E38+E47","v":0}]
["SECCION B: ATENCION CERRADA, DIAS DE HOSPITALIZACION "]
["CODIGOS","IDENTIFICACION DE PRESTACIONES","TOTAL ","TOTAL Beneficiarios MAI","PAGO POR PRESTACIONES ($)"]
[null,"ATENCIÓN CERRADA "]
["0201010","Dia Cama de Hospitalización Integral Cuidados Básicos",{"$f":"B!C$199","v":0},{"$f":"B!E199","v":0},{"$f":"B!$AL$199","v":0}]
["0201110","Dia Cama de Hospitalización Integral Cuidados Medios",{"$f":"B!C$200","v":0},{"$f":"B!E200","v":0},{"$f":"B!$AL$200","v":0}]
["0201301","Día Cama de Hospitalización Integral Adulto en Unidad de Tratamiento Intermedio (U.T.I)",{"$f":"B!C$201","v":0},{"$f":"B!E201","v":0},{"$f":"B!$AL$201","v":0}]
["0201302","Día Cama de Hospitalización Integral Pediátrica en Unidad de Tratamiento Intermedio (U.T.I)",{"$f":"B!C$202","v":0},{"$f":"B!E202","v":0},{"$f":"B!$AL$202","v":0}]
["0201303","Día Cama de Hospitalización Integral Neonatal en Unidad de Tratamiento Intermedio (U.T.I)",{"$f":"B!C$203","v":0},{"$f":"B!E203","v":0},{"$f":"B!$AL$203","v":0}]
["0201201","Día Cama de Hospitalización Integral Adulto en Unidad de Cuidado Intensivo (U.C.I.) ",{"$f":"B!C$204","v":0},{"$f":"B!E204","v":0},{"$f":"B!$AL$204","v":0}]
["0201202","Día Cama de Hospitalización Integral Pediátrica en Unidad de Cuidado Intensivo (U.C.I). ",{"$f":"B!C$205","v":0},{"$f":"B!E205","v":0},{"$f":"B!$AL$205","v":0}]
["0201203","Día Cama de Hospitalización Integral Neonatal en Unidad de Cuidado Intensivo (U.C.I.)",{"$f":"B!C$206","v":0},{"$f":"B!E206","v":0},{"$f":"B!$AL$206","v":0}]
["0201410","Día Cama de Hospitalización Integral Obstetricia ",{"$f":"B!C$207","v":0},{"$f":"B!E207","v":0},{"$f":"B!$AL$207","v":0}]
["0201403","Día Cama de Hospitalización Integral Sala Cuna",{"$f":"B!C$208","v":0},{"$f":"B!E208","v":0},{"$f":"B!$AL$208","v":0}]
["0201404","Día Cama de Hospitalización Integral Incubadora",{"$f":"B!C$209","v":0},{"$f":"B!E209","v":0},{"$f":"B!$AL$209","v":0}]
["0201406","Día Cama de Hospitalización Integral Psiquiatría ",{"$f":"B!C$210","v":0},{"$f":"B!E210","v":0},{"$f":"B!$AL$210","v":0}]
["0201407","Día Cama de Hospitalizacion Integral de Observación - Ambulatorio",{"$f":"B!C$211","v":0},{"$f":"B!E211","v":0},{"$f":"B!$AL$211","v":0}]
["0201501","Dia Cama Hospitalizacion Domiciliaria Cuidados Básicos",{"$f":"B!C$212","v":0},{"$f":"B!E212","v":0},{"$f":"B!$AL$212","v":0}]
["0201502","Dia Cama Hospitalizacion Domiciliaria Cuidados Medios ",{"$f":"B!C$213","v":0},{"$f":"B!E213","v":0},{"$f":"B!$AL$213","v":0}]
["0201503","Dia Cama Hospitalizacion Domiciliaria Cuidados Alta Complejidad ",{"$f":"B!C$214","v":0},{"$f":"B!E214","v":0},{"$f":"B!$AL$214","v":0}]
[null,"TOTAL ",{"$f":"SUM(C60:C75)","v":0},{"$f":"SUM(D60:D75)","v":0},{"$f":"SUM(E60:E75)","v":0}]
["SECCIÓN C:TRATAMIENTO ABREVIADO DE LA TUBERCULOSIS"]
["CODIGOS","TRATAMIENTO ABREVIADO DE LA TUBERCULOSIS","TOTAL ","TOTAL Beneficiarios MAI","PAGO POR PRESTACIONES ($)"]
[3003001,"TBC, Esquema primario (mensual)",{"$f":"+B!C3170","v":0},{"$f":"+B!E$3170","v":0},{"$f":"+B!AL$3170","v":0}]
["3003002","TBC, Esquema primario simplificado (mensual)",{"$f":"+B!C3171","v":0},{"$f":"+B!E$3171","v":0},{"$f":"+B!AL$3171","v":0}]
["3003003","TBC, Esquema secundario (mensual)",{"$f":"+B!C3172","v":0},{"$f":"+B!E$3172","v":0},{"$f":"+B!AL$3172","v":0}]
["3003004","TBC, Esquema normado de retratamiento (mensual)",{"$f":"+B!C3173","v":0},{"$f":"+B!E$3173","v":0},{"$f":"+B!AL$3173","v":0}]
["3003005","TBC, Esquema especial de retratamiento (mensual)",{"$f":"+B!C3174","v":0},{"$f":"+B!E$3174","v":0},{"$f":"+B!AL$3174","v":0}]
[null,"TOTAL ",{"$f":"SUM(C79:C83)","v":0},{"$f":"SUM(D79:D83)","v":0},{"$f":"SUM(E79:E83)","v":0}]
["SECCIÓN D:TRASLADO, RESCATES Y RONDAS RURALES"]
["CODIGOS","TRASLADO, RESCATES Y RONDAS RURALES","TOTAL ","TOTAL Beneficiarios MAI","PAGO POR PRESTACIONES ($)"]
[2401061,"Rescate simple y/o traslado en móvil 1",{"$f":"+B!C2972","v":0},{"$f":"+B!E$2972","v":0},{"$f":"+B!AL$2972","v":0}]
["2401062","Rescate profesionalizado y/o traslado paciente complejo móvil 2",{"$f":"+B!C2973","v":0},{"$f":"+B!E$2973","v":0},{"$f":"+B!AL$2973","v":0}]
["2401063","Rescate medicalizado y/o traslado paciente critico en móvil 3",{"$f":"+B!C$2974","v":0},{"$f":"+B!E$2974","v":0},{"$f":"+B!AL$2974","v":0}]
["2401064","Traslado en ambulancia",{"$f":"+B!C$2975","v":0},{"$f":"+B!E$2975","v":0},{"$f":"+B!AL$2975","v":0}]
["2401065","Ronda rural terrestre, c/ km recorrido",{"$f":"+B!C$2976","v":0},{"$f":"+B!E$2976","v":0},{"$f":"+B!AL$2976","v":0}]
["2401066","Ronda rural aérea, c/ hora de vuelo",{"$f":"+B!C$2977","v":0},{"$f":"+B!E$2977","v":0},{"$f":"+B!AL$2977","v":0}]
["2401067","Ronda rural marítima, c/ hora de navegación",{"$f":"+B!C$2978","v":0},{"$f":"+B!E$2978","v":0},{"$f":"+B!AL$2978","v":0}]
[null,"TOTAL ",{"$f":"SUM(C87:C93)","v":0},{"$f":"SUM(D87:D93)","v":0},{"$f":"SUM(E87:E93)","v":0}]
["SECCION E: PARTOS"]
["CODIGOS","IDENTIFICACION DE PRESTACIONES","TOTAL ","TOTAL Beneficiarios MAI","PAGO POR PRESTACIONES ($)"]
[2004103,"Parto normal",{"$f":"+B!C2652","v":0},{"$f":"B!$E$2652","v":0},{"$f":"B!$AL$2652","v":0}]
["2004113","Parto distósico vaginal",{"$f":"+B!C2653","v":0},{"$f":"B!$E$2653","v":0},{"$f":"B!$AL$2653","v":0}]
[null,"TOTAL ",{"$f":"SUM(C97:C98)","v":0},{"$f":"SUM(D97:D98)","v":0},{"$f":"SUM(E97:E98)","v":0}]
["SECCION F: ATENCION ODONTOLOGICA"]
[null,"Prestaciones","TOTAL ","TOTAL Beneficiarios MAI","PAGO POR PRESTACIONES ($)"]
["2701XXX","Consulta y atención odontológica",{"$f":"B!$C$2997","v":0},{"$f":"B!$E$2997","v":0},{"$f":"B!$AL$2997","v":0}]
["2702XXX","Exámenes imagenológicos odontológico",{"$f":"+B!$C$3016","v":0},{"$f":"B!$E$3016","v":0},{"$f":"B!$AL$3016","v":0}]
["2703XXX","Odontología general: Actividades preventivas y recuperativas",{"$f":"B!$C$3034","v":0},{"$f":"B!$E$3034","v":0},{"$f":"B!$AL$3034","v":0}]
["2704XXX","Especialidades",{"$f":"B!$C$3066","v":0},{"$f":"B!$E$3066","v":0},{"$f":"B!$AL$3066","v":0}]
["2705XXX","Cirugías",{"$f":"B!C3094","v":0},{"$f":"B!I3094","v":0},{"$f":"B!AL3094","v":0}]
[null,"Otras prestaciones odontológicas",{"$f":"B!$C$3155","v":0}]
[null,"TOTAL",{"$f":"SUM(C102:C107)","v":0},{"$f":"SUM(D102:D106)","v":0},{"$f":"SUM(E102:E106)","v":0}]
["SECCION G: LENTES, AUDIFONOS"]
["CODIGOS","IDENTIFICACION DE PRESTACIONES","TOTAL  ","TOTAL Beneficiarios MAI","PAGO POR PRESTACIONES ($)"]
[3001001,"Lentes ópticos ",{"$f":"+B!C$3158","v":0},{"$f":"+B!E$3158","v":0},{"$f":"B!AL3158","v":0}]
["3001002","Audífonos ",{"$f":"+B!C$3159","v":0},{"$f":"+B!E$3159","v":0},{"$f":"B!AL3159","v":0}]
[null,"TOTAL",{"$f":"SUM(C111:C112)","v":0},{"$f":"SUM(D111:D112)","v":0},{"$f":"SUM(E111:E112)","v":0}]
["SECCIÓN H: MEDICINA TRANSFUSIONAL"]
["CODIGOS","IDENTIFICACION DE PRESTACIONES","TOTAL  ","TOTAL Beneficiarios MAI","PAGO POR PRESTACIONES ($)"]
["Grupo 07","Medicina Transfusional",{"$f":"+B!$C$1219","v":0},{"$f":"B!$E$1219","v":0},{"$f":"B!$AL$1219","v":0}]
["SECCION I: EXAMENES DE DIAGNOSTICO"]
["TIPO DE EXAMEN",null,"TOTAL","EXAMENES REALIZADOS",null,null,null,"PROCEDENCIA",null,null,"PRODUCCION INTRA HOSPITAL",null,null,"OPERATIVO","COMPRAS REALIZADAS",null,"VENTAS DE SERVICIOS","TOTAL DE PROCEDIMIENTOS INFORMADOS","PAGO POR PRESTACIONES ($)"]
[null,null,null,"TOTAL Beneficiarios","Beneficiarios",null,"NO Beneficiarios","ATENCION CERRADA","ATENCION ABIERTA","EMERGENCIA","POR \nHONORARIOS","POR CONVENIOS","POR\nCONSULTORES\nDE LLAMADA",null,"AL SISTEMA ","EXTRA-SISTEMA"]
[null,null,null,null,"MAI","MLE"]
["TOTAL EXAMENES LABORATORIO",null,{"$f":"+C122+C123+C124+C125+C126+C127+C131+C132+C133","v":0},{"$f":"+D122+D123+D124+D125+D126+D127+D131+D132+D133","v":0},0,0,0,0,0,0,0,0,0,0,0,0,{"$f":"+Q122+Q123+Q124+Q125+Q126+Q127+Q131+Q132+Q133","v":0},0,{"$f":"SUM(S122:S126,S127,S131:S133)","v":0}]
["I  ","Hematológicos",{"$f":"B!C298","v":0},{"$f":"B!D298","v":0},{"$f":"B!E298","v":0},{"$f":"B!F298","v":0},{"$f":"B!G298","v":0},{"$f":"B!AA298","v":0},{"$f":"B!AB298","v":0},{"$f":"B!AC298","v":0},{"$f":"B!AD298","v":0},{"$f":"B!AE298","v":0},{"$f":"B!AF298","v":0},{"$f":"B!AG298","v":0},{"$f":"B!AH298","v":0},{"$f":"B!AI298","v":0},{"$f":"B!AJ298","v":0},null,{"$f":"B!$AL$298","v":0}]
["II  ","Bioquímicos",{"$f":"B!C379","v":0},{"$f":"B!D379","v":0},{"$f":"B!E379","v":0},{"$f":"B!F379","v":0},{"$f":"B!G379","v":0},{"$f":"B!AA379","v":0},{"$f":"B!AB379","v":0},{"$f":"B!AC379","v":0},{"$f":"B!AD379","v":0},{"$f":"B!AE379","v":0},{"$f":"B!AF379","v":0},{"$f":"B!AG379","v":0},{"$f":"B!AH379","v":0},{"$f":"B!AI379","v":0},{"$f":"B!AJ379","v":0},null,{"$f":"B!$AL$379","v":0}]
["III","Hormonales",{"$f":"B!C425","v":0},{"$f":"B!D425","v":0},{"$f":"B!E425","v":0},{"$f":"B!F425","v":0},{"$f":"B!G425","v":0},{"$f":"B!AA425","v":0},{"$f":"B!AB425","v":0},{"$f":"B!AC425","v":0},{"$f":"B!AD425","v":0},{"$f":"B!AE425","v":0},{"$f":"B!AF425","v":0},{"$f":"B!AG425","v":0},{"$f":"B!AH425","v":0},{"$f":"B!AI425","v":0},{"$f":"B!AJ425","v":0},null,{"$f":"B!$AL$425","v":0}]
["IV","Genética",{"$f":"B!C440","v":0},{"$f":"B!D440","v":0},{"$f":"B!E440","v":0},{"$f":"B!F440","v":0},{"$f":"B!G440","v":0},{"$f":"B!AA440","v":0},{"$f":"B!AB440","v":0},{"$f":"B!AC440","v":0},{"$f":"B!AD440","v":0},{"$f":"B!AE440","v":0},{"$f":"B!AF440","v":0},{"$f":"B!AG440","v":0},{"$f":"B!AH440","v":0},{"$f":"B!AI440","v":0},{"$f":"B!AJ440","v":0},null,{"$f":"B!AL440","v":0}]
["V","Inmunológicos",{"$f":"B!C520","v":0},{"$f":"B!D520","v":0},{"$f":"B!E520","v":0},{"$f":"B!F520","v":0},{"$f":"B!G520","v":0},{"$f":"B!AA520","v":0},{"$f":"B!AB520","v":0},{"$f":"B!AC520","v":0},{"$f":"B!AD520","v":0},{"$f":"B!AE520","v":0},{"$f":"B!AF520","v":0},{"$f":"B!AG520","v":0},{"$f":"B!AH520","v":0},{"$f":"B!AI520","v":0},{"$f":"B!AJ520","v":0},null,{"$f":"B!$AL$520","v":0}]
["VI  ","Microbiológicos",{"$f":"SUM(C128:C130)","v":0},{"$f":"SUM(D128:D130)","v":0},{"$f":"SUM(E128:E130)","v":0},0,0,0,0,0,0,0,0,0,0,0,{"$f":"SUM(Q128:Q130)","v":0},0,{"$f":"SUM(S128:S130)","v":0}]
[null,"a)   Bacterias y Hongos",{"$f":"B!C580","v":0},{"$f":"B!D580","v":0},{"$f":"B!E580","v":0},{"$f":"B!F580","v":0},{"$f":"B!G580","v":0},{"$f":"B!AA580","v":0},{"$f":"B!AB580","v":0},{"$f":"B!AC580","v":0},{"$f":"B!AD580","v":0},{"$f":"B!AE580","v":0},{"$f":"B!AF580","v":0},{"$f":"B!AG580","v":0},{"$f":"B!AH580","v":0},{"$f":"B!AI580","v":0},{"$f":"B!AJ580","v":0},null,{"$f":"B!$AL$580","v":0}]
[null,"b)   Parásitos",{"$f":"B!C600","v":0},{"$f":"B!D600","v":0},{"$f":"B!E600","v":0},{"$f":"B!F600","v":0},{"$f":"B!G600","v":0},{"$f":"B!AA600","v":0},{"$f":"B!AB600","v":0},{"$f":"B!AC600","v":0},{"$f":"B!AD600","v":0},{"$f":"B!AE600","v":0},{"$f":"B!AF600","v":0},{"$f":"B!AG600","v":0},{"$f":"B!AH600","v":0},{"$f":"B!AI600","v":0},{"$f":"B!AJ600","v":0},null,{"$f":"B!$AL$600","v":0}]
[null,"c)   Virus",{"$f":"B!C649","v":0},{"$f":"B!D649","v":0},{"$f":"B!E649","v":0},{"$f":"B!F649","v":0},{"$f":"B!G649","v":0},{"$f":"B!AA649","v":0},{"$f":"B!AB649","v":0},{"$f":"B!AC649","v":0},{"$f":"B!AD649","v":0},{"$f":"B!AE649","v":0},{"$f":"B!AF649","v":0},{"$f":"B!AG649","v":0},{"$f":"B!AH649","v":0},{"$f":"B!AI649","v":0},{"$f":"B!AJ649","v":0},null,{"$f":"B!$AL$649","v":0}]
["VII","Procedimiento o Determinación Directa c/Paciente",{"$f":"B!C659","v":0},{"$f":"B!D659","v":0},{"$f":"B!E659","v":0},{"$f":"B!F659","v":0},{"$f":"B!G659","v":0},{"$f":"B!AA659","v":0},{"$f":"B!AB659","v":0},{"$f":"B!AC659","v":0},{"$f":"B!AD659","v":0},{"$f":"B!AE659","v":0},{"$f":"B!AF659","v":0},{"$f":"B!AG659","v":0},{"$f":"B!AH659","v":0},{"$f":"B!AI659","v":0},{"$f":"B!AJ659","v":0},null,{"$f":"B!$AL$659","v":0}]
["VIII  ","Ex.  De Deposiciones Exudados. Secrec. y Otros Liq.  ",{"$f":"B!C720","v":0},{"$f":"B!D720","v":0},{"$f":"B!E720","v":0},{"$f":"B!F720","v":0},{"$f":"B!G720","v":0},{"$f":"B!AA720","v":0},{"$f":"B!AB720","v":0},{"$f":"B!AC720","v":0},{"$f":"B!AD720","v":0},{"$f":"B!AE720","v":0},{"$f":"B!AF720","v":0},{"$f":"B!AG720","v":0},{"$f":"B!AH720","v":0},{"$f":"B!AI720","v":0},{"$f":"B!AJ720","v":0},null,{"$f":"B!$AL$720","v":0}]
["IX   ","Orina",{"$f":"B!C763","v":0},{"$f":"B!D763","v":0},{"$f":"B!E763","v":0},{"$f":"B!F763","v":0},{"$f":"B!G763","v":0},{"$f":"B!AA763","v":0},{"$f":"B!AB763","v":0},{"$f":"B!AC763","v":0},{"$f":"B!AD763","v":0},{"$f":"B!AE763","v":0},{"$f":"B!AF763","v":0},{"$f":"B!AG763","v":0},{"$f":"B!AH763","v":0},{"$f":"B!AI763","v":0},{"$f":"B!AJ763","v":0},null,{"$f":"B!$AL$763","v":0}]
["TOTAL EXAMENES IMAGENOLOGIA",null,{"$f":"+C135+C136+C137+C138+C142+C143","v":0},0,0,0,0,0,0,0,0,0,0,0,0,0,{"$f":"+Q135+Q136+Q137+Q138+Q142+Q143","v":0},{"$f":"+R135+R136+R137","v":0},{"$f":"+S135+S136+S137+S138+S142","v":0}]
["I. a)","Ex. Radiológicos Simples",{"$f":"B!C823","v":0},{"$f":"B!D823","v":0},{"$f":"B!E823","v":0},{"$f":"B!F823","v":0},{"$f":"B!G823","v":0},{"$f":"B!AA823","v":0},{"$f":"B!AB823","v":0},{"$f":"B!AC823","v":0},{"$f":"B!AD823","v":0},{"$f":"B!AE823","v":0},{"$f":"B!AF823","v":0},{"$f":"B!AG823","v":0},{"$f":"B!AH823","v":0},{"$f":"B!AI823","v":0},{"$f":"B!AJ823","v":0},null,{"$f":"B!$AL$823","v":0}]
["I. b)","Ex. Radiológicos Complejos",{"$f":"B!C846","v":0},{"$f":"B!D846","v":0},{"$f":"B!E846","v":0},{"$f":"B!F846","v":0},{"$f":"B!G846","v":0},{"$f":"B!AA846","v":0},{"$f":"B!AB846","v":0},{"$f":"B!AC846","v":0},{"$f":"B!AD846","v":0},{"$f":"B!AE846","v":0},{"$f":"B!AF846","v":0},{"$f":"B!AG846","v":0},{"$f":"B!AH846","v":0},{"$f":"B!AI846","v":0},{"$f":"B!AJ846","v":0},null,{"$f":"B!$AL$846","v":0}]
["II.","Tomografía Axial Comp.",{"$f":"B!C876","v":0},{"$f":"B!D876","v":0},{"$f":"B!E876","v":0},{"$f":"B!F876","v":0},{"$f":"B!G876","v":0},{"$f":"B!AA876","v":0},{"$f":"B!AB876","v":0},{"$f":"B!AC876","v":0},{"$f":"B!AD876","v":0},{"$f":"B!AE876","v":0},{"$f":"B!AF876","v":0},{"$f":"B!AG876","v":0},{"$f":"B!AH876","v":0},{"$f":"B!AI876","v":0},{"$f":"B!AJ876","v":0},null,{"$f":"B!$AL$876","v":0}]
["III","Ultrasonografía",{"$f":"SUM(C139:C141)","v":0},{"$f":"SUM(D139:D141)","v":0},{"$f":"SUM(E139:E141)","v":0},0,0,0,0,0,0,0,0,{"$f":"SUM(N139:N141)","v":0},0,0,{"$f":"SUM(Q139:Q141)","v":0},{"$f":"SUM(R139:R142)","v":0},{"$f":"SUM(S139:S141)","v":0}]
[null,"Ecotomografias ( Sin Ecografía Obstetr. Y Abdominal )",{"$f":"B!C901-B!C878-B!C879","v":0},{"$f":"B!D901-B!D878-B!D879","v":0},{"$f":"B!E901-B!E878-B!E879","v":0},{"$f":"B!F901-B!F878-B!F879","v":0},{"$f":"B!G901-B!G878-B!G879","v":0},{"$f":"B!AA901-B!AA878-B!AA879","v":0},{"$f":"B!AB901-B!AB878-B!AB879","v":0},{"$f":"B!AC901-B!AC878-B!AC879","v":0},{"$f":"B!AD901-B!AD878-B!AD879","v":0},{"$f":"B!AE901-B!AE878-B!AE879","v":0},{"$f":"B!AF901-B!AF878-B!AF879","v":0},{"$f":"B!AG901-B!AG878-B!AG879","v":0},{"$f":"B!AH901-B!AH878-B!AH879","v":0},{"$f":"B!AI901-B!AI878-B!AI879","v":0},{"$f":"B!AJ901-B!AJ878-B!AJ879","v":0},null,{"$f":"B!$AL$901-B!$AL$878-B!$AL$879","v":0}]
[null,"Ecografías Obstétricas",{"$f":"B!C878","v":0},{"$f":"B!D878","v":0},{"$f":"B!E878","v":0},{"$f":"B!F878","v":0},{"$f":"B!G878","v":0},{"$f":"B!AA878","v":0},{"$f":"B!AB878","v":0},{"$f":"B!AC878","v":0},{"$f":"B!AD878","v":0},{"$f":"B!AE878","v":0},{"$f":"B!AF878","v":0},{"$f":"B!AG878","v":0},{"$f":"B!AH878","v":0},{"$f":"B!AI878","v":0},{"$f":"B!AJ878","v":0},null,{"$f":"B!$AL$878","v":0}]
[null,"Ecotomografias abdominal ",{"$f":"B!C879","v":0},{"$f":"B!D879","v":0},{"$f":"B!E879","v":0},{"$f":"B!F879","v":0},{"$f":"B!G879","v":0},{"$f":"B!AA879","v":0},{"$f":"B!AB879","v":0},{"$f":"B!AC879","v":0},{"$f":"B!AD879","v":0},{"$f":"B!AE879","v":0},{"$f":"B!AF879","v":0},{"$f":"B!AG879","v":0},{"$f":"B!AH879","v":0},{"$f":"B!AI879","v":0},{"$f":"B!AJ879","v":0},null,{"$f":"B!$AL$879","v":0}]
["IV","Resonancia Magnética",{"$f":"B!C943","v":0},{"$f":"B!D943","v":0},{"$f":"B!E943","v":0},{"$f":"B!F943","v":0},{"$f":"B!G943","v":0},{"$f":"B!AA943","v":0},{"$f":"B!AB943","v":0},{"$f":"B!AC943","v":0},{"$f":"B!AD943","v":0},{"$f":"B!AE943","v":0},{"$f":"B!AF943","v":0},{"$f":"B!AG943","v":0},{"$f":"B!AH943","v":0},{"$f":"B!AI943","v":0},{"$f":"B!AJ943","v":0},null,{"$f":"B!$AL$943","v":0}]
[null,"Otros Exámenes de Imágenes",{"$f":"B!C987","v":0},{"$f":"B!D987","v":0},{"$f":"B!E987","v":0},{"$f":"B!F987","v":0},{"$f":"B!G987","v":0},{"$f":"B!AA987","v":0},{"$f":"B!AB987","v":0},{"$f":"B!AC987","v":0},{"$f":"B!AD987","v":0},{"$f":"B!AE987","v":0},{"$f":"B!AF987","v":0},{"$f":"B!AG987","v":0},{"$f":"B!AH987","v":0},{"$f":"B!AI987","v":0},{"$f":"B!AJ987","v":0}]
["Toma de Muestras",null,{"$f":"B!C670","v":0},{"$f":"B!D670","v":0},{"$f":"B!E670","v":0},{"$f":"B!F670","v":0},{"$f":"B!G670","v":0},{"$f":"B!AA670","v":0},{"$f":"B!AB670","v":0},{"$f":"B!AC670","v":0},{"$f":"B!AD670","v":0},{"$f":"B!AE670","v":0},{"$f":"B!AF670","v":0},{"$f":"B!AG670","v":0},{"$f":"B!AH670","v":0},{"$f":"B!AI670","v":0},{"$f":"B!AJ670","v":0}]
["Exámenes Anatomía Patológica",null,{"$f":"B!C1235","v":0},{"$f":"B!D1235","v":0},{"$f":"B!E1235","v":0},{"$f":"B!F1235","v":0},{"$f":"B!G1235","v":0},{"$f":"B!AA1235","v":0},{"$f":"B!AB1235","v":0},{"$f":"B!AC1235","v":0},{"$f":"B!AD1235","v":0},{"$f":"B!AE1235","v":0},{"$f":"B!AF1235","v":0},{"$f":"B!AG1235","v":0},{"$f":"B!AH1235","v":0},{"$f":"B!AI1235","v":0},{"$f":"B!AJ1235","v":0},null,{"$f":"B!$AL$1235","v":0}]
["SECCION J:  MEDICINA NUCLEAR Y RADIOTERAPIA"]
["TIPO DE PROCEDIMIENTO",null,"TOTAL","PROCEDIMIENTOS",null,null,null,"PROCEDENCIA",null,null,"PRODUCCION INTRA HOSPITAL",null,null,"OPERATIVO","COMPRAS REALIZADAS",null,"VENTAS DE SERVICIOS","PAGO POR PRESTACIONES ($)"]
[null,null,null,"TOTAL Beneficiarios","Beneficiarios",null,"NO Beneficiarios","ATENCION CERRADA","ATENCION ABIERTA","EMERGENCIA","POR \nHONORARIOS","POR CONVENIOS","POR\nCONSULTORES\nDE LLAMADA",null,"AL SISTEMA ","EXTRA-SISTEMA"]
[null,null,null,null,"MAI","MLE"]
["Medicina Nuclear",null,{"$f":"+B!C996+B!C1004+B!C1013+B!C1023+B!C1030+B!C1034+B!C1038+B!C1042+B!C1050+B!C1053+B!C1056+B!C1064","v":0},{"$f":"+B!D996+B!D1004+B!D1013+B!D1023+B!D1030+B!D1034+B!D1038+B!D1042+B!D1050+B!D1053+B!D1056+B!D1064","v":0},{"$f":"+B!E996+B!E1004+B!E1013+B!E1023+B!E1030+B!E1034+B!E1038+B!E1042+B!E1050+B!E1053+B!E1056+B!E1064","v":0},{"$f":"+B!F996+B!F1004+B!F1013+B!F1023+B!F1030+B!F1034+B!F1038+B!F1042+B!F1050+B!F1053+B!F1056+B!F1064","v":0},{"$f":"+B!G996+B!G1004+B!G1013+B!G1023+B!G1030+B!G1034+B!G1038+B!G1042+B!G1050+B!G1053+B!G1056+B!G1064","v":0},{"$f":"+B!AA996+B!AA1004+B!AA1013+B!AA1023+B!AA1030+B!AA1034+B!AA1038+B!AA1042+B!AA1050+B!AA1053+B!AA1056+B!AA1064","v":0},{"$f":"+B!AB996+B!AB1004+B!AB1013+B!AB1023+B!AB1030+B!AB1034+B!AB1038+B!AB1042+B!AB1050+B!AB1053+B!AB1056+B!AB1064","v":0},{"$f":"+B!AC996+B!AC1004+B!AC1013+B!AC1023+B!AC1030+B!AC1034+B!AC1038+B!AC1042+B!AC1050+B!AC1053+B!AC1056+B!AC1064","v":0},{"$f":"+B!AD996+B!AD1004+B!AD1013+B!AD1023+B!AD1030+B!AD1034+B!AD1038+B!AD1042+B!AD1050+B!AD1053+B!AD1056+B!AD1064","v":0},{"$f":"+B!AE996+B!AE1004+B!AE1013+B!AE1023+B!AE1030+B!AE1034+B!AE1038+B!AE1042+B!AE1050+B!AE1053+B!AE1056+B!AE1064","v":0},{"$f":"+B!AF996+B!AF1004+B!AF1013+B!AF1023+B!AF1030+B!AF1034+B!AF1038+B!AF1042+B!AF1050+B!AF1053+B!AF1056+B!AF1064","v":0},{"$f":"+B!AG996+B!AG1004+B!AG1013+B!AG1023+B!AG1030+B!AG1034+B!AG1038+B!AG1042+B!AG1050+B!AG1053+B!AG1056+B!AG1064","v":0},{"$f":"+B!AH996+B!AH1004+B!AH1013+B!AH1023+B!AH1030+B!AH1034+B!AH1038+B!AH1042+B!AH1050+B!AH1053+B!AH1056+B!AH1064","v":0},{"$f":"+B!AI996+B!AI1004+B!AI1013+B!AI1023+B!AI1030+B!AI1034+B!AI1038+B!AI1042+B!AI1050+B!AI1053+B!AI1056+B!AI1064","v":0},{"$f":"+B!AJ996+B!AJ1004+B!AJ1013+B!AJ1023+B!AJ1030+B!AJ1034+B!AJ1038+B!AJ1042+B!AJ1050+B!AJ1053+B!AJ1056+B!AJ1064","v":0},{"$f":"+B!AL996+B!AL1004+B!AL1013+B!AL1023+B!AL1030+B!AL1034+B!AL1038+B!AL1042+B!AL1050+B!AL1053+B!AL1056+B!AL1064","v":0}]
["Braquiterapia",null,{"$f":"B!C1070","v":0},{"$f":"B!D1070","v":0},{"$f":"B!E1070","v":0},{"$f":"B!F1070","v":0},{"$f":"B!G1070","v":0},{"$f":"B!AA1070","v":0},{"$f":"B!AB1070","v":0},{"$f":"B!AC1070","v":0},{"$f":"B!AD1070","v":0},{"$f":"B!AE1070","v":0},{"$f":"B!AF1070","v":0},{"$f":"B!AG1070","v":0},{"$f":"B!AH1070","v":0},{"$f":"B!AI1070","v":0},{"$f":"B!AJ1070","v":0},{"$f":"B!AL1070","v":0}]
["Radioterapia",null,{"$f":"B!C1080","v":0},{"$f":"B!D1080","v":0},{"$f":"B!E1080","v":0},{"$f":"B!F1080","v":0},{"$f":"B!G1080","v":0},{"$f":"B!AA1080","v":0},{"$f":"B!AB1080","v":0},{"$f":"B!AC1080","v":0},{"$f":"B!AD1080","v":0},{"$f":"B!AE1080","v":0},{"$f":"B!AF1080","v":0},{"$f":"B!AG1080","v":0},{"$f":"B!AH1080","v":0},{"$f":"B!AI1080","v":0},{"$f":"B!AJ1080","v":0},{"$f":"B!AL1080","v":0}]
["Quimioterapia",null,{"$f":"B!C1100","v":0},{"$f":"B!D1100","v":0},{"$f":"B!E1100","v":0},{"$f":"B!F1100","v":0},{"$f":"B!G1100","v":0},{"$f":"B!AA1100","v":0},{"$f":"B!AB1100","v":0},{"$f":"B!AC1100","v":0},{"$f":"B!AD1100","v":0},{"$f":"B!AE1100","v":0},{"$f":"B!AF1100","v":0},{"$f":"B!AG1100","v":0},{"$f":"B!AH1100","v":0},{"$f":"B!AI1100","v":0},{"$f":"B!AJ1100","v":0},{"$f":"B!AL1100","v":0}]
["Radiocirugía",null,{"$f":"B!C1103","v":0},{"$f":"B!D1103","v":0},{"$f":"B!E1103","v":0},{"$f":"B!F1103","v":0},{"$f":"B!G1103","v":0},{"$f":"B!AA1103","v":0},{"$f":"B!AB1103","v":0},{"$f":"B!AC1103","v":0},{"$f":"B!AD1103","v":0},{"$f":"B!AE1103","v":0},{"$f":"B!AF1103","v":0},{"$f":"B!AG1103","v":0},{"$f":"B!AH1103","v":0},{"$f":"B!AI1103","v":0},{"$f":"B!AJ1103","v":0},{"$f":"B!AL1103","v":0}]
["TOTAL ",null,{"$f":"SUM(C150+C151+C152+C153+C154)","v":0},{"$f":"SUM(D150+D151+D152+D153+D154)","v":0},{"$f":"SUM(E150+E151+E152+E153+E154)","v":0},{"$f":"SUM(F150+F151+F152+F153+F154)","v":0},0,0,0,0,0,0,0,0,0,0,0,{"$f":"SUM(R150+R151+R152+R153+R154)","v":0}]
["SECCION K:  HEMODIALISIS"]
["HEMODIALISIS",null,"TOTAL","PROCEDIMIENTOS",null,null,null,"PROCEDENCIA",null,null,"PRODUCCION INTRA HOSPITAL",null,null,"OPERATIVO","COMPRAS REALIZADAS",null,"VENTAS DE SERVICIOS","PAGO POR PRESTACIONES ($)"]
[null,null,null,"TOTAL Beneficiarios","Beneficiarios",null,"NO Beneficiarios","ATENCION CERRADA","ATENCION ABIERTA","EMERGENCIA","POR \nHONORARIOS","POR CONVENIOS","POR\nCONSULTORES\nDE LLAMADA",null,"AL SISTEMA ","EXTRA-SISTEMA"]
[null,null,null,null,"MAI","MLE"]
[1901023,"Hemodiálisis con insumos incluidos",{"$f":"B!C2467","v":0},{"$f":"B!D2467","v":0},{"$f":"B!E2467","v":0},{"$f":"B!F2467","v":0},{"$f":"B!G2467","v":0},{"$f":"B!AA2467","v":0},{"$f":"B!AB2467","v":0},{"$f":"B!AC2467","v":0},{"$f":"B!AD2467","v":0},{"$f":"B!AE2467","v":0},{"$f":"B!AF2467","v":0},{"$f":"B!AG2467","v":0},{"$f":"B!AH2467","v":0},{"$f":"B!AI2467","v":0},{"$f":"B!AJ2467","v":0},{"$f":"B!AL2467","v":0}]
[1901024,"Hemodiálisis sin insumos",{"$f":"B!C2468","v":0},{"$f":"B!D2468","v":0},{"$f":"B!E2468","v":0},{"$f":"B!F2468","v":0},{"$f":"B!G2468","v":0},{"$f":"B!AA2468","v":0},{"$f":"B!AB2468","v":0},{"$f":"B!AC2468","v":0},{"$f":"B!AD2468","v":0},{"$f":"B!AE2468","v":0},{"$f":"B!AF2468","v":0},{"$f":"B!AG2468","v":0},{"$f":"B!AH2468","v":0},{"$f":"B!AI2468","v":0},{"$f":"B!AJ2468","v":0},{"$f":"B!AL2468","v":0}]
[1901025,"Peritoneodiálisis  (incluye insumos)",{"$f":"B!C2469","v":0},{"$f":"B!D2469","v":0},{"$f":"B!E2469","v":0},{"$f":"B!F2469","v":0},{"$f":"B!G2469","v":0},{"$f":"B!AA2469","v":0},{"$f":"B!AB2469","v":0},{"$f":"B!AC2469","v":0},{"$f":"B!AD2469","v":0},{"$f":"B!AE2469","v":0},{"$f":"B!AF2469","v":0},{"$f":"B!AG2469","v":0},{"$f":"B!AH2469","v":0},{"$f":"B!AI2469","v":0},{"$f":"B!AJ2469","v":0},{"$f":"B!AL2469","v":0}]
[1901026,"Peritoneodiálisis continua en paciente crónico (adulto o niños) (tratamiento mensual)",{"$f":"B!C2470","v":0},{"$f":"B!D2470","v":0},{"$f":"B!E2470","v":0},{"$f":"B!F2470","v":0},{"$f":"B!G2470","v":0},{"$f":"B!AA2470","v":0},{"$f":"B!AB2470","v":0},{"$f":"B!AC2470","v":0},{"$f":"B!AD2470","v":0},{"$f":"B!AE2470","v":0},{"$f":"B!AF2470","v":0},{"$f":"B!AG2470","v":0},{"$f":"B!AH2470","v":0},{"$f":"B!AI2470","v":0},{"$f":"B!AJ2470","v":0},{"$f":"B!AL2470","v":0}]
[1901126,"Instalación de cateter para peritoneodiális",{"$f":"B!C2471","v":0},{"$f":"B!D2471","v":0},{"$f":"B!E2471","v":0},{"$f":"B!F2471","v":0},{"$f":"B!G2471","v":0},{"$f":"B!AA2471","v":0},{"$f":"B!AB2471","v":0},{"$f":"B!AC2471","v":0},{"$f":"B!AD2471","v":0},{"$f":"B!AE2471","v":0},{"$f":"B!AF2471","v":0},{"$f":"B!AG2471","v":0},{"$f":"B!AH2471","v":0},{"$f":"B!AI2471","v":0},{"$f":"B!AJ2471","v":0},{"$f":"B!AL2471","v":0}]
[1901027,"Hemodiálisis, tratamiento mensual (con insumos incluidos)",{"$f":"B!C2472","v":0},{"$f":"B!D2472","v":0},{"$f":"B!E2472","v":0},{"$f":"B!F2472","v":0},{"$f":"B!G2472","v":0},{"$f":"B!AA2472","v":0},{"$f":"B!AB2472","v":0},{"$f":"B!AC2472","v":0},{"$f":"B!AD2472","v":0},{"$f":"B!AE2472","v":0},{"$f":"B!AF2472","v":0},{"$f":"B!AG2472","v":0},{"$f":"B!AH2472","v":0},{"$f":"B!AI2472","v":0},{"$f":"B!AJ2472","v":0},{"$f":"B!AL2472","v":0}]
[1901028,"Hemodiálisis con bicarbonato con insumos (por sesion)",{"$f":"B!C2473","v":0},{"$f":"B!D2473","v":0},{"$f":"B!E2473","v":0},{"$f":"B!F2473","v":0},{"$f":"B!G2473","v":0},{"$f":"B!AA2473","v":0},{"$f":"B!AB2473","v":0},{"$f":"B!AC2473","v":0},{"$f":"B!AD2473","v":0},{"$f":"B!AE2473","v":0},{"$f":"B!AF2473","v":0},{"$f":"B!AG2473","v":0},{"$f":"B!AH2473","v":0},{"$f":"B!AI2473","v":0},{"$f":"B!AJ2473","v":0},{"$f":"B!AL2473","v":0}]
[1901029,"Hemodiálisis con bicarbonato con insumos (tratamiento mensual)",{"$f":"B!C2474","v":0},{"$f":"B!D2474","v":0},{"$f":"B!E2474","v":0},{"$f":"B!F2474","v":0},{"$f":"B!G2474","v":0},{"$f":"B!AA2474","v":0},{"$f":"B!AB2474","v":0},{"$f":"B!AC2474","v":0},{"$f":"B!AD2474","v":0},{"$f":"B!AE2474","v":0},{"$f":"B!AF2474","v":0},{"$f":"B!AG2474","v":0},{"$f":"B!AH2474","v":0},{"$f":"B!AI2474","v":0},{"$f":"B!AJ2474","v":0},{"$f":"B!AL2474","v":0}]
[1901031,"Instalación de catéter de peritoneodiálisis laparoscopia",{"$f":"B!C2475","v":0},{"$f":"B!D2475","v":0},{"$f":"B!E2475","v":0},{"$f":"B!F2475","v":0},{"$f":"B!G2475","v":0},{"$f":"B!AA2475","v":0},{"$f":"B!AB2475","v":0},{"$f":"B!AC2475","v":0},{"$f":"B!AD2475","v":0},{"$f":"B!AE2475","v":0},{"$f":"B!AF2475","v":0},{"$f":"B!AG2475","v":0},{"$f":"B!AH2475","v":0},{"$f":"B!AI2475","v":0},{"$f":"B!AJ2475","v":0},{"$f":"B!AL2475","v":0}]
["1901032","Retiro de catéter de peritoneodiálisis",{"$f":"B!C2476","v":0},{"$f":"B!D2476","v":0},{"$f":"B!E2476","v":0},{"$f":"B!F2476","v":0},{"$f":"B!G2476","v":0},{"$f":"B!AA2476","v":0},{"$f":"B!AB2476","v":0},{"$f":"B!AC2476","v":0},{"$f":"B!AD2476","v":0},{"$f":"B!AE2476","v":0},{"$f":"B!AF2476","v":0},{"$f":"B!AG2476","v":0},{"$f":"B!AH2476","v":0},{"$f":"B!AI2476","v":0},{"$f":"B!AJ2476","v":0},{"$f":"B!AL2476","v":0}]
[1901033,"Revisión de catéter de peritoneodiálisis laparoscopia",{"$f":"B!C2477","v":0},{"$f":"B!D2477","v":0},{"$f":"B!E2477","v":0},{"$f":"B!F2477","v":0},{"$f":"B!G2477","v":0},{"$f":"B!AA2477","v":0},{"$f":"B!AB2477","v":0},{"$f":"B!AC2477","v":0},{"$f":"B!AD2477","v":0},{"$f":"B!AE2477","v":0},{"$f":"B!AF2477","v":0},{"$f":"B!AG2477","v":0},{"$f":"B!AH2477","v":0},{"$f":"B!AI2477","v":0},{"$f":"B!AJ2477","v":0},{"$f":"B!AL2477","v":0}]
["TOTAL",null,{"$f":"SUM(C160:C170)","v":0},{"$f":"SUM(D160:D170)","v":0},0,0,0,0,0,0,0,0,0,0,0,0,0,{"$f":"SUM(R160:R170)","v":0}]
["SECCION L: INTERVENCIONES QUIRURGICAS"]
["TIPO DE INTERVENCION QUIRURGICA",null,"TOTAL ","TOTAL Beneficiarios","INTERVENCIONES QUIRÚRGICAS",null,null,null,null,null,"CIRUGÍAS MENORES","PRODUCCION INTRA HOSPITAL",null,null,"OPERATIVO","COMPRAS REALIZADAS",null,"VENTAS DE SERVICIOS","INTERVENCIONES 100%","INTERVENCIONES 50%","INTERVENCIONES 75%","PAGO POR PRESTACIONES ($)"]
[null,null,null,null,"PRINCIPAL",null,null,"SECUNDARIA"]
[null,null,null,null,"MAI","MLE","NO Beneficiarios","MAI","MLE","NO Beneficiarios",null,"POR \nHONORARIOS","POR CONVENIOS","POR\nCONSULTORES\nDE LLAMADA",null,"AL SISTEMA ","EXTRA-SISTEMA"]
["I","Neurocirugía",{"$f":"B!$C$1408","v":0},{"$f":"B!H1408","v":0},{"$f":"B!I1408","v":0},{"$f":"B!J1408","v":0},{"$f":"B!K1408","v":0},{"$f":"B!L1408","v":0},{"$f":"B!M1408","v":0},{"$f":"B!N1408","v":0},{"$f":"B!C1407","v":0},{"$f":"B!AD1408","v":0},{"$f":"B!AE1408","v":0},{"$f":"B!AF1408","v":0},{"$f":"B!AG1408","v":0},{"$f":"B!AH1408","v":0},{"$f":"B!AI1408","v":0},{"$f":"B!AJ1408","v":0},{"$f":"B!$I$1408","v":0},{"$f":"B!$L$1408","v":0},null,{"$f":"B!AL1408","v":0}]
["II","Cirugía Oftalmológica",{"$f":"B!C1542","v":0},{"$f":"B!H1542","v":0},{"$f":"B!I1542","v":0},{"$f":"B!J1542","v":0},{"$f":"B!K1542","v":0},{"$f":"B!L1542","v":0},{"$f":"B!M1542","v":0},{"$f":"B!N1542","v":0},{"$f":"+B!C1459+B!C1460+B!C1461+B!C1462+B!C1463+B!C1464+B!C1468+B!C1469+B!C1470+B!C1472+B!C1473+B!C1474+B!C1476+B!C1477+B!C1478+B!C1480+B!C1482+B!C1483+B!C1485+B!C1486+B!C1489+B!C1490+B!C1505+B!C1506+B!C1521+B!C1523+B!C1524+B!C1537+B!C1538+B!C1539+B!C1540","v":0},{"$f":"B!AD1542","v":0},{"$f":"B!AE1542","v":0},{"$f":"B!AF1542","v":0},{"$f":"B!AG1542","v":0},{"$f":"B!AH1542","v":0},{"$f":"B!AI1542","v":0},{"$f":"B!AJ1542","v":0},{"$f":"B!$I$1542","v":0},{"$f":"B!$L$1542","v":0},null,{"$f":"B!$AL$1542","v":0}]
["III","Cirugía Otorrinológica",{"$f":"B!C1723","v":0},{"$f":"B!H1723","v":0},{"$f":"B!I1723","v":0},{"$f":"B!J1723","v":0},{"$f":"B!K1723","v":0},{"$f":"B!L1723","v":0},{"$f":"B!M1723","v":0},{"$f":"B!N1723","v":0},{"$f":"+B!C1615+B!C1616+B!C1617+B!C1618+B!C1619+B!C1623+B!C1627+B!C1652+B!C1653+B!C1654+B!C1655+B!C1656+B!C1657+B!C1660+B!C1661+B!C1668+B!C1669+B!C1671+B!C1672+B!C1677+B!C1679+B!C1680+B!C1687+B!C1700+B!C1706+B!C1707+B!C1716+B!C1719","v":0},{"$f":"B!AD1723","v":0},{"$f":"B!AE1723","v":0},{"$f":"B!AF1723","v":0},{"$f":"B!AG1723","v":0},{"$f":"B!AH1723","v":0},{"$f":"B!AI1723","v":0},{"$f":"B!AJ1723","v":0},{"$f":"B!$I$1723","v":0},{"$f":"B!$L$1723","v":0},null,{"$f":"B!AL1723","v":0}]
["IV","Cirugía de Cabeza y Cuello",{"$f":"B!C1787","v":0},{"$f":"B!H1787","v":0},{"$f":"B!I1787","v":0},{"$f":"B!J1787","v":0},{"$f":"B!K1787","v":0},{"$f":"B!L1787","v":0},{"$f":"B!M1787","v":0},{"$f":"B!N1787","v":0},{"$f":"SUM(B!C1746,B!C1748:'B'!C1749,B!C1753:'B'!C1754,B!C1756,B!C1780,B!C1782,B!C1785:'B'!C1786)","v":0},{"$f":"B!AD1787","v":0},{"$f":"B!AE1787","v":0},{"$f":"B!AF1787","v":0},{"$f":"B!AG1787","v":0},{"$f":"B!AH1787","v":0},{"$f":"B!AI1787","v":0},{"$f":"B!AJ1787","v":0},{"$f":"B!$I$1787","v":0},{"$f":"B!$L$1787","v":0},null,{"$f":"B!AL1787","v":0}]
["V","Cirugía Plástica y Reparadora",{"$f":"B!C1861","v":0},{"$f":"B!H1861","v":0},{"$f":"B!I1861","v":0},{"$f":"B!J1861","v":0},{"$f":"B!K1861","v":0},{"$f":"B!L1861","v":0},{"$f":"B!M1861","v":0},{"$f":"B!N1861","v":0},{"$f":"SUM(B!C1790:'B'!C1796,B!C1801,B!C1803,B!C1808,B!C1819:'B'!C1820,B!C1851,B!C1855:'B'!C1858)","v":0},{"$f":"B!AD1861","v":0},{"$f":"B!AE1861","v":0},{"$f":"B!AF1861","v":0},{"$f":"B!AG1861","v":0},{"$f":"B!AH1861","v":0},{"$f":"B!AI1861","v":0},{"$f":"B!AJ1861","v":0},{"$f":"B!$I$1861","v":0},{"$f":"B!$L$1861","v":0},null,{"$f":"B!AL1861","v":0}]
["VI","Dermatología y Tegumentos     ",{"$f":"B!C1904","v":0},{"$f":"B!H1904","v":0},{"$f":"B!I1904","v":0},{"$f":"B!J1904","v":0},{"$f":"B!K1904","v":0},{"$f":"B!L1904","v":0},{"$f":"B!M1904","v":0},{"$f":"B!N1904","v":0},{"$f":"SUM(B!C1880:C1902)","v":0},{"$f":"B!AD1904","v":0},{"$f":"B!AE1904","v":0},{"$f":"B!AF1904","v":0},{"$f":"B!AG1904","v":0},{"$f":"B!AH1904","v":0},{"$f":"B!AI1904","v":0},{"$f":"B!AJ1904","v":0},{"$f":"B!$I$1904","v":0},{"$f":"B!$L$1904","v":0},null,{"$f":"B!AL1904","v":0}]
["VII","Cirugía Cardiovascular",{"$f":"B!C2063","v":0},{"$f":"B!H2063","v":0},{"$f":"B!I2063","v":0},{"$f":"B!J2063","v":0},{"$f":"B!K2063","v":0},{"$f":"B!L2063","v":0},{"$f":"B!M2063","v":0},{"$f":"B!N2063","v":0},{"$f":"+B!C2000+B!C2004+B!C2016+B!C2017","v":0},{"$f":"B!AD2063","v":0},{"$f":"B!AE2063","v":0},{"$f":"B!AF2063","v":0},{"$f":"B!AG2063","v":0},{"$f":"B!AH2063","v":0},{"$f":"B!AI2063","v":0},{"$f":"B!AJ2063","v":0},{"$f":"B!$I$2063","v":0},{"$f":"B!$L$2063","v":0},null,{"$f":"B!AL2063","v":0}]
["VIII","Cirugía de Tórax",{"$f":"B!C2165","v":0},{"$f":"B!H2165","v":0},{"$f":"B!I2165","v":0},{"$f":"B!J2165","v":0},{"$f":"B!K2165","v":0},{"$f":"B!L2165","v":0},{"$f":"B!M2165","v":0},{"$f":"B!N2165","v":0},{"$f":"B!C2104","v":0},{"$f":"B!AD2165","v":0},{"$f":"B!AE2165","v":0},{"$f":"B!AF2165","v":0},{"$f":"B!AG2165","v":0},{"$f":"B!AH2165","v":0},{"$f":"B!AI2165","v":0},{"$f":"B!AJ2165","v":0},{"$f":"B!$I$2165","v":0},{"$f":"B!$L$2165","v":0},null,{"$f":"B!AL2165","v":0}]
["IX","Cirugía Abdominal",{"$f":"B!C2396","v":0},{"$f":"B!H2396","v":0},{"$f":"B!I2396","v":0},{"$f":"B!J2396","v":0},{"$f":"B!K2396","v":0},{"$f":"B!L2396","v":0},{"$f":"B!M2396","v":0},{"$f":"B!N2396","v":0},null,{"$f":"B!AD2396","v":0},{"$f":"B!AE2396","v":0},{"$f":"B!AF2396","v":0},{"$f":"B!AG2396","v":0},{"$f":"B!AH2396","v":0},{"$f":"B!AI2396","v":0},{"$f":"B!AJ2396","v":0},{"$f":"B!$I$2396","v":0},{"$f":"B!$L$2396","v":0},null,{"$f":"B!AL2396","v":0}]
["X","Cirugía Proctológica",{"$f":"B!C2436","v":0},{"$f":"B!H2436","v":0},{"$f":"B!I2436","v":0},{"$f":"B!J2436","v":0},{"$f":"B!K2436","v":0},{"$f":"B!L2436","v":0},{"$f":"B!M2436","v":0},{"$f":"B!N2436","v":0},{"$f":"SUM(B!C2399:'B'!C2400,B!C2403,B!C2415)","v":0},{"$f":"B!AD2436","v":0},{"$f":"B!AE2436","v":0},{"$f":"B!AF2436","v":0},{"$f":"B!AG2436","v":0},{"$f":"B!AH2436","v":0},{"$f":"B!AI2436","v":0},{"$f":"B!AJ2436","v":0},{"$f":"B!$I$2436","v":0},{"$f":"B!$L$2436","v":0},null,{"$f":"B!AL2436","v":0}]
["XI","Cirugía Urológica y Suprarrenal",{"$f":"B!C2559","v":0},{"$f":"B!H2559","v":0},{"$f":"B!I2559","v":0},{"$f":"B!J2559","v":0},{"$f":"B!K2559","v":0},{"$f":"B!L2559","v":0},{"$f":"B!M2559","v":0},{"$f":"B!N2559","v":0},{"$f":"SUM(B!C2553,B!C2557)","v":0},{"$f":"B!AD2559","v":0},{"$f":"B!AE2559","v":0},{"$f":"B!AF2559","v":0},{"$f":"B!AG2559","v":0},{"$f":"B!AH2559","v":0},{"$f":"B!AI2559","v":0},{"$f":"B!AJ2559","v":0},{"$f":"B!$I$2559","v":0},{"$f":"B!$L$2559","v":0},null,{"$f":"B!AL2559","v":0}]
["XII","Cirugía de la Mama",{"$f":"B!C2598","v":0},{"$f":"B!H2598","v":0},{"$f":"B!I2598","v":0},{"$f":"B!J2598","v":0},{"$f":"B!K2598","v":0},{"$f":"B!L2598","v":0},{"$f":"B!M2598","v":0},{"$f":"B!N2598","v":0},{"$f":"B!C2593","v":0},{"$f":"B!AD2598","v":0},{"$f":"B!AE2598","v":0},{"$f":"B!AF2598","v":0},{"$f":"B!AG2598","v":0},{"$f":"B!AH2598","v":0},{"$f":"B!AI2598","v":0},{"$f":"B!AJ2598","v":0},{"$f":"B!$I$2598","v":0},{"$f":"B!$L$2598","v":0},null,{"$f":"B!AL2598","v":0}]
["XIII","Cirugía Ginecológica",{"$f":"B!C2639","v":0},{"$f":"B!H2639","v":0},{"$f":"B!I2639","v":0},{"$f":"B!J2639","v":0},{"$f":"B!K2639","v":0},{"$f":"B!L2639","v":0},{"$f":"B!M2639","v":0},{"$f":"B!N2639","v":0},{"$f":"SUM(B!C2625+B!C2634)","v":0},{"$f":"B!AD2639","v":0},{"$f":"B!AE2639","v":0},{"$f":"B!AF2639","v":0},{"$f":"B!AG2639","v":0},{"$f":"B!AH2639","v":0},{"$f":"B!AI2639","v":0},{"$f":"B!AJ2639","v":0},{"$f":"B!$I$2639","v":0},{"$f":"B!$L$2639","v":0},null,{"$f":"B!AL2639","v":0}]
["XIV","Cirugía Obstétrica  ",{"$f":"SUM(C190:C192)","v":0},{"$f":"SUM(D190:D192)","v":0},{"$f":"SUM(E190:E192)","v":0},{"$f":"SUM(F190:F192)","v":0},0,0,0,0,null,0,0,0,0,0,0,{"$f":"SUM(R190:R192)","v":0},{"$f":"SUM(S190:S192)","v":0},{"$f":"SUM(T190:T192)","v":0},null,{"$f":"SUM(V190:V192)","v":0}]
[null,"Cesárea c/s salpingoligadura o salpingectomía",{"$f":"B!C2645","v":0},{"$f":"B!H2645","v":0},{"$f":"B!I2645","v":0},{"$f":"B!J2645","v":0},{"$f":"B!K2645","v":0},{"$f":"B!L2645","v":0},{"$f":"B!M2645","v":0},{"$f":"B!N2645","v":0},null,{"$f":"B!AD2645","v":0},{"$f":"B!AE2645","v":0},{"$f":"B!AF2645","v":0},{"$f":"B!AG2645","v":0},{"$f":"B!AH2645","v":0},{"$f":"B!AI2645","v":0},{"$f":"B!AJ2645","v":0},{"$f":"B!$I$2645","v":0},{"$f":"B!$L$2645","v":0},null,{"$f":"B!AL2645","v":0}]
[null,"Cesárea con histerectomía",{"$f":"B!C2646","v":0},{"$f":"B!H2646","v":0},{"$f":"B!I2646","v":0},{"$f":"B!J2646","v":0},{"$f":"B!K2646","v":0},{"$f":"B!L2646","v":0},{"$f":"B!M2646","v":0},{"$f":"B!N2646","v":0},null,{"$f":"B!AD2646","v":0},{"$f":"B!AE2646","v":0},{"$f":"B!AF2646","v":0},{"$f":"B!AG2646","v":0},{"$f":"B!AH2646","v":0},{"$f":"B!AI2646","v":0},{"$f":"B!AJ2646","v":0},{"$f":"B!$I$2646","v":0},{"$f":"B!$L$2646","v":0},null,{"$f":"B!AL2646","v":0}]
[null,"Otras cirugías obstétricas ",{"$f":"SUM(B!C2647:C2651)","v":0},{"$f":"SUM(B!H2647:H2651)","v":0},{"$f":"SUM(B!I2647:I2651)","v":0},{"$f":"SUM(B!J2647:J2651)","v":0},{"$f":"SUM(B!K2647:K2651)","v":0},{"$f":"SUM(B!L2647:L2651)","v":0},{"$f":"SUM(B!M2647:M2651)","v":0},{"$f":"SUM(B!N2647:N2651)","v":0},null,{"$f":"SUM(B!AD2647:AD2651)","v":0},{"$f":"SUM(B!AE2647:AE2651)","v":0},{"$f":"SUM(B!AF2647:AF2651)","v":0},{"$f":"SUM(B!AG2647:AG2651)","v":0},{"$f":"SUM(B!AH2647:AH2651)","v":0},{"$f":"SUM(B!AI2647:AI2651)","v":0},{"$f":"SUM(B!AJ2647:AJ2651)","v":0},{"$f":"SUM(B!I2647:I2651)","v":0},{"$f":"SUM(B!L2647:L2651)","v":0},null,{"$f":"SUM(B!AL2647:AL2651)","v":0}]
["XV.I","Traumatología",{"$f":"+B!C2889","v":0},{"$f":"+B!H2889","v":0},{"$f":"+B!I2889","v":0},{"$f":"+B!J2889","v":0},{"$f":"+B!K2889","v":0},{"$f":"+B!L2889","v":0},{"$f":"+B!M2889","v":0},{"$f":"+B!N2889","v":0},{"$f":"SUM(B!C2675:C2681,B!C2683,B!C2693:C2694,B!C2706,B!C2708:C2710,B!C2713,B!C2761,B!C2763,B!C2766:C2768,B!C2772:C2773,B!C2782,B!C2785+B!C2839)","v":0},{"$f":"+B!AD2889","v":0},{"$f":"+B!AE2889","v":0},{"$f":"+B!AF2889","v":0},{"$f":"+B!AG2889","v":0},{"$f":"+B!AH2889","v":0},{"$f":"+B!AI2889","v":0},{"$f":"+B!AJ2889","v":0},{"$f":"B!$I$2889","v":0},{"$f":"B!$L$2889","v":0},null,{"$f":"B!$AL$2889","v":0}]
["XVI","Odontología",{"$f":"+B!C3105","v":0},{"$f":"+B!H3105","v":0},{"$f":"+B!I3105","v":0},{"$f":"+B!J3105","v":0},{"$f":"+B!K3105","v":0},{"$f":"+B!L3105","v":0},{"$f":"+B!M3105","v":0},{"$f":"+B!N3105","v":0},{"$f":"SUM(B!C3068:C3069,B!C3074,B!C3076:C3077,B!C3080:C3081,B!C3083:C3087,B!C3104)","v":0},{"$f":"+B!AD3094","v":0},{"$f":"+B!AE3094","v":0},{"$f":"+B!AF3094","v":0},{"$f":"+B!AG3094","v":0},{"$f":"+B!AH3094","v":0},{"$f":"+B!AI3094","v":0},{"$f":"+B!AJ3094","v":0},{"$f":"+B!I3094","v":0},{"$f":"+B!L3094","v":0},null,{"$f":"+B!AL3094","v":0}]
["XVI","Retiro Elementos Osteosíntesis",{"$f":"+B!C2894","v":0},{"$f":"+B!H2894","v":0},{"$f":"+B!I2894","v":0},{"$f":"+B!J2894","v":0},{"$f":"+B!K2894","v":0},{"$f":"+B!L2894","v":0},{"$f":"+B!M2894","v":0},{"$f":"+B!N2894","v":0},null,{"$f":"+B!AD2894","v":0},{"$f":"+B!AE2894","v":0},{"$f":"+B!AF2894","v":0},{"$f":"+B!AG2894","v":0},{"$f":"+B!AH2894","v":0},{"$f":"+B!AI2894","v":0},{"$f":"+B!AJ2894","v":0},null,null,{"$f":"+B!C2894","v":0},{"$f":"+B!AL2894*0.75","v":0}]
["TOTAL  ",null,{"$f":"SUM(C176:C189)+C193+C194+C195","v":0},0,0,0,0,0,0,0,{"$f":"SUM(K176:K195)","v":0},{"$f":"SUM(L176:L189)+L193+L194+L195","v":0},0,0,0,0,0,0,{"$f":"SUM(S176:S189)+S193+S194","v":0},{"$f":"SUM(T176:T189)+T193+T194","v":0},{"$f":"SUM(U195)","v":0},{"$f":"SUM(V176:V189)+V193+V194+V195","v":0}]
["SECCIÓN M: INTERVENCIONES QUIRÚRGICAS POR TIPO DE INTERVENCIÓN "]
["TIPO DE INTERVENCIÓN",null,"TOTAL","Beneficiarios MAI","< 15 AÑOS","15 Y MAS AÑOS","COMPRAS REALIZADAS AL SISTEMA ","COMPRAS REALIZADAS AL SISTEMA","COMPRAS REALIZADAS AL EXTRA-SISTEMA","COMPRAS REALIZADAS AL EXTRA-SISTEMA"]
[null,null,null,null,null,null,"< 15 AÑOS","15 Y MAS AÑOS","< 15 AÑOS","15 Y MAS AÑOS"]
["Electivas Mayores No Ambulatorias ",null,{"$f":"SUM(E200:F200)","v":0},null,{"$f":"SUM(B!P1408,B!P1542,B!P1723,B!P1787,B!P1861,B!P1904,B!P2052,B!P2062,B!P2162,B!P2164,B!P2389,B!P2395,B!P2436,B!P2559,B!P2598,B!P2639,B!P2654,B!P2882,B!P2894,B!P3094)","v":0},{"$f":"SUM(B!Q1408,B!Q1542,B!Q1723,B!Q1787,B!Q1861,B!Q1904,B!Q2052,B!Q2062,B!Q2162,B!Q2164,B!Q2389,B!Q2395,B!Q2436,B!Q2559,B!Q2598,B!Q2639,B!Q2654,B!Q2882,B!Q2894,B!Q3094)","v":0},null,null,null,null,{"$f":"AA200","v":""},null,null,null,null,null,null,null,null,null,null,null,null,null,null,null,{"$f":"IF(C200<D200,\"BeneficiariosMAI no puede ser mayor al TOTAL\",\"\")","v":""},{"$f":"IF(C200<D200,1,0)","v":0}]
["Electivas Mayores Ambulatorias  ",null,{"$f":"SUM(E201:F201)","v":0},null,{"$f":"SUM(B!S1408,B!S1542,B!S1723,B!S1787,B!S1861,B!S1904,B!S2052,B!S2062,B!S2162,B!S2164,B!S2389,B!S2395,B!S2436,B!S2559,B!S2598,B!S2639,B!S2654,B!S2882,B!S2894,B!S3094)","v":0},{"$f":"SUM(B!T1408,B!T1542,B!T1723,B!T1787,B!T1861,B!T1904,B!T2052,B!T2062,B!T2162,B!T2164,B!T2389,B!T2395,B!T2436,B!T2559,B!T2598,B!T2639,B!T2654,B!T2882,B!T2894,B!T3094)","v":0},null,null,null,null,{"$f":"AA201","v":""},null,null,null,null,null,null,null,null,null,null,null,null,null,null,null,{"$f":"IF(C201<D201,\"BeneficiariosMAI no puede ser mayor al TOTAL\",\"\")","v":""},{"$f":"IF(C201<D201,1,0)","v":0}]
["Urgencia","Mayor No Ambulatorias",{"$f":"SUM(E202:F202)","v":0},null,{"$f":"SUM(B!Y1408,B!Y1542,B!Y1723,B!Y1787,B!Y1861,B!Y1904,B!Y2052,B!Y2062,B!Y2162,B!Y2164,B!Y2389,B!Y2395,B!Y2436,B!Y2559,B!Y2598,B!Y2639,B!Y2654,B!Y2882,B!Y2894,B!Y3094)","v":0},{"$f":"SUM(B!Z1408,B!Z1542,B!Z1723,B!Z1787,B!Z1861,B!Z1904,B!Z2052,B!Z2062,B!Z2162,B!Z2164,B!Z2389,B!Z2395,B!Z2436,B!Z2559,B!Z2598,B!Z2639,B!Z2654,B!Z2882,B!Z2894,B!Z3094)","v":0},null,null,null,null,{"$f":"AA202","v":""},null,null,null,null,null,null,null,null,null,null,null,null,null,null,null,{"$f":"IF(C202<D202,\"BeneficiariosMAI no puede ser mayor al TOTAL\",\"\")","v":""},{"$f":"IF(C202<D202,1,0)","v":0}]
[null,"Mayor Ambulatorias",{"$f":"SUM(E203:F203)","v":0},null,{"$f":"SUM(B!V1408,B!V1542,B!V1723,B!V1787,B!V1861,B!V1904,B!V2052,B!V2062,B!V2162,B!V2164,B!V2389,B!V2395,B!V2436,B!V2559,B!V2598,B!V2639,B!V2654,B!V2882,B!V2894,B!V3094)","v":0},{"$f":"SUM(B!W1408,B!W1542,B!W1723,B!W1787,B!W1861,B!W1904,B!W2052,B!W2062,B!W2162,B!W2164,B!W2389,B!W2395,B!W2436,B!W2559,B!W2598,B!W2639,B!W2654,B!W2882,B!W2894,B!W3094)","v":0},null,null,null,null,{"$f":"AA203","v":""},null,null,null,null,null,null,null,null,null,null,null,null,null,null,null,{"$f":"IF(C203<D203,\"BeneficiariosMAI no puede ser mayor al TOTAL\",\"\")","v":""},{"$f":"IF(C203<D203,1,0)","v":0}]
["SECCIÓN N:  AMPUTACIÓN POR PIE DIABÉTICO"]
["TIPO DE INTERVENCIÓN QUIRÚRGICA",null,"TOTAL ","TOTAL Beneficiarios MAI"]
[]
["Amputación de Ortejo(s) Por Pie Diabético",null,{"$f":"B!C2886","v":0},{"$f":"B!I2886","v":0}]
["Amputación de Pie Completo Por Pie Diabético",null,{"$f":"SUM(B!C2885+B!C2887)","v":0},{"$f":"B!I2885+B!I2887","v":0}]
["SECCIÓN O: PROCEDIMIENTOS DIAGNÓSTICOS Y TERAPÉUTICOS"]
["TIPO DE PROCEDIMIENTO",null,"TOTAL","PROCEDIMIENTOS",null,null,null,"PROCEDENCIA",null,null,"PRODUCCION INTRA HOSPITAL",null,null,"OPERATIVO","COMPRAS REALIZADAS",null,"VENTAS DE SERVICIOS"]
[null,null,null,"TOTAL Beneficiarios","Beneficiarios",null,"NO Beneficiarios","ATENCION CERRADA","ATENCION ABIERTA","EMERGENCIA","POR \nHONO-\nRARIOS","POR CONVENIOS","POR\nCONSULTORES\nDE LLAMADA",null,"AL SISTEMA ","EXTRA-SISTEMA"]
[null,null,null,null,"MAI","MLE"]
["Neurología",null,{"$f":"+B!C1325","v":0},{"$f":"+B!D1325","v":0},{"$f":"+B!E1325","v":0},{"$f":"+B!F1325","v":0},{"$f":"+B!G1325","v":0},{"$f":"+B!AA1325","v":0},{"$f":"+B!AB1325","v":0},{"$f":"+B!AC1325","v":0},{"$f":"+B!AD1325","v":0},{"$f":"+B!AE1325","v":0},{"$f":"+B!AF1325","v":0},{"$f":"+B!AG1325","v":0},{"$f":"+B!AH1325","v":0},{"$f":"+B!AI1325","v":0},{"$f":"+B!AJ1325","v":0}]
["Oftalmología",null,{"$f":"+B!C1457","v":0},{"$f":"+B!D1457","v":0},{"$f":"+B!E1457","v":0},{"$f":"+B!F1457","v":0},{"$f":"+B!G1457","v":0},{"$f":"+B!AA1457","v":0},{"$f":"+B!AB1457","v":0},{"$f":"+B!AC1457","v":0},{"$f":"+B!AD1457","v":0},{"$f":"+B!AE1457","v":0},{"$f":"+B!AF1457","v":0},{"$f":"+B!AG1457","v":0},{"$f":"+B!AH1457","v":0},{"$f":"+B!AI1457","v":0},{"$f":"+B!AJ1457","v":0}]
["Otorrinolaringología",null,{"$f":"+B!C1613","v":0},{"$f":"+B!D1613","v":0},{"$f":"+B!E1613","v":0},{"$f":"+B!F1613","v":0},{"$f":"+B!G1613","v":0},{"$f":"+B!AA1613","v":0},{"$f":"+B!AB1613","v":0},{"$f":"+B!AC1613","v":0},{"$f":"+B!AD1613","v":0},{"$f":"+B!AE1613","v":0},{"$f":"+B!AF1613","v":0},{"$f":"+B!AG1613","v":0},{"$f":"+B!AH1613","v":0},{"$f":"+B!AI1613","v":0},{"$f":"+B!AJ1613","v":0}]
["Cabeza y Cuello",null,{"$f":"B!C1725","v":0},{"$f":"B!D1725","v":0},{"$f":"B!E1725","v":0},{"$f":"B!F1725","v":0},{"$f":"B!G1725","v":0},{"$f":"B!AA1725","v":0},{"$f":"B!AB1725","v":0},{"$f":"B!AC1725","v":0},{"$f":"B!AD1725","v":0},{"$f":"B!AE1725","v":0},{"$f":"B!AF1725","v":0},{"$f":"B!AG1725","v":0},{"$f":"B!AH1725","v":0},{"$f":"B!AI1725","v":0},{"$f":"B!AJ1725","v":0}]
["Dermatología",null,{"$f":"B!C1878","v":0},{"$f":"B!D1878","v":0},{"$f":"B!E1878","v":0},{"$f":"B!F1878","v":0},{"$f":"B!G1878","v":0},{"$f":"B!AA1878","v":0},{"$f":"B!AB1878","v":0},{"$f":"B!AC1878","v":0},{"$f":"B!AD1878","v":0},{"$f":"B!AE1878","v":0},{"$f":"B!AF1878","v":0},{"$f":"B!AG1878","v":0},{"$f":"B!AH1878","v":0},{"$f":"B!AI1878","v":0},{"$f":"B!AJ1878","v":0}]
["Cardiología",null,{"$f":"+B!C1978","v":0},{"$f":"+B!D1978","v":0},{"$f":"+B!E1978","v":0},{"$f":"+B!F1978","v":0},{"$f":"+B!G1978","v":0},{"$f":"+B!AA1978","v":0},{"$f":"+B!AB1978","v":0},{"$f":"+B!AC1978","v":0},{"$f":"+B!AD1978","v":0},{"$f":"+B!AE1978","v":0},{"$f":"+B!AF1978","v":0},{"$f":"+B!AG1978","v":0},{"$f":"+B!AH1978","v":0},{"$f":"+B!AI1978","v":0},{"$f":"+B!AJ1978","v":0}]
["Respiratorio",null,{"$f":"+B!C2207","v":0},{"$f":"+B!D2207","v":0},{"$f":"+B!E2207","v":0},{"$f":"+B!F2207","v":0},{"$f":"+B!G2207","v":0},{"$f":"+B!AA2207","v":0},{"$f":"+B!AB2207","v":0},{"$f":"+B!AC2207","v":0},{"$f":"+B!AD2207","v":0},{"$f":"+B!AE2207","v":0},{"$f":"+B!AF2207","v":0},{"$f":"+B!AG2207","v":0},{"$f":"+B!AH2207","v":0},{"$f":"+B!AI2207","v":0},{"$f":"+B!AJ2207","v":0}]
["Gastroenterología",null,{"$f":"+B!C2277","v":0},{"$f":"+B!D2277","v":0},{"$f":"+B!E2277","v":0},{"$f":"+B!F2277","v":0},{"$f":"+B!G2277","v":0},{"$f":"+B!AA2277","v":0},{"$f":"+B!AB2277","v":0},{"$f":"+B!AC2277","v":0},{"$f":"+B!AD2277","v":0},{"$f":"+B!AE2277","v":0},{"$f":"+B!AF2277","v":0},{"$f":"+B!AG2277","v":0},{"$f":"+B!AH2277","v":0},{"$f":"+B!AI2277","v":0},{"$f":"+B!AJ2277","v":0}]
["Urología y Nefrología",null,{"$f":"+B!C2464","v":0},{"$f":"+B!D2464","v":0},{"$f":"+B!E2464","v":0},{"$f":"+B!F2464","v":0},{"$f":"+B!G2464","v":0},{"$f":"+B!AA2464","v":0},{"$f":"+B!AB2464","v":0},{"$f":"+B!AC2464","v":0},{"$f":"+B!AD2464","v":0},{"$f":"+B!AE2464","v":0},{"$f":"+B!AF2464","v":0},{"$f":"+B!AG2464","v":0},{"$f":"+B!AH2464","v":0},{"$f":"+B!AI2464","v":0},{"$f":"+B!AJ2464","v":0}]
["Ginecología y Obstetricia (Se Incluyen Abortos)",null,{"$f":"SUM(B!C2641:C2643)+B!C2591","v":0},{"$f":"SUM(B!D2641:D2643)+B!D2591","v":0},{"$f":"SUM(B!E2641:E2643)+B!E2591","v":0},{"$f":"SUM(B!F2641:F2643)+B!F2591","v":0},{"$f":"SUM(B!G2641:G2643)+B!G2591","v":0},{"$f":"SUM(B!AA2641:AA2643)+B!AA2591","v":0},{"$f":"SUM(B!AB2641:AB2643)+B!AB2591","v":0},{"$f":"SUM(B!AC2641:AC2643)+B!AC2591","v":0},{"$f":"SUM(B!AD2641:AD2643)+B!AD2591","v":0},{"$f":"SUM(B!AE2641:AE2643)+B!AE2591","v":0},{"$f":"SUM(B!AF2641:AF2643)+B!AF2591","v":0},{"$f":"SUM(B!AG2641:AG2643)+B!AG2591","v":0},{"$f":"SUM(B!AH2641:AH2643)+B!AH2591","v":0},{"$f":"SUM(B!AI2641:AI2643)+B!AI2591","v":0},{"$f":"SUM(B!AJ2641:AJ2643)+B!AJ2591","v":0}]
["Traumatología",null,{"$f":"+B!C2673","v":0},{"$f":"+B!D2673","v":0},{"$f":"+B!E2673","v":0},{"$f":"+B!F2673","v":0},{"$f":"+B!G2673","v":0},{"$f":"+B!AA2673","v":0},{"$f":"+B!AB2673","v":0},{"$f":"+B!AC2673","v":0},{"$f":"+B!AD2673","v":0},{"$f":"+B!AE2673","v":0},{"$f":"+B!AF2673","v":0},{"$f":"+B!AG2673","v":0},{"$f":"+B!AH2673","v":0},{"$f":"+B!AI2673","v":0},{"$f":"+B!AJ2673","v":0}]
["Kinesiología y Fisioterapia",null,{"$f":"+B!C1174","v":0},{"$f":"+B!D1174","v":0},{"$f":"+B!E1174","v":0},{"$f":"+B!F1174","v":0},{"$f":"+B!G1174","v":0},{"$f":"+B!AA1174","v":0},{"$f":"+B!AB1174","v":0},{"$f":"+B!AC1174","v":0},{"$f":"+B!AD1174","v":0},{"$f":"+B!AE1174","v":0},{"$f":"+B!AF1174","v":0},{"$f":"+B!AG1174","v":0},{"$f":"+B!AH1174","v":0},{"$f":"+B!AI1174","v":0},{"$f":"+B!AJ1174","v":0}]
["TOTAL ",null,{"$f":"SUM(C213:C224)","v":0},{"$f":"SUM(D213:D224)","v":0},0,0,0,0,0,0,0,0,0,0,0,0,{"$f":"SUM(Q213:Q224)","v":0}]
["SECCION P:  MISCELANEOS"]
["TIPO DE PRESTACIÓN",null,"TOTAL","TOTAL Beneficiarios MAI","PAGO POR PRESTACIONES ($)"]
["Otras Prestaciones Psiquiatricas",null,{"$f":"B!C1268","v":0},{"$f":"B!E1268","v":0}]
["Anestesia Epidural (Partos)",null,{"$f":"B!C2964","v":0},{"$f":"B!E2964","v":0},{"$f":"B!AL2964","v":0}]
["Otros Procedimientos Anestésicos",null,{"$f":"B!C2970","v":0},{"$f":"B!E2970","v":0}]
["Curacion Simple Ambulatoria",null,{"$f":"B!C150","v":0},{"$f":"B!E150","v":0},{"$f":"B!AL150","v":0}]
["Procedimiento De Podología",null,{"$f":"B!C156","v":0},{"$f":"B!E156","v":0}]
["Autocuidado Pacientes DID",null,{"$f":"B!C154","v":0},{"$f":"B!E154","v":0}]
["Oxigenoterapia Domicilio",null,{"$f":"B!C155","v":0},{"$f":"B!E155","v":0}]
["Protesis Y Órtesis",null,{"$f":"B!C2960","v":0},{"$f":"B!E2960","v":0}]
["TOTAL ",null,{"$f":"SUM(C228:C235)","v":0},{"$f":"SUM(D228:D235)","v":0},{"$f":"SUM(E228:E235)","v":0}]
["SECCIÓN Q: ACTIVIDADES EN UNIDAD DE FARMACIA HOSPITALARIA"]
[null,null,"TOTAL"]
["N° de Preparados Farmacéuticos","Esteriles"]
[null,"No Esteriles"]
["N° de Dosis Unitaria Preparadas"]
["SECCIÓN R: OTROS TRASLADOS DE PACIENTES"]
["TIPO DE ACCIÓN",null,"TOTAL","A \nBeneficiarios","POR COMPRA \nDE SERVICIO",null,null,null,null,null,null," "]
[" Traslados No de Urgencia","Ambulancia",null,null,null,{"$f":"AA244","v":""},null,null,null,null,null,null,null,null,null,null,null,null,null,null,null,null,null,null,null,null,{"$f":"IF(D244>C244,\"Error: Las actividades totales son menores que las realizadas en beneficiarios\",\"\")","v":""},{"$f":"IF(D244>C244,1,0)","v":0}]
[null,"Marítimo",null,null,null,{"$f":"AA245","v":""},null,null,null,null,null,null,null,null,null,null,null,null,null,null,null,null,null,null,null,null,{"$f":"IF(D245>C245,\"Error: Las actividades totales son menores que las realizadas en beneficiarios\",\"\")","v":""},{"$f":"IF(D245>C245,1,0)","v":0}]
[null,"Aéreo",null,null,null,{"$f":"AA246","v":""},null,null,null,null,null,null,null,null,null,null,null,null,null,null,null,null,null,null,null,null,{"$f":"IF(D246>C246,\"Error: Las actividades totales son menores que las realizadas en beneficiarios\",\"\")","v":""},{"$f":"IF(D246>C246,1,0)","v":0}]
["SECCIÓN S: INTERRUPCIÓN VOLUNTARIA DEL EMBARAZO, (IVE)"]
["TIPO DE INTERVENCIÓN",null,"TOTAL","Beneficiarios MAI","GRUPOS ETARIOS",null,"CAUSALES",null,null,"COMPRAS REALIZADAS AL SISTEMA ","COMPRAS REALIZADAS AL SISTEMA","COMPRAS REALIZADAS AL EXTRA-SISTEMA","COMPRAS REALIZADAS AL EXTRA-SISTEMA"]
[null,null,null,null,"< 14 AÑOS","14 AÑOS Y MAS","CAUSAL N°1              MUJER EMBARAZADA CON RIESGO VITAL","CAUSAL N°2 INVIABILIDAD FETAL DE CARÁCTER LETAL","CAUSAL N°3 POR VIOLACIÓN","< 14 AÑOS","14 AÑOS Y MAS","< 14 AÑOS","14 AÑOS Y MAS"]
["Día cama hospitalización integral medicina, cirugía, pediatría, obstetricia-ginecología y especialidades (sala 3 camas o más) (Hosp. Alta Complejidad)","Día cama hospitalización integral medicina, cirugía, pediatría, obstetricia-ginecología y especialidades (sala 3 camas o más) (Hosp. Alta Complejidad)",{"$f":"SUM(E250:F250)","v":0}]
["Día cama hospitalización integral medicina, cirugía, pediatría, obstetricia-ginecología y especialidades (sala 3 camas o más) (Hosp. Mediana Complejidad)","Día cama hospitalización integral medicina, cirugía, pediatría, obstetricia-ginecología y especialidades (sala 3 camas o más) (Hosp. Mediana Complejidad)",{"$f":"SUM(E251:F251)","v":0}]
["Día cama hospitalización integral adulto en Unidad de Cuidado Intensivo (U.C.I.) ",null,{"$f":"SUM(E252:F252)","v":0}]
["Día cama hospitalización integral adulto en Unidad de Tratamiento Intermedio (U.T.I)",null,{"$f":"SUM(E253:F253)","v":0}]
["Día cama integral de observación o día cama integral ambulatorio diurno",null,{"$f":"SUM(E254:F254)","v":0}]
[null,"TOTAL DIAS CAMAS",{"$f":"SUM(C250:C254)","v":0},0,0,0,0,0,0,{"$f":"SUM(J250:J254)","v":0},{"$f":"SUM(K250:K254)","v":0},{"$f":"SUM(L250:L254)","v":0},{"$f":"SUM(M250:M254)","v":0}]
["Cariotipo en fibroblastos por cultivo de trofoblasto, líquido amniótico, piel u otros bandeos G y eventualmente Q,R,C,NOR",null,{"$f":"SUM(E256:F256)","v":0}]
["FISH Cromosomas X e Y",null,{"$f":"SUM(E257:F257)","v":0}]
["Diagnóstico Genético Molecular: Displasia Tanatofórica tipo I y II",null,{"$f":"SUM(E258:F258)","v":0}]
["TOTAL EXAMENES DE LABORATORIO",null,{"$f":"SUM(C256:C258)","v":0},0,0,0,0,0,0,0,0,0,0]
["Radiografía de tórax frontal y lateral",null,{"$f":"SUM(E260:F260)","v":0}]
["Radiografía de pelvis, cadera o coxofemoral",null,{"$f":"SUM(E261:F261)","v":0}]
["Radiografía de brazo, antebrazo, codo, muñeca, mano, dedos, pie  (frontal y lateral)",null,{"$f":"SUM(E262:F262)","v":0}]
[null,"TOTAL EXAMENES RADIOLÓGICOS",{"$f":"SUM(C260:C262)","v":0},0,0,0,0,0,0,{"$f":"SUM(J260:J262)","v":0},{"$f":"SUM(K260:K262)","v":0},{"$f":"SUM(L260:L262)","v":0},{"$f":"SUM(M260:M262)","v":0}]
["Resonancia Magnética Fetal",null,{"$f":"SUM(E264:F264)","v":0}]
["Ecografía obstétrica",null,{"$f":"SUM(E265:F265)","v":0}]
["Ecografía doppler de vasos placentarios",null,{"$f":"SUM(E266:F266)","v":0}]
[null,"TOTAL EXAMENES POR IMÁGENES",{"$f":"SUM(C264:C266)","v":0},0,0,0,0,0,0,0,0,0,0]
["Consulta Médica de Especialidad en Obstetricia y Ginecología ","Consulta Médica de Especialidad en Obstetricia y Ginecología",{"$f":"SUM(E268:F268)","v":0}]
["Evaluación psiquiátrica previa a terapia (1ra. consulta).","Evaluación psiquiátrica previa a terapia (1ra. consulta).",0]
["Consulta Psicólogo clínico (sesiones 45')","Consulta Psicólogo clínico (sesiones 45')",0]
["Consulta o control por enfermera, matrona o nutricionista",null,0]
["Educación de grupo por asistente social","Educación de grupo por asistente social",0]
["Consulta por Asistente Social",null,0]
["Atención psiquiátrica o psicoterapia de familia, individual, de relajación o de manejo (con familia u otros);(cada sesión mínimo 45')","Atención psiquiátrica o psicoterapia de familia, individual, de relajación o de manejo (con familia u otros);(cada sesión mínimo 45')",0]
["Psicoterapia de grupo (por psicólogo o psiquiatra) (4 a 8 pacientes)","Psicoterapia de grupo (por psicólogo o psiquiatra) (4 a 8 pacientes)",0]
[null,"TOTAL CONSULTAS ",{"$f":"SUM(C268:C275)","v":0},0,0,0,0,0,0,0,0,0,0]
["Amniocentesis",null,{"$f":"SUM(E277:F277)","v":0}]
["Biopsia corial",null,0]
["Cordocentesis",null,0]
["Aspiración manual endouterina",null,0]
["Raspado uterino diagnóstico o terapéutico por metrorragia o por restos de aborto",null,0]
["Tratamiento Farmacológico Ley IVE (incluye Consulta especialidad en Obstetricia y Ginecología y Fármacos)",null,0]
[null,"TOTAL PROCEDIMIENTOS",{"$f":"SUM(C277:C282)","v":0},0,0,0,0,0,0,0,0,0,0]
["Parto normal","Parto normal",{"$f":"SUM(E284:F284)","v":0}]
["Parto distósico vaginal","Parto distósico vaginal",{"$f":"SUM(E285:F285)","v":0}]
["Cesárea c/s salpingoligadura o salpingectomía",null,{"$f":"SUM(E286:F286)","v":0}]
["Cesárea con histerectomía",null,{"$f":"SUM(E287:F287)","v":0}]
[null,"TOTAL CIRUGÍAS OBSTETRICAS Y PARTOS",{"$f":"SUM(C284:C287)","v":0},0,0,0,0,0,0,0,0,0,0]
[null,"TOTAL",{"$f":"SUM(C255+C259+C263+C267+C276+C283+C288)","v":0},0,0,0,0,0,0,0,0,0,0]
["SECCIÓN T: OTRAS ATENCIONES A PACIENTES AMBULATORIOS"]
["TIPO DE ATENCIÓN",null,"TOTAL ","RANGO ETARIO",null,null,null,null,null,"Beneficiarios"]
[null,null,null,"< 1 año","1 - 4 años","5 - 9 años","10 - 19 años","20 - 64 años","65 y más años"]
["Por Terapeuta Ocupacional",null,{"$f":"SUM(D293:I293)","v":0}]
["Por Kinesiólogo (No SAPU)",null,{"$f":"SUM(D294:I294)","v":0}]
["Por Educadora de Párvulo/Diferencial",null,{"$f":"SUM(D295:E295)","v":0}]

{"sheet":"Control","index":3,"n_rows":79,"n_cols":4,"rows_kept":79,"cut":false,"hidden":false,"merged":[]}
[]
[null,"HOJA","SECCION","Nº Errores"]
[null,"NOMBRE","Código comuna",{"$f":"+NOMBRE!AF2","v":1}]
[null,"NOMBRE","Código establecimiento/estrategia",{"$f":"+NOMBRE!AF3","v":1}]
[null,"NOMBRE","Código Mes",{"$f":"+NOMBRE!AF6","v":1}]
[null,"B17","SECCIÓN M: INTERVENCIONES QUIRÚRGICAS POR TIPO DE INTERVENCIÓN ",{"$f":"SUM('B17'!AB200:AB203)","v":0}]
[null,"B17","SECCIÓN R: OTROS TRASLADOS DE PACIENTES",{"$f":"SUM('B17'!AB244:AB246)","v":0}]
[null,null,"TOTAL ERRORES",{"$f":"SUM(D3:D7)","v":3}]
[]
[]
[]
[null,"¿Nombre vacío?"]
[null,{"$f":"ISBLANK(NOMBRE!B2)","v":true}]
[]
[]
[]
[]
[]
[]
[]
[]
[]
[]
[]
[]
[]
[]
[]
[]
[]
[]
[]
[]
[]
[]
[]
[]
[]
[]
[]
[]
[]
[]
[]
[]
[]
[]
[]
[]
[]
[]
[]
[]
[]
[]
[]
[]
[]
[]
[]
[]
[]
[]
[]
[]
[]
[]
[]
[]
[]
[]
[]
[]
[]
[]
[]
[]
[]
[null,null,null,{"$f":"SUM(D3:D5)","v":3}]

{"sheet":"MACROS","index":4,"n_rows":7,"n_cols":2,"rows_kept":7,"cut":false,"hidden":false,"merged":[[0,0,0,13],[6,1,7,7]]}
["Hoja de Macros y Utilidades"]
[{"$f":"CONCATENATE(\"ESTABLECIMIENTO/ESTRATEGIA: \",NOMBRE!B3,\" - \",\"( \",NOMBRE!C3,NOMBRE!D3,NOMBRE!E3,NOMBRE!F3,NOMBRE!G3,NOMBRE!H3,NOMBRE!I3,\" )\")","v":"ESTABLECIMIENTO/ESTRATEGIA:  - ( Falta Cód. Est. )"}]
[]
[]
[null,"CREA UNA COPIA  DEL ARCHIVO  (TRANFORMA HOJAS A VALORES)\nA ESTE NUEVO ARCHIVO DEBERÁ ASIGNARLE UN NOMBRE"]
[null,"Contraseña para copia del archivo :DEIS"]
[null,{"$f":"IF(Control!D8>0,\"REVISE LA HOJA CONTROL, EXISTEN ERRORES\",\"\")","v":"REVISE LA HOJA CONTROL, EXISTEN ERRORES"}]